Workbook

Sheet B6月葷-國中
B1: 食材明細（食材重量以100人份計量，營養分析以個人計量,其中肉雞包含23%骨頭之採購量，每周供應特餐一次，當日得混搭供應，國中4菜1湯，國小3菜1湯）
A2: 日期 | B2: 循環 | C2: 主食 | D2: 重/kg | E2: 公斤 | F2: 主菜 | G2: 重/kg | H2: 公斤 | I2: 副菜一 | J2: 重/kg | K2: 公斤 | L2: 副菜二 | M2: 重/kg | N2: 公斤 | O2: 蔬菜 | P2: 重/kg | Q2: 公斤 | R2: 湯品 | S2: 重/kg | T2: 公斤 | U2: 點心1 | V2: 點心2 | W2: 穀/份 | X2: 豆/份 | Y2: 蔬/份 | Z2: 油/份 | AA2: 乳/份 | AB2: 果/份 | AC2: 熱量 | AE2: 日期 | AF2: 星期 | AG2: 循環 | AH2: 主食 | AI2: 明細 | AJ2: 主菜 | AK2: 明細 | AL2: 副菜一 | AM2: 明細 | AN2: 副菜二 | AO2: 明細 | AP2: 時蔬 | AQ2: 明細 | AR2: 湯品 | AS2: 明細 | AT2: 附餐1 | AU2: 附餐2 | AV2: 穀/份 | AW2: 豆/份 | AX2: 油/份 | AY2: 油/份 | AZ2: 乳/份 | BA2: 果/份 | BB2: 熱量
A3: 46265 | B3: A1 | C3: 白米飯 | E3: =IF(D3,"公斤","") | F3: 鮮菇肉燥 | H3: =IF(G3,"公斤","") | I3: 玉米炒蛋 | K3: =IF(J3,"公斤","") | L3: 蘿蔔滷黑輪 | N3: =IF(M3,"公斤","") | O3: 時蔬 | R3: 時瓜湯 | T3: =IF(S3,"公斤","") | U3: 果汁 | W3: 5.375 | X3: 2.7960552 | Y3: 2.255 | Z3: 3.0255276 | AC3: 778.47788 | AE3: =A3 -> 46265 | AF3: =A4 -> 一 | AG3: =B3 -> A1 | AH3: =C3 -> 白米飯 | AI3: =C4&" "&C5&" "&C6&" "&C7&" "&C8&" "&C9 -> 米 | AJ3: =F3 -> 鮮菇肉燥 | AK3: =F4&" "&F5&" "&F6&" "&F7&" "&F8&" "&F9 -> 絞肉 杏鮑菇 胡蘿蔔 大蒜 | AL3: =I3 -> 玉米炒蛋 | AM3: =I4&" "&I5&" "&I6&" "&I7&" "&I8&" "&I9 -> 雞蛋 冷凍玉米粒 洋蔥 大蒜 | AN3: =L3 -> 蘿蔔滷黑輪 | AO3: =L4&" "&L5&" "&L6&" "&L7&" "&L8&" "&L9 -> 白蘿蔔 胡蘿蔔 黑輪 柴魚片 | AP3: =O3 -> 時蔬 | AQ3: =O4&" "&O5&" "&O6&" "&O7&" "&O8&" "&O9 -> 蔬菜 大蒜 | AR3: =R3 -> 時瓜湯 | AS3: =R4&" "&R5&" "&R6&" "&R7&" "&R8&" "&R9 -> 時瓜 薑 大骨 | AT3: =U3 -> 果汁 | AU3: =V3 -> 0 | AV3: =W3 -> 5.375 | AW3: =X3 -> 2.7960552 | AX3: =Y3 -> 2.255 | AY3: =Z3 -> 3.0255276 | AZ3: =AA3 -> 0 | BA3: =AB3 -> 0 | BB3: =AC3 -> 778.47788
A4: 一 | C4: 米 | D4: 10 | E4: =IF(D4,"公斤","") -> 公斤 | F4: 絞肉 | G4: 6 | H4: =IF(G4,"公斤","") -> 公斤 | I4: 雞蛋 | J4: 5 | K4: =IF(J4,"公斤","") -> 公斤 | L4: 白蘿蔔 | M4: 6 | N4: =IF(M4,"公斤","") -> 公斤 | O4: 蔬菜 | P4: 7 | Q4: 公斤 | R4: 時瓜 | S4: 5 | T4: =IF(S4,"公斤","") -> 公斤
E5: =IF(D5,"公斤","") | F5: 杏鮑菇 | G5: 3 | H5: =IF(G5,"公斤","") -> 公斤 | I5: 冷凍玉米粒 | J5: 3 | K5: =IF(J5,"公斤","") -> 公斤 | L5: 胡蘿蔔 | M5: 0.5 | N5: =IF(M5,"公斤","") -> 公斤 | O5: 大蒜 | P5: 0.05 | Q5: 公斤 | R5: 薑 | S5: 0.05 | T5: =IF(S5,"公斤","") -> 公斤
E6: =IF(D6,"公斤","") | F6: 胡蘿蔔 | G6: 0.5 | H6: =IF(G6,"公斤","") -> 公斤 | I6: 洋蔥 | J6: 1 | K6: =IF(J6,"公斤","") -> 公斤 | L6: 黑輪 | M6: 2 | N6: =IF(M6,"公斤","") -> 公斤 | R6: 大骨 | S6: 0.6 | T6: =IF(S6,"公斤","") -> 公斤
E7: =IF(D7,"公斤","") | F7: 大蒜 | G7: 0.05 | H7: =IF(G7,"公斤","") -> 公斤 | I7: 大蒜 | J7: 0.05 | K7: =IF(J7,"公斤","") -> 公斤 | L7: 柴魚片 | M7: 0.01 | N7: =IF(M7,"公斤","") -> 公斤 | T7: =IF(S7,"公斤","")
E8: =IF(D8,"公斤","") | H8: =IF(G8,"公斤","") | K8: =IF(J8,"公斤","") | N8: =IF(M8,"公斤","") | T8: =IF(S8,"公斤","")
E9: =IF(D9,"公斤","") | H9: =IF(G9,"公斤","") | K9: =IF(J9,"公斤","") | N9: =IF(M9,"公斤","") | T9: =IF(S9,"公斤","")
A10: 46266 | B10: A2 | C10: 糙米飯 | E10: =IF(D10,"公斤","") | F10: 銀蘿燒雞 | H10: =IF(G10,"公斤","") | I10: 家常豆干 | K10: =IF(J10,"公斤","") | L10: 毛豆南瓜 | N10: =IF(M10,"公斤","") | O10: 時蔬 | R10: 味噌小魚湯 | T10: =IF(S10,"公斤","") | U10: Tap豆奶 | W10: 5.875 | X10: 3 | Y10: 1.7 | Z10: 2.85 | AC10: 807 | AE10: =A10 -> 46266 | AF10: =A11 -> 二 | AG10: =B10 -> A2 | AH10: =C10 -> 糙米飯 | AI10: =C11&" "&C12&" "&C13&" "&C14&" "&C15&" "&C16 -> 米 糙米 | AJ10: =F10 -> 銀蘿燒雞 | AK10: =F11&" "&F12&" "&F13&" "&F14&" "&F15&" "&F16 -> 肉雞 白蘿蔔 胡蘿蔔 大蒜 | AL10: =I10 -> 家常豆干 | AM10: =I11&" "&I12&" "&I13&" "&I14&" "&I15&" "&I16 -> 時蔬 豆干 胡蘿蔔 大蒜 | AN10: =L10 -> 毛豆南瓜 | AO10: =L11&" "&L12&" "&L13&" "&L14&" "&L15&" "&L16 -> 南瓜 冷凍毛豆仁 大蒜 | AP10: =O10 -> 時蔬 | AQ10: =O11&" "&O12&" "&O13&" "&O14&" "&O15&" "&O16 -> 蔬菜 大蒜 | AR10: =R10 -> 味噌小魚湯 | AS10: =R11&" "&R12&" "&R13&" "&R14&" "&R15&" "&R16 -> 洋蔥 味噌 乾裙帶菜 小魚乾 柴魚片 | AT10: =U10 -> Tap豆奶 | AU10: =V10 -> 0 | AV10: =W10 -> 5.875 | AW10: =X10 -> 3 | AX10: =Y10 -> 1.7 | AY10: =Z10 -> 2.85 | AZ10: =AA10 -> 0 | BA10: =AB10 -> 0 | BB10: =AC10 -> 807
A11: 二 | C11: 米 | D11: 7 | E11: =IF(D11,"公斤","") -> 公斤 | F11: 肉雞 | G11: 9 | H11: =IF(G11,"公斤","") -> 公斤 | I11: 時蔬 | J11: 3 | K11: =IF(J11,"公斤","") -> 公斤 | L11: 南瓜 | M11: 7 | N11: =IF(M11,"公斤","") -> 公斤 | O11: 蔬菜 | P11: 7 | Q11: 公斤 | R11: 洋蔥 | S11: 2 | T11: =IF(S11,"公斤","") -> 公斤
C12: 糙米 | D12: 3 | E12: =IF(D12,"公斤","") -> 公斤 | F12: 白蘿蔔 | G12: 4 | H12: =IF(G12,"公斤","") -> 公斤 | I12: 豆干 | J12: 4 | K12: =IF(J12,"公斤","") -> 公斤 | L12: 冷凍毛豆仁 | M12: 0.5 | N12: =IF(M12,"公斤","") -> 公斤 | O12: 大蒜 | P12: 0.05 | Q12: 公斤 | R12: 味噌 | S12: 1 | T12: =IF(S12,"公斤","") -> 公斤
E13: =IF(D13,"公斤","") | F13: 胡蘿蔔 | G13: 0.5 | H13: =IF(G13,"公斤","") -> 公斤 | I13: 胡蘿蔔 | J13: 0.5 | K13: =IF(J13,"公斤","") -> 公斤 | L13: 大蒜 | M13: 0.05 | N13: =IF(M13,"公斤","") -> 公斤 | R13: 乾裙帶菜 | S13: 0.1 | T13: =IF(S13,"公斤","") -> 公斤
E14: =IF(D14,"公斤","") | F14: 大蒜 | G14: 0.05 | H14: =IF(G14,"公斤","") -> 公斤 | I14: 大蒜 | J14: 0.05 | K14: =IF(J14,"公斤","") -> 公斤 | N14: =IF(M14,"公斤","") | R14: 小魚乾 | S14: 0.1 | T14: =IF(S14,"公斤","") -> 公斤
E15: =IF(D15,"公斤","") | H15: =IF(G15,"公斤","") | K15: =IF(J15,"公斤","") | N15: =IF(M15,"公斤","") | R15: 柴魚片 | S15: 0.01 | T15: =IF(S15,"公斤","") -> 公斤
E16: =IF(D16,"公斤","") | H16: =IF(G16,"公斤","") | K16: =IF(J16,"公斤","") | N16: =IF(M16,"公斤","") | T16: =IF(S16,"公斤","")
A17: =A10+1 -> 46267 | B17: A3 | C17: 培根拌飯 | E17: =IF(D17,"公斤","") | F17: 香滷肉排 | H17: =IF(G17,"公斤","") | I17: 拌飯配料 | K17: =IF(J17,"公斤","") | L17: 三杯麵腸 | N17: =IF(M17,"公斤","") | O17: 時蔬 | R17: 時蔬蛋花湯 | T17: =IF(S17,"公斤","") | U17: 水果 | W17: 5.25 | X17: 3.3818182 | Y17: 1.45 | Z17: 2.9159091 | AC17: 788.60227 | AE17: =A17 -> 46267 | AF17: =A18 -> 三 | AG17: =B17 -> A3 | AH17: =C17 -> 培根拌飯 | AI17: =C18&" "&C19&" "&C20&" "&C21&" "&C22&" "&C23 -> 米 糙米 | AJ17: =F17 -> 香滷肉排 | AK17: =F18&" "&F19&" "&F20&" "&F21&" "&F22&" "&F23 -> 肉排 | AL17: =I17 -> 拌飯配料 | AM17: =I18&" "&I19&" "&I20&" "&I21&" "&I22&" "&I23 -> 培根 豬後腿肉 冷凍玉米粒 時蔬 胡蘿蔔 大蒜 | AN17: =L17 -> 三杯麵腸 | AO17: =L18&" "&L19&" "&L20&" "&L21&" "&L22&" "&L23 -> 杏鮑菇 麵腸 大蒜 九層塔 | AP17: =O17 -> 時蔬 | AQ17: =O18&" "&O19&" "&O20&" "&O21&" "&O22&" "&O23 -> 蔬菜 大蒜 | AR17: =R17 -> 時蔬蛋花湯 | AS17: =R18&" "&R19&" "&R20&" "&R21&" "&R22&" "&R23 -> 雞蛋 時蔬 薑 胡蘿蔔 | AT17: =U17 -> 水果 | AU17: =V17 -> 0 | AV17: =W17 -> 5.25 | AW17: =X17 -> 3.3818182 | AX17: =Y17 -> 1.45 | AY17: =Z17 -> 2.9159091 | AZ17: =AA17 -> 0 | BA17: =AB17 -> 0 | BB17: =AC17 -> 788.60227
A18: 三 | C18: 米 | D18: 7 | E18: =IF(D18,"公斤","") -> 公斤 | F18: 肉排 | G18: 6 | H18: =IF(G18,"公斤","") -> 公斤 | I18: 培根 | J18: 0.7 | K18: =IF(J18,"公斤","") -> 公斤 | L18: 杏鮑菇 | M18: 2 | N18: =IF(M18,"公斤","") -> 公斤 | O18: 蔬菜 | P18: 7 | Q18: 公斤 | R18: 雞蛋 | S18: 1 | T18: =IF(S18,"公斤","") -> 公斤
C19: 糙米 | D19: 3 | E19: =IF(D19,"公斤","") -> 公斤 | H19: =IF(G19,"公斤","") | I19: 豬後腿肉 | J19: 1.2 | K19: =IF(J19,"公斤","") -> 公斤 | L19: 麵腸 | M19: 4 | N19: =IF(M19,"公斤","") -> 公斤 | O19: 大蒜 | P19: 0.05 | Q19: 公斤 | R19: 時蔬 | S19: 3 | T19: =IF(S19,"公斤","") -> 公斤
E20: =IF(D20,"公斤","") | H20: =IF(G20,"公斤","") | I20: 冷凍玉米粒 | J20: 2 | K20: =IF(J20,"公斤","") -> 公斤 | L20: 大蒜 | M20: 0.05 | N20: =IF(M20,"公斤","") -> 公斤 | R20: 薑 | S20: 0.05 | T20: =IF(S20,"公斤","") -> 公斤
E21: =IF(D21,"公斤","") | H21: =IF(G21,"公斤","") | I21: 時蔬 | J21: 2 | K21: =IF(J21,"公斤","") -> 公斤 | L21: 九層塔 | M21: 0.02 | N21: =IF(M21,"公斤","") -> 公斤 | R21: 胡蘿蔔 | S21: 0.5 | T21: =IF(S21,"公斤","") -> 公斤
E22: =IF(D22,"公斤","") | H22: =IF(G22,"公斤","") | I22: 胡蘿蔔 | J22: 0.5 | K22: =IF(J22,"公斤","") -> 公斤 | N22: =IF(M22,"公斤","") | T22: =IF(S22,"公斤","")
E23: =IF(D23,"公斤","") | H23: =IF(G23,"公斤","") | I23: 大蒜 | J23: 0.05 | K23: =IF(J23,"公斤","") -> 公斤 | N23: =IF(M23,"公斤","") | T23: =IF(S23,"公斤","")
A24: =A17+1 -> 46268 | B24: A4 | C24: 糙米飯 | E24: =IF(D24,"公斤","") | F24: 馬鈴薯滷肉 | H24: =IF(G24,"公斤","") | I24: 紅仁炒蛋 | K24: =IF(J24,"公斤","") | L24: 肉絲時蔬 | N24: =IF(M24,"公斤","") | O24: 時蔬 | R24: 綠豆湯 | T24: =IF(S24,"公斤","") | U24: 葡萄乾 | W24: 6.3 | X24: 3.7142857 | Y24: 1.76 | Z24: 3.2371429 | AA24: 0 | AC24: 909.24286 | AE24: =A24 -> 46268 | AF24: =A25 -> 四 | AG24: =B24 -> A4 | AH24: =C24 -> 糙米飯 | AI24: =C25&" "&C26&" "&C27&" "&C28&" "&C29&" "&C30 -> 米 糙米 | AJ24: =F24 -> 馬鈴薯滷肉 | AK24: =F25&" "&F26&" "&F27&" "&F28&" "&F29&" "&F30 -> 豬後腿肉 馬鈴薯 胡蘿蔔 大蒜 | AL24: =I24 -> 紅仁炒蛋 | AM24: =I25&" "&I26&" "&I27&" "&I28&" "&I29&" "&I30 -> 雞蛋 胡蘿蔔 大蒜 | AN24: =L24 -> 肉絲時蔬 | AO24: =L25&" "&L26&" "&L27&" "&L28&" "&L29&" "&L30 -> 蔬菜 肉絲 大蒜 | AP24: =O24 -> 時蔬 | AQ24: =O25&" "&O26&" "&O27&" "&O28&" "&O29&" "&O30 -> 蔬菜 大蒜 | AR24: =R24 -> 綠豆湯 | AS24: =R25&" "&R26&" "&R27&" "&R28&" "&R29&" "&R30 -> 綠豆 二砂糖 | AT24: =U24 -> 葡萄乾 | AU24: =V24 -> 0 | AV24: =W24 -> 6.3 | AW24: =X24 -> 3.7142857 | AX24: =Y24 -> 1.76 | AY24: =Z24 -> 3.2371429 | AZ24: =AA24 -> 0 | BA24: =AB24 -> 0 | BB24: =AC24 -> 909.24286
A25: 四 | C25: 米 | D25: 7 | E25: =IF(D25,"公斤","") -> 公斤 | F25: 豬後腿肉 | G25: 6 | H25: =IF(G25,"公斤","") -> 公斤 | I25: 雞蛋 | J25: 5.5 | K25: =IF(J25,"公斤","") -> 公斤 | L25: 蔬菜 | M25: 7 | N25: =IF(M25,"公斤","") -> 公斤 | O25: 蔬菜 | P25: 7 | Q25: 公斤 | R25: 綠豆 | S25: 2 | T25: =IF(S25,"公斤","") -> 公斤
C26: 糙米 | D26: 3 | E26: =IF(D26,"公斤","") -> 公斤 | F26: 馬鈴薯 | G26: 4 | H26: =IF(G26,"公斤","") -> 公斤 | I26: 胡蘿蔔 | J26: 3 | K26: =IF(J26,"公斤","") -> 公斤 | L26: 肉絲 | M26: 0.6 | N26: =IF(M26,"公斤","") -> 公斤 | O26: 大蒜 | P26: 0.05 | Q26: 公斤 | R26: 二砂糖 | S26: 1 | T26: =IF(S26,"公斤","") -> 公斤
E27: =IF(D27,"公斤","") | F27: 胡蘿蔔 | G27: 0.5 | H27: =IF(G27,"公斤","") -> 公斤 | I27: 大蒜 | J27: 0.05 | K27: =IF(J27,"公斤","") -> 公斤 | L27: 大蒜 | M27: 0.05 | N27: =IF(M27,"公斤","") -> 公斤 | T27: =IF(S27,"公斤","")
E28: =IF(D28,"公斤","") | F28: 大蒜 | G28: 0.05 | H28: =IF(G28,"公斤","") -> 公斤 | K28: =IF(J28,"公斤","") | N28: =IF(M28,"公斤","") | T28: =IF(S28,"公斤","")
E29: =IF(D29,"公斤","") | H29: =IF(G29,"公斤","") | K29: =IF(J29,"公斤","") | N29: =IF(M29,"公斤","") | T29: =IF(S29,"公斤","")
E30: =IF(D30,"公斤","") | H30: =IF(G30,"公斤","") | K30: =IF(J30,"公斤","") | N30: =IF(M30,"公斤","") | T30: =IF(S30,"公斤","")
A31: =A24+1 -> 46269 | B31: A5 | C31: 小米飯 | E31: =IF(D31,"公斤","") | F31: 鹹酥雞 | H31: =IF(G31,"公斤","") | I31: 針菇豆腐 | K31: =IF(J31,"公斤","") | L31: 麵輪時瓜 | N31: =IF(M31,"公斤","") | O31: 時蔬 | R31: 三絲羹湯 | T31: =IF(S31,"公斤","") | U31: 水果 | W31: 5.2 | X31: 3.8011905 | Y31: 1.86 | Z31: 3.3305952 | AC31: 845.46607 | AE31: =A31 -> 46269 | AF31: =A32 -> 五 | AG31: =B31 -> A5 | AH31: =C31 -> 小米飯 | AI31: =C32&" "&C33&" "&C34&" "&C35&" "&C36&" "&C37 -> 米 小米 | AJ31: =F31 -> 鹹酥雞 | AK31: =F32&" "&F33&" "&F34&" "&F35&" "&F36&" "&F37 -> 鹹酥雞 大蒜 九層塔 | AL31: =I31 -> 針菇豆腐 | AM31: =I32&" "&I33&" "&I34&" "&I35&" "&I36&" "&I37 -> 豆腐 金針菇 絞肉 大蒜 | AN31: =L31 -> 麵輪時瓜 | AO31: =L32&" "&L33&" "&L34&" "&L35&" "&L36&" "&L37 -> 時瓜 麵輪 胡蘿蔔 大蒜 | AP31: =O31 -> 時蔬 | AQ31: =O32&" "&O33&" "&O34&" "&O35&" "&O36&" "&O37 -> 蔬菜 大蒜 | AR31: =R31 -> 三絲羹湯 | AS31: =R32&" "&R33&" "&R34&" "&R35&" "&R36&" "&R37 -> 脆筍 時蔬 胡蘿蔔 豬後腿肉 沙茶醬 | AT31: =U31 -> 水果 | AU31: =V31 -> 0 | AV31: =W31 -> 5.2 | AW31: =X31 -> 3.8011905 | AX31: =Y31 -> 1.86 | AY31: =Z31 -> 3.3305952 | AZ31: =AA31 -> 0 | BA31: =AB31 -> 0 | BB31: =AC31 -> 845.46607
A32: 五 | C32: 米 | D32: 10 | E32: =IF(D32,"公斤","") -> 公斤 | F32: 鹹酥雞 | G32: 9 | H32: =IF(G32,"公斤","") -> 公斤 | I32: 豆腐 | J32: 7 | K32: =IF(J32,"公斤","") -> 公斤 | L32: 時瓜 | M32: 7 | N32: =IF(M32,"公斤","") -> 公斤 | O32: 蔬菜 | P32: 7 | Q32: 公斤 | R32: 脆筍 | S32: 1.5 | T32: =IF(S32,"公斤","") -> 公斤
C33: 小米 | D33: 0.4 | E33: =IF(D33,"公斤","") -> 公斤 | F33: 大蒜 | G33: 0.1 | H33: =IF(G33,"公斤","") -> 公斤 | I33: 金針菇 | J33: 1 | K33: =IF(J33,"公斤","") -> 公斤 | L33: 麵輪 | M33: 0.5 | N33: =IF(M33,"公斤","") -> 公斤 | O33: 大蒜 | P33: 0.05 | Q33: 公斤 | R33: 時蔬 | S33: 1.5 | T33: =IF(S33,"公斤","") -> 公斤
E34: =IF(D34,"公斤","") | F34: 九層塔 | G34: 0.1 | H34: =IF(G34,"公斤","") -> 公斤 | I34: 絞肉 | J34: 0.6 | K34: =IF(J34,"公斤","") -> 公斤 | L34: 胡蘿蔔 | M34: 0.5 | N34: =IF(M34,"公斤","") -> 公斤 | R34: 胡蘿蔔 | S34: 0.5 | T34: =IF(S34,"公斤","") -> 公斤
E35: =IF(D35,"公斤","") | H35: =IF(G35,"公斤","") | I35: 大蒜 | J35: 0.05 | K35: =IF(J35,"公斤","") -> 公斤 | L35: 大蒜 | M35: 0.05 | N35: =IF(M35,"公斤","") -> 公斤 | R35: 豬後腿肉 | S35: 0.6 | T35: =IF(S35,"公斤","") -> 公斤
E36: =IF(D36,"公斤","") | H36: =IF(G36,"公斤","") | K36: =IF(J36,"公斤","") | N36: =IF(M36,"公斤","") | R36: 沙茶醬 | T36: =IF(S36,"公斤","")
E37: =IF(D37,"公斤","") | H37: =IF(G37,"公斤","") | K37: =IF(J37,"公斤","") | N37: =IF(M37,"公斤","") | T37: =IF(S37,"公斤","")
A38: 46272 | B38: B1 | C38: 白米飯 | E38: =IF(D38,"公斤","") | F38: 花生肉片 | H38: =IF(G38,"公斤","") | I38: 蛋香花椰 | K38: =IF(J38,"公斤","") | L38: 香炒四色 | N38: =IF(M38,"公斤","") | O38: 時蔬 | R38: 南瓜湯 | T38: =IF(S38,"公斤","") | U38: 果汁 | W38: 5.6875 | X38: 2.6935065 | Y38: 2.056 | Z38: 2.8747532 | AC38: 780.90188 | AE38: =A38 -> 46272 | AF38: =A39 -> 一 | AG38: =B38 -> B1 | AH38: =C38 -> 白米飯 | AI38: =C39&" "&C40&" "&C41&" "&C42&" "&C43&" "&C44 -> 米 | AJ38: =F38 -> 花生肉片 | AK38: =F39&" "&F40&" "&F41&" "&F42&" "&F43&" "&F44 -> 豬後腿肉 油花生 胡蘿蔔 時蔬 大蒜 | AL38: =I38 -> 蛋香花椰 | AM38: =I39&" "&I40&" "&I41&" "&I42&" "&I43&" "&I44 -> 雞蛋 冷凍青花菜 乾木耳 大蒜 | AN38: =L38 -> 香炒四色 | AO38: =L39&" "&L40&" "&L41&" "&L42&" "&L43&" "&L44 -> 冷凍玉米粒 豆薯 胡蘿蔔 豬絞肉 薑 | AP38: =O38 -> 時蔬 | AQ38: =O39&" "&O40&" "&O41&" "&O42&" "&O43&" "&O44 -> 蔬菜 大蒜 | AR38: =R38 -> 南瓜湯 | AS38: =R39&" "&R40&" "&R41&" "&R42&" "&R43&" "&R44 -> 南瓜 薑 大骨 | AT38: =U38 -> 果汁 | AU38: =V38 -> 0 | AV38: =W38 -> 5.6875 | AW38: =X38 -> 2.6935065 | AX38: =Y38 -> 2.056 | AY38: =Z38 -> 2.8747532 | AZ38: =AA38 -> 0 | BA38: =AB38 -> 0 | BB38: =AC38 -> 780.90188
A39: 一 | C39: 米 | D39: 10 | E39: =IF(D39,"公斤","") -> 公斤 | F39: 豬後腿肉 | G39: 6 | H39: =IF(G39,"公斤","") -> 公斤 | I39: 雞蛋 | J39: 3.5 | K39: =IF(J39,"公斤","") -> 公斤 | L39: 冷凍玉米粒 | M39: 1.5 | N39: =IF(M39,"公斤","") -> 公斤 | O39: 蔬菜 | P39: 7 | Q39: 公斤 | R39: 南瓜 | S39: 4 | T39: =IF(S39,"公斤","") -> 公斤
E40: =IF(D40,"公斤","") | F40: 油花生 | G40: 0.3 | H40: =IF(G40,"公斤","") -> 公斤 | I40: 冷凍青花菜 | J40: 6 | K40: =IF(J40,"公斤","") -> 公斤 | L40: 豆薯 | M40: 4 | N40: =IF(M40,"公斤","") -> 公斤 | O40: 大蒜 | P40: 0.05 | Q40: 公斤 | R40: 薑 | S40: 0.05 | T40: =IF(S40,"公斤","") -> 公斤
...

Sheet B6月葷-國中總表
E1: 花蓮縣115學年度第1學期國民中學9月葷食菜單-清泉商行(非偏鄉廚房)
A2: 日期 | B2: 星期 | C2: 循環 | D2: 主食 | E2: 明細 | F2: 主菜 | G2: 明細 | H2: 副菜一 | I2: 明細 | J2: 副菜二 | K2: 明細 | L2: 時蔬 | M2: 明細 | N2: 湯品 | O2: 明細 | P2: 附餐1 | Q2: 附餐2 | R2: 穀/份 | S2: 豆/份 | T2: 蔬/份 | U2: 油/份 | V2: 乳/份 | W2: 果/份 | X2: 熱量
A3: ='B6月葷-國中'!AE3 -> 46265 | B3: ='B6月葷-國中'!AF3 -> 一 | C3: ='B6月葷-國中'!AG3 -> A1 | D3: ='B6月葷-國中'!AH3 -> 白米飯 | E3: ='B6月葷-國中'!AI3 -> 米 | F3: ='B6月葷-國中'!AJ3 -> 鮮菇肉燥 | G3: ='B6月葷-國中'!AK3 -> 絞肉 杏鮑菇 胡蘿蔔 大蒜 | H3: ='B6月葷-國中'!AL3 -> 玉米炒蛋 | ... P3: ='B6月葷-國中'!AT3 -> 果汁 | R3: ='B6月葷-國中'!AV3 -> 5.375 | S3: ='B6月葷-國中'!AW3 -> 2.7960552 | T3: ='B6月葷-國中'!AX3 -> 2.255 | U3: ='B6月葷-國中'!AY3 -> 3.0255276 | V3: ='B6月葷-國中'!AZ3 -> 0 | W3: ='B6月葷-國中'!BA3 -> 0 | X3: ='B6月葷-國中'!BB3 -> 778.47788
A4: ='B6月葷-國中'!AE10 -> 46266 | B4: ='B6月葷-國中'!AF10 -> 二 | C4: ='B6月葷-國中'!AG10 -> A2 | D4: ='B6月葷-國中'!AH10 -> 糙米飯 | E4: ='B6月葷-國中'!AI10 -> 米 糙米 | F4: ='B6月葷-國中'!AJ10 -> 銀蘿燒雞 | G4: ='B6月葷-國中'!AK10 -> 肉雞 白蘿蔔 胡蘿蔔 大蒜 | H4: ='B6月葷-國中'!AL10 -> 家常豆干 | ... P4: ='B6月葷-國中'!AT10 -> Tap豆奶 | R4: ='B6月葷-國中'!AV10 -> 5.875 | S4: ='B6月葷-國中'!AW10 -> 3 | T4: ='B6月葷-國中'!AX10 -> 1.7 | U4: ='B6月葷-國中'!AY10 -> 2.85 | V4: ='B6月葷-國中'!AZ10 -> 0 | W4: ='B6月葷-國中'!BA10 -> 0 | X4: ='B6月葷-國中'!BB10 -> 807
A5: ='B6月葷-國中'!AE17 -> 46267 | B5: ='B6月葷-國中'!AF17 -> 三 | C5: ='B6月葷-國中'!AG17 -> A3 | D5: ='B6月葷-國中'!AH17 -> 培根拌飯 | E5: ='B6月葷-國中'!AI17 -> 米 糙米 | F5: ='B6月葷-國中'!AJ17 -> 香滷肉排 | G5: ='B6月葷-國中'!AK17 -> 肉排 | H5: ='B6月葷-國中'!AL17 -> 拌飯配料 | ... P5: ='B6月葷-國中'!AT17 -> 水果 | R5: ='B6月葷-國中'!AV17 -> 5.25 | S5: ='B6月葷-國中'!AW17 -> 3.3818182 | T5: ='B6月葷-國中'!AX17 -> 1.45 | U5: ='B6月葷-國中'!AY17 -> 2.9159091 | V5: ='B6月葷-國中'!AZ17 -> 0 | W5: ='B6月葷-國中'!BA17 -> 0 | X5: ='B6月葷-國中'!BB17 -> 788.60227
A6: ='B6月葷-國中'!AE24 -> 46268 | B6: ='B6月葷-國中'!AF24 -> 四 | C6: ='B6月葷-國中'!AG24 -> A4 | D6: ='B6月葷-國中'!AH24 -> 糙米飯 | E6: ='B6月葷-國中'!AI24 -> 米 糙米 | F6: ='B6月葷-國中'!AJ24 -> 馬鈴薯滷肉 | G6: ='B6月葷-國中'!AK24 -> 豬後腿肉 馬鈴薯 胡蘿蔔 大蒜 | H6: ='B6月葷-國中'!AL24 -> 紅仁炒蛋 | ... P6: ='B6月葷-國中'!AT24 -> 葡萄乾 | R6: ='B6月葷-國中'!AV24 -> 6.3 | S6: ='B6月葷-國中'!AW24 -> 3.7142857 | T6: ='B6月葷-國中'!AX24 -> 1.76 | U6: ='B6月葷-國中'!AY24 -> 3.2371429 | V6: ='B6月葷-國中'!AZ24 -> 0 | W6: ='B6月葷-國中'!BA24 -> 0 | X6: ='B6月葷-國中'!BB24 -> 909.24286
A7: ='B6月葷-國中'!AE31 -> 46269 | B7: ='B6月葷-國中'!AF31 -> 五 | C7: ='B6月葷-國中'!AG31 -> A5 | D7: ='B6月葷-國中'!AH31 -> 小米飯 | E7: ='B6月葷-國中'!AI31 -> 米 小米 | F7: ='B6月葷-國中'!AJ31 -> 鹹酥雞 | G7: ='B6月葷-國中'!AK31 -> 鹹酥雞 大蒜 九層塔 | H7: ='B6月葷-國中'!AL31 -> 針菇豆腐 | ... P7: ='B6月葷-國中'!AT31 -> 水果 | R7: ='B6月葷-國中'!AV31 -> 5.2 | S7: ='B6月葷-國中'!AW31 -> 3.8011905 | T7: ='B6月葷-國中'!AX31 -> 1.86 | U7: ='B6月葷-國中'!AY31 -> 3.3305952 | V7: ='B6月葷-國中'!AZ31 -> 0 | W7: ='B6月葷-國中'!BA31 -> 0 | X7: ='B6月葷-國中'!BB31 -> 845.46607
A8: ='B6月葷-國中'!AE38 -> 46272 | B8: ='B6月葷-國中'!AF38 -> 一 | C8: ='B6月葷-國中'!AG38 -> B1 | D8: ='B6月葷-國中'!AH38 -> 白米飯 | E8: ='B6月葷-國中'!AI38 -> 米 | F8: ='B6月葷-國中'!AJ38 -> 花生肉片 | G8: ='B6月葷-國中'!AK38 -> 豬後腿肉 油花生 胡蘿蔔 時蔬 大蒜 | H8: ='B6月葷-國中'!AL38 -> 蛋香花椰 | ... P8: ='B6月葷-國中'!AT38 -> 果汁 | R8: ='B6月葷-國中'!AV38 -> 5.6875 | S8: ='B6月葷-國中'!AW38 -> 2.6935065 | T8: ='B6月葷-國中'!AX38 -> 2.056 | U8: ='B6月葷-國中'!AY38 -> 2.8747532 | V8: ='B6月葷-國中'!AZ38 -> 0 | W8: ='B6月葷-國中'!BA38 -> 0 | X8: ='B6月葷-國中'!BB38 -> 780.90188
A9: ='B6月葷-國中'!AE45 -> 46273 | B9: ='B6月葷-國中'!AF45 -> 二 | C9: ='B6月葷-國中'!AG45 -> B2 | D9: ='B6月葷-國中'!AH45 -> 糙米飯 | E9: ='B6月葷-國中'!AI45 -> 米 糙米 | F9: ='B6月葷-國中'!AJ45 -> 咖哩雞 | G9: ='B6月葷-國中'!AK45 -> 肉雞 洋蔥 馬鈴薯 胡蘿蔔 咖哩粉 | H9: ='B6月葷-國中'!AL45 -> 肉絲海茸 | ... P9: ='B6月葷-國中'!AT45 -> 海苔 | R9: ='B6月葷-國中'!AV45 -> 5.625 | S9: ='B6月葷-國中'!AW45 -> 2.8392857 | T9: ='B6月葷-國中'!AX45 -> 1.855 | U9: ='B6月葷-國中'!AY45 -> 2.8471429 | V9: ='B6月葷-國中'!AZ45 -> 0 | W9: ='B6月葷-國中'!BA45 -> 0 | X9: ='B6月葷-國中'!BB45 -> 781.19286
A10: ='B6月葷-國中'!AE52 -> 46274 | B10: ='B6月葷-國中'!AF52 -> 三 | C10: ='B6月葷-國中'!AG52 -> B3 | D10: ='B6月葷-國中'!AH52 -> 拌麵特餐 | E10: ='B6月葷-國中'!AI52 -> 麵條 | F10: ='B6月葷-國中'!AJ52 -> 香滷腿排 | G10: ='B6月葷-國中'!AK52 -> 腿排 | H10: ='B6月葷-國中'!AL52 -> 拌麵配料 | ... P10: ='B6月葷-國中'!AT52 -> 水果 | Q10: 有機豆奶 | R10: ='B6月葷-國中'!AV52 -> 6 | S10: ='B6月葷-國中'!AW52 -> 2.9350649 | T10: ='B6月葷-國中'!AX52 -> 1.155 | U10: ='B6月葷-國中'!AY52 -> 2.5450325 | V10: ='B6月葷-國中'!AZ52 -> 0 | W10: ='B6月葷-國中'!BA52 -> 0 | X10: ='B6月葷-國中'!BB52 -> 783.53133
A11: ='B6月葷-國中'!AE59 -> 46275 | B11: ='B6月葷-國中'!AF59 -> 四 | C11: ='B6月葷-國中'!AG59 -> B4 | D11: ='B6月葷-國中'!AH59 -> 糙米飯 | E11: ='B6月葷-國中'!AI59 -> 米 糙米 | F11: ='B6月葷-國中'!AJ59 -> 筍干滷肉 | G11: ='B6月葷-國中'!AK59 -> 豬後腿肉 麻竹筍干 梅乾菜 胡蘿蔔 大蒜 | H11: ='B6月葷-國中'!AL59 -> 紅仁炒蛋 | ... P11: ='B6月葷-國中'!AT59 -> 堅果 | R11: ='B6月葷-國中'!AV59 -> 5 | S11: ='B6月葷-國中'!AW59 -> 3.047619 | T11: ='B6月葷-國中'!AX59 -> 2.17 | U11: ='B6月葷-國中'!AY59 -> 3.1088095 | V11: ='B6月葷-國中'!AZ59 -> 0 | W11: ='B6月葷-國中'!BA59 -> 0.2 | X11: ='B6月葷-國中'!BB59 -> 784.71786
A12: ='B6月葷-國中'!AE66 -> 46276 | B12: ='B6月葷-國中'!AF66 -> 五 | C12: ='B6月葷-國中'!AG66 -> B5 | D12: ='B6月葷-國中'!AH66 -> 紫米飯 | E12: ='B6月葷-國中'!AI66 -> 米 黑糯米 | F12: ='B6月葷-國中'!AJ66 -> 咖哩魚排 | G12: ='B6月葷-國中'!AK66 -> 魚排 咖哩粉 | H12: ='B6月葷-國中'!AL66 -> 海結滷豆干 | ... P12: ='B6月葷-國中'!AT66 -> 水果 | R12: ='B6月葷-國中'!AV66 -> 5.2 | S12: ='B6月葷-國中'!AW66 -> 3.45 | T12: ='B6月葷-國中'!AX66 -> 2.2 | U12: ='B6月葷-國中'!AY66 -> 3.325 | V12: ='B6月葷-國中'!AZ66 -> 0 | W12: ='B6月葷-國中'!BA66 -> 0 | X12: ='B6月葷-國中'!BB66 -> 827.375
A13: ='B6月葷-國中'!AE73 -> 46279 | B13: ='B6月葷-國中'!AF73 -> 一 | C13: ='B6月葷-國中'!AG73 -> C1 | D13: ='B6月葷-國中'!AH73 -> 白米飯 | E13: ='B6月葷-國中'!AI73 -> 米 | F13: ='B6月葷-國中'!AJ73 -> 京醬肉絲 | G13: ='B6月葷-國中'!AK73 -> 豬後腿肉 胡蘿蔔 豆薯 大蒜 甜麵醬 | H13: ='B6月葷-國中'!AL73 -> 時蔬炒蛋 | ... P13: ='B6月葷-國中'!AT73 -> 果汁 | R13: ='B6月葷-國中'!AV73 -> 6 | S13: ='B6月葷-國中'!AW73 -> 2.812987 | T13: ='B6月葷-國中'!AX73 -> 2.105 | U13: ='B6月葷-國中'!AY73 -> 2.9589935 | V13: ='B6月葷-國中'!AZ73 -> 0 | W13: ='B6月葷-國中'!BA73 -> 0 | X13: ='B6月葷-國中'!BB73 -> 816.75373
A14: ='B6月葷-國中'!AE80 -> 46280 | B14: ='B6月葷-國中'!AF80 -> 二 | C14: ='B6月葷-國中'!AG80 -> c2 | D14: ='B6月葷-國中'!AH80 -> 糙米飯 | E14: ='B6月葷-國中'!AI80 -> 米 糙米 | F14: ='B6月葷-國中'!AJ80 -> 檸檬雞翅 | G14: ='B6月葷-國中'!AK80 -> 檸檬雞翅 | H14: ='B6月葷-國中'!AL80 -> 泡菜凍腐 | ... P14: ='B6月葷-國中'!AT80 -> 葡萄乾 | R14: ='B6月葷-國中'!AV80 -> 5 | S14: ='B6月葷-國中'!AW80 -> 2.4271429 | T14: ='B6月葷-國中'!AX80 -> 2.25 | U14: ='B6月葷-國中'!AY80 -> 2.8385714 | V14: ='B6月葷-國中'!AZ80 -> 0 | W14: ='B6月葷-國中'!BA80 -> 0 | X14: ='B6月葷-國中'!BB80 -> 716.02143
A15: ='B6月葷-國中'!AE87 -> 46281 | B15: ='B6月葷-國中'!AF87 -> 三 | C15: ='B6月葷-國中'!AG87 -> C3 | D15: ='B6月葷-國中'!AH87 -> 中式米粉 | E15: ='B6月葷-國中'!AI87 -> 米粉 | F15: ='B6月葷-國中'!AJ87 -> 南瓜滷肉 | G15: ='B6月葷-國中'!AK87 -> 豬後腿肉 南瓜 胡蘿蔔 大蒜 | H15: ='B6月葷-國中'!AL87 -> 特餐配料 | ... P15: ='B6月葷-國中'!AT87 -> 水果 | Q15: 有機豆奶 | R15: ='B6月葷-國中'!AV87 -> 4.5 | S15: ='B6月葷-國中'!AW87 -> 3.4571429 | T15: ='B6月葷-國中'!AX87 -> 1.3 | U15: ='B6月葷-國中'!AY87 -> 4 | V15: ='B6月葷-國中'!AZ87 -> 0 | W15: ='B6月葷-國中'!BA87 -> 0 | X15: ='B6月葷-國中'!BB87 -> 786.78571
A16: ='B6月葷-國中'!AE94 -> 46282 | B16: ='B6月葷-國中'!AF94 -> 四 | C16: ='B6月葷-國中'!AG94 -> C4 | D16: ='B6月葷-國中'!AH94 -> 糙米飯 | E16: ='B6月葷-國中'!AI94 -> 米 糙米 | F16: ='B6月葷-國中'!AJ94 -> 鮮蔬魚丁 | G16: ='B6月葷-國中'!AK94 -> 水鯊魚丁 豆腐 胡蘿蔔 洋蔥 大蒜 | H16: ='B6月葷-國中'!AL94 -> 塔香海根 | ... P16: ='B6月葷-國中'!AT94 -> 海苔 | R16: ='B6月葷-國中'!AV94 -> 6.1375 | S16: ='B6月葷-國中'!AW94 -> 2.8321429 | T16: ='B6月葷-國中'!AX94 -> 1.456 | U16: ='B6月葷-國中'!AY94 -> 2.6440714 | V16: ='B6月葷-國中'!AZ94 -> 0 | W16: ='B6月葷-國中'!BA94 -> 0 | X16: ='B6月葷-國中'!BB94 -> 797.41893
A17: ='B6月葷-國中'!AE101 -> 46283 | B17: ='B6月葷-國中'!AF101 -> 五 | C17: ='B6月葷-國中'!AG101 -> C5 | D17: ='B6月葷-國中'!AH101 -> 燕麥飯 | E17: ='B6月葷-國中'!AI101 -> 米 燕麥 | F17: ='B6月葷-國中'!AJ101 -> 洋蔥肉片 | G17: ='B6月葷-國中'!AK101 -> 豬後腿肉 洋蔥 胡蘿蔔 大蒜 | H17: ='B6月葷-國中'!AL101 -> 豆包花椰 | ... P17: ='B6月葷-國中'!AT101 -> 水果 | R17: ='B6月葷-國中'!AV101 -> 6.45 | S17: ='B6月葷-國中'!AW101 -> 2.9160173 | T17: ='B6月葷-國中'!AX101 -> 2.05 | U17: ='B6月葷-國中'!AY101 -> 2.9830087 | V17: ='B6月葷-國中'!AZ101 -> 0 | W17: ='B6月葷-國中'!BA101 -> 0 | X17: ='B6月葷-國中'!BB101 -> 855.68669
A18: ='B6月葷-國中'!AE108 -> 46286 | B18: ='B6月葷-國中'!AF108 -> 一 | C18: ='B6月葷-國中'!AG108 -> D1 | D18: ='B6月葷-國中'!AH108 -> 白米飯 | E18: ='B6月葷-國中'!AI108 -> 米 | F18: ='B6月葷-國中'!AJ108 -> 瓜仔肉 | G18: ='B6月葷-國中'!AK108 -> 絞肉 乾香菇 醃漬花胡瓜 胡蘿蔔 大蒜 | H18: ='B6月葷-國中'!AL108 -> 毛豆干丁 | ... P18: ='B6月葷-國中'!AT108 -> 果汁 | R18: ='B6月葷-國中'!AV108 -> 5 | S18: ='B6月葷-國中'!AW108 -> 2.6238095 | T18: ='B6月葷-國中'!AX108 -> 2.5 | U18: ='B6月葷-國中'!AY108 -> 3.0619048 | V18: ='B6月葷-國中'!AZ108 -> 0 | W18: ='B6月葷-國中'!BA108 -> 0 | X18: ='B6月葷-國中'!BB108 -> 747.07143
A19: ='B6月葷-國中'!AE115 -> 46287 | B19: ='B6月葷-國中'!AF115 -> 二 | C19: ='B6月葷-國中'!AG115 -> D2 | D19: ='B6月葷-國中'!AH115 -> 糙米飯 | E19: ='B6月葷-國中'!AI115 -> 米 糙米 | F19: ='B6月葷-國中'!AJ115 -> 三杯雞 | G19: ='B6月葷-國中'!AK115 -> 肉雞 豆薯 大蒜 九層塔 | H19: ='B6月葷-國中'!AL115 -> 關東煮 | ... P19: ='B6月葷-國中'!AT115 -> 堅果 | R19: ='B6月葷-國中'!AV115 -> 5.5892857 | S19: ='B6月葷-國中'!AW115 -> 3.3687013 | T19: ='B6月葷-國中'!AX115 -> 2.05 | U19: ='B6月葷-國中'!AY115 -> 3.2093506 | V19: ='B6月葷-國中'!AZ115 -> 0 | W19: ='B6月葷-國中'!BA115 -> 0 | X19: ='B6月葷-國中'!BB115 -> 839.57338
A20: ='B6月葷-國中'!AE122 -> 46288 | B20: ='B6月葷-國中'!AF122 -> 三 | C20: ='B6月葷-國中'!AG122 -> D3 | D20: ='B6月葷-國中'!AH122 -> 古早味炒麵 | E20: ='B6月葷-國中'!AI122 -> 麵條 | F20: ='B6月葷-國中'!AJ122 -> 香滷雞腿 | G20: ='B6月葷-國中'!AK122 -> 棒腿 | H20: ='B6月葷-國中'!AL122 -> 炒麵拌料 | ... P20: ='B6月葷-國中'!AT122 -> 水果 | Q20: 有機豆奶 | R20: ='B6月葷-國中'!AV122 -> 5 | S20: ='B6月葷-國中'!AW122 -> 2.8214286 | T20: ='B6月葷-國中'!AX122 -> 1.25 | U20: ='B6月葷-國中'!AY122 -> 4.5 | V20: ='B6月葷-國中'!AZ122 -> 0 | W20: ='B6月葷-國中'!BA122 -> 0 | X20: ='B6月葷-國中'!BB122 -> 795.35714
A21: ='B6月葷-國中'!AE129 -> 46289 | B21: ='B6月葷-國中'!AF129 -> 四 | C21: E1 | D21: ='B6月葷-國中'!AH129 -> 糙米飯 | E21: ='B6月葷-國中'!AI129 -> 米 糙米 | F21: ='B6月葷-國中'!AJ129 -> 椒鹽魚排 | G21: ='B6月葷-國中'!AK129 -> 魚排 胡椒鹽 | H21: ='B6月葷-國中'!AL129 -> 筍干凍腐 | I21: ='B6月葷-國中'!AM129 -> 麻竹筍干 凍豆腐 胡蘿蔔 豬後腿肉 大蒜 | J21: ='B6月葷-國中'!AN129 -> 蛋香時蔬 | K21: ='B6月葷-國中'!AO129 -> 時蔬 胡蘿蔔 大蒜 雞蛋 | ... P21: ='B6月葷-國中'!AT129 -> 葡萄乾 | R21: ='B6月葷-國中'!AV129 -> 6.35 | S21: ='B6月葷-國中'!AW129 -> 2.5568182 | T21: ='B6月葷-國中'!AX129 -> 2.15 | U21: ='B6月葷-國中'!AY129 -> 2.8534091 | V21: ='B6月葷-國中'!AZ129 -> 0 | W21: ='B6月葷-國中'!BA129 -> 0 | X21: ='B6月葷-國中'!BB129 -> 818.41477
A22: ='B6月葷-國中'!AE136 -> 46290 | B22: ='B6月葷-國中'!AF136 -> 五 | C22: ='B6月葷-國中'!AG136 -> D5 | D22: 中秋
A23: ='B6月葷-國中'!AE143 -> 46293 | B23: ='B6月葷-國中'!AF143 -> 一 | C23: ='B6月葷-國中'!AG143 -> E1 | D23: 教師節
A24: ='B6月葷-國中'!AE150 -> 46294 | B24: ='B6月葷-國中'!AF150 -> 二 | C24: ='B6月葷-國中'!AG150 -> E2 | D24: ='B6月葷-國中'!AH150 -> 白米飯 | E24: ='B6月葷-國中'!AI150 -> 米 | F24: ='B6月葷-國中'!AJ150 -> 泡菜燒肉 | G24: ='B6月葷-國中'!AK150 -> 豬後腿肉 韓式泡菜 甘藍 大蒜 | H24: ='B6月葷-國中'!AL150 -> 洋蔥玉米炒蛋 | ... P24: ='B6月葷-國中'!AT150 -> 海苔 | R24: ='B6月葷-國中'!AV150 -> 5.375 | S24: ='B6月葷-國中'!AW150 -> 2.7844156 | T24: ='B6月葷-國中'!AX150 -> 2.075 | U24: ='B6月葷-國中'!AY150 -> 2.9297078 | V24: ='B6月葷-國中'!AZ150 -> 0 | W24: ='B6月葷-國中'!BA150 -> 0 | X24: ='B6月葷-國中'!BB150 -> 768.79302
A25: ='B6月葷-國中'!AE157 -> 46295 | B25: ='B6月葷-國中'!AF157 -> 三 | C25: ='B6月葷-國中'!AG157 -> E3 | D25: ='B6月葷-國中'!AH157 -> 油飯特餐 | E25: ='B6月葷-國中'!AI157 -> 米 糯米 | F25: ='B6月葷-國中'!AJ157 -> 香滷肉排 | G25: ='B6月葷-國中'!AK157 -> 肉排 | H25: ='B6月葷-國中'!AL157 -> 油飯配料 | ... P25: ='B6月葷-國中'!AT157 -> 水果 | R25: ='B6月葷-國中'!AV157 -> 5.5 | S25: ='B6月葷-國中'!AW157 -> 3.1558442 | T25: ='B6月葷-國中'!AX157 -> 1.75 | U25: ='B6月葷-國中'!AY157 -> 2.9529221 | V25: ='B6月葷-國中'!AZ157 -> 0 | W25: ='B6月葷-國中'!BA157 -> 0 | X25: ='B6月葷-國中'!BB157 -> 798.31981
A26: ※「本產品含有甲殼類、芒果、花生、牛奶、蛋、堅果類、芝麻、含麩質穀物、大豆、魚類及亞硫酸鹽類，不適合對其過敏體質者食用。」 菜單說明： 1.每周二、五吃有機蔬菜。 2.每周三供應有機豆奶（每月三次）。3.本店使用國產豬肉。

Sheet B6月素-國中
B1: 食材明細（食材重量以100人份計量，營養分析以個人計量,其中肉雞包含23%骨頭之採購量，每周供應特餐一次，當日得混搭供應，國中4菜1湯，國小3菜1湯）
A2: 日期 | B2: 循環 | C2: 主食 | D2: 重/kg | E2: 公斤 | F2: 主菜 | G2: 重/kg | H2: 公斤 | I2: 副菜一 | J2: 重/kg | K2: 公斤 | L2: 副菜二 | M2: 重/kg | N2: 公斤 | O2: 蔬菜 | P2: 重/kg | Q2: 公斤 | R2: 湯品 | S2: 重/kg | T2: 公斤 | U2: 點心1 | V2: 點心2 | W2: 穀/份 | X2: 豆/份 | Y2: 蔬/份 | Z2: 油/份 | AA2: 乳/份 | AB2: 果/份 | AC2: 熱量 | AE2: 日期 | AF2: 星期 | AG2: 循環 | AH2: 主食 | AI2: 明細 | AJ2: 主菜 | AK2: 明細 | AL2: 副菜一 | AM2: 明細 | AN2: 副菜二 | AO2: 明細 | AP2: 時蔬 | AQ2: 明細 | AR2: 湯品 | AS2: 明細 | AT2: 附餐1 | AU2: 附餐2 | AV2: 穀/份 | AW2: 豆/份 | AX2: 油/份 | AY2: 油/份 | AZ2: 乳/份 | BA2: 果/份 | BB2: 熱量
A3: 46265 | B3: A1 | C3: 白米飯 | E3: =IF(D3,"公斤","") | F3: 鮮菇麵腸 | H3: =IF(G3,"公斤","") | I3: 玉米炒蛋 | K3: =IF(J3,"公斤","") | L3: 蘿蔔滷黑輪 | N3: =IF(M3,"公斤","") | O3: 時蔬 | Q3: =IF(P3,"公斤","") | R3: 時瓜湯 | T3: =IF(S3,"公斤","") | U3: 果汁 | W3: 5.375 | X3: 2.6246266 | Y3: 2.155 | Z3: 2.8898133 | AC3: 757.0136 | AE3: =A3 -> 46265 | AF3: =A4 -> 一 | AG3: =B3 -> A1 | AH3: =C3 -> 白米飯 | AI3: =C4&" "&C5&" "&C6&" "&C7&" "&C8&" "&C9 -> 米 | AJ3: =F3 -> 鮮菇麵腸 | AK3: =F4&" "&F5&" "&F6&" "&F7&" "&F8&" "&F9 -> 麵腸 杏鮑菇 胡蘿蔔 薑 | AL3: =I3 -> 玉米炒蛋 | AM3: =I4&" "&I5&" "&I6&" "&I7&" "&I8&" "&I9 -> 雞蛋 冷凍玉米粒 薑 | AN3: =L3 -> 蘿蔔滷黑輪 | AO3: =L4&" "&L5&" "&L6&" "&L7&" "&L8&" "&L9 -> 白蘿蔔 胡蘿蔔 素黑輪 | AP3: =O3 -> 時蔬 | AQ3: =O4&" "&O5&" "&O6&" "&O7&" "&O8&" "&O9 -> 蔬菜 薑 | AR3: =R3 -> 時瓜湯 | AS3: =R4&" "&R5&" "&R6&" "&R7&" "&R8&" "&R9 -> 時瓜 薑 | AT3: =U3 -> 果汁 | AU3: =V3 -> 0 | AV3: =W3 -> 5.375 | AW3: =X3 -> 2.6246266 | AX3: =Y3 -> 2.155 | AY3: =Z3 -> 2.8898133 | AZ3: =AA3 -> 0 | BA3: =AB3 -> 0 | BB3: =AC3 -> 757.0136
A4: 一 | C4: 米 | D4: 10 | E4: =IF(D4,"公斤","") -> 公斤 | F4: 麵腸 | G4: 6 | H4: =IF(G4,"公斤","") -> 公斤 | I4: 雞蛋 | J4: 5 | K4: =IF(J4,"公斤","") -> 公斤 | L4: 白蘿蔔 | M4: 6 | N4: =IF(M4,"公斤","") -> 公斤 | O4: 蔬菜 | P4: 7 | Q4: =IF(P4,"公斤","") -> 公斤 | R4: 時瓜 | S4: 5 | T4: =IF(S4,"公斤","") -> 公斤
E5: =IF(D5,"公斤","") | F5: 杏鮑菇 | G5: 3 | H5: =IF(G5,"公斤","") -> 公斤 | I5: 冷凍玉米粒 | J5: 3 | K5: =IF(J5,"公斤","") -> 公斤 | L5: 胡蘿蔔 | M5: 0.5 | N5: =IF(M5,"公斤","") -> 公斤 | O5: 薑 | P5: 0.05 | Q5: =IF(P5,"公斤","") -> 公斤 | R5: 薑 | S5: 0.05 | T5: =IF(S5,"公斤","") -> 公斤
E6: =IF(D6,"公斤","") | F6: 胡蘿蔔 | G6: 0.5 | H6: =IF(G6,"公斤","") -> 公斤 | K6: =IF(J6,"公斤","") | L6: 素黑輪 | M6: 2 | N6: =IF(M6,"公斤","") -> 公斤 | Q6: =IF(P6,"公斤","") | T6: =IF(S6,"公斤","")
E7: =IF(D7,"公斤","") | F7: 薑 | G7: 0.05 | H7: =IF(G7,"公斤","") -> 公斤 | I7: 薑 | J7: 0.05 | K7: =IF(J7,"公斤","") -> 公斤 | M7: 0.01 | N7: =IF(M7,"公斤","") -> 公斤 | Q7: =IF(P7,"公斤","") | T7: =IF(S7,"公斤","")
E8: =IF(D8,"公斤","") | H8: =IF(G8,"公斤","") | K8: =IF(J8,"公斤","") | N8: =IF(M8,"公斤","") | Q8: =IF(P8,"公斤","") | T8: =IF(S8,"公斤","")
E9: =IF(D9,"公斤","") | H9: =IF(G9,"公斤","") | K9: =IF(J9,"公斤","") | N9: =IF(M9,"公斤","") | Q9: =IF(P9,"公斤","") | T9: =IF(S9,"公斤","")
A10: 46266 | B10: A2 | C10: 糙米飯 | E10: =IF(D10,"公斤","") | F10: 銀蘿皮絲 | H10: =IF(G10,"公斤","") | I10: 家常豆干 | K10: =IF(J10,"公斤","") | L10: 毛豆南瓜 | N10: =IF(M10,"公斤","") | O10: 時蔬 | Q10: =IF(P10,"公斤","") | R10: 味噌時蔬湯 | T10: =IF(S10,"公斤","") | U10: Tap豆奶 | W10: 5.875 | X10: 2.6 | Y10: 1.7 | Z10: 2.65 | AC10: 768 | AE10: =A10 -> 46266 | AF10: =A11 -> 二 | AG10: =B10 -> A2 | AH10: =C10 -> 糙米飯 | AI10: =C11&" "&C12&" "&C13&" "&C14&" "&C15&" "&C16 -> 米 糙米 | AJ10: =F10 -> 銀蘿皮絲 | AK10: =F11&" "&F12&" "&F13&" "&F14&" "&F15&" "&F16 -> 皮絲 白蘿蔔 胡蘿蔔 薑 | AL10: =I10 -> 家常豆干 | AM10: =I11&" "&I12&" "&I13&" "&I14&" "&I15&" "&I16 -> 時蔬 豆干 胡蘿蔔 薑 | AN10: =L10 -> 毛豆南瓜 | AO10: =L11&" "&L12&" "&L13&" "&L14&" "&L15&" "&L16 -> 南瓜 冷凍毛豆仁 薑 | AP10: =O10 -> 時蔬 | AQ10: =O11&" "&O12&" "&O13&" "&O14&" "&O15&" "&O16 -> 蔬菜 薑 | AR10: =R10 -> 味噌時蔬湯 | AS10: =R11&" "&R12&" "&R13&" "&R14&" "&R15&" "&R16 -> 時蔬 味噌 乾裙帶菜 | AT10: =U10 -> Tap豆奶 | AU10: =V10 -> 0 | AV10: =W10 -> 5.875 | AW10: =X10 -> 2.6 | AX10: =Y10 -> 1.7 | AY10: =Z10 -> 2.65 | AZ10: =AA10 -> 0 | BA10: =AB10 -> 0 | BB10: =AC10 -> 768
A11: 二 | C11: 米 | D11: 7 | E11: =IF(D11,"公斤","") -> 公斤 | F11: 皮絲 | G11: 1.5 | H11: =IF(G11,"公斤","") -> 公斤 | I11: 時蔬 | J11: 3 | K11: =IF(J11,"公斤","") -> 公斤 | L11: 南瓜 | M11: 7 | N11: =IF(M11,"公斤","") -> 公斤 | O11: 蔬菜 | P11: 7 | Q11: =IF(P11,"公斤","") -> 公斤 | R11: 時蔬 | S11: 2 | T11: =IF(S11,"公斤","") -> 公斤
C12: 糙米 | D12: 3 | E12: =IF(D12,"公斤","") -> 公斤 | F12: 白蘿蔔 | G12: 4 | H12: =IF(G12,"公斤","") -> 公斤 | I12: 豆干 | J12: 6 | K12: =IF(J12,"公斤","") -> 公斤 | L12: 冷凍毛豆仁 | M12: 0.5 | N12: =IF(M12,"公斤","") -> 公斤 | O12: 薑 | P12: 0.05 | Q12: =IF(P12,"公斤","") -> 公斤 | R12: 味噌 | S12: 1 | T12: =IF(S12,"公斤","") -> 公斤
E13: =IF(D13,"公斤","") | F13: 胡蘿蔔 | G13: 0.5 | H13: =IF(G13,"公斤","") -> 公斤 | I13: 胡蘿蔔 | J13: 0.5 | K13: =IF(J13,"公斤","") -> 公斤 | L13: 薑 | M13: 0.05 | N13: =IF(M13,"公斤","") -> 公斤 | Q13: =IF(P13,"公斤","") | R13: 乾裙帶菜 | S13: 0.1 | T13: =IF(S13,"公斤","") -> 公斤
E14: =IF(D14,"公斤","") | F14: 薑 | G14: 0.05 | H14: =IF(G14,"公斤","") -> 公斤 | I14: 薑 | J14: 0.05 | K14: =IF(J14,"公斤","") -> 公斤 | N14: =IF(M14,"公斤","") | Q14: =IF(P14,"公斤","") | T14: =IF(S14,"公斤","")
E15: =IF(D15,"公斤","") | H15: =IF(G15,"公斤","") | K15: =IF(J15,"公斤","") | N15: =IF(M15,"公斤","") | Q15: =IF(P15,"公斤","") | T15: =IF(S15,"公斤","")
E16: =IF(D16,"公斤","") | H16: =IF(G16,"公斤","") | K16: =IF(J16,"公斤","") | N16: =IF(M16,"公斤","") | Q16: =IF(P16,"公斤","") | T16: =IF(S16,"公斤","")
A17: =A10+1 -> 46267 | B17: A3 | C17: 素火腿拌飯 | E17: =IF(D17,"公斤","") | F17: 香滷素排 | H17: =IF(G17,"公斤","") | I17: 拌飯配料 | K17: =IF(J17,"公斤","") | L17: 三杯麵腸 | N17: =IF(M17,"公斤","") | O17: 時蔬 | Q17: =IF(P17,"公斤","") | R17: 時蔬蛋花湯 | T17: =IF(S17,"公斤","") | U17: 水果 | W17: 5.25 | X17: 3.5064935 | Y17: 1.45 | Z17: 2.9782468 | AC17: 800.75812 | AE17: =A17 -> 46267 | AF17: =A18 -> 三 | AG17: =B17 -> A3 | AH17: =C17 -> 素火腿拌飯 | AI17: =C18&" "&C19&" "&C20&" "&C21&" "&C22&" "&C23 -> 米 糙米 | AJ17: =F17 -> 香滷素排 | AK17: =F18&" "&F19&" "&F20&" "&F21&" "&F22&" "&F23 -> 素排 | AL17: =I17 -> 拌飯配料 | AM17: =I18&" "&I19&" "&I20&" "&I21&" "&I22&" "&I23 -> 素火腿 素肉 冷凍玉米粒 時蔬 胡蘿蔔 薑 | AN17: =L17 -> 三杯麵腸 | AO17: =L18&" "&L19&" "&L20&" "&L21&" "&L22&" "&L23 -> 杏鮑菇 麵腸 薑 九層塔 | AP17: =O17 -> 時蔬 | AQ17: =O18&" "&O19&" "&O20&" "&O21&" "&O22&" "&O23 -> 蔬菜 薑 | AR17: =R17 -> 時蔬蛋花湯 | AS17: =R18&" "&R19&" "&R20&" "&R21&" "&R22&" "&R23 -> 雞蛋 時蔬 薑 胡蘿蔔 | AT17: =U17 -> 水果 | AU17: =V17 -> 0 | AV17: =W17 -> 5.25 | AW17: =X17 -> 3.5064935 | AX17: =Y17 -> 1.45 | AY17: =Z17 -> 2.9782468 | AZ17: =AA17 -> 0 | BA17: =AB17 -> 0 | BB17: =AC17 -> 800.75812
A18: 三 | C18: 米 | D18: 7 | E18: =IF(D18,"公斤","") -> 公斤 | F18: 素排 | G18: 6 | H18: =IF(G18,"公斤","") -> 公斤 | I18: 素火腿 | J18: 0.7 | K18: =IF(J18,"公斤","") -> 公斤 | L18: 杏鮑菇 | M18: 2 | N18: =IF(M18,"公斤","") -> 公斤 | O18: 蔬菜 | P18: 7 | Q18: =IF(P18,"公斤","") -> 公斤 | R18: 雞蛋 | S18: 2 | T18: =IF(S18,"公斤","") -> 公斤
C19: 糙米 | D19: 3 | E19: =IF(D19,"公斤","") -> 公斤 | H19: =IF(G19,"公斤","") | I19: 素肉 | J19: 0.6 | K19: =IF(J19,"公斤","") -> 公斤 | L19: 麵腸 | M19: 4 | N19: =IF(M19,"公斤","") -> 公斤 | O19: 薑 | P19: 0.05 | Q19: =IF(P19,"公斤","") -> 公斤 | R19: 時蔬 | S19: 3 | T19: =IF(S19,"公斤","") -> 公斤
E20: =IF(D20,"公斤","") | H20: =IF(G20,"公斤","") | I20: 冷凍玉米粒 | J20: 2 | K20: =IF(J20,"公斤","") -> 公斤 | L20: 薑 | M20: 0.05 | N20: =IF(M20,"公斤","") -> 公斤 | Q20: =IF(P20,"公斤","") | R20: 薑 | S20: 0.05 | T20: =IF(S20,"公斤","") -> 公斤
E21: =IF(D21,"公斤","") | H21: =IF(G21,"公斤","") | I21: 時蔬 | J21: 2 | K21: =IF(J21,"公斤","") -> 公斤 | L21: 九層塔 | M21: 0.02 | N21: =IF(M21,"公斤","") -> 公斤 | Q21: =IF(P21,"公斤","") | R21: 胡蘿蔔 | S21: 0.5 | T21: =IF(S21,"公斤","") -> 公斤
E22: =IF(D22,"公斤","") | H22: =IF(G22,"公斤","") | I22: 胡蘿蔔 | J22: 0.5 | K22: =IF(J22,"公斤","") -> 公斤 | N22: =IF(M22,"公斤","") | Q22: =IF(P22,"公斤","") | T22: =IF(S22,"公斤","")
E23: =IF(D23,"公斤","") | H23: =IF(G23,"公斤","") | I23: 薑 | J23: 0.05 | K23: =IF(J23,"公斤","") -> 公斤 | N23: =IF(M23,"公斤","") | Q23: =IF(P23,"公斤","") | T23: =IF(S23,"公斤","")
A24: =A17+1 -> 46268 | B24: A4 | C24: 糙米飯 | E24: =IF(D24,"公斤","") | F24: 馬鈴薯油腐 | H24: =IF(G24,"公斤","") | I24: 紅仁炒蛋 | K24: =IF(J24,"公斤","") | L24: 若絲時蔬 | N24: =IF(M24,"公斤","") | O24: 時蔬 | Q24: =IF(P24,"公斤","") | R24: 綠豆湯 | T24: =IF(S24,"公斤","") | U24: 葡萄乾 | W24: 5.5 | X24: 3.2727273 | Y24: 1.76 | Z24: 3.0163636 | AC24: 810.19091 | AE24: =A24 -> 46268 | AF24: =A25 -> 四 | AG24: =B24 -> A4 | AH24: =C24 -> 糙米飯 | AI24: =C25&" "&C26&" "&C27&" "&C28&" "&C29&" "&C30 -> 米 糙米 | AJ24: =F24 -> 馬鈴薯油腐 | AK24: =F25&" "&F26&" "&F27&" "&F28&" "&F29&" "&F30 -> 四角油豆腐 馬鈴薯 胡蘿蔔 薑 | AL24: =I24 -> 紅仁炒蛋 | AM24: =I25&" "&I26&" "&I27&" "&I28&" "&I29&" "&I30 -> 雞蛋 胡蘿蔔 薑 | AN24: =L24 -> 若絲時蔬 | AO24: =L25&" "&L26&" "&L27&" "&L28&" "&L29&" "&L30 -> 蔬菜 素肉 薑 | AP24: =O24 -> 時蔬 | AQ24: =O25&" "&O26&" "&O27&" "&O28&" "&O29&" "&O30 -> 蔬菜 薑 | AR24: =R24 -> 綠豆湯 | AS24: =R25&" "&R26&" "&R27&" "&R28&" "&R29&" "&R30 -> 綠豆 二砂糖 | AT24: =U24 -> 葡萄乾 | AU24: =V24 -> 0 | AV24: =W24 -> 5.5 | AW24: =X24 -> 3.2727273 | AX24: =Y24 -> 1.76 | AY24: =Z24 -> 3.0163636 | AZ24: =AA24 -> 0 | BA24: =AB24 -> 0 | BB24: =AC24 -> 810.19091
A25: 四 | C25: 米 | D25: 7 | E25: =IF(D25,"公斤","") -> 公斤 | F25: 四角油豆腐 | G25: 7 | H25: =IF(G25,"公斤","") -> 公斤 | I25: 雞蛋 | J25: 5.5 | K25: =IF(J25,"公斤","") -> 公斤 | L25: 蔬菜 | M25: 7 | N25: =IF(M25,"公斤","") -> 公斤 | O25: 蔬菜 | P25: 7 | Q25: =IF(P25,"公斤","") -> 公斤 | R25: 綠豆 | S25: 2 | T25: =IF(S25,"公斤","") -> 公斤
C26: 糙米 | D26: 3 | E26: =IF(D26,"公斤","") -> 公斤 | F26: 馬鈴薯 | G26: 4 | H26: =IF(G26,"公斤","") -> 公斤 | I26: 胡蘿蔔 | J26: 3 | K26: =IF(J26,"公斤","") -> 公斤 | L26: 素肉 | M26: 0.6 | N26: =IF(M26,"公斤","") -> 公斤 | O26: 薑 | P26: 0.05 | Q26: =IF(P26,"公斤","") -> 公斤 | R26: 二砂糖 | S26: 1 | T26: =IF(S26,"公斤","") -> 公斤
E27: =IF(D27,"公斤","") | F27: 胡蘿蔔 | G27: 0.5 | H27: =IF(G27,"公斤","") -> 公斤 | I27: 薑 | J27: 0.05 | K27: =IF(J27,"公斤","") -> 公斤 | L27: 薑 | M27: 0.05 | N27: =IF(M27,"公斤","") -> 公斤 | Q27: =IF(P27,"公斤","") | T27: =IF(S27,"公斤","")
E28: =IF(D28,"公斤","") | F28: 薑 | G28: 0.05 | H28: =IF(G28,"公斤","") -> 公斤 | K28: =IF(J28,"公斤","") | N28: =IF(M28,"公斤","") | T28: =IF(S28,"公斤","")
E29: =IF(D29,"公斤","") | H29: =IF(G29,"公斤","") | K29: =IF(J29,"公斤","") | N29: =IF(M29,"公斤","") | Q29: =IF(P29,"公斤","") | T29: =IF(S29,"公斤","")
E30: =IF(D30,"公斤","") | H30: =IF(G30,"公斤","") | K30: =IF(J30,"公斤","") | N30: =IF(M30,"公斤","") | Q30: =IF(P30,"公斤","") | T30: =IF(S30,"公斤","")
A31: =A24+1 -> 46269 | B31: A5 | C31: 小米飯 | E31: =IF(D31,"公斤","") | F31: 香酥豆包 | H31: =IF(G31,"公斤","") | I31: 針菇豆腐 | K31: =IF(J31,"公斤","") | L31: 麵輪時瓜 | N31: =IF(M31,"公斤","") | O31: 時蔬 | Q31: =IF(P31,"公斤","") | R31: 三絲羹湯 | T31: =IF(S31,"公斤","") | U31: 水果 | W31: 5.2 | X31: 3.2083333 | Y31: 1.85 | Z31: 3.0291667 | AC31: 787.1875 | AE31: =A31 -> 46269 | AF31: =A32 -> 五 | AG31: =B31 -> A5 | AH31: =C31 -> 小米飯 | AI31: =C32&" "&C33&" "&C34&" "&C35&" "&C36&" "&C37 -> 米 小米 | AJ31: =F31 -> 香酥豆包 | AK31: =F32&" "&F33&" "&F34&" "&F35&" "&F36&" "&F37 -> 豆包 | AL31: =I31 -> 針菇豆腐 | AM31: =I32&" "&I33&" "&I34&" "&I35&" "&I36&" "&I37 -> 豆腐 金針菇 薑 | AN31: =L31 -> 麵輪時瓜 | AO31: =L32&" "&L33&" "&L34&" "&L35&" "&L36&" "&L37 -> 時瓜 麵輪 胡蘿蔔 薑 | AP31: =O31 -> 時蔬 | AQ31: =O32&" "&O33&" "&O34&" "&O35&" "&O36&" "&O37 -> 蔬菜 薑 | AR31: =R31 -> 三絲羹湯 | AS31: =R32&" "&R33&" "&R34&" "&R35&" "&R36&" "&R37 -> 脆筍 時蔬 胡蘿蔔 素羊肉 沙茶醬 | AT31: =U31 -> 水果 | AU31: =V31 -> 0 | AV31: =W31 -> 5.2 | AW31: =X31 -> 3.2083333 | AX31: =Y31 -> 1.85 | AY31: =Z31 -> 3.0291667 | AZ31: =AA31 -> 0 | BA31: =AB31 -> 0 | BB31: =AC31 -> 787.1875
A32: 五 | C32: 米 | D32: 10 | E32: =IF(D32,"公斤","") -> 公斤 | F32: 豆包 | G32: 6 | H32: =IF(G32,"公斤","") -> 公斤 | I32: 豆腐 | J32: 7 | K32: =IF(J32,"公斤","") -> 公斤 | L32: 時瓜 | M32: 7 | N32: =IF(M32,"公斤","") -> 公斤 | O32: 蔬菜 | P32: 7 | Q32: =IF(P32,"公斤","") -> 公斤 | R32: 脆筍 | S32: 1.5 | T32: =IF(S32,"公斤","") -> 公斤
C33: 小米 | D33: 0.4 | E33: =IF(D33,"公斤","") -> 公斤 | H33: =IF(G33,"公斤","") | I33: 金針菇 | J33: 1 | K33: =IF(J33,"公斤","") -> 公斤 | L33: 麵輪 | M33: 0.5 | N33: =IF(M33,"公斤","") -> 公斤 | O33: 薑 | P33: 0.05 | Q33: =IF(P33,"公斤","") -> 公斤 | R33: 時蔬 | S33: 1.5 | T33: =IF(S33,"公斤","") -> 公斤
E34: =IF(D34,"公斤","") | H34: =IF(G34,"公斤","") | K34: =IF(J34,"公斤","") | L34: 胡蘿蔔 | M34: 0.5 | N34: =IF(M34,"公斤","") -> 公斤 | Q34: =IF(P34,"公斤","") | R34: 胡蘿蔔 | S34: 0.5 | T34: =IF(S34,"公斤","") -> 公斤
E35: =IF(D35,"公斤","") | H35: =IF(G35,"公斤","") | I35: 薑 | J35: 0.05 | K35: =IF(J35,"公斤","") -> 公斤 | L35: 薑 | M35: 0.05 | N35: =IF(M35,"公斤","") -> 公斤 | Q35: =IF(P35,"公斤","") | R35: 素羊肉 | S35: 1 | T35: =IF(S35,"公斤","") -> 公斤
E36: =IF(D36,"公斤","") | H36: =IF(G36,"公斤","") | K36: =IF(J36,"公斤","") | N36: =IF(M36,"公斤","") | Q36: =IF(P36,"公斤","") | R36: 沙茶醬 | T36: =IF(S36,"公斤","")
E37: =IF(D37,"公斤","") | H37: =IF(G37,"公斤","") | K37: =IF(J37,"公斤","") | N37: =IF(M37,"公斤","") | Q37: =IF(P37,"公斤","") | T37: =IF(S37,"公斤","")
A38: 46272 | B38: B1 | C38: 白米飯 | E38: =IF(D38,"公斤","") | F38: 花生豆干 | H38: =IF(G38,"公斤","") | I38: 蛋香花椰 | K38: =IF(J38,"公斤","") | L38: 香炒四色 | N38: =IF(M38,"公斤","") | O38: 時蔬 | Q38: =IF(P38,"公斤","") | R38: 南瓜湯 | T38: =IF(S38,"公斤","") | U38: 果汁 | W38: 5.6875 | X38: 2.5237013 | Y38: 2.056 | Z38: 2.7898506 | AC38: 764.34588 | AE38: =A38 -> 46272 | AF38: =A39 -> 一 | AG38: =B38 -> B1 | AH38: =C38 -> 白米飯 | AI38: =C39&" "&C40&" "&C41&" "&C42&" "&C43&" "&C44 -> 米 | AJ38: =F38 -> 花生豆干 | AK38: =F39&" "&F40&" "&F41&" "&F42&" "&F43&" "&F44 -> 豆干 油花生 胡蘿蔔 時蔬 薑 | AL38: =I38 -> 蛋香花椰 | AM38: =I39&" "&I40&" "&I41&" "&I42&" "&I43&" "&I44 -> 雞蛋 冷凍青花菜 乾木耳 薑 | AN38: =L38 -> 香炒四色 | AO38: =L39&" "&L40&" "&L41&" "&L42&" "&L43&" "&L44 -> 冷凍玉米粒 豆薯 胡蘿蔔 素肉 薑 | AP38: =O38 -> 時蔬 | AQ38: =O39&" "&O40&" "&O41&" "&O42&" "&O43&" "&O44 -> 蔬菜 薑 | AR38: =R38 -> 南瓜湯 | AS38: =R39&" "&R40&" "&R41&" "&R42&" "&R43&" "&R44 -> 南瓜 薑 | AT38: =U38 -> 果汁 | AU38: =V38 -> 0 | AV38: =W38 -> 5.6875 | AW38: =X38 -> 2.5237013 | AX38: =Y38 -> 2.056 | AY38: =Z38 -> 2.7898506 | AZ38: =AA38 -> 0 | BA38: =AB38 -> 0 | BB38: =AC38 -> 764.34588
A39: 一 | C39: 米 | D39: 10 | E39: =IF(D39,"公斤","") -> 公斤 | F39: 豆干 | G39: 6.5 | H39: =IF(G39,"公斤","") -> 公斤 | I39: 雞蛋 | J39: 4 | K39: =IF(J39,"公斤","") -> 公斤 | L39: 冷凍玉米粒 | M39: 1.5 | N39: =IF(M39,"公斤","") -> 公斤 | O39: 蔬菜 | P39: 7 | Q39: =IF(P39,"公斤","") -> 公斤 | R39: 南瓜 | S39: 4 | T39: =IF(S39,"公斤","") -> 公斤
E40: =IF(D40,"公斤","") | F40: 油花生 | G40: 0.3 | H40: =IF(G40,"公斤","") -> 公斤 | I40: 冷凍青花菜 | J40: 6 | K40: =IF(J40,"公斤","") -> 公斤 | L40: 豆薯 | M40: 4 | N40: =IF(M40,"公斤","") -> 公斤 | O40: 薑 | P40: 0.05 | Q40: =IF(P40,"公斤","") -> 公斤 | R40: 薑 | S40: 0.05 | T40: =IF(S40,"公斤","") -> 公斤
...

Sheet B6月素-國中總表
E1: 花蓮縣115學年度第1學期國民中學9月素食菜單-清泉商行(非偏鄉廚房)
A2: 日期 | B2: 星期 | C2: 循環 | D2: 主食 | E2: 明細 | F2: 主菜 | G2: 明細 | H2: 副菜一 | I2: 明細 | J2: 副菜二 | K2: 明細 | L2: 時蔬 | M2: 明細 | N2: 湯品 | O2: 明細 | P2: 附餐1 | Q2: 附餐2 | R2: 穀/份 | S2: 豆/份 | T2: 蔬/份 | U2: 油/份 | V2: 乳/份 | W2: 果/份 | X2: 熱量
A3: ='B6月素-國中'!AE3 -> 46265 | B3: ='B6月素-國中'!AF3 -> 一 | C3: ='B6月素-國中'!AG3 -> A1 | D3: ='B6月素-國中'!AH3 -> 白米飯 | E3: ='B6月素-國中'!AI3 -> 米 | F3: ='B6月素-國中'!AJ3 -> 鮮菇麵腸 | G3: ='B6月素-國中'!AK3 -> 麵腸 杏鮑菇 胡蘿蔔 薑 | H3: ='B6月素-國中'!AL3 -> 玉米炒蛋 | ... P3: ='B6月素-國中'!AT3 -> 果汁 | R3: ='B6月素-國中'!AV3 -> 5.375 | S3: ='B6月素-國中'!AW3 -> 2.6246266 | T3: ='B6月素-國中'!AX3 -> 2.155 | U3: ='B6月素-國中'!AY3 -> 2.8898133 | V3: ='B6月素-國中'!AZ3 -> 0 | W3: ='B6月素-國中'!BA3 -> 0 | X3: ='B6月素-國中'!BB3 -> 757.0136
A4: ='B6月素-國中'!AE10 -> 46266 | B4: ='B6月素-國中'!AF10 -> 二 | C4: ='B6月素-國中'!AG10 -> A2 | D4: ='B6月素-國中'!AH10 -> 糙米飯 | E4: ='B6月素-國中'!AI10 -> 米 糙米 | F4: ='B6月素-國中'!AJ10 -> 銀蘿皮絲 | G4: ='B6月素-國中'!AK10 -> 皮絲 白蘿蔔 胡蘿蔔 薑 | H4: ='B6月素-國中'!AL10 -> 家常豆干 | ... P4: ='B6月素-國中'!AT10 -> Tap豆奶 | R4: ='B6月素-國中'!AV10 -> 5.875 | S4: ='B6月素-國中'!AW10 -> 2.6 | T4: ='B6月素-國中'!AX10 -> 1.7 | U4: ='B6月素-國中'!AY10 -> 2.65 | V4: ='B6月素-國中'!AZ10 -> 0 | W4: ='B6月素-國中'!BA10 -> 0 | X4: ='B6月素-國中'!BB10 -> 768
A5: ='B6月素-國中'!AE17 -> 46267 | B5: ='B6月素-國中'!AF17 -> 三 | C5: ='B6月素-國中'!AG17 -> A3 | D5: ='B6月素-國中'!AH17 -> 素火腿拌飯 | E5: ='B6月素-國中'!AI17 -> 米 糙米 | F5: ='B6月素-國中'!AJ17 -> 香滷素排 | G5: ='B6月素-國中'!AK17 -> 素排 | H5: ='B6月素-國中'!AL17 -> 拌飯配料 | ... P5: ='B6月素-國中'!AT17 -> 水果 | R5: ='B6月素-國中'!AV17 -> 5.25 | S5: ='B6月素-國中'!AW17 -> 3.5064935 | T5: ='B6月素-國中'!AX17 -> 1.45 | U5: ='B6月素-國中'!AY17 -> 2.9782468 | V5: ='B6月素-國中'!AZ17 -> 0 | W5: ='B6月素-國中'!BA17 -> 0 | X5: ='B6月素-國中'!BB17 -> 800.75812
A6: ='B6月素-國中'!AE24 -> 46268 | B6: ='B6月素-國中'!AF24 -> 四 | C6: ='B6月素-國中'!AG24 -> A4 | D6: ='B6月素-國中'!AH24 -> 糙米飯 | E6: ='B6月素-國中'!AI24 -> 米 糙米 | F6: ='B6月素-國中'!AJ24 -> 馬鈴薯油腐 | G6: ='B6月素-國中'!AK24 -> 四角油豆腐 馬鈴薯 胡蘿蔔 薑 | H6: ='B6月素-國中'!AL24 -> 紅仁炒蛋 | ... P6: ='B6月素-國中'!AT24 -> 葡萄乾 | R6: ='B6月素-國中'!AV24 -> 5.5 | S6: ='B6月素-國中'!AW24 -> 3.2727273 | T6: ='B6月素-國中'!AX24 -> 1.76 | U6: ='B6月素-國中'!AY24 -> 3.0163636 | V6: ='B6月素-國中'!AZ24 -> 0 | W6: ='B6月素-國中'!BA24 -> 0 | X6: ='B6月素-國中'!BB24 -> 810.19091
A7: ='B6月素-國中'!AE31 -> 46269 | B7: ='B6月素-國中'!AF31 -> 五 | C7: ='B6月素-國中'!AG31 -> A5 | D7: ='B6月素-國中'!AH31 -> 小米飯 | E7: ='B6月素-國中'!AI31 -> 米 小米 | F7: ='B6月素-國中'!AJ31 -> 香酥豆包 | G7: ='B6月素-國中'!AK31 -> 豆包 | H7: ='B6月素-國中'!AL31 -> 針菇豆腐 | ... P7: ='B6月素-國中'!AT31 -> 水果 | R7: ='B6月素-國中'!AV31 -> 5.2 | S7: ='B6月素-國中'!AW31 -> 3.2083333 | T7: ='B6月素-國中'!AX31 -> 1.85 | U7: ='B6月素-國中'!AY31 -> 3.0291667 | V7: ='B6月素-國中'!AZ31 -> 0 | W7: ='B6月素-國中'!BA31 -> 0 | X7: ='B6月素-國中'!BB31 -> 787.1875
A8: ='B6月素-國中'!AE38 -> 46272 | B8: ='B6月素-國中'!AF38 -> 一 | C8: ='B6月素-國中'!AG38 -> B1 | D8: ='B6月素-國中'!AH38 -> 白米飯 | E8: ='B6月素-國中'!AI38 -> 米 | F8: ='B6月素-國中'!AJ38 -> 花生豆干 | G8: ='B6月素-國中'!AK38 -> 豆干 油花生 胡蘿蔔 時蔬 薑 | H8: ='B6月素-國中'!AL38 -> 蛋香花椰 | ... P8: ='B6月素-國中'!AT38 -> 果汁 | R8: ='B6月素-國中'!AV38 -> 5.6875 | S8: ='B6月素-國中'!AW38 -> 2.5237013 | T8: ='B6月素-國中'!AX38 -> 2.056 | U8: ='B6月素-國中'!AY38 -> 2.7898506 | V8: ='B6月素-國中'!AZ38 -> 0 | W8: ='B6月素-國中'!BA38 -> 0 | X8: ='B6月素-國中'!BB38 -> 764.34588
A9: ='B6月素-國中'!AE45 -> 46273 | B9: ='B6月素-國中'!AF45 -> 二 | C9: ='B6月素-國中'!AG45 -> B2 | D9: ='B6月素-國中'!AH45 -> 糙米飯 | E9: ='B6月素-國中'!AI45 -> 米 糙米 | F9: ='B6月素-國中'!AJ45 -> 咖哩麵腸 | G9: ='B6月素-國中'!AK45 -> 麵腸 時蔬 馬鈴薯 胡蘿蔔 咖哩粉 | H9: ='B6月素-國中'!AL45 -> 皮絲海茸 | ... P9: ='B6月素-國中'!AT45 -> 海苔 | R9: ='B6月素-國中'!AV45 -> 5.625 | S9: ='B6月素-國中'!AW45 -> 2.1309524 | T9: ='B6月素-國中'!AX45 -> 1.88 | U9: ='B6月素-國中'!AY45 -> 2.5054762 | V9: ='B6月素-國中'!AZ45 -> 0 | W9: ='B6月素-國中'!BA45 -> 0 | X9: ='B6月素-國中'!BB45 -> 713.31786
A10: ='B6月素-國中'!AE52 -> 46274 | B10: ='B6月素-國中'!AF52 -> 三 | C10: ='B6月素-國中'!AG52 -> B3 | D10: ='B6月素-國中'!AH52 -> 拌麵特餐 | E10: ='B6月素-國中'!AI52 -> 麵條 | F10: ='B6月素-國中'!AJ52 -> 香滷豆包 | G10: ='B6月素-國中'!AK52 -> 豆包 | H10: ='B6月素-國中'!AL52 -> 拌麵配料 | ... P10: ='B6月素-國中'!AT52 -> 水果 | Q10: 有機豆奶 | R10: ='B6月素-國中'!AV52 -> 6 | S10: ='B6月素-國中'!AW52 -> 2.8636364 | T10: ='B6月素-國中'!AX52 -> 1.155 | U10: ='B6月素-國中'!AY52 -> 2.5093182 | V10: ='B6月素-國中'!AZ52 -> 0 | W10: ='B6月素-國中'!BA52 -> 0 | X10: ='B6月素-國中'!BB52 -> 776.56705
A11: ='B6月素-國中'!AE59 -> 46275 | B11: ='B6月素-國中'!AF59 -> 四 | C11: ='B6月素-國中'!AG59 -> B4 | D11: ='B6月素-國中'!AH59 -> 糙米飯 | E11: ='B6月素-國中'!AI59 -> 米 糙米 | F11: ='B6月素-國中'!AJ59 -> 筍干油腐 | G11: ='B6月素-國中'!AK59 -> 四角油豆腐 麻竹筍干 梅乾菜 胡蘿蔔 薑 | H11: ='B6月素-國中'!AL59 -> 紅仁炒蛋 | ... P11: ='B6月素-國中'!AT59 -> 堅果 | R11: ='B6月素-國中'!AV59 -> 5 | S11: ='B6月素-國中'!AW59 -> 2.5151515 | T11: ='B6月素-國中'!AX59 -> 2.17 | U11: ='B6月素-國中'!AY59 -> 2.8425758 | V11: ='B6月素-國中'!AZ59 -> 0 | W11: ='B6月素-國中'!BA59 -> 0.2 | X11: ='B6月素-國中'!BB59 -> 732.80227
A12: ='B6月素-國中'!AE66 -> 46276 | B12: ='B6月素-國中'!AF66 -> 五 | C12: ='B6月素-國中'!AG66 -> B5 | D12: ='B6月素-國中'!AH66 -> 紫米飯 | E12: ='B6月素-國中'!AI66 -> 米 黑糯米 | F12: ='B6月素-國中'!AJ66 -> 咖哩素排 | G12: ='B6月素-國中'!AK66 -> 素排 咖哩粉 咖哩素排 | H12: ='B6月素-國中'!AL66 -> 海結滷豆干 | ... P12: ='B6月素-國中'!AT66 -> 水果 | R12: ='B6月素-國中'!AV66 -> 5.2 | S12: ='B6月素-國中'!AW66 -> 3.0464286 | T12: ='B6月素-國中'!AX66 -> 2.2 | U12: ='B6月素-國中'!AY66 -> 3.1232143 | V12: ='B6月素-國中'!AZ66 -> 0 | W12: ='B6月素-國中'!BA66 -> 0 | X12: ='B6月素-國中'!BB66 -> 788.02679
A13: ='B6月素-國中'!AE73 -> 46279 | B13: ='B6月素-國中'!AF73 -> 一 | C13: ='B6月素-國中'!AG73 -> C1 | D13: ='B6月素-國中'!AH73 -> 白米飯 | E13: ='B6月素-國中'!AI73 -> 米 | F13: ='B6月素-國中'!AJ73 -> 京醬豆腐 | G13: ='B6月素-國中'!AK73 -> 豆腐 胡蘿蔔 豆薯 薑 甜麵醬 | H13: ='B6月素-國中'!AL73 -> 時蔬炒蛋 | ... P13: ='B6月素-國中'!AT73 -> 果汁 | R13: ='B6月素-國中'!AV73 -> 6 | S13: ='B6月素-國中'!AW73 -> 2.3606061 | T13: ='B6月素-國中'!AX73 -> 2.105 | U13: ='B6月素-國中'!AY73 -> 2.732803 | V13: ='B6月素-國中'!AZ73 -> 0 | W13: ='B6月素-國中'!BA73 -> 0 | X13: ='B6月素-國中'!BB73 -> 772.64659
A14: ='B6月素-國中'!AE80 -> 46280 | B14: ='B6月素-國中'!AF80 -> 二 | C14: ='B6月素-國中'!AG80 -> c2 | D14: ='B6月素-國中'!AH80 -> 糙米飯 | E14: ='B6月素-國中'!AI80 -> 米 糙米 | F14: ='B6月素-國中'!AJ80 -> 香酥豆包 | G14: ='B6月素-國中'!AK80 -> 豆包 | H14: ='B6月素-國中'!AL80 -> 泡菜凍腐 | ... P14: ='B6月素-國中'!AT80 -> 葡萄乾 | R14: ='B6月素-國中'!AV80 -> 5 | S14: ='B6月素-國中'!AW80 -> 3.4107143 | T14: ='B6月素-國中'!AX80 -> 2.25 | U14: ='B6月素-國中'!AY80 -> 3.3303571 | V14: ='B6月素-國中'!AZ80 -> 0 | W14: ='B6月素-國中'!BA80 -> 0 | X14: ='B6月素-國中'!BB80 -> 811.91964
A15: ='B6月素-國中'!AE87 -> 46281 | B15: ='B6月素-國中'!AF87 -> 三 | C15: ='B6月素-國中'!AG87 -> C3 | D15: ='B6月素-國中'!AH87 -> 中式米粉 | E15: ='B6月素-國中'!AI87 -> 米粉 | F15: ='B6月素-國中'!AJ87 -> 南瓜豆干 | G15: ='B6月素-國中'!AK87 -> 豆干 南瓜 胡蘿蔔 薑 | H15: ='B6月素-國中'!AL87 -> 特餐配料 | ... P15: ='B6月素-國中'!AT87 -> 水果 | Q15: 有機豆奶 | R15: ='B6月素-國中'!AV87 -> 4.5 | S15: ='B6月素-國中'!AW87 -> 2.9666667 | T15: ='B6月素-國中'!AX87 -> 1.365 | U15: ='B6月素-國中'!AY87 -> 4 | V15: ='B6月素-國中'!AZ87 -> 0 | W15: ='B6月素-國中'!BA87 -> 0 | X15: ='B6月素-國中'!BB87 -> 751.625
A16: ='B6月素-國中'!AE94 -> 46282 | B16: ='B6月素-國中'!AF94 -> 四 | C16: ='B6月素-國中'!AG94 -> C4 | D16: ='B6月素-國中'!AH94 -> 糙米飯 | E16: ='B6月素-國中'!AI94 -> 米 糙米 | F16: ='B6月素-國中'!AJ94 -> 鮮蔬麵腸 | G16: ='B6月素-國中'!AK94 -> 麵腸 胡蘿蔔 時蔬 薑 | H16: ='B6月素-國中'!AL94 -> 塔香海根 | ... P16: ='B6月素-國中'!AT94 -> 海苔 | R16: ='B6月素-國中'!AV94 -> 6.1375 | S16: ='B6月素-國中'!AW94 -> 2.6142857 | T16: ='B6月素-國中'!AX94 -> 1.416 | U16: ='B6月素-國中'!AY94 -> 2.5151429 | V16: ='B6月素-國中'!AZ94 -> 0 | W16: ='B6月素-國中'!BA94 -> 0 | X16: ='B6月素-國中'!BB94 -> 774.27786
A17: ='B6月素-國中'!AE101 -> 46283 | B17: ='B6月素-國中'!AF101 -> 五 | C17: ='B6月素-國中'!AG101 -> C5 | D17: ='B6月素-國中'!AH101 -> 燕麥飯 | E17: ='B6月素-國中'!AI101 -> 米 燕麥 | F17: ='B6月素-國中'!AJ101 -> 時蔬油腐 | G17: ='B6月素-國中'!AK101 -> 四角油豆腐 時蔬 胡蘿蔔 薑 | H17: ='B6月素-國中'!AL101 -> 豆包花椰 | ... P17: ='B6月素-國中'!AT101 -> 水果 | R17: ='B6月素-國中'!AV101 -> 6.45 | S17: ='B6月素-國中'!AW101 -> 2.6212121 | T17: ='B6月素-國中'!AX101 -> 1.755 | U17: ='B6月素-國中'!AY101 -> 2.6881061 | V17: ='B6月素-國中'!AZ101 -> 0 | W17: ='B6月素-國中'!BA101 -> 0 | X17: ='B6月素-國中'!BB101 -> 812.93068
A18: ='B6月素-國中'!AE108 -> 46286 | B18: ='B6月素-國中'!AF108 -> 一 | C18: ='B6月素-國中'!AG108 -> D1 | D18: ='B6月素-國中'!AH108 -> 白米飯 | E18: ='B6月素-國中'!AI108 -> 米 | F18: ='B6月素-國中'!AJ108 -> 瓜仔麵腸 | G18: ='B6月素-國中'!AK108 -> 麵腸 乾香菇 醃漬花胡瓜 胡蘿蔔 薑 | H18: ='B6月素-國中'!AL108 -> 毛豆干丁 | ... P18: ='B6月素-國中'!AT108 -> 果汁 | R18: ='B6月素-國中'!AV108 -> 5 | S18: ='B6月素-國中'!AW108 -> 3.0309524 | T18: ='B6月素-國中'!AX108 -> 2.201 | U18: ='B6月素-國中'!AY108 -> 3.1159762 | V18: ='B6月素-國中'!AZ108 -> 0 | W18: ='B6月素-國中'!BA108 -> 0 | X18: ='B6月素-國中'!BB108 -> 772.56536
A19: ='B6月素-國中'!AE115 -> 46287 | B19: ='B6月素-國中'!AF115 -> 二 | C19: ='B6月素-國中'!AG115 -> D2 | D19: ='B6月素-國中'!AH115 -> 糙米飯 | E19: ='B6月素-國中'!AI115 -> 米 糙米 | F19: ='B6月素-國中'!AJ115 -> 三杯豆干 | G19: ='B6月素-國中'!AK115 -> 豆干 豆薯 薑 九層塔 | H19: ='B6月素-國中'!AL115 -> 關東煮 | ... P19: ='B6月素-國中'!AT115 -> 堅果 | R19: ='B6月素-國中'!AV115 -> 5.5625 | S19: ='B6月素-國中'!AW115 -> 3.8878788 | T19: ='B6月素-國中'!AX115 -> 2.05 | U19: ='B6月素-國中'!AY115 -> 3.4689394 | V19: ='B6月素-國中'!AZ115 -> 0 | W19: ='B6月素-國中'!BA115 -> 0 | X19: ='B6月素-國中'!BB115 -> 888.31818
A20: ='B6月素-國中'!AE122 -> 46288 | B20: ='B6月素-國中'!AF122 -> 三 | C20: ='B6月素-國中'!AG122 -> D3 | D20: ='B6月素-國中'!AH122 -> 古早味炒麵 | E20: ='B6月素-國中'!AI122 -> 麵條 | F20: ='B6月素-國中'!AJ122 -> 滷煎蒸炒蛋 | G20: ='B6月素-國中'!AK122 -> 雞蛋 | H20: ='B6月素-國中'!AL122 -> 炒麵拌料 | ... P20: ='B6月素-國中'!AT122 -> 水果 | Q20: 有機豆奶 | R20: ='B6月素-國中'!AV122 -> 5 | S20: ='B6月素-國中'!AW122 -> 2.5 | T20: ='B6月素-國中'!AX122 -> 1.3 | U20: ='B6月素-國中'!AY122 -> 4.5 | V20: ='B6月素-國中'!AZ122 -> 0 | W20: ='B6月素-國中'!BA122 -> 0 | X20: ='B6月素-國中'!BB122 -> 772.5
A21: ='B6月素-國中'!AE129 -> 46289 | B21: ='B6月素-國中'!AF129 -> 四 | C21: E1 | D21: ='B6月素-國中'!AH129 -> 糙米飯 | E21: ='B6月素-國中'!AI129 -> 米 糙米 | F21: ='B6月素-國中'!AJ129 -> 椒鹽豆包 | G21: ='B6月素-國中'!AK129 -> 豆包 胡椒鹽 | H21: ='B6月素-國中'!AL129 -> 筍干凍腐 | I21: ='B6月素-國中'!AM129 -> 麻竹筍干 凍豆腐 胡蘿蔔 薑 | J21: ='B6月素-國中'!AN129 -> 蛋香時蔬 | K21: ='B6月素-國中'!AO129 -> 時蔬 胡蘿蔔 薑 雞蛋 | ... P21: ='B6月素-國中'!AT129 -> 葡萄乾 | R21: ='B6月素-國中'!AV129 -> 6.35 | S21: ='B6月素-國中'!AW129 -> 2.9318182 | T21: ='B6月素-國中'!AX129 -> 2.15 | U21: ='B6月素-國中'!AY129 -> 3.0409091 | V21: ='B6月素-國中'!AZ129 -> 0 | W21: ='B6月素-國中'!BA129 -> 0 | X21: ='B6月素-國中'!BB129 -> 854.97727
A22: ='B6月素-國中'!AE136 -> 46290 | B22: ='B6月素-國中'!AF136 -> 五 | C22: ='B6月素-國中'!AG136 -> D5 | D22: 中秋
A23: ='B6月素-國中'!AE143 -> 46293 | B23: ='B6月素-國中'!AF143 -> 一 | C23: ='B6月素-國中'!AG143 -> E1 | D23: 教師節
A24: ='B6月素-國中'!AE150 -> 46294 | B24: ='B6月素-國中'!AF150 -> 二 | C24: ='B6月素-國中'!AG150 -> E2 | D24: ='B6月素-國中'!AH150 -> 白米飯 | E24: ='B6月素-國中'!AI150 -> 米 | F24: ='B6月素-國中'!AJ150 -> 泡菜油腐 | G24: ='B6月素-國中'!AK150 -> 四角油豆腐 韓式泡菜 甘藍 薑 | H24: ='B6月素-國中'!AL150 -> 時蔬玉米炒蛋 | ... P24: ='B6月素-國中'!AT150 -> 海苔 | R24: ='B6月素-國中'!AV150 -> 5.375 | S24: ='B6月素-國中'!AW150 -> 2.5 | T24: ='B6月素-國中'!AX150 -> 2.075 | U24: ='B6月素-國中'!AY150 -> 2.7875 | V24: ='B6月素-國中'!AZ150 -> 0 | W24: ='B6月素-國中'!BA150 -> 0 | X24: ='B6月素-國中'!BB150 -> 741.0625
A25: ='B6月素-國中'!AE157 -> 46295 | B25: ='B6月素-國中'!AF157 -> 三 | C25: ='B6月素-國中'!AG157 -> E3 | D25: ='B6月素-國中'!AH157 -> 油飯特餐 | E25: ='B6月素-國中'!AI157 -> 米 糯米 | F25: ='B6月素-國中'!AJ157 -> 美味豆包 | G25: ='B6月素-國中'!AK157 -> 豆包 | H25: ='B6月素-國中'!AL157 -> 油飯配料 | ... P25: ='B6月素-國中'!AT157 -> 水果 | R25: ='B6月素-國中'!AV157 -> 5.5 | S25: ='B6月素-國中'!AW157 -> 2.9147727 | T25: ='B6月素-國中'!AX157 -> 1.66 | U25: ='B6月素-國中'!AY157 -> 2.7873864 | V25: ='B6月素-國中'!AZ157 -> 0 | W25: ='B6月素-國中'!BA157 -> 0 | X25: ='B6月素-國中'!BB157 -> 770.54034
A26: ※「本產品含有甲殼類、芒果、花生、牛奶、蛋、堅果類、芝麻、含麩質穀物、大豆、魚類及亞硫酸鹽類，不適合對其過敏體質者食用。」 菜單說明： 1.每周二、五吃有機蔬菜。 2.每周三供應有機豆奶（每月三次
