Workbook

Sheet B6月葷-國中
B1: 食材明細（食材重量以100人份計量，營養分析以個人計量,其中肉雞包含23%骨頭之採購量，每周供應特餐一次，當日得混搭供應，國中4菜1湯，國小3菜1湯）
A2: 日期 | B2: 循環 | C2: 主食 | D2: 重/kg | E2: 公斤 | F2: 主菜 | G2: 重/kg | H2: 公斤 | I2: 副菜一 | J2: 重/kg | K2: 公斤 | L2: 副菜二 | M2: 重/kg | N2: 公斤 | O2: 蔬菜 | P2: 重/kg | Q2: 公斤 | R2: 湯品 | S2: 重/kg | T2: 公斤 | U2: 點心1 | V2: 點心2 | W2: 穀/份 | X2: 豆/份 | Y2: 蔬/份 | Z2: 油/份 | AA2: 乳/份 | AB2: 果/份 | AC2: 熱量 | AE2: 日期 | AF2: 星期 | AG2: 循環 | AH2: 主食 | AI2: 明細 | AJ2: 主菜 | AK2: 明細 | AL2: 副菜一 | AM2: 明細 | AN2: 副菜二 | AO2: 明細 | AP2: 時蔬 | AQ2: 明細 | AR2: 湯品 | AS2: 明細 | AT2: 附餐1 | AU2: 附餐2 | AV2: 穀/份 | AW2: 豆/份 | AX2: 油/份 | AY2: 油/份 | AZ2: 乳/份 | BA2: 果/份 | BB2: 熱量
A3: 46265 | B3: A1 | C3: 白米飯 | E3: =IF(D3,"公斤","") | F3: 鮮菇肉燥 | H3: =IF(G3,"公斤","") | I3: 玉米炒蛋 | K3: =IF(J3,"公斤","") | L3: 蘿蔔滷黑輪 | N3: =IF(M3,"公斤","") | O3: 時蔬 | R3: 時瓜湯 | T3: =IF(S3,"公斤","") | U3: 果汁 | W3: 5.375 | X3: 2.7960552 | Y3: 2.255 | Z3: 3.0255276 | AC3: 778.47788 | AE3: =A3 -> 46265 | AF3: =A4 -> 一 | AG3: =B3 -> A1 | AH3: =C3 -> 白米飯 | AI3: =C4&" "&C5&" "&C6&" "&C7&" "&C8&" "&C9 -> 米 | AJ3: =F3 -> 鮮菇肉燥 | AK3: =F4&" "&F5&" "&F6&" "&F7&" "&F8&" "&F9 -> 絞肉 杏鮑菇 胡蘿蔔 大蒜 | AL3: =I3 -> 玉米炒蛋 | AM3: =I4&" "&I5&" "&I6&" "&I7&" "&I8&" "&I9 -> 雞蛋 冷凍玉米粒 洋蔥 大蒜 | AN3: =L3 -> 蘿蔔滷黑輪 | AO3: =L4&" "&L5&" "&L6&" "&L7&" "&L8&" "&L9 -> 白蘿蔔 胡蘿蔔 黑輪 柴魚片 | AP3: =O3 -> 時蔬 | AQ3: =O4&" "&O5&" "&O6&" "&O7&" "&O8&" "&O9 -> 蔬菜 大蒜 | AR3: =R3 -> 時瓜湯 | AS3: =R4&" "&R5&" "&R6&" "&R7&" "&R8&" "&R9 -> 時瓜 薑 大骨 | AT3: =U3 -> 果汁 | AU3: =V3 -> 0 | AV3: =W3 -> 5.375 | AW3: =X3 -> 2.7960552 | AX3: =Y3 -> 2.255 | AY3: =Z3 -> 3.0255276 | AZ3: =AA3 -> 0 | BA3: =AB3 -> 0 | BB3: =AC3 -> 778.47788
A4: 一 | C4: 米 | D4: 10 | E4: =IF(D4,"公斤","") -> 公斤 | F4: 絞肉 | G4: 6 | H4: =IF(G4,"公斤","") -> 公斤 | I4: 雞蛋 | J4: 5 | K4: =IF(J4,"公斤","") -> 公斤 | L4: 白蘿蔔 | M4: 6 | N4: =IF(M4,"公斤","") -> 公斤 | O4: 蔬菜 | P4: 7 | Q4: 公斤 | R4: 時瓜 | S4: 5 | T4: =IF(S4,"公斤","") -> 公斤
E5: =IF(D5,"公斤","") | F5: 杏鮑菇 | G5: 3 | H5: =IF(G5,"公斤","") -> 公斤 | I5: 冷凍玉米粒 | J5: 3 | K5: =IF(J5,"公斤","") -> 公斤 | L5: 胡蘿蔔 | M5: 0.5 | N5: =IF(M5,"公斤","") -> 公斤 | O5: 大蒜 | P5: 0.05 | Q5: 公斤 | R5: 薑 | S5: 0.05 | T5: =IF(S5,"公斤","") -> 公斤
E6: =IF(D6,"公斤","") | F6: 胡蘿蔔 | G6: 0.5 | H6: =IF(G6,"公斤","") -> 公斤 | I6: 洋蔥 | J6: 1 | K6: =IF(J6,"公斤","") -> 公斤 | L6: 黑輪 | M6: 2 | N6: =IF(M6,"公斤","") -> 公斤 | R6: 大骨 | S6: 0.6 | T6: =IF(S6,"公斤","") -> 公斤
E7: =IF(D7,"公斤","") | F7: 大蒜 | G7: 0.05 | H7: =IF(G7,"公斤","") -> 公斤 | I7: 大蒜 | J7: 0.05 | K7: =IF(J7,"公斤","") -> 公斤 | L7: 柴魚片 | M7: 0.01 | N7: =IF(M7,"公斤","") -> 公斤 | T7: =IF(S7,"公斤","")
E8: =IF(D8,"公斤","") | H8: =IF(G8,"公斤","") | K8: =IF(J8,"公斤","") | N8: =IF(M8,"公斤","") | T8: =IF(S8,"公斤","")
E9: =IF(D9,"公斤","") | H9: =IF(G9,"公斤","") | K9: =IF(J9,"公斤","") | N9: =IF(M9,"公斤","") | T9: =IF(S9,"公斤","")
A10: 46266 | B10: A2 | C10: 糙米飯 | E10: =IF(D10,"公斤","") | F10: 銀蘿燒雞 | H10: =IF(G10,"公斤","") | I10: 家常豆干 | K10: =IF(J10,"公斤","") | L10: 毛豆南瓜 | N10: =IF(M10,"公斤","") | O10: 時蔬 | R10: 味噌小魚湯 | T10: =IF(S10,"公斤","") | U10: Tap豆奶 | W10: 5.875 | X10: 3 | Y10: 1.7 | Z10: 2.85 | AC10: 807 | AE10: =A10 -> 46266 | AF10: =A11 -> 二 | AG10: =B10 -> A2 | AH10: =C10 -> 糙米飯 | AI10: =C11&" "&C12&" "&C13&" "&C14&" "&C15&" "&C16 -> 米 糙米 | AJ10: =F10 -> 銀蘿燒雞 | AK10: =F11&" "&F12&" "&F13&" "&F14&" "&F15&" "&F16 -> 肉雞 白蘿蔔 胡蘿蔔 大蒜 | AL10: =I10 -> 家常豆干 | AM10: =I11&" "&I12&" "&I13&" "&I14&" "&I15&" "&I16 -> 時蔬 豆干 胡蘿蔔 大蒜 | AN10: =L10 -> 毛豆南瓜 | AO10: =L11&" "&L12&" "&L13&" "&L14&" "&L15&" "&L16 -> 南瓜 冷凍毛豆仁 大蒜 | AP10: =O10 -> 時蔬 | AQ10: =O11&" "&O12&" "&O13&" "&O14&" "&O15&" "&O16 -> 蔬菜 大蒜 | AR10: =R10 -> 味噌小魚湯 | AS10: =R11&" "&R12&" "&R13&" "&R14&" "&R15&" "&R16 -> 洋蔥 味噌 乾裙帶菜 小魚乾 柴魚片 | AT10: =U10 -> Tap豆奶 | AU10: =V10 -> 0 | AV10: =W10 -> 5.875 | AW10: =X10 -> 3 | AX10: =Y10 -> 1.7 | AY10: =Z10 -> 2.85 | AZ10: =AA10 -> 0 | BA10: =AB10 -> 0 | BB10: =AC10 -> 807
A11: 二 | C11: 米 | D11: 7 | E11: =IF(D11,"公斤","") -> 公斤 | F11: 肉雞 | G11: 9 | H11: =IF(G11,"公斤","") -> 公斤 | I11: 時蔬 | J11: 3 | K11: =IF(J11,"公斤","") -> 公斤 | L11: 南瓜 | M11: 7 | N11: =IF(M11,"公斤","") -> 公斤 | O11: 蔬菜 | P11: 7 | Q11: 公斤 | R11: 洋蔥 | S11: 2 | T11: =IF(S11,"公斤","") -> 公斤
C12: 糙米 | D12: 3 | E12: =IF(D12,"公斤","") -> 公斤 | F12: 白蘿蔔 | G12: 4 | H12: =IF(G12,"公斤","") -> 公斤 | I12: 豆干 | J12: 4 | K12: =IF(J12,"公斤","") -> 公斤 | L12: 冷凍毛豆仁 | M12: 0.5 | N12: =IF(M12,"公斤","") -> 公斤 | O12: 大蒜 | P12: 0.05 | Q12: 公斤 | R12: 味噌 | S12: 1 | T12: =IF(S12,"公斤","") -> 公斤
E13: =IF(D13,"公斤","") | F13: 胡蘿蔔 | G13: 0.5 | H13: =IF(G13,"公斤","") -> 公斤 | I13: 胡蘿蔔 | J13: 0.5 | K13: =IF(J13,"公斤","") -> 公斤 | L13: 大蒜 | M13: 0.05 | N13: =IF(M13,"公斤","") -> 公斤 | R13: 乾裙帶菜 | S13: 0.1 | T13: =IF(S13,"公斤","") -> 公斤
E14: =IF(D14,"公斤","") | F14: 大蒜 | G14: 0.05 | H14: =IF(G14,"公斤","") -> 公斤 | I14: 大蒜 | J14: 0.05 | K14: =IF(J14,"公斤","") -> 公斤 | N14: =IF(M14,"公斤","") | R14: 小魚乾 | S14: 0.1 | T14: =IF(S14,"公斤","") -> 公斤
E15: =IF(D15,"公斤","") | H15: =IF(G15,"公斤","") | K15: =IF(J15,"公斤","") | N15: =IF(M15,"公斤","") | R15: 柴魚片 | S15: 0.01 | T15: =IF(S15,"公斤","") -> 公斤
E16: =IF(D16,"公斤","") | H16: =IF(G16,"公斤","") | K16: =IF(J16,"公斤","") | N16: =IF(M16,"公斤","") | T16: =IF(S16,"公斤","")
A17: =A10+1 -> 46267 | B17: A3 | C17: 培根拌飯 | E17: =IF(D17,"公斤","") | F17: 香滷肉排 | H17: =IF(G17,"公斤","") | I17: 拌飯配料 | K17: =IF(J17,"公斤","") | L17: 三杯麵腸 | N17: =IF(M17,"公斤","") | O17: 時蔬 | R17: 時蔬蛋花湯 | T17: =IF(S17,"公斤","") | U17: 水果 | W17: 5.25 | X17: 3.3818182 | Y17: 1.45 | Z17: 2.9159091 | AC17: 788.60227 | AE17: =A17 -> 46267 | AF17: =A18 -> 三 | AG17: =B17 -> A3 | AH17: =C17 -> 培根拌飯 | AI17: =C18&" "&C19&" "&C20&" "&C21&" "&C22&" "&C23 -> 米 糙米 | AJ17: =F17 -> 香滷肉排 | AK17: =F18&" "&F19&" "&F20&" "&F21&" "&F22&" "&F23 -> 肉排 | AL17: =I17 -> 拌飯配料 | AM17: =I18&" "&I19&" "&I20&" "&I21&" "&I22&" "&I23 -> 培根 豬後腿肉 冷凍玉米粒 時蔬 胡蘿蔔 大蒜 | AN17: =L17 -> 三杯麵腸 | AO17: =L18&" "&L19&" "&L20&" "&L21&" "&L22&" "&L23 -> 杏鮑菇 麵腸 大蒜 九層塔 | AP17: =O17 -> 時蔬 | AQ17: =O18&" "&O19&" "&O20&" "&O21&" "&O22&" "&O23 -> 蔬菜 大蒜 | AR17: =R17 -> 時蔬蛋花湯 | AS17: =R18&" "&R19&" "&R20&" "&R21&" "&R22&" "&R23 -> 雞蛋 時蔬 薑 胡蘿蔔 | AT17: =U17 -> 水果 | AU17: =V17 -> 0 | AV17: =W17 -> 5.25 | AW17: =X17 -> 3.3818182 | AX17: =Y17 -> 1.45 | AY17: =Z17 -> 2.9159091 | AZ17: =AA17 -> 0 | BA17: =AB17 -> 0 | BB17: =AC17 -> 788.60227
A18: 三 | C18: 米 | D18: 7 | E18: =IF(D18,"公斤","") -> 公斤 | F18: 肉排 | G18: 6 | H18: =IF(G18,"公斤","") -> 公斤 | I18: 培根 | J18: 0.7 | K18: =IF(J18,"公斤","") -> 公斤 | L18: 杏鮑菇 | M18: 2 | N18: =IF(M18,"公斤","") -> 公斤 | O18: 蔬菜 | P18: 7 | Q18: 公斤 | R18: 雞蛋 | S18: 1 | T18: =IF(S18,"公斤","") -> 公斤
C19: 糙米 | D19: 3 | E19: =IF(D19,"公斤","") -> 公斤 | H19: =IF(G19,"公斤","") | I19: 豬後腿肉 | J19: 1.2 | K19: =IF(J19,"公斤","") -> 公斤 | L19: 麵腸 | M19: 4 | N19: =IF(M19,"公斤","") -> 公斤 | O19: 大蒜 | P19: 0.05 | Q19: 公斤 | R19: 時蔬 | S19: 3 | T19: =IF(S19,"公斤","") -> 公斤
E20: =IF(D20,"公斤","") | H20: =IF(G20,"公斤","") | I20: 冷凍玉米粒 | J20: 2 | K20: =IF(J20,"公斤","") -> 公斤 | L20: 大蒜 | M20: 0.05 | N20: =IF(M20,"公斤","") -> 公斤 | R20: 薑 | S20: 0.05 | T20: =IF(S20,"公斤","") -> 公斤
E21: =IF(D21,"公斤","") | H21: =IF(G21,"公斤","") | I21: 時蔬 | J21: 2 | K21: =IF(J21,"公斤","") -> 公斤 | L21: 九層塔 | M21: 0.02 | N21: =IF(M21,"公斤","") -> 公斤 | R21: 胡蘿蔔 | S21: 0.5 | T21: =IF(S21,"公斤","") -> 公斤
E22: =IF(D22,"公斤","") | H22: =IF(G22,"公斤","") | I22: 胡蘿蔔 | J22: 0.5 | K22: =IF(J22,"公斤","") -> 公斤 | N22: =IF(M22,"公斤","") | T22: =IF(S22,"公斤","")
E23: =IF(D23,"公斤","") | H23: =IF(G23,"公斤","") | I23: 大蒜 | J23: 0.05 | K23: =IF(J23,"公斤","") -> 公斤 | N23: =IF(M23,"公斤","") | T23: =IF(S23,"公斤","")
A24: =A17+1 -> 46268 | B24: A4 | C24: 糙米飯 | E24: =IF(D24,"公斤","") | F24: 馬鈴薯滷肉 | H24: =IF(G24,"公斤","") | I24: 紅仁炒蛋 | K24: =IF(J24,"公斤","") | L24: 肉絲時蔬 | N24: =IF(M24,"公斤","") | O24: 時蔬 | R24: 綠豆湯 | T24: =IF(S24,"公斤","") | U24: 葡萄乾 | W24: 6.3 | X24: 3.7142857 | Y24: 1.76 | Z24: 3.2371429 | AA24: 0 | AC24: 909.24286 | AE24: =A24 -> 46268 | AF24: =A25 -> 四 | AG24: =B24 -> A4 | AH24: =C24 -> 糙米飯 | AI24: =C25&" "&C26&" "&C27&" "&C28&" "&C29&" "&C30 -> 米 糙米 | AJ24: =F24 -> 馬鈴薯滷肉 | AK24: =F25&" "&F26&" "&F27&" "&F28&" "&F29&" "&F30 -> 豬後腿肉 馬鈴薯 胡蘿蔔 大蒜 | AL24: =I24 -> 紅仁炒蛋 | AM24: =I25&" "&I26&" "&I27&" "&I28&" "&I29&" "&I30 -> 雞蛋 胡蘿蔔 大蒜 | AN24: =L24 -> 肉絲時蔬 | AO24: =L25&" "&L26&" "&L27&" "&L28&" "&L29&" "&L30 -> 蔬菜 肉絲 大蒜 | AP24: =O24 -> 時蔬 | AQ24: =O25&" "&O26&" "&O27&" "&O28&" "&O29&" "&O30 -> 蔬菜 大蒜 | AR24: =R24 -> 綠豆湯 | AS24: =R25&" "&R26&" "&R27&" "&R28&" "&R29&" "&R30 -> 綠豆 二砂糖 | AT24: =U24 -> 葡萄乾 | AU24: =V24 -> 0 | AV24: =W24 -> 6.3 | AW24: =X24 -> 3.7142857 | AX24: =Y24 -> 1.76 | AY24: =Z24 -> 3.2371429 | AZ24: =AA24 -> 0 | BA24: =AB24 -> 0 | BB24: =AC24 -> 909.24286
A25: 四 | C25: 米 | D25: 7 | E25: =IF(D25,"公斤","") -> 公斤 | F25: 豬後腿肉 | G25: 6 | H25: =IF(G25,"公斤","") -> 公斤 | I25: 雞蛋 | J25: 5.5 | K25: =IF(J25,"公斤","") -> 公斤 | L25: 蔬菜 | M25: 7 | N25: =IF(M25,"公斤","") -> 公斤 | O25: 蔬菜 | P25: 7 | Q25: 公斤 | R25: 綠豆 | S25: 2 | T25: =IF(S25,"公斤","") -> 公斤
C26: 糙米 | D26: 3 | E26: =IF(D26,"公斤","") -> 公斤 | F26: 馬鈴薯 | G26: 4 | H26: =IF(G26,"公斤","") -> 公斤 | I26: 胡蘿蔔 | J26: 3 | K26: =IF(J26,"公斤","") -> 公斤 | L26: 肉絲 | M26: 0.6 | N26: =IF(M26,"公斤","") -> 公斤 | O26: 大蒜 | P26: 0.05 | Q26: 公斤 | R26: 二砂糖 | S26: 1 | T26: =IF(S26,"公斤","") -> 公斤
E27: =IF(D27,"公斤","") | F27: 胡蘿蔔 | G27: 0.5 | H27: =IF(G27,"公斤","") -> 公斤 | I27: 大蒜 | J27: 0.05 | K27: =IF(J27,"公斤","") -> 公斤 | L27: 大蒜 | M27: 0.05 | N27: =IF(M27,"公斤","") -> 公斤 | T27: =IF(S27,"公斤","")
E28: =IF(D28,"公斤","") | F28: 大蒜 | G28: 0.05 | H28: =IF(G28,"公斤","") -> 公斤 | K28: =IF(J28,"公斤","") | N28: =IF(M28,"公斤","") | T28: =IF(S28,"公斤","")
E29: =IF(D29,"公斤","") | H29: =IF(G29,"公斤","") | K29: =IF(J29,"公斤","") | N29: =IF(M29,"公斤","") | T29: =IF(S29,"公斤","")
E30: =IF(D30,"公斤","") | H30: =IF(G30,"公斤","") | K30: =IF(J30,"公斤","") | N30: =IF(M30,"公斤","") | T30: =IF(S30,"公斤","")
A31: =A24+1 -> 46269 | B31: A5 | C31: 小米飯 | E31: =IF(D31,"公斤","") | F31: 鹹酥雞 | H31: =IF(G31,"公斤","") | I31: 針菇豆腐 | K31: =IF(J31,"公斤","") | L31: 麵輪時瓜 | N31: =IF(M31,"公斤","") | O31: 時蔬 | R31: 三絲羹湯 | T31: =IF(S31,"公斤","") | U31: 水果 | W31: 5.2 | X31: 3.8011905 | Y31: 1.86 | Z31: 3.3305952 | AC31: 845.46607 | AE31: =A31 -> 46269 | AF31: =A32 -> 五 | AG31: =B31 -> A5 | AH31: =C31 -> 小米飯 | AI31: =C32&" "&C33&" "&C34&" "&C35&" "&C36&" "&C37 -> 米 小米 | AJ31: =F31 -> 鹹酥雞 | AK31: =F32&" "&F33&" "&F34&" "&F35&" "&F36&" "&F37 -> 鹹酥雞 大蒜 九層塔 | AL31: =I31 -> 針菇豆腐 | AM31: =I32&" "&I33&" "&I34&" "&I35&" "&I36&" "&I37 -> 豆腐 金針菇 絞肉 大蒜 | AN31: =L31 -> 麵輪時瓜 | AO31: =L32&" "&L33&" "&L34&" "&L35&" "&L36&" "&L37 -> 時瓜 麵輪 胡蘿蔔 大蒜 | AP31: =O31 -> 時蔬 | AQ31: =O32&" "&O33&" "&O34&" "&O35&" "&O36&" "&O37 -> 蔬菜 大蒜 | AR31: =R31 -> 三絲羹湯 | AS31: =R32&" "&R33&" "&R34&" "&R35&" "&R36&" "&R37 -> 脆筍 時蔬 胡蘿蔔 豬後腿肉 沙茶醬 | AT31: =U31 -> 水果 | AU31: =V31 -> 0 | AV31: =W31 -> 5.2 | AW31: =X31 -> 3.8011905 | AX31: =Y31 -> 1.86 | AY31: =Z31 -> 3.3305952 | AZ31: =AA31 -> 0 | BA31: =AB31 -> 0 | BB31: =AC31 -> 845.46607
A32: 五 | C32: 米 | D32: 10 | E32: =IF(D32,"公斤","") -> 公斤 | F32: 鹹酥雞 | G32: 9 | H32: =IF(G32,"公斤","") -> 公斤 | I32: 豆腐 | J32: 7 | K32: =IF(J32,"公斤","") -> 公斤 | L32: 時瓜 | M32: 7 | N32: =IF(M32,"公斤","") -> 公斤 | O32: 蔬菜 | P32: 7 | Q32: 公斤 | R32: 脆筍 | S32: 1.5 | T32: =IF(S32,"公斤","") -> 公斤
C33: 小米 | D33: 0.4 | E33: =IF(D33,"公斤","") -> 公斤 | F33: 大蒜 | G33: 0.1 | H33: =IF(G33,"公斤","") -> 公斤 | I33: 金針菇 | J33: 1 | K33: =IF(J33,"公斤","") -> 公斤 | L33: 麵輪 | M33: 0.5 | N33: =IF(M33,"公斤","") -> 公斤 | O33: 大蒜 | P33: 0.05 | Q33: 公斤 | R33: 時蔬 | S33: 1.5 | T33: =IF(S33,"公斤","") -> 公斤
E34: =IF(D34,"公斤","") | F34: 九層塔 | G34: 0.1 | H34: =IF(G34,"公斤","") -> 公斤 | I34: 絞肉 | J34: 0.6 | K34: =IF(J34,"公斤","") -> 公斤 | L34: 胡蘿蔔 | M34: 0.5 | N34: =IF(M34,"公斤","") -> 公斤 | R34: 胡蘿蔔 | S34: 0.5 | T34: =IF(S34,"公斤","") -> 公斤
E35: =IF(D35,"公斤","") | H35: =IF(G35,"公斤","") | I35: 大蒜 | J35: 0.05 | K35: =IF(J35,"公斤","") -> 公斤 | L35: 大蒜 | M35: 0.05 | N35: =IF(M35,"公斤","") -> 公斤 | R35: 豬後腿肉 | S35: 0.6 | T35: =IF(S35,"公斤","") -> 公斤
E36: =IF(D36,"公斤","") | H36: =IF(G36,"公斤","") | K36: =IF(J36,"公斤","") | N36: =IF(M36,"公斤","") | R36: 沙茶醬 | T36: =IF(S36,"公斤","")
E37: =IF(D37,"公斤","") | H37: =IF(G37,"公斤","") | K37: =IF(J37,"公斤","") | N37: =IF(M37,"公斤","") | T37: =IF(S37,"公斤","")
A38: 46272 | B38: B1 | C38: 白米飯 | E38: =IF(D38,"公斤","") | F38: 花生肉片 | H38: =IF(G38,"公斤","") | I38: 蛋香花椰 | K38: =IF(J38,"公斤","") | L38: 香炒四色 | N38: =IF(M38,"公斤","") | O38: 時蔬 | R38: 南瓜湯 | T38: =IF(S38,"公斤","") | U38: 果汁 | W38: 5.6875 | X38: 2.6935065 | Y38: 2.056 | Z38: 2.8747532 | AC38: 780.90188 | AE38: =A38 -> 46272 | AF38: =A39 -> 一 | AG38: =B38 -> B1 | AH38: =C38 -> 白米飯 | AI38: =C39&" "&C40&" "&C41&" "&C42&" "&C43&" "&C44 -> 米 | AJ38: =F38 -> 花生肉片 | AK38: =F39&" "&F40&" "&F41&" "&F42&" "&F43&" "&F44 -> 豬後腿肉 油花生 胡蘿蔔 時蔬 大蒜 | AL38: =I38 -> 蛋香花椰 | AM38: =I39&" "&I40&" "&I41&" "&I42&" "&I43&" "&I44 -> 雞蛋 冷凍青花菜 乾木耳 大蒜 | AN38: =L38 -> 香炒四色 | AO38: =L39&" "&L40&" "&L41&" "&L42&" "&L43&" "&L44 -> 冷凍玉米粒 豆薯 胡蘿蔔 豬絞肉 薑 | AP38: =O38 -> 時蔬 | AQ38: =O39&" "&O40&" "&O41&" "&O42&" "&O43&" "&O44 -> 蔬菜 大蒜 | AR38: =R38 -> 南瓜湯 | AS38: =R39&" "&R40&" "&R41&" "&R42&" "&R43&" "&R44 -> 南瓜 薑 大骨 | AT38: =U38 -> 果汁 | AU38: =V38 -> 0 | AV38: =W38 -> 5.6875 | AW38: =X38 -> 2.6935065 | AX38: =Y38 -> 2.056 | AY38: =Z38 -> 2.8747532 | AZ38: =AA38 -> 0 | BA38: =AB38 -> 0 | BB38: =AC38 -> 780.90188
A39: 一 | C39: 米 | D39: 10 | E39: =IF(D39,"公斤","") -> 公斤 | F39: 豬後腿肉 | G39: 6 | H39: =IF(G39,"公斤","") -> 公斤 | I39: 雞蛋 | J39: 3.5 | K39: =IF(J39,"公斤","") -> 公斤 | L39: 冷凍玉米粒 | M39: 1.5 | N39: =IF(M39,"公斤","") -> 公斤 | O39: 蔬菜 | P39: 7 | Q39: 公斤 | R39: 南瓜 | S39: 4 | T39: =IF(S39,"公斤","") -> 公斤
E40: =IF(D40,"公斤","") | F40: 油花生 | G40: 0.3 | H40: =IF(G40,"公斤","") -> 公斤 | I40: 冷凍青花菜 | J40: 6 | K40: =IF(J40,"公斤","") -> 公斤 | L40: 豆薯 | M40: 4 | N40: =IF(M40,"公斤","") -> 公斤 | O40: 大蒜 | P40: 0.05 | Q40: 公斤 | R40: 薑 | S40: 0.05 | T40: =IF(S40,"公斤","") -> 公斤
E41: =IF(D41,"公斤","") | F41: 胡蘿蔔 | G41: 0.5 | H41: =IF(G41,"公斤","") -> 公斤 | I41: 乾木耳 | J41: 0.01 | K41: =IF(J41,"公斤","") -> 公斤 | L41: 胡蘿蔔 | M41: 0.5 | N41: =IF(M41,"公斤","") -> 公斤 | R41: 大骨 | S41: 0.6 | T41: =IF(S41,"公斤","") -> 公斤
E42: =IF(D42,"公斤","") | F42: 時蔬 | G42: 3 | H42: =IF(G42,"公斤","") -> 公斤 | I42: 大蒜 | J42: 0.05 | K42: =IF(J42,"公斤","") -> 公斤 | L42: 豬絞肉 | M42: 0.6 | N42: =IF(M42,"公斤","") -> 公斤 | T42: =IF(S42,"公斤","")
E43: =IF(D43,"公斤","") | F43: 大蒜 | G43: 0.05 | H43: =IF(G43,"公斤","") -> 公斤 | K43: =IF(J43,"公斤","") | L43: 薑 | M43: 0.01 | N43: =IF(M43,"公斤","") -> 公斤 | T43: =IF(S43,"公斤","")
E44: =IF(D44,"公斤","") | H44: =IF(G44,"公斤","") | K44: =IF(J44,"公斤","") | N44: =IF(M44,"公斤","") | T44: =IF(S44,"公斤","")
A45: =A38+1 -> 46273 | B45: B2 | C45: 糙米飯 | E45: =IF(D45,"公斤","") | F45: 咖哩雞 | H45: =IF(G45,"公斤","") | I45: 肉絲海茸 | K45: =IF(J45,"公斤","") | L45: 關東煮 | N45: =IF(M45,"公斤","") | O45: 時蔬 | R45: 味噌凍腐湯 | T45: =IF(S45,"公斤","") | U45: 海苔 | W45: 5.625 | X45: 2.8392857 | Y45: 1.855 | Z45: 2.8471429 | AC45: 781.19286 | AE45: =A45 -> 46273 | AF45: =A46 -> 二 | AG45: =B45 -> B2 | AH45: =C45 -> 糙米飯 | AI45: =C46&" "&C47&" "&C48&" "&C49&" "&C50&" "&C51 -> 米 糙米 | AJ45: =F45 -> 咖哩雞 | AK45: =F46&" "&F47&" "&F48&" "&F49&" "&F50&" "&F51 -> 肉雞 洋蔥 馬鈴薯 胡蘿蔔 咖哩粉 | AL45: =I45 -> 肉絲海茸 | AM45: =I46&" "&I47&" "&I48&" "&I49&" "&I50&" "&I51 -> 海帶茸 豬後腿肉 大蒜 九層塔 | AN45: =L45 -> 關東煮 | AO45: =L46&" "&L47&" "&L48&" "&L49&" "&L50&" "&L51 -> 白蘿蔔 胡蘿蔔 甜玉米 魚丸 柴魚片 | AP45: =O45 -> 時蔬 | AQ45: =O46&" "&O47&" "&O48&" "&O49&" "&O50&" "&O51 -> 蔬菜 大蒜 | AR45: =R45 -> 味噌凍腐湯 | AS45: =R46&" "&R47&" "&R48&" "&R49&" "&R50&" "&R51 -> 凍豆腐 味噌 柴魚片 小魚干 | AT45: =U45 -> 海苔 | AU45: =V45 -> 0 | AV45: =W45 -> 5.625 | AW45: =X45 -> 2.8392857 | AX45: =Y45 -> 1.855 | AY45: =Z45 -> 2.8471429 | AZ45: =AA45 -> 0 | BA45: =AB45 -> 0 | BB45: =AC45 -> 781.19286
A46: 二 | C46: 米 | D46: 7 | E46: =IF(D46,"公斤","") -> 公斤 | F46: 肉雞 | G46: 9 | H46: =IF(G46,"公斤","") -> 公斤 | I46: 海帶茸 | J46: 5 | K46: =IF(J46,"公斤","") -> 公斤 | L46: 白蘿蔔 | M46: 4 | N46: =IF(M46,"公斤","") -> 公斤 | O46: 蔬菜 | P46: 7 | Q46: 公斤 | R46: 凍豆腐 | S46: 3 | T46: =IF(S46,"公斤","") -> 公斤
C47: 糙米 | D47: 3 | E47: =IF(D47,"公斤","") -> 公斤 | F47: 洋蔥 | G47: 2 | H47: =IF(G47,"公斤","") -> 公斤 | I47: 豬後腿肉 | J47: 0.6 | K47: =IF(J47,"公斤","") -> 公斤 | L47: 胡蘿蔔 | M47: 0.5 | N47: =IF(M47,"公斤","") -> 公斤 | O47: 大蒜 | P47: 0.05 | Q47: 公斤 | R47: 味噌 | S47: 1 | T47: =IF(S47,"公斤","") -> 公斤
E48: =IF(D48,"公斤","") | F48: 馬鈴薯 | G48: 2 | H48: =IF(G48,"公斤","") -> 公斤 | I48: 大蒜 | J48: 0.05 | K48: =IF(J48,"公斤","") -> 公斤 | L48: 甜玉米 | M48: 3 | N48: =IF(M48,"公斤","") -> 公斤 | R48: 柴魚片 | S48: 0.01 | T48: =IF(S48,"公斤","") -> 公斤
E49: =IF(D49,"公斤","") | F49: 胡蘿蔔 | G49: 0.5 | H49: =IF(G49,"公斤","") -> 公斤 | I49: 九層塔 | J49: 0.3 | K49: =IF(J49,"公斤","") -> 公斤 | L49: 魚丸 | M49: 1 | N49: =IF(M49,"公斤","") -> 公斤 | R49: 小魚干 | S49: 0.2 | T49: =IF(S49,"公斤","") -> 公斤
E50: =IF(D50,"公斤","") | F50: 咖哩粉 | H50: =IF(G50,"公斤","") | K50: =IF(J50,"公斤","") | L50: 柴魚片 | M50: 0.01 | N50: =IF(M50,"公斤","") -> 公斤 | T50: =IF(S50,"公斤","")
E51: =IF(D51,"公斤","") | H51: =IF(G51,"公斤","") | K51: =IF(J51,"公斤","") | N51: =IF(M51,"公斤","") | T51: =IF(S51,"公斤","")
A52: =A45+1 -> 46274 | B52: B3 | C52: 拌麵特餐 | E52: =IF(D52,"公斤","") | F52: 香滷腿排 | H52: =IF(G52,"公斤","") | I52: 拌麵配料 | K52: =IF(J52,"公斤","") | L52: 黑糖小饅頭 | N52: =IF(M52,"公斤","") | O52: 時蔬 | R52: 時蔬蛋花湯 | T52: =IF(S52,"公斤","") | U52: 水果 | V52: 有機豆奶 | W52: 6 | X52: 2.9350649 | Y52: 1.155 | Z52: 2.5450325 | AC52: 783.53133 | AE52: =A52 -> 46274 | AF52: =A53 -> 三 | AG52: =B52 -> B3 | AH52: =C52 -> 拌麵特餐 | AI52: =C53&" "&C54&" "&C55&" "&C56&" "&C57&" "&C58 -> 麵條 | AJ52: =F52 -> 香滷腿排 | AK52: =F53&" "&F54&" "&F55&" "&F56&" "&F57&" "&F58 -> 腿排 | AL52: =I52 -> 拌麵配料 | AM52: =I53&" "&I54&" "&I55&" "&I56&" "&I57&" "&I58 -> 豬後腿肉 時蔬 胡蘿蔔 乾香菇 油蔥酥 | AN52: =L52 -> 黑糖小饅頭 | AO52: =L53&" "&L54&" "&L55&" "&L56&" "&L57&" "&L58 -> 黑糖小饅頭 | AP52: =O52 -> 時蔬 | AQ52: =O53&" "&O54&" "&O55&" "&O56&" "&O57&" "&O58 -> 蔬菜 大蒜 | AR52: =R52 -> 時蔬蛋花湯 | AS52: =R53&" "&R54&" "&R55&" "&R56&" "&R57&" "&R58 -> 時蔬 雞蛋 薑 | AT52: =U52 -> 水果 | AU52: =V52 -> 有機豆奶 | AV52: =W52 -> 6 | AW52: =X52 -> 2.9350649 | AX52: =Y52 -> 1.155 | AY52: =Z52 -> 2.5450325 | AZ52: =AA52 -> 0 | BA52: =AB52 -> 0 | BB52: =AC52 -> 783.53133
A53: 三 | C53: 麵條 | D53: 15 | E53: =IF(D53,"公斤","") -> 公斤 | F53: 腿排 | G53: 10 | H53: =IF(G53,"公斤","") -> 公斤 | I53: 豬後腿肉 | J53: 2 | K53: =IF(J53,"公斤","") -> 公斤 | L53: 黑糖小饅頭 | M53: 4 | N53: =IF(M53,"公斤","") -> 公斤 | O53: 蔬菜 | P53: 7 | Q53: 公斤 | R53: 時蔬 | S53: 2 | T53: =IF(S53,"公斤","") -> 公斤
E54: =IF(D54,"公斤","") | H54: =IF(G54,"公斤","") | I54: 時蔬 | J54: 2 | K54: =IF(J54,"公斤","") -> 公斤 | N54: =IF(M54,"公斤","") | O54: 大蒜 | P54: 0.05 | Q54: 公斤 | R54: 雞蛋 | S54: 2 | T54: =IF(S54,"公斤","") -> 公斤
E55: =IF(D55,"公斤","") | H55: =IF(G55,"公斤","") | I55: 胡蘿蔔 | J55: 0.5 | K55: =IF(J55,"公斤","") -> 公斤 | N55: =IF(M55,"公斤","") | R55: 薑 | S55: 0.05 | T55: =IF(S55,"公斤","") -> 公斤
E56: =IF(D56,"公斤","") | H56: =IF(G56,"公斤","") | I56: 乾香菇 | J56: 0.05 | K56: =IF(J56,"公斤","") -> 公斤 | N56: =IF(M56,"公斤","") | T56: =IF(S56,"公斤","")
E57: =IF(D57,"公斤","") | H57: =IF(G57,"公斤","") | I57: 油蔥酥 | J57: 0.01 | K57: =IF(J57,"公斤","") -> 公斤 | N57: =IF(M57,"公斤","") | T57: =IF(S57,"公斤","")
E58: =IF(D58,"公斤","") | H58: =IF(G58,"公斤","") | K58: =IF(J58,"公斤","") | N58: =IF(M58,"公斤","") | T58: =IF(S58,"公斤","")
A59: =A52+1 -> 46275 | B59: B4 | C59: 糙米飯 | E59: =IF(D59,"公斤","") | F59: 筍干滷肉 | H59: =IF(G59,"公斤","") | I59: 紅仁炒蛋 | K59: =IF(J59,"公斤","") | L59: 豆包時蔬 | N59: =IF(M59,"公斤","") | O59: 時蔬 | R59: 銀耳鳳梨湯 | T59: =IF(S59,"公斤","") | U59: 堅果 | W59: 5 | X59: 3.047619 | Y59: 2.17 | Z59: 3.1088095 | AB59: 0.2 | AC59: 784.71786 | AE59: =A59 -> 46275 | AF59: =A60 -> 四 | AG59: =B59 -> B4 | AH59: =C59 -> 糙米飯 | AI59: =C60&" "&C61&" "&C62&" "&C63&" "&C64&" "&C65 -> 米 糙米 | AJ59: =F59 -> 筍干滷肉 | AK59: =F60&" "&F61&" "&F62&" "&F63&" "&F64&" "&F65 -> 豬後腿肉 麻竹筍干 梅乾菜 胡蘿蔔 大蒜 | AL59: =I59 -> 紅仁炒蛋 | AM59: =I60&" "&I61&" "&I62&" "&I63&" "&I64&" "&I65 -> 雞蛋 胡蘿蔔 大蒜 | AN59: =L59 -> 豆包時蔬 | AO59: =L60&" "&L61&" "&L62&" "&L63&" "&L64&" "&L65 -> 時蔬 胡蘿蔔 大蒜 豆包 | AP59: =O59 -> 時蔬 | AQ59: =O60&" "&O61&" "&O62&" "&O63&" "&O64&" "&O65 -> 蔬菜 大蒜 | AR59: =R59 -> 銀耳鳳梨湯 | AS59: =R60&" "&R61&" "&R62&" "&R63&" "&R64&" "&R65 -> 乾銀耳 鳳梨罐頭 二砂糖 枸杞 | AT59: =U59 -> 堅果 | AU59: =V59 -> 0 | AV59: =W59 -> 5 | AW59: =X59 -> 3.047619 | AX59: =Y59 -> 2.17 | AY59: =Z59 -> 3.1088095 | AZ59: =AA59 -> 0 | BA59: =AB59 -> 0.2 | BB59: =AC59 -> 784.71786
A60: 四 | C60: 米 | D60: 7 | E60: =IF(D60,"公斤","") -> 公斤 | F60: 豬後腿肉 | G60: 6 | H60: =IF(G60,"公斤","") -> 公斤 | I60: 雞蛋 | J60: 5.5 | K60: =IF(J60,"公斤","") -> 公斤 | L60: 時蔬 | M60: 7 | N60: =IF(M60,"公斤","") -> 公斤 | O60: 蔬菜 | P60: 7 | Q60: 公斤 | R60: 乾銀耳 | S60: 0.2 | T60: =IF(S60,"公斤","") -> 公斤
C61: 糙米 | D61: 3 | E61: =IF(D61,"公斤","") -> 公斤 | F61: 麻竹筍干 | G61: 3 | H61: =IF(G61,"公斤","") -> 公斤 | I61: 胡蘿蔔 | J61: 3.5 | K61: =IF(J61,"公斤","") -> 公斤 | L61: 胡蘿蔔 | M61: 0.5 | N61: =IF(M61,"公斤","") -> 公斤 | O61: 大蒜 | P61: 0.05 | Q61: 公斤 | R61: 鳳梨罐頭 | S61: 2 | T61: =IF(S61,"公斤","") -> 公斤
E62: =IF(D62,"公斤","") | F62: 梅乾菜 | G62: 0.5 | H62: =IF(G62,"公斤","") -> 公斤 | I62: 大蒜 | J62: 0.05 | K62: =IF(J62,"公斤","") -> 公斤 | L62: 大蒜 | M62: 0.05 | N62: =IF(M62,"公斤","") -> 公斤 | R62: 二砂糖 | S62: 1 | T62: =IF(S62,"公斤","") -> 公斤
E63: =IF(D63,"公斤","") | F63: 胡蘿蔔 | G63: 0.5 | H63: =IF(G63,"公斤","") -> 公斤 | K63: =IF(J63,"公斤","") | L63: 豆包 | M63: 1 | N63: =IF(M63,"公斤","") -> 公斤 | R63: 枸杞 | S63: 0.02 | T63: =IF(S63,"公斤","") -> 公斤
E64: =IF(D64,"公斤","") | F64: 大蒜 | G64: 0.05 | H64: =IF(G64,"公斤","") -> 公斤 | K64: =IF(J64,"公斤","") | N64: =IF(M64,"公斤","") | T64: =IF(S64,"公斤","")
E65: =IF(D65,"公斤","") | H65: =IF(G65,"公斤","") | K65: =IF(J65,"公斤","") | N65: =IF(M65,"公斤","") | T65: =IF(S65,"公斤","")
A66: =A59+1 -> 46276 | B66: B5 | C66: 紫米飯 | E66: =IF(D66,"公斤","") | F66: 咖哩魚排 | H66: =IF(G66,"公斤","") | I66: 海結滷豆干 | K66: =IF(J66,"公斤","") | L66: 肉絲時蔬 | N66: =IF(M66,"公斤","") | O66: 時蔬 | R66: 時瓜湯 | T66: =IF(S66,"公斤","") | U66: 水果 | W66: 5.2 | X66: 3.45 | Y66: 2.2 | Z66: 3.325 | AC66: 827.375 | AE66: =A66 -> 46276 | AF66: =A67 -> 五 | AG66: =B66 -> B5 | AH66: =C66 -> 紫米飯 | AI66: =C67&" "&C68&" "&C69&" "&C70&" "&C71&" "&C72 -> 米 黑糯米 | AJ66: =F66 -> 咖哩魚排 | AK66: =F67&" "&F68&" "&F69&" "&F70&" "&F71&" "&F72 -> 魚排 咖哩粉 | AL66: =I66 -> 海結滷豆干 | AM66: =I67&" "&I68&" "&I69&" "&I70&" "&I71&" "&I72 -> 海帶結 豆干 胡蘿蔔 大蒜 | AN66: =L66 -> 肉絲時蔬 | AO66: =L67&" "&L68&" "&L69&" "&L70&" "&L71&" "&L72 -> 豬後腿肉 時蔬 胡蘿蔔 大蒜 | AP66: =O66 -> 時蔬 | AQ66: =O67&" "&O68&" "&O69&" "&O70&" "&O71&" "&O72 -> 蔬菜 大蒜 | AR66: =R66 -> 時瓜湯 | AS66: =R67&" "&R68&" "&R69&" "&R70&" "&R71&" "&R72 -> 時瓜 薑 大骨 | AT66: =U66 -> 水果 | AU66: =V66 -> 0 | AV66: =W66 -> 5.2 | AW66: =X66 -> 3.45 | AX66: =Y66 -> 2.2 | AY66: =Z66 -> 3.325 | AZ66: =AA66 -> 0 | BA66: =AB66 -> 0 | BB66: =AC66 -> 827.375
A67: 五 | C67: 米 | D67: 10 | E67: =IF(D67,"公斤","") -> 公斤 | F67: 魚排 | G67: 6.5 | H67: =IF(G67,"公斤","") -> 公斤 | I67: 海帶結 | J67: 2.5 | K67: =IF(J67,"公斤","") -> 公斤 | L67: 豬後腿肉 | M67: 0.6 | N67: =IF(M67,"公斤","") -> 公斤 | O67: 蔬菜 | P67: 7 | Q67: 公斤 | R67: 時瓜 | S67: 5 | T67: =IF(S67,"公斤","") -> 公斤
C68: 黑糯米 | D68: 0.4 | E68: =IF(D68,"公斤","") -> 公斤 | F68: 咖哩粉 | H68: =IF(G68,"公斤","") | I68: 豆干 | J68: 5 | K68: =IF(J68,"公斤","") -> 公斤 | L68: 時蔬 | M68: 7 | N68: =IF(M68,"公斤","") -> 公斤 | O68: 大蒜 | P68: 0.05 | Q68: 公斤 | R68: 薑 | S68: 0.05 | T68: =IF(S68,"公斤","") -> 公斤
E69: =IF(D69,"公斤","") | H69: =IF(G69,"公斤","") | I69: 胡蘿蔔 | J69: 0.5 | K69: =IF(J69,"公斤","") -> 公斤 | L69: 胡蘿蔔 | M69: 0.5 | N69: =IF(M69,"公斤","") -> 公斤 | R69: 大骨 | S69: 0.6 | T69: =IF(S69,"公斤","") -> 公斤
E70: =IF(D70,"公斤","") | H70: =IF(G70,"公斤","") | I70: 大蒜 | J70: 0.05 | K70: =IF(J70,"公斤","") -> 公斤 | L70: 大蒜 | M70: 0.05 | N70: =IF(M70,"公斤","") -> 公斤 | T70: =IF(S70,"公斤","")
E71: =IF(D71,"公斤","") | H71: =IF(G71,"公斤","") | K71: =IF(J71,"公斤","") | N71: =IF(M71,"公斤","") | T71: =IF(S71,"公斤","")
E72: =IF(D72,"公斤","") | H72: =IF(G72,"公斤","") | K72: =IF(J72,"公斤","") | N72: =IF(M72,"公斤","") | T72: =IF(S72,"公斤","")
A73: 46279 | B73: C1 | C73: 白米飯 | E73: =IF(D73,"公斤","") | F73: 京醬肉絲 | H73: =IF(G73,"公斤","") | I73: 時蔬炒蛋 | K73: =IF(J73,"公斤","") | L73: 螞蟻上樹 | N73: =IF(M73,"公斤","") | O73: 時蔬 | R73: 時蔬小魚湯 | T73: =IF(S73,"公斤","") | U73: 果汁 | W73: 6 | X73: 2.812987 | Y73: 2.105 | Z73: 2.9589935 | AC73: 816.75373 | AE73: =A73 -> 46279 | AF73: =A74 -> 一 | AG73: =B73 -> C1 | AH73: =C73 -> 白米飯 | AI73: =C74&" "&C75&" "&C76&" "&C77&" "&C78&" "&C79 -> 米 | AJ73: =F73 -> 京醬肉絲 | AK73: =F74&" "&F75&" "&F76&" "&F77&" "&F78&" "&F79 -> 豬後腿肉 胡蘿蔔 豆薯 大蒜 甜麵醬 | AL73: =I73 -> 時蔬炒蛋 | AM73: =I74&" "&I75&" "&I76&" "&I77&" "&I78&" "&I79 -> 時蔬 雞蛋 大蒜 | AN73: =L73 -> 螞蟻上樹 | AO73: =L74&" "&L75&" "&L76&" "&L77&" "&L78&" "&L79 -> 豬後腿肉 冬粉 時蔬 乾木耳 大蒜 | AP73: =O73 -> 時蔬 | AQ73: =O74&" "&O75&" "&O76&" "&O77&" "&O78&" "&O79 -> 蔬菜 大蒜 | AR73: =R73 -> 時蔬小魚湯 | AS73: =R74&" "&R75&" "&R76&" "&R77&" "&R78&" "&R79 -> 時蔬 小魚乾 薑 | AT73: =U73 -> 果汁 | AU73: =V73 -> 0 | AV73: =W73 -> 6 | AW73: =X73 -> 2.812987 | AX73: =Y73 -> 2.105 | AY73: =Z73 -> 2.9589935 | AZ73: =AA73 -> 0 | BA73: =AB73 -> 0 | BB73: =AC73 -> 816.75373
A74: 一 | C74: 米 | D74: 10 | E74: =IF(D74,"公斤","") -> 公斤 | F74: 豬後腿肉 | G74: 6 | H74: =IF(G74,"公斤","") -> 公斤 | I74: 時蔬 | J74: 4 | K74: =IF(J74,"公斤","") -> 公斤 | L74: 豬後腿肉 | M74: 0.6 | N74: =IF(M74,"公斤","") -> 公斤 | O74: 蔬菜 | P74: 7 | Q74: 公斤 | R74: 時蔬 | S74: 3 | T74: =IF(S74,"公斤","") -> 公斤
E75: =IF(D75,"公斤","") | F75: 胡蘿蔔 | G75: 0.5 | H75: =IF(G75,"公斤","") -> 公斤 | I75: 雞蛋 | J75: 4 | K75: =IF(J75,"公斤","") -> 公斤 | L75: 冬粉 | M75: 1.5 | N75: =IF(M75,"公斤","") -> 公斤 | O75: 大蒜 | P75: 0.05 | Q75: 公斤 | R75: 小魚乾 | S75: 0.2 | T75: =IF(S75,"公斤","") -> 公斤
E76: =IF(D76,"公斤","") | F76: 豆薯 | G76: 3.5 | H76: =IF(G76,"公斤","") -> 公斤 | I76: 大蒜 | J76: 0.05 | K76: =IF(J76,"公斤","") -> 公斤 | L76: 時蔬 | M76: 3 | N76: =IF(M76,"公斤","") -> 公斤 | R76: 薑 | S76: 0.05 | T76: =IF(S76,"公斤","") -> 公斤
E77: =IF(D77,"公斤","") | F77: 大蒜 | G77: 0.05 | H77: =IF(G77,"公斤","") -> 公斤 | K77: =IF(J77,"公斤","") | L77: 乾木耳 | M77: 0.01 | N77: =IF(M77,"公斤","") -> 公斤 | T77: =IF(S77,"公斤","")
E78: =IF(D78,"公斤","") | F78: 甜麵醬 | H78: =IF(G78,"公斤","") | K78: =IF(J78,"公斤","") | L78: 大蒜 | M78: 0.05 | N78: =IF(M78,"公斤","") -> 公斤 | T78: =IF(S78,"公斤","")
E79: =IF(D79,"公斤","") | H79: =IF(G79,"公斤","") | K79: =IF(J79,"公斤","") | N79: =IF(M79,"公斤","") | T79: =IF(S79,"公斤","")
A80: =A73+1 -> 46280 | B80: c2 | C80: 糙米飯 | E80: =IF(D80,"公斤","") | F80: 檸檬雞翅 | H80: =IF(G80,"公斤","") | I80: 泡菜凍腐 | K80: =IF(J80,"公斤","") | L80: 肉絲時蔬 | N80: =IF(M80,"公斤","") | O80: 時蔬 | R80: 時瓜湯 | T80: =IF(S80,"公斤","") | U80: 葡萄乾 | W80: 5 | X80: 2.4271429 | Y80: 2.25 | Z80: 2.8385714 | AC80: 716.02143 | AE80: =A80 -> 46280 | AF80: =A81 -> 二 | AG80: =B80 -> c2 | AH80: =C80 -> 糙米飯 | AI80: =C81&" "&C82&" "&C83&" "&C84&" "&C85&" "&C86 -> 米 糙米 | AJ80: =F80 -> 檸檬雞翅 | AK80: =F81&" "&F82&" "&F83&" "&F84&" "&F85&" "&F86 -> 檸檬雞翅 | AL80: =I80 -> 泡菜凍腐 | AM80: =I81&" "&I82&" "&I83&" "&I84&" "&I85&" "&I86 -> 絞肉 凍豆腐 韓式泡菜 甘藍 大蒜 | AN80: =L80 -> 肉絲時蔬 | AO80: =L81&" "&L82&" "&L83&" "&L84&" "&L85&" "&L86 -> 時蔬 肉絲 胡蘿蔔 大蒜 | AP80: =O80 -> 時蔬 | AQ80: =O81&" "&O82&" "&O83&" "&O84&" "&O85&" "&O86 -> 蔬菜 大蒜 | AR80: =R80 -> 時瓜湯 | AS80: =R81&" "&R82&" "&R83&" "&R84&" "&R85&" "&R86 -> 時瓜 薑 魚丸 | AT80: =U80 -> 葡萄乾 | AU80: =V80 -> 0 | AV80: =W80 -> 5 | AW80: =X80 -> 2.4271429 | AX80: =Y80 -> 2.25 | AY80: =Z80 -> 2.8385714 | AZ80: =AA80 -> 0 | BA80: =AB80 -> 0 | BB80: =AC80 -> 716.02143
A81: 二 | C81: 米 | D81: 7 | E81: =IF(D81,"公斤","") -> 公斤 | F81: 檸檬雞翅 | G81: 7 | H81: =IF(G81,"公斤","") -> 公斤 | I81: 絞肉 | J81: 0.6 | K81: =IF(J81,"公斤","") -> 公斤 | L81: 時蔬 | M81: 7 | N81: =IF(M81,"公斤","") -> 公斤 | O81: 蔬菜 | P81: 7 | Q81: 公斤 | R81: 時瓜 | S81: 5 | T81: =IF(S81,"公斤","") -> 公斤
C82: 糙米 | D82: 3 | E82: =IF(D82,"公斤","") -> 公斤 | H82: =IF(G82,"公斤","") | I82: 凍豆腐 | J82: 5 | K82: =IF(J82,"公斤","") -> 公斤 | L82: 肉絲 | M82: 0.6 | N82: =IF(M82,"公斤","") -> 公斤 | O82: 大蒜 | P82: 0.05 | Q82: 公斤 | R82: 薑 | S82: 0.05 | T82: =IF(S82,"公斤","") -> 公斤
E83: =IF(D83,"公斤","") | H83: =IF(G83,"公斤","") | I83: 韓式泡菜 | J83: 1.5 | K83: =IF(J83,"公斤","") -> 公斤 | L83: 胡蘿蔔 | M83: 0.5 | N83: =IF(M83,"公斤","") -> 公斤 | R83: 魚丸 | S83: 1 | T83: =IF(S83,"公斤","") -> 公斤
E84: =IF(D84,"公斤","") | H84: =IF(G84,"公斤","") | I84: 甘藍 | J84: 2 | K84: =IF(J84,"公斤","") -> 公斤 | L84: 大蒜 | M84: 0.05 | N84: =IF(M84,"公斤","") -> 公斤 | T84: =IF(S84,"公斤","")
E85: =IF(D85,"公斤","") | H85: =IF(G85,"公斤","") | I85: 大蒜 | J85: 0.05 | K85: =IF(J85,"公斤","") -> 公斤 | N85: =IF(M85,"公斤","") | T85: =IF(S85,"公斤","")
E86: =IF(D86,"公斤","") | H86: =IF(G86,"公斤","") | K86: =IF(J86,"公斤","") | N86: =IF(M86,"公斤","") | T86: =IF(S86,"公斤","")
A87: =A80+1 -> 46281 | B87: C3 | C87: 中式米粉 | E87: =IF(D87,"公斤","") | F87: 南瓜滷肉 | H87: =IF(G87,"公斤","") | I87: 特餐配料 | K87: =IF(J87,"公斤","") | L87: 茶葉蛋 | N87: =IF(M87,"公斤","") | O87: 時蔬 | R87: 金針湯 | T87: =IF(S87,"公斤","") | U87: 水果 | V87: 有機豆奶 | W87: 4.5 | X87: 3.4571429 | Y87: 1.3 | Z87: 4 | AC87: 786.78571 | AE87: =A87 -> 46281 | AF87: =A88 -> 三 | AG87: =B87 -> C3 | AH87: =C87 -> 中式米粉 | AI87: =C88&" "&C89&" "&C90&" "&C91&" "&C92&" "&C93 -> 米粉 | AJ87: =F87 -> 南瓜滷肉 | AK87: =F88&" "&F89&" "&F90&" "&F91&" "&F92&" "&F93 -> 豬後腿肉 南瓜 胡蘿蔔 大蒜 | AL87: =I87 -> 特餐配料 | AM87: =I88&" "&I89&" "&I90&" "&I91&" "&I92&" "&I93 -> 豬後腿肉 時蔬 洋蔥 胡蘿蔔 乾木耳 油蔥酥 | AN87: =L87 -> 茶葉蛋 | AO87: =L88&" "&L89&" "&L90&" "&L91&" "&L92&" "&L93 -> 雞蛋 | AP87: =O87 -> 時蔬 | AQ87: =O88&" "&O89&" "&O90&" "&O91&" "&O92&" "&O93 -> 蔬菜 大蒜 | AR87: =R87 -> 金針湯 | AS87: =R88&" "&R89&" "&R90&" "&R91&" "&R92&" "&R93 -> 金針菜乾 榨菜 薑 肉絲 | AT87: =U87 -> 水果 | AU87: =V87 -> 有機豆奶 | AV87: =W87 -> 4.5 | AW87: =X87 -> 3.4571429 | AX87: =Y87 -> 1.3 | AY87: =Z87 -> 4 | AZ87: =AA87 -> 0 | BA87: =AB87 -> 0 | BB87: =AC87 -> 786.78571
A88: 三 | C88: 米粉 | D88: 8 | E88: =IF(D88,"公斤","") -> 公斤 | F88: 豬後腿肉 | G88: 6 | H88: =IF(G88,"公斤","") -> 公斤 | I88: 豬後腿肉 | J88: 2 | K88: =IF(J88,"公斤","") -> 公斤 | L88: 雞蛋 | M88: 5.5 | N88: =IF(M88,"公斤","") -> 公斤 | O88: 蔬菜 | P88: 7 | Q88: 公斤 | R88: 金針菜乾 | S88: 0.15 | T88: =IF(S88,"公斤","") -> 公斤
E89: =IF(D89,"公斤","") | F89: 南瓜 | G89: 4 | H89: =IF(G89,"公斤","") -> 公斤 | I89: 時蔬 | J89: 2 | K89: =IF(J89,"公斤","") -> 公斤 | N89: =IF(M89,"公斤","") | O89: 大蒜 | P89: 0.05 | Q89: 公斤 | R89: 榨菜 | S89: 2 | T89: =IF(S89,"公斤","") -> 公斤
E90: =IF(D90,"公斤","") | F90: 胡蘿蔔 | G90: 0.5 | H90: =IF(G90,"公斤","") -> 公斤 | I90: 洋蔥 | J90: 1 | K90: =IF(J90,"公斤","") -> 公斤 | N90: =IF(M90,"公斤","") | R90: 薑 | S90: 0.05 | T90: =IF(S90,"公斤","") -> 公斤
E91: =IF(D91,"公斤","") | F91: 大蒜 | G91: 0.05 | H91: =IF(G91,"公斤","") -> 公斤 | I91: 胡蘿蔔 | J91: 0.5 | K91: =IF(J91,"公斤","") -> 公斤 | N91: =IF(M91,"公斤","") | R91: 肉絲 | S91: 0.6 | T91: =IF(S91,"公斤","") -> 公斤
E92: =IF(D92,"公斤","") | H92: =IF(G92,"公斤","") | I92: 乾木耳 | J92: 0.01 | K92: =IF(J92,"公斤","") -> 公斤 | N92: =IF(M92,"公斤","") | T92: =IF(S92,"公斤","")
E93: =IF(D93,"公斤","") | H93: =IF(G93,"公斤","") | I93: 油蔥酥 | J93: 0.01 | K93: =IF(J93,"公斤","") -> 公斤 | N93: =IF(M93,"公斤","") | T93: =IF(S93,"公斤","")
A94: =A87+1 -> 46282 | B94: C4 | C94: 糙米飯 | E94: =IF(D94,"公斤","") | F94: 鮮蔬魚丁 | H94: =IF(G94,"公斤","") | I94: 塔香海根 | K94: =IF(J94,"公斤","") | L94: 香炒四色 | N94: =IF(M94,"公斤","") | O94: 時蔬 | R94: 麥仁粉圓湯 | T94: =IF(S94,"公斤","") | U94: 海苔 | W94: 6.1375 | X94: 2.8321429 | Y94: 1.456 | Z94: 2.6440714 | AC94: 797.41893 | AE94: =A94 -> 46282 | AF94: =A95 -> 四 | AG94: =B94 -> C4 | AH94: =C94 -> 糙米飯 | AI94: =C95&" "&C96&" "&C97&" "&C98&" "&C99&" "&C100 -> 米 糙米 | AJ94: =F94 -> 鮮蔬魚丁 | AK94: =F95&" "&F96&" "&F97&" "&F98&" "&F99&" "&F100 -> 水鯊魚丁 豆腐 胡蘿蔔 洋蔥 大蒜 | AL94: =I94 -> 塔香海根 | AM94: =I95&" "&I96&" "&I97&" "&I98&" "&I99&" "&I100 -> 海帶根 豬後腿肉 大蒜 九層塔 | AN94: =L94 -> 香炒四色 | AO94: =L95&" "&L96&" "&L97&" "&L98&" "&L99&" "&L100 -> 冷凍玉米粒 豆薯 胡蘿蔔 豬絞肉 薑 | AP94: =O94 -> 時蔬 | AQ94: =O95&" "&O96&" "&O97&" "&O98&" "&O99&" "&O100 -> 蔬菜 大蒜 | AR94: =R94 -> 麥仁粉圓湯 | AS94: =R95&" "&R96&" "&R97&" "&R98&" "&R99&" "&R100 -> 大麥仁 粉圓 二砂糖 | AT94: =U94 -> 海苔 | AU94: =V94 -> 0 | AV94: =W94 -> 6.1375 | AW94: =X94 -> 2.8321429 | AX94: =Y94 -> 1.456 | AY94: =Z94 -> 2.6440714 | AZ94: =AA94 -> 0 | BA94: =AB94 -> 0 | BB94: =AC94 -> 797.41893
A95: 四 | C95: 米 | D95: 7 | E95: =IF(D95,"公斤","") -> 公斤 | F95: 水鯊魚丁 | G95: 9 | H95: =IF(G95,"公斤","") -> 公斤 | I95: 海帶根 | J95: 5 | K95: =IF(J95,"公斤","") -> 公斤 | L95: 冷凍玉米粒 | M95: 1.5 | N95: =IF(M95,"公斤","") -> 公斤 | O95: 蔬菜 | P95: 7 | Q95: 公斤 | R95: 大麥仁 | S95: 0.5 | T95: =IF(S95,"公斤","") -> 公斤
C96: 糙米 | D96: 3 | E96: =IF(D96,"公斤","") -> 公斤 | F96: 豆腐 | G96: 1 | H96: =IF(G96,"公斤","") -> 公斤 | I96: 豬後腿肉 | J96: 1 | K96: =IF(J96,"公斤","") -> 公斤 | L96: 豆薯 | M96: 4 | N96: =IF(M96,"公斤","") -> 公斤 | O96: 大蒜 | P96: 0.05 | Q96: 公斤 | R96: 粉圓 | S96: 1.5 | T96: =IF(S96,"公斤","") -> 公斤
E97: =IF(D97,"公斤","") | F97: 胡蘿蔔 | G97: 0.5 | H97: =IF(G97,"公斤","") -> 公斤 | I97: 大蒜 | J97: 0.05 | K97: =IF(J97,"公斤","") -> 公斤 | L97: 胡蘿蔔 | M97: 0.5 | N97: =IF(M97,"公斤","") -> 公斤 | R97: 二砂糖 | S97: 1 | T97: =IF(S97,"公斤","") -> 公斤
E98: =IF(D98,"公斤","") | F98: 洋蔥 | G98: 4 | H98: =IF(G98,"公斤","") -> 公斤 | I98: 九層塔 | J98: 0.01 | K98: =IF(J98,"公斤","") -> 公斤 | L98: 豬絞肉 | M98: 0.6 | N98: =IF(M98,"公斤","") -> 公斤 | T98: =IF(S98,"公斤","")
E99: =IF(D99,"公斤","") | F99: 大蒜 | G99: 0.05 | H99: =IF(G99,"公斤","") -> 公斤 | K99: =IF(J99,"公斤","") | L99: 薑 | M99: 0.01 | N99: =IF(M99,"公斤","") -> 公斤 | T99: =IF(S99,"公斤","")
E100: =IF(D100,"公斤","") | H100: =IF(G100,"公斤","") | K100: =IF(J100,"公斤","") | N100: =IF(M100,"公斤","") | T100: =IF(S100,"公斤","")
...

Sheet B6月葷-國中總表
E1: 花蓮縣115學年度第1學期國民中學9月葷食菜單-清泉商行(非偏鄉廚房)
A2: 日期 | B2: 星期 | C2: 循環 | D2: 主食 | E2: 明細 | F2: 主菜 | G2: 明細 | H2: 副菜一 | I2: 明細 | J2: 副菜二 | K2: 明細 | L2: 時蔬 | M2: 明細 | N2: 湯品 | O2: 明細 | P2: 附餐1 | Q2: 附餐2 | R2: 穀/份 | S2: 豆/份 | T2: 蔬/份 | U2: 油/份 | V2: 乳/份 | W2: 果/份 | X2: 熱量
A3: ='B6月葷-國中'!AE3 -> 46265 | B3: ='B6月葷-國中'!AF3 -> 一 | C3: ='B6月葷-國中'!AG3 -> A1 | D3: ='B6月葷-國中'!AH3 -> 白米飯 | E3: ='B6月葷-國中'!AI3 -> 米 | F3: ='B6月葷-國中'!AJ3 -> 鮮菇肉燥 | G3: ='B6月葷-國中'!AK3 -> 絞肉 杏鮑菇 胡蘿蔔 大蒜 | H3: ='B6月葷-國中'!AL3 -> 玉米炒蛋 | ... P3: ='B6月葷-國中'!AT3 -> 果汁 | R3: ='B6月葷-國中'!AV3 -> 5.375 | S3: ='B6月葷-國中'!AW3 -> 2.7960552 | T3: ='B6月葷-國中'!AX3 -> 2.255 | U3: ='B6月葷-國中'!AY3 -> 3.0255276 | V3: ='B6月葷-國中'!AZ3 -> 0 | W3: ='B6月葷-國中'!BA3 -> 0 | X3: ='B6月葷-國中'!BB3 -> 778.47788
A4: ='B6月葷-國中'!AE10 -> 46266 | B4: ='B6月葷-國中'!AF10 -> 二 | C4: ='B6月葷-國中'!AG10 -> A2 | D4: ='B6月葷-國中'!AH10 -> 糙米飯 | E4: ='B6月葷-國中'!AI10 -> 米 糙米 | F4: ='B6月葷-國中'!AJ10 -> 銀蘿燒雞 | G4: ='B6月葷-國中'!AK10 -> 肉雞 白蘿蔔 胡蘿蔔 大蒜 | H4: ='B6月葷-國中'!AL10 -> 家常豆干 | ... P4: ='B6月葷-國中'!AT10 -> Tap豆奶 | R4: ='B6月葷-國中'!AV10 -> 5.875 | S4: ='B6月葷-國中'!AW10 -> 3 | T4: ='B6月葷-國中'!AX10 -> 1.7 | U4: ='B6月葷-國中'!AY10 -> 2.85 | V4: ='B6月葷-國中'!AZ10 -> 0 | W4: ='B6月葷-國中'!BA10 -> 0 | X4: ='B6月葷-國中'!BB10 -> 807
A5: ='B6月葷-國中'!AE17 -> 46267 | B5: ='B6月葷-國中'!AF17 -> 三 | C5: ='B6月葷-國中'!AG17 -> A3 | D5: ='B6月葷-國中'!AH17 -> 培根拌飯 | E5: ='B6月葷-國中'!AI17 -> 米 糙米 | F5: ='B6月葷-國中'!AJ17 -> 香滷肉排 | G5: ='B6月葷-國中'!AK17 -> 肉排 | H5: ='B6月葷-國中'!AL17 -> 拌飯配料 | ... P5: ='B6月葷-國中'!AT17 -> 水果 | R5: ='B6月葷-國中'!AV17 -> 5.25 | S5: ='B6月葷-國中'!AW17 -> 3.3818182 | T5: ='B6月葷-國中'!AX17 -> 1.45 | U5: ='B6月葷-國中'!AY17 -> 2.9159091 | V5: ='B6月葷-國中'!AZ17 -> 0 | W5: ='B6月葷-國中'!BA17 -> 0 | X5: ='B6月葷-國中'!BB17 -> 788.60227
A6: ='B6月葷-國中'!AE24 -> 46268 | B6: ='B6月葷-國中'!AF24 -> 四 | C6: ='B6月葷-國中'!AG24 -> A4 | D6: ='B6月葷-國中'!AH24 -> 糙米飯 | E6: ='B6月葷-國中'!AI24 -> 米 糙米 | F6: ='B6月葷-國中'!AJ24 -> 馬鈴薯滷肉 | G6: ='B6月葷-國中'!AK24 -> 豬後腿肉 馬鈴薯 胡蘿蔔 大蒜 | H6: ='B6月葷-國中'!AL24 -> 紅仁炒蛋 | ... P6: ='B6月葷-國中'!AT24 -> 葡萄乾 | R6: ='B6月葷-國中'!AV24 -> 6.3 | S6: ='B6月葷-國中'!AW24 -> 3.7142857 | T6: ='B6月葷-國中'!AX24 -> 1.76 | U6: ='B6月葷-國中'!AY24 -> 3.2371429 | V6: ='B6月葷-國中'!AZ24 -> 0 | W6: ='B6月葷-國中'!BA24 -> 0 | X6: ='B6月葷-國中'!BB24 -> 909.24286
A7: ='B6月葷-國中'!AE31 -> 46269 | B7: ='B6月葷-國中'!AF31 -> 五 | C7: ='B6月葷-國中'!AG31 -> A5 | D7: ='B6月葷-國中'!AH31 -> 小米飯 | E7: ='B6月葷-國中'!AI31 -> 米 小米 | F7: ='B6月葷-國中'!AJ31 -> 鹹酥雞 | G7: ='B6月葷-國中'!AK31 -> 鹹酥雞 大蒜 九層塔 | H7: ='B6月葷-國中'!AL31 -> 針菇豆腐 | ... P7: ='B6月葷-國中'!AT31 -> 水果 | R7: ='B6月葷-國中'!AV31 -> 5.2 | S7: ='B6月葷-國中'!AW31 -> 3.8011905 | T7: ='B6月葷-國中'!AX31 -> 1.86 | U7: ='B6月葷-國中'!AY31 -> 3.3305952 | V7: ='B6月葷-國中'!AZ31 -> 0 | W7: ='B6月葷-國中'!BA31 -> 0 | X7: ='B6月葷-國中'!BB31 -> 845.46607
A8: ='B6月葷-國中'!AE38 -> 46272 | B8: ='B6月葷-國中'!AF38 -> 一 | C8: ='B6月葷-國中'!AG38 -> B1 | D8: ='B6月葷-國中'!AH38 -> 白米飯 | E8: ='B6月葷-國中'!AI38 -> 米 | F8: ='B6月葷-國中'!AJ38 -> 花生肉片 | G8: ='B6月葷-國中'!AK38 -> 豬後腿肉 油花生 胡蘿蔔 時蔬 大蒜 | H8: ='B6月葷-國中'!AL38 -> 蛋香花椰 | ... P8: ='B6月葷-國中'!AT38 -> 果汁 | R8: ='B6月葷-國中'!AV38 -> 5.6875 | S8: ='B6月葷-國中'!AW38 -> 2.6935065 | T8: ='B6月葷-國中'!AX38 -> 2.056 | U8: ='B6月葷-國中'!AY38 -> 2.8747532 | V8: ='B6月葷-國中'!AZ38 -> 0 | W8: ='B6月葷-國中'!BA38 -> 0 | X8: ='B6月葷-國中'!BB38 -> 780.90188
A9: ='B6月葷-國中'!AE45 -> 46273 | B9: ='B6月葷-國中'!AF45 -> 二 | C9: ='B6月葷-國中'!AG45 -> B2 | D9: ='B6月葷-國中'!AH45 -> 糙米飯 | E9: ='B6月葷-國中'!AI45 -> 米 糙米 | F9: ='B6月葷-國中'!AJ45 -> 咖哩雞 | G9: ='B6月葷-國中'!AK45 -> 肉雞 洋蔥 馬鈴薯 胡蘿蔔 咖哩粉 | H9: ='B6月葷-國中'!AL45 -> 肉絲海茸 | ... P9: ='B6月葷-國中'!AT45 -> 海苔 | R9: ='B6月葷-國中'!AV45 -> 5.625 | S9: ='B6月葷-國中'!AW45 -> 2.8392857 | T9: ='B6月葷-國中'!AX45 -> 1.855 | U9: ='B6月葷-國中'!AY45 -> 2.8471429 | V9: ='B6月葷-國中'!AZ45 -> 0 | W9: ='B6月葷-國中'!BA45 -> 0 | X9: ='B6月葷-國中'!BB45 -> 781.19286
A10: ='B6月葷-國中'!AE52 -> 46274 | B10: ='B6月葷-國中'!AF52 -> 三 | C10: ='B6月葷-國中'!AG52 -> B3 | D10: ='B6月葷-國中'!AH52 -> 拌麵特餐 | E10: ='B6月葷-國中'!AI52 -> 麵條 | F10: ='B6月葷-國中'!AJ52 -> 香滷腿排 | G10: ='B6月葷-國中'!AK52 -> 腿排 | H10: ='B6月葷-國中'!AL52 -> 拌麵配料 | ... P10: ='B6月葷-國中'!AT52 -> 水果 | Q10: 有機豆奶 | R10: ='B6月葷-國中'!AV52 -> 6 | S10: ='B6月葷-國中'!AW52 -> 2.9350649 | T10: ='B6月葷-國中'!AX52 -> 1.155 | U10: ='B6月葷-國中'!AY52 -> 2.5450325 | V10: ='B6月葷-國中'!AZ52 -> 0 | W10: ='B6月葷-國中'!BA52 -> 0 | X10: ='B6月葷-國中'!BB52 -> 783.53133
A11: ='B6月葷-國中'!AE59 -> 46275 | B11: ='B6月葷-國中'!AF59 -> 四 | C11: ='B6月葷-國中'!AG59 -> B4 | D11: ='B6月葷-國中'!AH59 -> 糙米飯 | E11: ='B6月葷-國中'!AI59 -> 米 糙米 | F11: ='B6月葷-國中'!AJ59 -> 筍干滷肉 | G11: ='B6月葷-國中'!AK59 -> 豬後腿肉 麻竹筍干 梅乾菜 胡蘿蔔 大蒜 | H11: ='B6月葷-國中'!AL59 -> 紅仁炒蛋 | ... P11: ='B6月葷-國中'!AT59 -> 堅果 | R11: ='B6月葷-國中'!AV59 -> 5 | S11: ='B6月葷-國中'!AW59 -> 3.047619 | T11: ='B6月葷-國中'!AX59 -> 2.17 | U11: ='B6月葷-國中'!AY59 -> 3.1088095 | V11: ='B6月葷-國中'!AZ59 -> 0 | W11: ='B6月葷-國中'!BA59 -> 0.2 | X11: ='B6月葷-國中'!BB59 -> 784.71786
A12: ='B6月葷-國中'!AE66 -> 46276 | B12: ='B6月葷-國中'!AF66 -> 五 | C12: ='B6月葷-國中'!AG66 -> B5 | D12: ='B6月葷-國中'!AH66 -> 紫米飯 | E12: ='B6月葷-國中'!AI66 -> 米 黑糯米 | F12: ='B6月葷-國中'!AJ66 -> 咖哩魚排 | G12: ='B6月葷-國中'!AK66 -> 魚排 咖哩粉 | H12: ='B6月葷-國中'!AL66 -> 海結滷豆干 | ... P12: ='B6月葷-國中'!AT66 -> 水果 | R12: ='B6月葷-國中'!AV66 -> 5.2 | S12: ='B6月葷-國中'!AW66 -> 3.45 | T12: ='B6月葷-國中'!AX66 -> 2.2 | U12: ='B6月葷-國中'!AY66 -> 3.325 | V12: ='B6月葷-國中'!AZ66 -> 0 | W12: ='B6月葷-國中'!BA66 -> 0 | X12: ='B6月葷-國中'!BB66 -> 827.375
A13: ='B6月葷-國中'!AE73 -> 46279 | B13: ='B6月葷-國中'!AF73 -> 一 | C13: ='B6月葷-國中'!AG73 -> C1 | D13: ='B6月葷-國中'!AH73 -> 白米飯 | E13: ='B6月葷-國中'!AI73 -> 米 | F13: ='B6月葷-國中'!AJ73 -> 京醬肉絲 | G13: ='B6月葷-國中'!AK73 -> 豬後腿肉 胡蘿蔔 豆薯 大蒜 甜麵醬 | H13: ='B6月葷-國中'!AL73 -> 時蔬炒蛋 | ... P13: ='B6月葷-國中'!AT73 -> 果汁 | R13: ='B6月葷-國中'!AV73 -> 6 | S13: ='B6月葷-國中'!AW73 -> 2.812987 | T13: ='B6月葷-國中'!AX73 -> 2.105 | U13: ='B6月葷-國中'!AY73 -> 2.9589935 | V13: ='B6月葷-國中'!AZ73 -> 0 | W13: ='B6月葷-國中'!BA73 -> 0 | X13: ='B6月葷-國中'!BB73 -> 816.75373
A14: ='B6月葷-國中'!AE80 -> 46280 | B14: ='B6月葷-國中'!AF80 -> 二 | C14: ='B6月葷-國中'!AG80 -> c2 | D14: ='B6月葷-國中'!AH80 -> 糙米飯 | E14: ='B6月葷-國中'!AI80 -> 米 糙米 | F14: ='B6月葷-國中'!AJ80 -> 檸檬雞翅 | G14: ='B6月葷-國中'!AK80 -> 檸檬雞翅 | H14: ='B6月葷-國中'!AL80 -> 泡菜凍腐 | ... P14: ='B6月葷-國中'!AT80 -> 葡萄乾 | R14: ='B6月葷-國中'!AV80 -> 5 | S14: ='B6月葷-國中'!AW80 -> 2.4271429 | T14: ='B6月葷-國中'!AX80 -> 2.25 | U14: ='B6月葷-國中'!AY80 -> 2.8385714 | V14: ='B6月葷-國中'!AZ80 -> 0 | W14: ='B6月葷-國中'!BA80 -> 0 | X14: ='B6月葷-國中'!BB80 -> 716.02143
A15: ='B6月葷-國中'!AE87 -> 46281 | B15: ='B6月葷-國中'!AF87 -> 三 | C15: ='B6月葷-國中'!AG87 -> C3 | D15: ='B6月葷-國中'!AH87 -> 中式米粉 | E15: ='B6月葷-國中'!AI87 -> 米粉 | F15: ='B6月葷-國中'!AJ87 -> 南瓜滷肉 | G15: ='B6月葷-國中'!AK87 -> 豬後腿肉 南瓜 胡蘿蔔 大蒜 | H15: ='B6月葷-國中'!AL87 -> 特餐配料 | ... P15: ='B6月葷-國中'!AT87 -> 水果 | Q15: 有機豆奶 | R15: ='B6月葷-國中'!AV87 -> 4.5 | S15: ='B6月葷-國中'!AW87 -> 3.4571429 | T15: ='B6月葷-國中'!AX87 -> 1.3 | U15: ='B6月葷-國中'!AY87 -> 4 | V15: ='B6月葷-國中'!AZ87 -> 0 | W15: ='B6月葷-國中'!BA87 -> 0 | X15: ='B6月葷-國中'!BB87 -> 786.78571
A16: ='B6月葷-國中'!AE94 -> 46282 | B16: ='B6月葷-國中'!AF94 -> 四 | C16: ='B6月葷-國中'!AG94 -> C4 | D16: ='B6月葷-國中'!AH94 -> 糙米飯 | E16: ='B6月葷-國中'!AI94 -> 米 糙米 | F16: ='B6月葷-國中'!AJ94 -> 鮮蔬魚丁 | G16: ='B6月葷-國中'!AK94 -> 水鯊魚丁 豆腐 胡蘿蔔 洋蔥 大蒜 | H16: ='B6月葷-國中'!AL94 -> 塔香海根 | ... P16: ='B6月葷-國中'!AT94 -> 海苔 | R16: ='B6月葷-國中'!AV94 -> 6.1375 | S16: ='B6月葷-國中'!AW94 -> 2.8321429 | T16: ='B6月葷-國中'!AX94 -> 1.456 | U16: ='B6月葷-國中'!AY94 -> 2.6440714 | V16: ='B6月葷-國中'!AZ94 -> 0 | W16: ='B6月葷-國中'!BA94 -> 0 | X16: ='B6月葷-國中'!BB94 -> 797.41893
A17: ='B6月葷-國中'!AE101 -> 46283 | B17: ='B6月葷-國中'!AF101 -> 五 | C17: ='B6月葷-國中'!AG101 -> C5 | D17: ='B6月葷-國中'!AH101 -> 燕麥飯 | E17: ='B6月葷-國中'!AI101 -> 米 燕麥 | F17: ='B6月葷-國中'!AJ101 -> 洋蔥肉片 | G17: ='B6月葷-國中'!AK101 -> 豬後腿肉 洋蔥 胡蘿蔔 大蒜 | H17: ='B6月葷-國中'!AL101 -> 豆包花椰 | ... P17: ='B6月葷-國中'!AT101 -> 水果 | R17: ='B6月葷-國中'!AV101 -> 6.45 | S17: ='B6月葷-國中'!AW101 -> 2.9160173 | T17: ='B6月葷-國中'!AX101 -> 2.05 | U17: ='B6月葷-國中'!AY101 -> 2.9830087 | V17: ='B6月葷-國中'!AZ101 -> 0 | W17: ='B6月葷-國中'!BA101 -> 0 | X17: ='B6月葷-國中'!BB101 -> 855.68669
A18: ='B6月葷-國中'!AE108 -> 46286 | B18: ='B6月葷-國中'!AF108 -> 一 | C18: ='B6月葷-國中'!AG108 -> D1 | D18: ='B6月葷-國中'!AH108 -> 白米飯 | E18: ='B6月葷-國中'!AI108 -> 米 | F18: ='B6月葷-國中'!AJ108 -> 瓜仔肉 | G18: ='B6月葷-國中'!AK108 -> 絞肉 乾香菇 醃漬花胡瓜 胡蘿蔔 大蒜 | H18: ='B6月葷-國中'!AL108 -> 毛豆干丁 | ... P18: ='B6月葷-國中'!AT108 -> 果汁 | R18: ='B6月葷-國中'!AV108 -> 5 | S18: ='B6月葷-國中'!AW108 -> 2.6238095 | T18: ='B6月葷-國中'!AX108 -> 2.5 | U18: ='B6月葷-國中'!AY108 -> 3.0619048 | V18: ='B6月葷-國中'!AZ108 -> 0 | W18: ='B6月葷-國中'!BA108 -> 0 | X18: ='B6月葷-國中'!BB108 -> 747.07143
A19: ='B6月葷-國中'!AE115 -> 46287 | B19: ='B6月葷-國中'!AF115 -> 二 | C19: ='B6月葷-國中'!AG115 -> D2 | D19: ='B6月葷-國中'!AH115 -> 糙米飯 | E19: ='B6月葷-國中'!AI115 -> 米 糙米 | F19: ='B6月葷-國中'!AJ115 -> 三杯雞 | G19: ='B6月葷-國中'!AK115 -> 肉雞 豆薯 大蒜 九層塔 | H19: ='B6月葷-國中'!AL115 -> 關東煮 | ... P19: ='B6月葷-國中'!AT115 -> 堅果 | R19: ='B6月葷-國中'!AV115 -> 5.5892857 | S19: ='B6月葷-國中'!AW115 -> 3.3687013 | T19: ='B6月葷-國中'!AX115 -> 2.05 | U19: ='B6月葷-國中'!AY115 -> 3.2093506 | V19: ='B6月葷-國中'!AZ115 -> 0 | W19: ='B6月葷-國中'!BA115 -> 0 | X19: ='B6月葷-國中'!BB115 -> 839.57338
A20: ='B6月葷-國中'!AE122 -> 46288 | B20: ='B6月葷-國中'!AF122 -> 三 | C20: ='B6月葷-國中'!AG122 -> D3 | D20: ='B6月葷-國中'!AH122 -> 古早味炒麵 | E20: ='B6月葷-國中'!AI122 -> 麵條 | F20: ='B6月葷-國中'!AJ122 -> 香滷雞腿 | G20: ='B6月葷-國中'!AK122 -> 棒腿 | H20: ='B6月葷-國中'!AL122 -> 炒麵拌料 | ... P20: ='B6月葷-國中'!AT122 -> 水果 | Q20: 有機豆奶 | R20: ='B6月葷-國中'!AV122 -> 5 | S20: ='B6月葷-國中'!AW122 -> 2.8214286 | T20: ='B6月葷-國中'!AX122 -> 1.25 | U20: ='B6月葷-國中'!AY122 -> 4.5 | V20: ='B6月葷-國中'!AZ122 -> 0 | W20: ='B6月葷-國中'!BA122 -> 0 | X20: ='B6月葷-國中'!BB122 -> 795.35714
A21: ='B6月葷-國中'!AE129 -> 46289 | B21: ='B6月葷-國中'!AF129 -> 四 | C21: E1 | D21: ='B6月葷-國中'!AH129 -> 糙米飯 | E21: ='B6月葷-國中'!AI129 -> 米 糙米 | F21: ='B6月葷-國中'!AJ129 -> 椒鹽魚排 | G21: ='B6月葷-國中'!AK129 -> 魚排 胡椒鹽 | H21: ='B6月葷-國中'!AL129 -> 筍干凍腐 | I21: ='B6月葷-國中'!AM129 -> 麻竹筍干 凍豆腐 胡蘿蔔 豬後腿肉 大蒜 | J21: ='B6月葷-國中'!AN129 -> 蛋香時蔬 | K21: ='B6月葷-國中'!AO129 -> 時蔬 胡蘿蔔 大蒜 雞蛋 | ... P21: ='B6月葷-國中'!AT129 -> 葡萄乾 | R21: ='B6月葷-國中'!AV129 -> 6.35 | S21: ='B6月葷-國中'!AW129 -> 2.5568182 | T21: ='B6月葷-國中'!AX129 -> 2.15 | U21: ='B6月葷-國中'!AY129 -> 2.8534091 | V21: ='B6月葷-國中'!AZ129 -> 0 | W21: ='B6月葷-國中'!BA129 -> 0 | X21: ='B6月葷-國中'!BB129 -> 818.41477
A22: ='B6月葷-國中'!AE136 -> 46290 | B22: ='B6月葷-國中'!AF136 -> 五 | C22: ='B6月葷-國中'!AG136 -> D5 | D22: 中秋
A23: ='B6月葷-國中'!AE143 -> 46293 | B23: ='B6月葷-國中'!AF143 -> 一 | C23: ='B6月葷-國中'!AG143 -> E1 | D23: 教師節
A24: ='B6月葷-國中'!AE150 -> 46294 | B24: ='B6月葷-國中'!AF150 -> 二 | C24: ='B6月葷-國中'!AG150 -> E2 | D24: ='B6月葷-國中'!AH150 -> 白米飯 | E24: ='B6月葷-國中'!AI150 -> 米 | F24: ='B6月葷-國中'!AJ150 -> 泡菜燒肉 | G24: ='B6月葷-國中'!AK150 -> 豬後腿肉 韓式泡菜 甘藍 大蒜 | H24: ='B6月葷-國中'!AL150 -> 洋蔥玉米炒蛋 | ... P24: ='B6月葷-國中'!AT150 -> 海苔 | R24: ='B6月葷-國中'!AV150 -> 5.375 | S24: ='B6月葷-國中'!AW150 -> 2.7844156 | T24: ='B6月葷-國中'!AX150 -> 2.075 | U24: ='B6月葷-國中'!AY150 -> 2.9297078 | V24: ='B6月葷-國中'!AZ150 -> 0 | W24: ='B6月葷-國中'!BA150 -> 0 | X24: ='B6月葷-國中'!BB150 -> 768.79302
A25: ='B6月葷-國中'!AE157 -> 46295 | B25: ='B6月葷-國中'!AF157 -> 三 | C25: ='B6月葷-國中'!AG157 -> E3 | D25: ='B6月葷-國中'!AH157 -> 油飯特餐 | E25: ='B6月葷-國中'!AI157 -> 米 糯米 | F25: ='B6月葷-國中'!AJ157 -> 香滷肉排 | G25: ='B6月葷-國中'!AK157 -> 肉排 | H25: ='B6月葷-國中'!AL157 -> 油飯配料 | ... P25: ='B6月葷-國中'!AT157 -> 水果 | R25: ='B6月葷-國中'!AV157 -> 5.5 | S25: ='B6月葷-國中'!AW157 -> 3.1558442 | T25: ='B6月葷-國中'!AX157 -> 1.75 | U25: ='B6月葷-國中'!AY157 -> 2.9529221 | V25: ='B6月葷-國中'!AZ157 -> 0 | W25: ='B6月葷-國中'!BA157 -> 0 | X25: ='B6月葷-國中'!BB157 -> 798.31981
A26: ※「本產品含有甲殼類、芒果、花生、牛奶、蛋、堅果類、芝麻、含麩質穀物、大豆、魚類及亞硫酸鹽類，不適合對其過敏體質者食用。」 菜單說明： 1.每周二、五吃有機蔬菜。 2.每周三供應有機豆奶（每月三次）。3.本店使用國產豬肉。

Sheet B6月素-國中
B1: 食材明細（食材重量以100人份計量，營養分析以個人計量,其中肉雞包含23%骨頭之採購量，每周供應特餐一次，當日得混搭供應，國中4菜1湯，國小3菜1湯）
A2: 日期 | B2: 循環 | C2: 主食 | D2: 重/kg | E2: 公斤 | F2: 主菜 | G2: 重/kg | H2: 公斤 | I2: 副菜一 | J2: 重/kg | K2: 公斤 | L2: 副菜二 | M2: 重/kg | N2: 公斤 | O2: 蔬菜 | P2: 重/kg | Q2: 公斤 | R2: 湯品 | S2: 重/kg | T2: 公斤 | U2: 點心1 | V2: 點心2 | W2: 穀/份 | X2: 豆/份 | Y2: 蔬/份 | Z2: 油/份 | AA2: 乳/份 | AB2: 果/份 | AC2: 熱量 | AE2: 日期 | AF2: 星期 | AG2: 循環 | AH2: 主食 | AI2: 明細 | AJ2: 主菜 | AK2: 明細 | AL2: 副菜一 | AM2: 明細 | AN2: 副菜二 | AO2: 明細 | AP2: 時蔬 | AQ2: 明細 | AR2: 湯品 | AS2: 明細 | AT2: 附餐1 | AU2: 附餐2 | AV2: 穀/份 | AW2: 豆/份 | AX2: 油/份 | AY2: 油/份 | AZ2: 乳/份 | BA2: 果/份 | BB2: 熱量
A3: 46265 | B3: A1 | C3: 白米飯 | E3: =IF(D3,"公斤","") | F3: 鮮菇麵腸 | H3: =IF(G3,"公斤","") | I3: 玉米炒蛋 | K3: =IF(J3,"公斤","") | L3: 蘿蔔滷黑輪 | N3: =IF(M3,"公斤","") | O3: 時蔬 | Q3: =IF(P3,"公斤","") | R3: 時瓜湯 | T3: =IF(S3,"公斤","") | U3: 果汁 | W3: 5.375 | X3: 2.6246266 | Y3: 2.155 | Z3: 2.8898133 | AC3: 757.0136 | AE3: =A3 -> 46265 | AF3: =A4 -> 一 | AG3: =B3 -> A1 | AH3: =C3 -> 白米飯 | AI3: =C4&" "&C5&" "&C6&" "&C7&" "&C8&" "&C9 -> 米 | AJ3: =F3 -> 鮮菇麵腸 | AK3: =F4&" "&F5&" "&F6&" "&F7&" "&F8&" "&F9 -> 麵腸 杏鮑菇 胡蘿蔔 薑 | AL3: =I3 -> 玉米炒蛋 | AM3: =I4&" "&I5&" "&I6&" "&I7&" "&I8&" "&I9 -> 雞蛋 冷凍玉米粒 薑 | AN3: =L3 -> 蘿蔔滷黑輪 | AO3: =L4&" "&L5&" "&L6&" "&L7&" "&L8&" "&L9 -> 白蘿蔔 胡蘿蔔 素黑輪 | AP3: =O3 -> 時蔬 | AQ3: =O4&" "&O5&" "&O6&" "&O7&" "&O8&" "&O9 -> 蔬菜 薑 | AR3: =R3 -> 時瓜湯 | AS3: =R4&" "&R5&" "&R6&" "&R7&" "&R8&" "&R9 -> 時瓜 薑 | AT3: =U3 -> 果汁 | AU3: =V3 -> 0 | AV3: =W3 -> 5.375 | AW3: =X3 -> 2.6246266 | AX3: =Y3 -> 2.155 | AY3: =Z3 -> 2.8898133 | AZ3: =AA3 -> 0 | BA3: =AB3 -> 0 | BB3: =AC3 -> 757.0136
A4: 一 | C4: 米 | D4: 10 | E4: =IF(D4,"公斤","") -> 公斤 | F4: 麵腸 | G4: 6 | H4: =IF(G4,"公斤","") -> 公斤 | I4: 雞蛋 | J4: 5 | K4: =IF(J4,"公斤","") -> 公斤 | L4: 白蘿蔔 | M4: 6 | N4: =IF(M4,"公斤","") -> 公斤 | O4: 蔬菜 | P4: 7 | Q4: =IF(P4,"公斤","") -> 公斤 | R4: 時瓜 | S4: 5 | T4: =IF(S4,"公斤","") -> 公斤
E5: =IF(D5,"公斤","") | F5: 杏鮑菇 | G5: 3 | H5: =IF(G5,"公斤","") -> 公斤 | I5: 冷凍玉米粒 | J5: 3 | K5: =IF(J5,"公斤","") -> 公斤 | L5: 胡蘿蔔 | M5: 0.5 | N5: =IF(M5,"公斤","") -> 公斤 | O5: 薑 | P5: 0.05 | Q5: =IF(P5,"公斤","") -> 公斤 | R5: 薑 | S5: 0.05 | T5: =IF(S5,"公斤","") -> 公斤
E6: =IF(D6,"公斤","") | F6: 胡蘿蔔 | G6: 0.5 | H6: =IF(G6,"公斤","") -> 公斤 | K6: =IF(J6,"公斤","") | L6: 素黑輪 | M6: 2 | N6: =IF(M6,"公斤","") -> 公斤 | Q6: =IF(P6,"公斤","") | T6: =IF(S6,"公斤","")
E7: =IF(D7,"公斤","") | F7: 薑 | G7: 0.05 | H7: =IF(G7,"公斤","") -> 公斤 | I7: 薑 | J7: 0.05 | K7: =IF(J7,"公斤","") -> 公斤 | M7: 0.01 | N7: =IF(M7,"公斤","") -> 公斤 | Q7: =IF(P7,"公斤","") | T7: =IF(S7,"公斤","")
E8: =IF(D8,"公斤","") | H8: =IF(G8,"公斤","") | K8: =IF(J8,"公斤","") | N8: =IF(M8,"公斤","") | Q8: =IF(P8,"公斤","") | T8: =IF(S8,"公斤","")
E9: =IF(D9,"公斤","") | H9: =IF(G9,"公斤","") | K9: =IF(J9,"公斤","") | N9: =IF(M9,"公斤","") | Q9: =IF(P9,"公斤","") | T9: =IF(S9,"公斤","")
A10: 46266 | B10: A2 | C10: 糙米飯 | E10: =IF(D10,"公斤","") | F10: 銀蘿皮絲 | H10: =IF(G10,"公斤","") | I10: 家常豆干 | K10: =IF(J10,"公斤","") | L10: 毛豆南瓜 | N10: =IF(M10,"公斤","") | O10: 時蔬 | Q10: =IF(P10,"公斤","") | R10: 味噌時蔬湯 | T10: =IF(S10,"公斤","") | U10: Tap豆奶 | W10: 5.875 | X10: 2.6 | Y10: 1.7 | Z10: 2.65 | AC10: 768 | AE10: =A10 -> 46266 | AF10: =A11 -> 二 | AG10: =B10 -> A2 | AH10: =C10 -> 糙米飯 | AI10: =C11&" "&C12&" "&C13&" "&C14&" "&C15&" "&C16 -> 米 糙米 | AJ10: =F10 -> 銀蘿皮絲 | AK10: =F11&" "&F12&" "&F13&" "&F14&" "&F15&" "&F16 -> 皮絲 白蘿蔔 胡蘿蔔 薑 | AL10: =I10 -> 家常豆干 | AM10: =I11&" "&I12&" "&I13&" "&I14&" "&I15&" "&I16 -> 時蔬 豆干 胡蘿蔔 薑 | AN10: =L10 -> 毛豆南瓜 | AO10: =L11&" "&L12&" "&L13&" "&L14&" "&L15&" "&L16 -> 南瓜 冷凍毛豆仁 薑 | AP10: =O10 -> 時蔬 | AQ10: =O11&" "&O12&" "&O13&" "&O14&" "&O15&" "&O16 -> 蔬菜 薑 | AR10: =R10 -> 味噌時蔬湯 | AS10: =R11&" "&R12&" "&R13&" "&R14&" "&R15&" "&R16 -> 時蔬 味噌 乾裙帶菜 | AT10: =U10 -> Tap豆奶 | AU10: =V10 -> 0 | AV10: =W10 -> 5.875 | AW10: =X10 -> 2.6 | AX10: =Y10 -> 1.7 | AY10: =Z10 -> 2.65 | AZ10: =AA10 -> 0 | BA10: =AB10 -> 0 | BB10: =AC10 -> 768
A11: 二 | C11: 米 | D11: 7 | E11: =IF(D11,"公斤","") -> 公斤 | F11: 皮絲 | G11: 1.5 | H11: =IF(G11,"公斤","") -> 公斤 | I11: 時蔬 | J11: 3 | K11: =IF(J11,"公斤","") -> 公斤 | L11: 南瓜 | M11: 7 | N11: =IF(M11,"公斤","") -> 公斤 | O11: 蔬菜 | P11: 7 | Q11: =IF(P11,"公斤","") -> 公斤 | R11: 時蔬 | S11: 2 | T11: =IF(S11,"公斤","") -> 公斤
C12: 糙米 | D12: 3 | E12: =IF(D12,"公斤","") -> 公斤 | F12: 白蘿蔔 | G12: 4 | H12: =IF(G12,"公斤","") -> 公斤 | I12: 豆干 | J12: 6 | K12: =IF(J12,"公斤","") -> 公斤 | L12: 冷凍毛豆仁 | M12: 0.5 | N12: =IF(M12,"公斤","") -> 公斤 | O12: 薑 | P12: 0.05 | Q12: =IF(P12,"公斤","") -> 公斤 | R12: 味噌 | S12: 1 | T12: =IF(S12,"公斤","") -> 公斤
E13: =IF(D13,"公斤","") | F13: 胡蘿蔔 | G13: 0.5 | H13: =IF(G13,"公斤","") -> 公斤 | I13: 胡蘿蔔 | J13: 0.5 | K13: =IF(J13,"公斤","") -> 公斤 | L13: 薑 | M13: 0.05 | N13: =IF(M13,"公斤","") -> 公斤 | Q13: =IF(P13,"公斤","") | R13: 乾裙帶菜 | S13: 0.1 | T13: =IF(S13,"公斤","") -> 公斤
E14: =IF(D14,"公斤","") | F14: 薑 | G14: 0.05 | H14: =IF(G14,"公斤","") -> 公斤 | I14: 薑 | J14: 0.05 | K14: =IF(J14,"公斤","") -> 公斤 | N14: =IF(M14,"公斤","") | Q14: =IF(P14,"公斤","") | T14: =IF(S14,"公斤","")
E15: =IF(D15,"公斤","") | H15: =IF(G15,"公斤","") | K15: =IF(J15,"公斤","") | N15: =IF(M15,"公斤","") | Q15: =IF(P15,"公斤","") | T15: =IF(S15,"公斤","")
E16: =IF(D16,"公斤","") | H16: =IF(G16,"公斤","") | K16: =IF(J16,"公斤","") | N16: =IF(M16,"公斤","") | Q16: =IF(P16,"公斤","") | T16: =IF(S16,"公斤","")
A17: =A10+1 -> 46267 | B17: A3 | C17: 素火腿拌飯 | E17: =IF(D17,"公斤","") | F17: 香滷素排 | H17: =IF(G17,"公斤","") | I17: 拌飯配料 | K17: =IF(J17,"公斤","") | L17: 三杯麵腸 | N17: =IF(M17,"公斤","") | O17: 時蔬 | Q17: =IF(P17,"公斤","") | R17: 時蔬蛋花湯 | T17: =IF(S17,"公斤","") | U17: 水果 | W17: 5.25 | X17: 3.5064935 | Y17: 1.45 | Z17: 2.9782468 | AC17: 800.75812 | AE17: =A17 -> 46267 | AF17: =A18 -> 三 | AG17: =B17 -> A3 | AH17: =C17 -> 素火腿拌飯 | AI17: =C18&" "&C19&" "&C20&" "&C21&" "&C22&" "&C23 -> 米 糙米 | AJ17: =F17 -> 香滷素排 | AK17: =F18&" "&F19&" "&F20&" "&F21&" "&F22&" "&F23 -> 素排 | AL17: =I17 -> 拌飯配料 | AM17: =I18&" "&I19&" "&I20&" "&I21&" "&I22&" "&I23 -> 素火腿 素肉 冷凍玉米粒 時蔬 胡蘿蔔 薑 | AN17: =L17 -> 三杯麵腸 | AO17: =L18&" "&L19&" "&L20&" "&L21&" "&L22&" "&L23 -> 杏鮑菇 麵腸 薑 九層塔 | AP17: =O17 -> 時蔬 | AQ17: =O18&" "&O19&" "&O20&" "&O21&" "&O22&" "&O23 -> 蔬菜 薑 | AR17: =R17 -> 時蔬蛋花湯 | AS17: =R18&" "&R19&" "&R20&" "&R21&" "&R22&" "&R23 -> 雞蛋 時蔬 薑 胡蘿蔔 | AT17: =U17 -> 水果 | AU17: =V17 -> 0 | AV17: =W17 -> 5.25 | AW17: =X17 -> 3.5064935 | AX17: =Y17 -> 1.45 | AY17: =Z17 -> 2.9782468 | AZ17: =AA17 -> 0 | BA17: =AB17 -> 0 | BB17: =AC17 -> 800.75812
A18: 三 | C18: 米 | D18: 7 | E18: =IF(D18,"公斤","") -> 公斤 | F18: 素排 | G18: 6 | H18: =IF(G18,"公斤","") -> 公斤 | I18: 素火腿 | J18: 0.7 | K18: =IF(J18,"公斤","") -> 公斤 | L18: 杏鮑菇 | M18: 2 | N18: =IF(M18,"公斤","") -> 公斤 | O18: 蔬菜 | P18: 7 | Q18: =IF(P18,"公斤","") -> 公斤 | R18: 雞蛋 | S18: 2 | T18: =IF(S18,"公斤","") -> 公斤
C19: 糙米 | D19: 3 | E19: =IF(D19,"公斤","") -> 公斤 | H19: =IF(G19,"公斤","") | I19: 素肉 | J19: 0.6 | K19: =IF(J19,"公斤","") -> 公斤 | L19: 麵腸 | M19: 4 | N19: =IF(M19,"公斤","") -> 公斤 | O19: 薑 | P19: 0.05 | Q19: =IF(P19,"公斤","") -> 公斤 | R19: 時蔬 | S19: 3 | T19: =IF(S19,"公斤","") -> 公斤
E20: =IF(D20,"公斤","") | H20: =IF(G20,"公斤","") | I20: 冷凍玉米粒 | J20: 2 | K20: =IF(J20,"公斤","") -> 公斤 | L20: 薑 | M20: 0.05 | N20: =IF(M20,"公斤","") -> 公斤 | Q20: =IF(P20,"公斤","") | R20: 薑 | S20: 0.05 | T20: =IF(S20,"公斤","") -> 公斤
E21: =IF(D21,"公斤","") | H21: =IF(G21,"公斤","") | I21: 時蔬 | J21: 2 | K21: =IF(J21,"公斤","") -> 公斤 | L21: 九層塔 | M21: 0.02 | N21: =IF(M21,"公斤","") -> 公斤 | Q21: =IF(P21,"公斤","") | R21: 胡蘿蔔 | S21: 0.5 | T21: =IF(S21,"公斤","") -> 公斤
E22: =IF(D22,"公斤","") | H22: =IF(G22,"公斤","") | I22: 胡蘿蔔 | J22: 0.5 | K22: =IF(J22,"公斤","") -> 公斤 | N22: =IF(M22,"公斤","") | Q22: =IF(P22,"公斤","") | T22: =IF(S22,"公斤","")
E23: =IF(D23,"公斤","") | H23: =IF(G23,"公斤","") | I23: 薑 | J23: 0.05 | K23: =IF(J23,"公斤","") -> 公斤 | N23: =IF(M23,"公斤","") | Q23: =IF(P23,"公斤","") | T23: =IF(S23,"公斤","")
A24: =A17+1 -> 46268 | B24: A4 | C24: 糙米飯 | E24: =IF(D24,"公斤","") | F24: 馬鈴薯油腐 | H24: =IF(G24,"公斤","") | I24: 紅仁炒蛋 | K24: =IF(J24,"公斤","") | L24: 若絲時蔬 | N24: =IF(M24,"公斤","") | O24: 時蔬 | Q24: =IF(P24,"公斤","") | R24: 綠豆湯 | T24: =IF(S24,"公斤","") | U24: 葡萄乾 | W24: 5.5 | X24: 3.2727273 | Y24: 1.76 | Z24: 3.0163636 | AC24: 810.19091 | AE24: =A24 -> 46268 | AF24: =A25 -> 四 | AG24: =B24 -> A4 | AH24: =C24 -> 糙米飯 | AI24: =C25&" "&C26&" "&C27&" "&C28&" "&C29&" "&C30 -> 米 糙米 | AJ24: =F24 -> 馬鈴薯油腐 | AK24: =F25&" "&F26&" "&F27&" "&F28&" "&F29&" "&F30 -> 四角油豆腐 馬鈴薯 胡蘿蔔 薑 | AL24: =I24 -> 紅仁炒蛋 | AM24: =I25&" "&I26&" "&I27&" "&I28&" "&I29&" "&I30 -> 雞蛋 胡蘿蔔 薑 | AN24: =L24 -> 若絲時蔬 | AO24: =L25&" "&L26&" "&L27&" "&L28&" "&L29&" "&L30 -> 蔬菜 素肉 薑 | AP24: =O24 -> 時蔬 | AQ24: =O25&" "&O26&" "&O27&" "&O28&" "&O29&" "&O30 -> 蔬菜 薑 | AR24: =R24 -> 綠豆湯 | AS24: =R25&" "&R26&" "&R27&" "&R28&" "&R29&" "&R30 -> 綠豆 二砂糖 | AT24: =U24 -> 葡萄乾 | AU24: =V24 -> 0 | AV24: =W24 -> 5.5 | AW24: =X24 -> 3.2727273 | AX24: =Y24 -> 1.76 | AY24: =Z24 -> 3.0163636 | AZ24: =AA24 -> 0 | BA24: =AB24 -> 0 | BB24: =AC24 -> 810.19091
A25: 四 | C25: 米 | D25: 7 | E25: =IF(D25,"公斤","") -> 公斤 | F25: 四角油豆腐 | G25: 7 | H25: =IF(G25,"公斤","") -> 公斤 | I25: 雞蛋 | J25: 5.5 | K25: =IF(J25,"公斤","") -> 公斤 | L25: 蔬菜 | M25: 7 | N25: =IF(M25,"公斤","") -> 公斤 | O25: 蔬菜 | P25: 7 | Q25: =IF(P25,"公斤","") -> 公斤 | R25: 綠豆 | S25: 2 | T25: =IF(S25,"公斤","") -> 公斤
C26: 糙米 | D26: 3 | E26: =IF(D26,"公斤","") -> 公斤 | F26: 馬鈴薯 | G26: 4 | H26: =IF(G26,"公斤","") -> 公斤 | I26: 胡蘿蔔 | J26: 3 | K26: =IF(J26,"公斤","") -> 公斤 | L26: 素肉 | M26: 0.6 | N26: =IF(M26,"公斤","") -> 公斤 | O26: 薑 | P26: 0.05 | Q26: =IF(P26,"公斤","") -> 公斤 | R26: 二砂糖 | S26: 1 | T26: =IF(S26,"公斤","") -> 公斤
E27: =IF(D27,"公斤","") | F27: 胡蘿蔔 | G27: 0.5 | H27: =IF(G27,"公斤","") -> 公斤 | I27: 薑 | J27: 0.05 | K27: =IF(J27,"公斤","") -> 公斤 | L27: 薑 | M27: 0.05 | N27: =IF(M27,"公斤","") -> 公斤 | Q27: =IF(P27,"公斤","") | T27: =IF(S27,"公斤","")
E28: =IF(D28,"公斤","") | F28: 薑 | G28: 0.05 | H28: =IF(G28,"公斤","") -> 公斤 | K28: =IF(J28,"公斤","") | N28: =IF(M28,"公斤","") | T28: =IF(S28,"公斤","")
E29: =IF(D29,"公斤","") | H29: =IF(G29,"公斤","") | K29: =IF(J29,"公斤","") | N29: =IF(M29,"公斤","") | Q29: =IF(P29,"公斤","") | T29: =IF(S29,"公斤","")
E30: =IF(D30,"公斤","") | H30: =IF(G30,"公斤","") | K30: =IF(J30,"公斤","") | N30: =IF(M30,"公斤","") | Q30: =IF(P30,"公斤","") | T30: =IF(S30,"公斤","")
A31: =A24+1 -> 46269 | B31: A5 | C31: 小米飯 | E31: =IF(D31,"公斤","") | F31: 香酥豆包 | H31: =IF(G31,"公斤","") | I31: 針菇豆腐 | K31: =IF(J31,"公斤","") | L31: 麵輪時瓜 | N31: =IF(M31,"公斤","") | O31: 時蔬 | Q31: =IF(P31,"公斤","") | R31: 三絲羹湯 | T31: =IF(S31,"公斤","") | U31: 水果 | W31: 5.2 | X31: 3.2083333 | Y31: 1.85 | Z31: 3.0291667 | AC31: 787.1875 | AE31: =A31 -> 46269 | AF31: =A32 -> 五 | AG31: =B31 -> A5 | AH31: =C31 -> 小米飯 | AI31: =C32&" "&C33&" "&C34&" "&C35&" "&C36&" "&C37 -> 米 小米 | AJ31: =F31 -> 香酥豆包 | AK31: =F32&" "&F33&" "&F34&" "&F35&" "&F36&" "&F37 -> 豆包 | AL31: =I31 -> 針菇豆腐 | AM31: =I32&" "&I33&" "&I34&" "&I35&" "&I36&" "&I37 -> 豆腐 金針菇 薑 | AN31: =L31 -> 麵輪時瓜 | AO31: =L32&" "&L33&" "&L34&" "&L35&" "&L36&" "&L37 -> 時瓜 麵輪 胡蘿蔔 薑 | AP31: =O31 -> 時蔬 | AQ31: =O32&" "&O33&" "&O34&" "&O35&" "&O36&" "&O37 -> 蔬菜 薑 | AR31: =R31 -> 三絲羹湯 | AS31: =R32&" "&R33&" "&R34&" "&R35&" "&R36&" "&R37 -> 脆筍 時蔬 胡蘿蔔 素羊肉 沙茶醬 | AT31: =U31 -> 水果 | AU31: =V31 -> 0 | AV31: =W31 -> 5.2 | AW31: =X31 -> 3.2083333 | AX31: =Y31 -> 1.85 | AY31: =Z31 -> 3.0291667 | AZ31: =AA31 -> 0 | BA31: =AB31 -> 0 | BB31: =AC31 -> 787.1875
A32: 五 | C32: 米 | D32: 10 | E32: =IF(D32,"公斤","") -> 公斤 | F32: 豆包 | G32: 6 | H32: =IF(G32,"公斤","") -> 公斤 | I32: 豆腐 | J32: 7 | K32: =IF(J32,"公斤","") -> 公斤 | L32: 時瓜 | M32: 7 | N32: =IF(M32,"公斤","") -> 公斤 | O32: 蔬菜 | P32: 7 | Q32: =IF(P32,"公斤","") -> 公斤 | R32: 脆筍 | S32: 1.5 | T32: =IF(S32,"公斤","") -> 公斤
C33: 小米 | D33: 0.4 | E33: =IF(D33,"公斤","") -> 公斤 | H33: =IF(G33,"公斤","") | I33: 金針菇 | J33: 1 | K33: =IF(J33,"公斤","") -> 公斤 | L33: 麵輪 | M33: 0.5 | N33: =IF(M33,"公斤","") -> 公斤 | O33: 薑 | P33: 0.05 | Q33: =IF(P33,"公斤","") -> 公斤 | R33: 時蔬 | S33: 1.5 | T33: =IF(S33,"公斤","") -> 公斤
E34: =IF(D34,"公斤","") | H34: =IF(G34,"公斤","") | K34: =IF(J34,"公斤","") | L34: 胡蘿蔔 | M34: 0.5 | N34: =IF(M34,"公斤","") -> 公斤 | Q34: =IF(P34,"公斤","") | R34: 胡蘿蔔 | S34: 0.5 | T34: =IF(S34,"公斤","") -> 公斤
E35: =IF(D35,"公斤","") | H35: =IF(G35,"公斤","") | I35: 薑 | J35: 0.05 | K35: =IF(J35,"公斤","") -> 公斤 | L35: 薑 | M35: 0.05 | N35: =IF(M35,"公斤","") -> 公斤 | Q35: =IF(P35,"公斤","") | R35: 素羊肉 | S35: 1 | T35: =IF(S35,"公斤","") -> 公斤
E36: =IF(D36,"公斤","") | H36: =IF(G36,"公斤","") | K36: =IF(J36,"公斤","") | N36: =IF(M36,"公斤","") | Q36: =IF(P36,"公斤","") | R36: 沙茶醬 | T36: =IF(S36,"公斤","")
E37: =IF(D37,"公斤","") | H37: =IF(G37,"公斤","") | K37: =IF(J37,"公斤","") | N37: =IF(M37,"公斤","") | Q37: =IF(P37,"公斤","") | T37: =IF(S37,"公斤","")
A38: 46272 | B38: B1 | C38: 白米飯 | E38: =IF(D38,"公斤","") | F38: 花生豆干 | H38: =IF(G38,"公斤","") | I38: 蛋香花椰 | K38: =IF(J38,"公斤","") | L38: 香炒四色 | N38: =IF(M38,"公斤","") | O38: 時蔬 | Q38: =IF(P38,"公斤","") | R38: 南瓜湯 | T38: =IF(S38,"公斤","") | U38: 果汁 | W38: 5.6875 | X38: 2.5237013 | Y38: 2.056 | Z38: 2.7898506 | AC38: 764.34588 | AE38: =A38 -> 46272 | AF38: =A39 -> 一 | AG38: =B38 -> B1 | AH38: =C38 -> 白米飯 | AI38: =C39&" "&C40&" "&C41&" "&C42&" "&C43&" "&C44 -> 米 | AJ38: =F38 -> 花生豆干 | AK38: =F39&" "&F40&" "&F41&" "&F42&" "&F43&" "&F44 -> 豆干 油花生 胡蘿蔔 時蔬 薑 | AL38: =I38 -> 蛋香花椰 | AM38: =I39&" "&I40&" "&I41&" "&I42&" "&I43&" "&I44 -> 雞蛋 冷凍青花菜 乾木耳 薑 | AN38: =L38 -> 香炒四色 | AO38: =L39&" "&L40&" "&L41&" "&L42&" "&L43&" "&L44 -> 冷凍玉米粒 豆薯 胡蘿蔔 素肉 薑 | AP38: =O38 -> 時蔬 | AQ38: =O39&" "&O40&" "&O41&" "&O42&" "&O43&" "&O44 -> 蔬菜 薑 | AR38: =R38 -> 南瓜湯 | AS38: =R39&" "&R40&" "&R41&" "&R42&" "&R43&" "&R44 -> 南瓜 薑 | AT38: =U38 -> 果汁 | AU38: =V38 -> 0 | AV38: =W38 -> 5.6875 | AW38: =X38 -> 2.5237013 | AX38: =Y38 -> 2.056 | AY38: =Z38 -> 2.7898506 | AZ38: =AA38 -> 0 | BA38: =AB38 -> 0 | BB38: =AC38 -> 764.34588
A39: 一 | C39: 米 | D39: 10 | E39: =IF(D39,"公斤","") -> 公斤 | F39: 豆干 | G39: 6.5 | H39: =IF(G39,"公斤","") -> 公斤 | I39: 雞蛋 | J39: 4 | K39: =IF(J39,"公斤","") -> 公斤 | L39: 冷凍玉米粒 | M39: 1.5 | N39: =IF(M39,"公斤","") -> 公斤 | O39: 蔬菜 | P39: 7 | Q39: =IF(P39,"公斤","") -> 公斤 | R39: 南瓜 | S39: 4 | T39: =IF(S39,"公斤","") -> 公斤
E40: =IF(D40,"公斤","") | F40: 油花生 | G40: 0.3 | H40: =IF(G40,"公斤","") -> 公斤 | I40: 冷凍青花菜 | J40: 6 | K40: =IF(J40,"公斤","") -> 公斤 | L40: 豆薯 | M40: 4 | N40: =IF(M40,"公斤","") -> 公斤 | O40: 薑 | P40: 0.05 | Q40: =IF(P40,"公斤","") -> 公斤 | R40: 薑 | S40: 0.05 | T40: =IF(S40,"公斤","") -> 公斤
E41: =IF(D41,"公斤","") | F41: 胡蘿蔔 | G41: 0.5 | H41: =IF(G41,"公斤","") -> 公斤 | I41: 乾木耳 | J41: 0.01 | K41: =IF(J41,"公斤","") -> 公斤 | L41: 胡蘿蔔 | M41: 0.5 | N41: =IF(M41,"公斤","") -> 公斤 | Q41: =IF(P41,"公斤","") | T41: =IF(S41,"公斤","")
E42: =IF(D42,"公斤","") | F42: 時蔬 | G42: 3 | H42: =IF(G42,"公斤","") -> 公斤 | I42: 薑 | J42: 0.05 | K42: =IF(J42,"公斤","") -> 公斤 | L42: 素肉 | M42: 0.6 | N42: =IF(M42,"公斤","") -> 公斤 | Q42: =IF(P42,"公斤","") | T42: =IF(S42,"公斤","")
E43: =IF(D43,"公斤","") | F43: 薑 | G43: 0.05 | H43: =IF(G43,"公斤","") -> 公斤 | L43: 薑 | M43: 0.01 | N43: =IF(M43,"公斤","") -> 公斤 | Q43: =IF(P43,"公斤","") | T43: =IF(S43,"公斤","")
E44: =IF(D44,"公斤","") | H44: =IF(G44,"公斤","") | K44: =IF(J44,"公斤","") | N44: =IF(M44,"公斤","") | Q44: =IF(P44,"公斤","") | T44: =IF(S44,"公斤","")
A45: =A38+1 -> 46273 | B45: B2 | C45: 糙米飯 | E45: =IF(D45,"公斤","") | F45: 咖哩麵腸 | H45: =IF(G45,"公斤","") | I45: 皮絲海茸 | K45: =IF(J45,"公斤","") | L45: 關東煮 | N45: =IF(M45,"公斤","") | O45: 時蔬 | Q45: =IF(P45,"公斤","") | R45: 味噌凍腐湯 | T45: =IF(S45,"公斤","") | U45: 海苔 | W45: 5.625 | X45: 2.1309524 | Y45: 1.88 | Z45: 2.5054762 | AC45: 713.31786 | AE45: =A45 -> 46273 | AF45: =A46 -> 二 | AG45: =B45 -> B2 | AH45: =C45 -> 糙米飯 | AI45: =C46&" "&C47&" "&C48&" "&C49&" "&C50&" "&C51 -> 米 糙米 | AJ45: =F45 -> 咖哩麵腸 | AK45: =F46&" "&F47&" "&F48&" "&F49&" "&F50&" "&F51 -> 麵腸 時蔬 馬鈴薯 胡蘿蔔 咖哩粉 | AL45: =I45 -> 皮絲海茸 | AM45: =I46&" "&I47&" "&I48&" "&I49&" "&I50&" "&I51 -> 海帶茸 皮絲 薑 九層塔 | AN45: =L45 -> 關東煮 | AO45: =L46&" "&L47&" "&L48&" "&L49&" "&L50&" "&L51 -> 白蘿蔔 胡蘿蔔 甜玉米 素丸 薑 | AP45: =O45 -> 時蔬 | AQ45: =O46&" "&O47&" "&O48&" "&O49&" "&O50&" "&O51 -> 蔬菜 薑 | AR45: =R45 -> 味噌凍腐湯 | AS45: =R46&" "&R47&" "&R48&" "&R49&" "&R50&" "&R51 -> 凍豆腐 味噌 | AT45: =U45 -> 海苔 | AU45: =V45 -> 0 | AV45: =W45 -> 5.625 | AW45: =X45 -> 2.1309524 | AX45: =Y45 -> 1.88 | AY45: =Z45 -> 2.5054762 | AZ45: =AA45 -> 0 | BA45: =AB45 -> 0 | BB45: =AC45 -> 713.31786
A46: 二 | C46: 米 | D46: 7 | E46: =IF(D46,"公斤","") -> 公斤 | F46: 麵腸 | G46: 6 | H46: =IF(G46,"公斤","") -> 公斤 | I46: 海帶茸 | J46: 5 | K46: =IF(J46,"公斤","") -> 公斤 | L46: 白蘿蔔 | M46: 4 | N46: =IF(M46,"公斤","") -> 公斤 | O46: 蔬菜 | P46: 7 | Q46: =IF(P46,"公斤","") -> 公斤 | R46: 凍豆腐 | S46: 3 | T46: =IF(S46,"公斤","") -> 公斤
C47: 糙米 | D47: 3 | E47: =IF(D47,"公斤","") -> 公斤 | F47: 時蔬 | G47: 2 | H47: =IF(G47,"公斤","") -> 公斤 | I47: 皮絲 | J47: 0.6 | K47: =IF(J47,"公斤","") -> 公斤 | L47: 胡蘿蔔 | M47: 0.5 | N47: =IF(M47,"公斤","") -> 公斤 | O47: 薑 | P47: 0.05 | Q47: =IF(P47,"公斤","") -> 公斤 | R47: 味噌 | S47: 1 | T47: =IF(S47,"公斤","") -> 公斤
E48: =IF(D48,"公斤","") | F48: 馬鈴薯 | G48: 2 | H48: =IF(G48,"公斤","") -> 公斤 | I48: 薑 | J48: 0.05 | K48: =IF(J48,"公斤","") -> 公斤 | L48: 甜玉米 | M48: 3 | N48: =IF(M48,"公斤","") -> 公斤 | Q48: =IF(P48,"公斤","") | T48: =IF(S48,"公斤","")
E49: =IF(D49,"公斤","") | F49: 胡蘿蔔 | G49: 0.5 | H49: =IF(G49,"公斤","") -> 公斤 | I49: 九層塔 | J49: 0.3 | K49: =IF(J49,"公斤","") -> 公斤 | L49: 素丸 | M49: 1 | N49: =IF(M49,"公斤","") -> 公斤 | T49: =IF(S49,"公斤","")
E50: =IF(D50,"公斤","") | F50: 咖哩粉 | H50: =IF(G50,"公斤","") | K50: =IF(J50,"公斤","") | L50: 薑 | M50: 0.05 | N50: =IF(M50,"公斤","") -> 公斤 | Q50: =IF(P50,"公斤","") | T50: =IF(S50,"公斤","")
E51: =IF(D51,"公斤","") | H51: =IF(G51,"公斤","") | K51: =IF(J51,"公斤","") | N51: =IF(M51,"公斤","") | Q51: =IF(P51,"公斤","") | T51: =IF(S51,"公斤","")
A52: =A45+1 -> 46274 | B52: B3 | C52: 拌麵特餐 | E52: =IF(D52,"公斤","") | F52: 香滷豆包 | H52: =IF(G52,"公斤","") | I52: 拌麵配料 | K52: =IF(J52,"公斤","") | L52: 黑糖小饅頭 | N52: =IF(M52,"公斤","") | O52: 時蔬 | Q52: =IF(P52,"公斤","") | R52: 時蔬蛋花湯 | T52: =IF(S52,"公斤","") | U52: 水果 | V52: 有機豆奶 | W52: 6 | X52: 2.8636364 | Y52: 1.155 | Z52: 2.5093182 | AC52: 776.56705 | AE52: =A52 -> 46274 | AF52: =A53 -> 三 | AG52: =B52 -> B3 | AH52: =C52 -> 拌麵特餐 | AI52: =C53&" "&C54&" "&C55&" "&C56&" "&C57&" "&C58 -> 麵條 | AJ52: =F52 -> 香滷豆包 | AK52: =F53&" "&F54&" "&F55&" "&F56&" "&F57&" "&F58 -> 豆包 | AL52: =I52 -> 拌麵配料 | AM52: =I53&" "&I54&" "&I55&" "&I56&" "&I57&" "&I58 -> 豆干 時蔬 胡蘿蔔 乾香菇 | AN52: =L52 -> 黑糖小饅頭 | AO52: =L53&" "&L54&" "&L55&" "&L56&" "&L57&" "&L58 -> 黑糖小饅頭 | AP52: =O52 -> 時蔬 | AQ52: =O53&" "&O54&" "&O55&" "&O56&" "&O57&" "&O58 -> 蔬菜 薑 | AR52: =R52 -> 時蔬蛋花湯 | AS52: =R53&" "&R54&" "&R55&" "&R56&" "&R57&" "&R58 -> 時蔬 雞蛋 薑 | AT52: =U52 -> 水果 | AU52: =V52 -> 有機豆奶 | AV52: =W52 -> 6 | AW52: =X52 -> 2.8636364 | AX52: =Y52 -> 1.155 | AY52: =Z52 -> 2.5093182 | AZ52: =AA52 -> 0 | BA52: =AB52 -> 0 | BB52: =AC52 -> 776.56705
A53: 三 | C53: 麵條 | D53: 15 | E53: =IF(D53,"公斤","") -> 公斤 | F53: 豆包 | G53: 6 | H53: =IF(G53,"公斤","") -> 公斤 | I53: 豆干 | J53: 2 | K53: =IF(J53,"公斤","") -> 公斤 | L53: 黑糖小饅頭 | M53: 4 | N53: =IF(M53,"公斤","") -> 公斤 | O53: 蔬菜 | P53: 7 | Q53: =IF(P53,"公斤","") -> 公斤 | R53: 時蔬 | S53: 2 | T53: =IF(S53,"公斤","") -> 公斤
E54: =IF(D54,"公斤","") | H54: =IF(G54,"公斤","") | I54: 時蔬 | J54: 2 | K54: =IF(J54,"公斤","") -> 公斤 | N54: =IF(M54,"公斤","") | O54: 薑 | P54: 0.05 | Q54: =IF(P54,"公斤","") -> 公斤 | R54: 雞蛋 | S54: 2 | T54: =IF(S54,"公斤","") -> 公斤
E55: =IF(D55,"公斤","") | H55: =IF(G55,"公斤","") | I55: 胡蘿蔔 | J55: 0.5 | K55: =IF(J55,"公斤","") -> 公斤 | N55: =IF(M55,"公斤","") | Q55: =IF(P55,"公斤","") | R55: 薑 | S55: 0.05 | T55: =IF(S55,"公斤","") -> 公斤
E56: =IF(D56,"公斤","") | H56: =IF(G56,"公斤","") | I56: 乾香菇 | J56: 0.05 | K56: =IF(J56,"公斤","") -> 公斤 | N56: =IF(M56,"公斤","") | Q56: =IF(P56,"公斤","") | T56: =IF(S56,"公斤","")
E57: =IF(D57,"公斤","") | H57: =IF(G57,"公斤","") | J57: 0.01 | K57: =IF(J57,"公斤","") -> 公斤 | N57: =IF(M57,"公斤","") | Q57: =IF(P57,"公斤","") | T57: =IF(S57,"公斤","")
E58: =IF(D58,"公斤","") | H58: =IF(G58,"公斤","") | N58: =IF(M58,"公斤","") | Q58: =IF(P58,"公斤","") | T58: =IF(S58,"公斤","")
A59: =A52+1 -> 46275 | B59: B4 | C59: 糙米飯 | E59: =IF(D59,"公斤","") | F59: 筍干油腐 | H59: =IF(G59,"公斤","") | I59: 紅仁炒蛋 | K59: =IF(J59,"公斤","") | L59: 豆包時蔬 | N59: =IF(M59,"公斤","") | O59: 時蔬 | Q59: =IF(P59,"公斤","") | R59: 銀耳鳳梨湯 | T59: =IF(S59,"公斤","") | U59: 堅果 | W59: 5 | X59: 2.5151515 | Y59: 2.17 | Z59: 2.8425758 | AB59: 0.2 | AC59: 732.80227 | AE59: =A59 -> 46275 | AF59: =A60 -> 四 | AG59: =B59 -> B4 | AH59: =C59 -> 糙米飯 | AI59: =C60&" "&C61&" "&C62&" "&C63&" "&C64&" "&C65 -> 米 糙米 | AJ59: =F59 -> 筍干油腐 | AK59: =F60&" "&F61&" "&F62&" "&F63&" "&F64&" "&F65 -> 四角油豆腐 麻竹筍干 梅乾菜 胡蘿蔔 薑 | AL59: =I59 -> 紅仁炒蛋 | AM59: =I60&" "&I61&" "&I62&" "&I63&" "&I64&" "&I65 -> 雞蛋 胡蘿蔔 薑 | AN59: =L59 -> 豆包時蔬 | AO59: =L60&" "&L61&" "&L62&" "&L63&" "&L64&" "&L65 -> 時蔬 胡蘿蔔 薑 豆包 | AP59: =O59 -> 時蔬 | AQ59: =O60&" "&O61&" "&O62&" "&O63&" "&O64&" "&O65 -> 蔬菜 薑 | AR59: =R59 -> 銀耳鳳梨湯 | AS59: =R60&" "&R61&" "&R62&" "&R63&" "&R64&" "&R65 -> 乾銀耳 鳳梨罐頭 二砂糖 枸杞 | AT59: =U59 -> 堅果 | AU59: =V59 -> 0 | AV59: =W59 -> 5 | AW59: =X59 -> 2.5151515 | AX59: =Y59 -> 2.17 | AY59: =Z59 -> 2.8425758 | AZ59: =AA59 -> 0 | BA59: =AB59 -> 0.2 | BB59: =AC59 -> 732.80227
A60: 四 | C60: 米 | D60: 7 | E60: =IF(D60,"公斤","") -> 公斤 | F60: 四角油豆腐 | G60: 6.5 | H60: =IF(G60,"公斤","") -> 公斤 | I60: 雞蛋 | J60: 5.5 | K60: =IF(J60,"公斤","") -> 公斤 | L60: 時蔬 | M60: 7 | N60: =IF(M60,"公斤","") -> 公斤 | O60: 蔬菜 | P60: 7 | Q60: =IF(P60,"公斤","") -> 公斤 | R60: 乾銀耳 | S60: 0.2 | T60: =IF(S60,"公斤","") -> 公斤
C61: 糙米 | D61: 3 | E61: =IF(D61,"公斤","") -> 公斤 | F61: 麻竹筍干 | G61: 3 | H61: =IF(G61,"公斤","") -> 公斤 | I61: 胡蘿蔔 | J61: 3.5 | K61: =IF(J61,"公斤","") -> 公斤 | L61: 胡蘿蔔 | M61: 0.5 | N61: =IF(M61,"公斤","") -> 公斤 | O61: 薑 | P61: 0.05 | Q61: =IF(P61,"公斤","") -> 公斤 | R61: 鳳梨罐頭 | S61: 2 | T61: =IF(S61,"公斤","") -> 公斤
E62: =IF(D62,"公斤","") | F62: 梅乾菜 | G62: 0.5 | H62: =IF(G62,"公斤","") -> 公斤 | I62: 薑 | J62: 0.05 | K62: =IF(J62,"公斤","") -> 公斤 | L62: 薑 | M62: 0.05 | N62: =IF(M62,"公斤","") -> 公斤 | Q62: =IF(P62,"公斤","") | R62: 二砂糖 | S62: 1 | T62: =IF(S62,"公斤","") -> 公斤
E63: =IF(D63,"公斤","") | F63: 胡蘿蔔 | G63: 0.5 | H63: =IF(G63,"公斤","") -> 公斤 | K63: =IF(J63,"公斤","") | L63: 豆包 | M63: 1 | N63: =IF(M63,"公斤","") -> 公斤 | Q63: =IF(P63,"公斤","") | R63: 枸杞 | S63: 0.02 | T63: =IF(S63,"公斤","") -> 公斤
E64: =IF(D64,"公斤","") | F64: 薑 | G64: 0.05 | H64: =IF(G64,"公斤","") -> 公斤 | K64: =IF(J64,"公斤","") | N64: =IF(M64,"公斤","") | Q64: =IF(P64,"公斤","") | T64: =IF(S64,"公斤","")
E65: =IF(D65,"公斤","") | H65: =IF(G65,"公斤","") | K65: =IF(J65,"公斤","") | N65: =IF(M65,"公斤","") | Q65: =IF(P65,"公斤","") | T65: =IF(S65,"公斤","")
A66: =A59+1 -> 46276 | B66: B5 | C66: 紫米飯 | E66: =IF(D66,"公斤","") | F66: 咖哩素排 | H66: =IF(G66,"公斤","") | I66: 海結滷豆干 | K66: =IF(J66,"公斤","") | L66: 若絲時蔬 | N66: =IF(M66,"公斤","") | O66: 時蔬 | Q66: =IF(P66,"公斤","") | R66: 時瓜湯 | T66: =IF(S66,"公斤","") | U66: 水果 | W66: 5.2 | X66: 3.0464286 | Y66: 2.2 | Z66: 3.1232143 | AC66: 788.02679 | AE66: =A66 -> 46276 | AF66: =A67 -> 五 | AG66: =B66 -> B5 | AH66: =C66 -> 紫米飯 | AI66: =C67&" "&C68&" "&C69&" "&C70&" "&C71&" "&C72 -> 米 黑糯米 | AJ66: =F66 -> 咖哩素排 | AK66: =F67&" "&F68&" "&F69&" "&F70&" "&F71&" "&F72 -> 素排 咖哩粉 咖哩素排 | AL66: =I66 -> 海結滷豆干 | AM66: =I67&" "&I68&" "&I69&" "&I70&" "&I71&" "&I72 -> 海帶結 豆干 胡蘿蔔 薑 | AN66: =L66 -> 若絲時蔬 | AO66: =L67&" "&L68&" "&L69&" "&L70&" "&L71&" "&L72 -> 素肉 時蔬 胡蘿蔔 薑 | AP66: =O66 -> 時蔬 | AQ66: =O67&" "&O68&" "&O69&" "&O70&" "&O71&" "&O72 -> 蔬菜 薑 | AR66: =R66 -> 時瓜湯 | AS66: =R67&" "&R68&" "&R69&" "&R70&" "&R71&" "&R72 -> 時瓜 薑 | AT66: =U66 -> 水果 | AU66: =V66 -> 0 | AV66: =W66 -> 5.2 | AW66: =X66 -> 3.0464286 | AX66: =Y66 -> 2.2 | AY66: =Z66 -> 3.1232143 | AZ66: =AA66 -> 0 | BA66: =AB66 -> 0 | BB66: =AC66 -> 788.02679
A67: 五 | C67: 米 | D67: 10 | E67: =IF(D67,"公斤","") -> 公斤 | F67: 素排 | G67: 6.5 | H67: =IF(G67,"公斤","") -> 公斤 | I67: 海帶結 | J67: 2.5 | K67: =IF(J67,"公斤","") -> 公斤 | L67: 素肉 | M67: 0.6 | N67: =IF(M67,"公斤","") -> 公斤 | O67: 蔬菜 | P67: 7 | Q67: =IF(P67,"公斤","") -> 公斤 | R67: 時瓜 | S67: 5 | T67: =IF(S67,"公斤","") -> 公斤
C68: 黑糯米 | D68: 0.4 | E68: =IF(D68,"公斤","") -> 公斤 | F68: 咖哩粉 | H68: =IF(G68,"公斤","") | I68: 豆干 | J68: 5 | K68: =IF(J68,"公斤","") -> 公斤 | L68: 時蔬 | M68: 7 | N68: =IF(M68,"公斤","") -> 公斤 | O68: 薑 | P68: 0.05 | Q68: =IF(P68,"公斤","") -> 公斤 | R68: 薑 | S68: 0.05 | T68: =IF(S68,"公斤","") -> 公斤
E69: =IF(D69,"公斤","") | F69: 咖哩素排 | H69: =IF(G69,"公斤","") | I69: 胡蘿蔔 | J69: 0.5 | K69: =IF(J69,"公斤","") -> 公斤 | L69: 胡蘿蔔 | M69: 0.5 | N69: =IF(M69,"公斤","") -> 公斤 | Q69: =IF(P69,"公斤","") | T69: =IF(S69,"公斤","")
E70: =IF(D70,"公斤","") | H70: =IF(G70,"公斤","") | I70: 薑 | J70: 0.05 | K70: =IF(J70,"公斤","") -> 公斤 | L70: 薑 | M70: 0.05 | N70: =IF(M70,"公斤","") -> 公斤 | Q70: =IF(P70,"公斤","") | T70: =IF(S70,"公斤","")
E71: =IF(D71,"公斤","") | H71: =IF(G71,"公斤","") | K71: =IF(J71,"公斤","") | N71: =IF(M71,"公斤","") | Q71: =IF(P71,"公斤","") | T71: =IF(S71,"公斤","")
E72: =IF(D72,"公斤","") | H72: =IF(G72,"公斤","") | K72: =IF(J72,"公斤","") | N72: =IF(M72,"公斤","") | Q72: =IF(P72,"公斤","") | T72: =IF(S72,"公斤","")
A73: 46279 | B73: C1 | C73: 白米飯 | E73: =IF(D73,"公斤","") | F73: 京醬豆腐 | H73: =IF(G73,"公斤","") | I73: 時蔬炒蛋 | K73: =IF(J73,"公斤","") | L73: 蔬香冬粉 | N73: =IF(M73,"公斤","") | O73: 時蔬 | Q73: =IF(P73,"公斤","") | R73: 時蔬皮絲湯 | T73: =IF(S73,"公斤","") | U73: 果汁 | W73: 6 | X73: 2.3606061 | Y73: 2.105 | Z73: 2.732803 | AC73: 772.64659 | AE73: =A73 -> 46279 | AF73: =A74 -> 一 | AG73: =B73 -> C1 | AH73: =C73 -> 白米飯 | AI73: =C74&" "&C75&" "&C76&" "&C77&" "&C78&" "&C79 -> 米 | AJ73: =F73 -> 京醬豆腐 | AK73: =F74&" "&F75&" "&F76&" "&F77&" "&F78&" "&F79 -> 豆腐 胡蘿蔔 豆薯 薑 甜麵醬 | AL73: =I73 -> 時蔬炒蛋 | AM73: =I74&" "&I75&" "&I76&" "&I77&" "&I78&" "&I79 -> 時蔬 雞蛋 薑 | AN73: =L73 -> 蔬香冬粉 | AO73: =L74&" "&L75&" "&L76&" "&L77&" "&L78&" "&L79 -> 素肉 冬粉 時蔬 乾木耳 薑 | AP73: =O73 -> 時蔬 | AQ73: =O74&" "&O75&" "&O76&" "&O77&" "&O78&" "&O79 -> 蔬菜 薑 | AR73: =R73 -> 時蔬皮絲湯 | AS73: =R74&" "&R75&" "&R76&" "&R77&" "&R78&" "&R79 -> 時蔬 皮絲 薑 | AT73: =U73 -> 果汁 | AU73: =V73 -> 0 | AV73: =W73 -> 6 | AW73: =X73 -> 2.3606061 | AX73: =Y73 -> 2.105 | AY73: =Z73 -> 2.732803 | AZ73: =AA73 -> 0 | BA73: =AB73 -> 0 | BB73: =AC73 -> 772.64659
A74: 一 | C74: 米 | D74: 10 | E74: =IF(D74,"公斤","") -> 公斤 | F74: 豆腐 | G74: 8 | H74: =IF(G74,"公斤","") -> 公斤 | I74: 時蔬 | J74: 4 | K74: =IF(J74,"公斤","") -> 公斤 | L74: 素肉 | M74: 0.6 | N74: =IF(M74,"公斤","") -> 公斤 | O74: 蔬菜 | P74: 7 | Q74: =IF(P74,"公斤","") -> 公斤 | R74: 時蔬 | S74: 3 | T74: =IF(S74,"公斤","") -> 公斤
E75: =IF(D75,"公斤","") | F75: 胡蘿蔔 | G75: 0.5 | H75: =IF(G75,"公斤","") -> 公斤 | I75: 雞蛋 | J75: 4 | K75: =IF(J75,"公斤","") -> 公斤 | L75: 冬粉 | M75: 1.5 | N75: =IF(M75,"公斤","") -> 公斤 | O75: 薑 | P75: 0.05 | Q75: =IF(P75,"公斤","") -> 公斤 | R75: 皮絲 | S75: 0.2 | T75: =IF(S75,"公斤","") -> 公斤
E76: =IF(D76,"公斤","") | F76: 豆薯 | G76: 3.5 | H76: =IF(G76,"公斤","") -> 公斤 | I76: 薑 | J76: 0.05 | K76: =IF(J76,"公斤","") -> 公斤 | L76: 時蔬 | M76: 3 | N76: =IF(M76,"公斤","") -> 公斤 | Q76: =IF(P76,"公斤","") | R76: 薑 | S76: 0.05 | T76: =IF(S76,"公斤","") -> 公斤
E77: =IF(D77,"公斤","") | F77: 薑 | G77: 0.05 | H77: =IF(G77,"公斤","") -> 公斤 | K77: =IF(J77,"公斤","") | L77: 乾木耳 | M77: 0.01 | N77: =IF(M77,"公斤","") -> 公斤 | Q77: =IF(P77,"公斤","") | T77: =IF(S77,"公斤","")
E78: =IF(D78,"公斤","") | F78: 甜麵醬 | H78: =IF(G78,"公斤","") | K78: =IF(J78,"公斤","") | L78: 薑 | M78: 0.05 | N78: =IF(M78,"公斤","") -> 公斤 | Q78: =IF(P78,"公斤","") | T78: =IF(S78,"公斤","")
E79: =IF(D79,"公斤","") | H79: =IF(G79,"公斤","") | K79: =IF(J79,"公斤","") | N79: =IF(M79,"公斤","") | Q79: =IF(P79,"公斤","") | T79: =IF(S79,"公斤","")
A80: =A73+1 -> 46280 | B80: c2 | C80: 糙米飯 | E80: =IF(D80,"公斤","") | F80: 香酥豆包 | H80: =IF(G80,"公斤","") | I80: 泡菜凍腐 | K80: =IF(J80,"公斤","") | L80: 若絲時蔬 | N80: =IF(M80,"公斤","") | O80: 時蔬 | Q80: =IF(P80,"公斤","") | R80: 時瓜湯 | T80: =IF(S80,"公斤","") | U80: 葡萄乾 | W80: 5 | X80: 3.4107143 | Y80: 2.25 | Z80: 3.3303571 | AC80: 811.91964 | AE80: =A80 -> 46280 | AF80: =A81 -> 二 | AG80: =B80 -> c2 | AH80: =C80 -> 糙米飯 | AI80: =C81&" "&C82&" "&C83&" "&C84&" "&C85&" "&C86 -> 米 糙米 | AJ80: =F80 -> 香酥豆包 | AK80: =F81&" "&F82&" "&F83&" "&F84&" "&F85&" "&F86 -> 豆包 | AL80: =I80 -> 泡菜凍腐 | AM80: =I81&" "&I82&" "&I83&" "&I84&" "&I85&" "&I86 -> 凍豆腐 韓式泡菜 甘藍 薑 | AN80: =L80 -> 若絲時蔬 | AO80: =L81&" "&L82&" "&L83&" "&L84&" "&L85&" "&L86 -> 時蔬 素肉 胡蘿蔔 薑 | AP80: =O80 -> 時蔬 | AQ80: =O81&" "&O82&" "&O83&" "&O84&" "&O85&" "&O86 -> 蔬菜 薑 | AR80: =R80 -> 時瓜湯 | AS80: =R81&" "&R82&" "&R83&" "&R84&" "&R85&" "&R86 -> 時瓜 薑 素丸 | AT80: =U80 -> 葡萄乾 | AU80: =V80 -> 0 | AV80: =W80 -> 5 | AW80: =X80 -> 3.4107143 | AX80: =Y80 -> 2.25 | AY80: =Z80 -> 3.3303571 | AZ80: =AA80 -> 0 | BA80: =AB80 -> 0 | BB80: =AC80 -> 811.91964
A81: 二 | C81: 米 | D81: 7 | E81: =IF(D81,"公斤","") -> 公斤 | F81: 豆包 | G81: 6 | H81: =IF(G81,"公斤","") -> 公斤 | K81: =IF(J81,"公斤","") | L81: 時蔬 | M81: 7 | N81: =IF(M81,"公斤","") -> 公斤 | O81: 蔬菜 | P81: 7 | Q81: =IF(P81,"公斤","") -> 公斤 | R81: 時瓜 | S81: 5 | T81: =IF(S81,"公斤","") -> 公斤
C82: 糙米 | D82: 3 | E82: =IF(D82,"公斤","") -> 公斤 | H82: =IF(G82,"公斤","") | I82: 凍豆腐 | J82: 5 | K82: =IF(J82,"公斤","") -> 公斤 | L82: 素肉 | M82: 0.6 | N82: =IF(M82,"公斤","") -> 公斤 | O82: 薑 | P82: 0.05 | Q82: =IF(P82,"公斤","") -> 公斤 | R82: 薑 | S82: 0.05 | T82: =IF(S82,"公斤","") -> 公斤
E83: =IF(D83,"公斤","") | H83: =IF(G83,"公斤","") | I83: 韓式泡菜 | J83: 1.5 | K83: =IF(J83,"公斤","") -> 公斤 | L83: 胡蘿蔔 | M83: 0.5 | N83: =IF(M83,"公斤","") -> 公斤 | Q83: =IF(P83,"公斤","") | R83: 素丸 | S83: 1 | T83: =IF(S83,"公斤","") -> 公斤
E84: =IF(D84,"公斤","") | H84: =IF(G84,"公斤","") | I84: 甘藍 | J84: 2 | K84: =IF(J84,"公斤","") -> 公斤 | L84: 薑 | M84: 0.05 | N84: =IF(M84,"公斤","") -> 公斤 | Q84: =IF(P84,"公斤","") | T84: =IF(S84,"公斤","")
E85: =IF(D85,"公斤","") | H85: =IF(G85,"公斤","") | I85: 薑 | J85: 0.05 | K85: =IF(J85,"公斤","") -> 公斤 | N85: =IF(M85,"公斤","") | Q85: =IF(P85,"公斤","") | T85: =IF(S85,"公斤","")
E86: =IF(D86,"公斤","") | H86: =IF(G86,"公斤","") | K86: =IF(J86,"公斤","") | N86: =IF(M86,"公斤","") | Q86: =IF(P86,"公斤","") | T86: =IF(S86,"公斤","")
A87: =A80+1 -> 46281 | B87: C3 | C87: 中式米粉 | E87: =IF(D87,"公斤","") | F87: 南瓜豆干 | H87: =IF(G87,"公斤","") | I87: 特餐配料 | K87: =IF(J87,"公斤","") | L87: 茶葉蛋 | N87: =IF(M87,"公斤","") | O87: 時蔬 | Q87: =IF(P87,"公斤","") | R87: 金針湯 | T87: =IF(S87,"公斤","") | U87: 水果 | V87: 有機豆奶 | W87: 4.5 | X87: 2.9666667 | Y87: 1.365 | Z87: 4 | AC87: 751.625 | AE87: =A87 -> 46281 | AF87: =A88 -> 三 | AG87: =B87 -> C3 | AH87: =C87 -> 中式米粉 | AI87: =C88&" "&C89&" "&C90&" "&C91&" "&C92&" "&C93 -> 米粉 | AJ87: =F87 -> 南瓜豆干 | AK87: =F88&" "&F89&" "&F90&" "&F91&" "&F92&" "&F93 -> 豆干 南瓜 胡蘿蔔 薑 | AL87: =I87 -> 特餐配料 | AM87: =I88&" "&I89&" "&I90&" "&I91&" "&I92&" "&I93 -> 皮絲 時蔬 胡蘿蔔 乾木耳 | AN87: =L87 -> 茶葉蛋 | AO87: =L88&" "&L89&" "&L90&" "&L91&" "&L92&" "&L93 -> 雞蛋 | AP87: =O87 -> 時蔬 | AQ87: =O88&" "&O89&" "&O90&" "&O91&" "&O92&" "&O93 -> 蔬菜 薑 | AR87: =R87 -> 金針湯 | AS87: =R88&" "&R89&" "&R90&" "&R91&" "&R92&" "&R93 -> 金針菜乾 榨菜 薑 素羊肉 | AT87: =U87 -> 水果 | AU87: =V87 -> 有機豆奶 | AV87: =W87 -> 4.5 | AW87: =X87 -> 2.9666667 | AX87: =Y87 -> 1.365 | AY87: =Z87 -> 4 | AZ87: =AA87 -> 0 | BA87: =AB87 -> 0 | BB87: =AC87 -> 751.625
A88: 三 | C88: 米粉 | D88: 8 | E88: =IF(D88,"公斤","") -> 公斤 | F88: 豆干 | G88: 6 | H88: =IF(G88,"公斤","") -> 公斤 | I88: 皮絲 | J88: 0.7 | K88: =IF(J88,"公斤","") -> 公斤 | L88: 雞蛋 | M88: 5.5 | N88: =IF(M88,"公斤","") -> 公斤 | O88: 蔬菜 | P88: 7 | Q88: =IF(P88,"公斤","") -> 公斤 | R88: 金針菜乾 | S88: 0.15 | T88: =IF(S88,"公斤","") -> 公斤
E89: =IF(D89,"公斤","") | F89: 南瓜 | G89: 4 | H89: =IF(G89,"公斤","") -> 公斤 | I89: 時蔬 | J89: 3 | K89: =IF(J89,"公斤","") -> 公斤 | N89: =IF(M89,"公斤","") | O89: 薑 | P89: 0.05 | Q89: =IF(P89,"公斤","") -> 公斤 | R89: 榨菜 | S89: 2 | T89: =IF(S89,"公斤","") -> 公斤
E90: =IF(D90,"公斤","") | F90: 胡蘿蔔 | G90: 0.5 | H90: =IF(G90,"公斤","") -> 公斤 | K90: =IF(J90,"公斤","") | N90: =IF(M90,"公斤","") | Q90: =IF(P90,"公斤","") | R90: 薑 | S90: 0.05 | T90: =IF(S90,"公斤","") -> 公斤
E91: =IF(D91,"公斤","") | F91: 薑 | G91: 0.05 | H91: =IF(G91,"公斤","") -> 公斤 | I91: 胡蘿蔔 | J91: 0.5 | K91: =IF(J91,"公斤","") -> 公斤 | N91: =IF(M91,"公斤","") | Q91: =IF(P91,"公斤","") | R91: 素羊肉 | S91: 1 | T91: =IF(S91,"公斤","") -> 公斤
E92: =IF(D92,"公斤","") | H92: =IF(G92,"公斤","") | I92: 乾木耳 | J92: 0.01 | K92: =IF(J92,"公斤","") -> 公斤 | N92: =IF(M92,"公斤","") | Q92: =IF(P92,"公斤","") | T92: =IF(S92,"公斤","")
E93: =IF(D93,"公斤","") | H93: =IF(G93,"公斤","") | K93: =IF(J93,"公斤","") | N93: =IF(M93,"公斤","") | Q93: =IF(P93,"公斤","") | T93: =IF(S93,"公斤","")
A94: =A87+1 -> 46282 | B94: C4 | C94: 糙米飯 | E94: =IF(D94,"公斤","") | F94: 鮮蔬麵腸 | H94: =IF(G94,"公斤","") | I94: 塔香海根 | K94: =IF(J94,"公斤","") | L94: 香炒四色 | N94: =IF(M94,"公斤","") | O94: 時蔬 | Q94: =IF(P94,"公斤","") | R94: 麥仁粉圓湯 | T94: =IF(S94,"公斤","") | U94: 海苔 | W94: 6.1375 | X94: 2.6142857 | Y94: 1.416 | Z94: 2.5151429 | AC94: 774.27786 | AE94: =A94 -> 46282 | AF94: =A95 -> 四 | AG94: =B94 -> C4 | AH94: =C94 -> 糙米飯 | AI94: =C95&" "&C96&" "&C97&" "&C98&" "&C99&" "&C100 -> 米 糙米 | AJ94: =F94 -> 鮮蔬麵腸 | AK94: =F95&" "&F96&" "&F97&" "&F98&" "&F99&" "&F100 -> 麵腸 胡蘿蔔 時蔬 薑 | AL94: =I94 -> 塔香海根 | AM94: =I95&" "&I96&" "&I97&" "&I98&" "&I99&" "&I100 -> 海帶根 素肉 薑 九層塔 | AN94: =L94 -> 香炒四色 | AO94: =L95&" "&L96&" "&L97&" "&L98&" "&L99&" "&L100 -> 冷凍玉米粒 豆薯 胡蘿蔔 冷凍毛豆仁 薑 | AP94: =O94 -> 時蔬 | AQ94: =O95&" "&O96&" "&O97&" "&O98&" "&O99&" "&O100 -> 蔬菜 薑 | AR94: =R94 -> 麥仁粉圓湯 | AS94: =R95&" "&R96&" "&R97&" "&R98&" "&R99&" "&R100 -> 大麥仁 粉圓 二砂糖 | AT94: =U94 -> 海苔 | AU94: =V94 -> 0 | AV94: =W94 -> 6.1375 | AW94: =X94 -> 2.6142857 | AX94: =Y94 -> 1.416 | AY94: =Z94 -> 2.5151429 | AZ94: =AA94 -> 0 | BA94: =AB94 -> 0 | BB94: =AC94 -> 774.27786
A95: 四 | C95: 米 | D95: 7 | E95: =IF(D95,"公斤","") -> 公斤 | F95: 麵腸 | G95: 6 | H95: =IF(G95,"公斤","") -> 公斤 | I95: 海帶根 | J95: 5 | K95: =IF(J95,"公斤","") -> 公斤 | L95: 冷凍玉米粒 | M95: 1.5 | N95: =IF(M95,"公斤","") -> 公斤 | O95: 蔬菜 | P95: 7 | Q95: =IF(P95,"公斤","") -> 公斤 | R95: 大麥仁 | S95: 0.5 | T95: =IF(S95,"公斤","") -> 公斤
C96: 糙米 | D96: 3 | E96: =IF(D96,"公斤","") -> 公斤 | H96: =IF(G96,"公斤","") | I96: 素肉 | J96: 0.6 | K96: =IF(J96,"公斤","") -> 公斤 | L96: 豆薯 | M96: 4 | N96: =IF(M96,"公斤","") -> 公斤 | O96: 薑 | P96: 0.05 | Q96: =IF(P96,"公斤","") -> 公斤 | R96: 粉圓 | S96: 1.5 | T96: =IF(S96,"公斤","") -> 公斤
E97: =IF(D97,"公斤","") | F97: 胡蘿蔔 | G97: 0.5 | H97: =IF(G97,"公斤","") -> 公斤 | I97: 薑 | J97: 0.05 | K97: =IF(J97,"公斤","") -> 公斤 | L97: 胡蘿蔔 | M97: 0.5 | N97: =IF(M97,"公斤","") -> 公斤 | Q97: =IF(P97,"公斤","") | R97: 二砂糖 | S97: 1 | T97: =IF(S97,"公斤","") -> 公斤
E98: =IF(D98,"公斤","") | F98: 時蔬 | G98: 4 | H98: =IF(G98,"公斤","") -> 公斤 | I98: 九層塔 | J98: 0.01 | K98: =IF(J98,"公斤","") -> 公斤 | L98: 冷凍毛豆仁 | M98: 2 | N98: =IF(M98,"公斤","") -> 公斤 | Q98: =IF(P98,"公斤","") | T98: =IF(S98,"公斤","")
E99: =IF(D99,"公斤","") | F99: 薑 | G99: 0.05 | H99: =IF(G99,"公斤","") -> 公斤 | K99: =IF(J99,"公斤","") | L99: 薑 | M99: 0.01 | N99: =IF(M99,"公斤","") -> 公斤 | Q99: =IF(P99,"公斤","") | T99: =IF(S99,"公斤","")
E100: =IF(D100,"公斤","") | H100: =IF(G100,"公斤","") | K100: =IF(J100,"公斤","") | N100: =IF(M100,"公斤","") | Q100: =IF(P100,"公斤","") | T100: =IF(S100,"公斤","")
...

Sheet B6月素-國中總表
E1: 花蓮縣115學年度第1學期國民中學9月素食菜單-清泉商行(非偏鄉廚房)
A2: 日期 | B2: 星期 | C2: 循環 | D2: 主食 | E2: 明細 | F2: 主菜 | G2: 明細 | H2: 副菜一 | I2: 明細 | J2: 副菜二 | K2: 明細 | L2: 時蔬 | M2: 明細 | N2: 湯品 | O2: 明細 | P2: 附餐1 | Q2: 附餐2 | R2: 穀/份 | S2: 豆/份 | T2: 蔬/份 | U2: 油/份 | V2: 乳/份 | W2: 果/份 | X2: 熱量
A3: ='B6月素-國中'!AE3 -> 46265 | B3: ='B6月素-國中'!AF3 -> 一 | C3: ='B6月素-國中'!AG3 -> A1 | D3: ='B6月素-國中'!AH3 -> 白米飯 | E3: ='B6月素-國中'!AI3 -> 米 | F3: ='B6月素-國中'!AJ3 -> 鮮菇麵腸 | G3: ='B6月素-國中'!AK3 -> 麵腸 杏鮑菇 胡蘿蔔 薑 | H3: ='B6月素-國中'!AL3 -> 玉米炒蛋 | ... P3: ='B6月素-國中'!AT3 -> 果汁 | R3: ='B6月素-國中'!AV3 -> 5.375 | S3: ='B6月素-國中'!AW3 -> 2.6246266 | T3: ='B6月素-國中'!AX3 -> 2.155 | U3: ='B6月素-國中'!AY3 -> 2.8898133 | V3: ='B6月素-國中'!AZ3 -> 0 | W3: ='B6月素-國中'!BA3 -> 0 | X3: ='B6月素-國中'!BB3 -> 757.0136
A4: ='B6月素-國中'!AE10 -> 46266 | B4: ='B6月素-國中'!AF10 -> 二 | C4: ='B6月素-國中'!AG10 -> A2 | D4: ='B6月素-國中'!AH10 -> 糙米飯 | E4: ='B6月素-國中'!AI10 -> 米 糙米 | F4: ='B6月素-國中'!AJ10 -> 銀蘿皮絲 | G4: ='B6月素-國中'!AK10 -> 皮絲 白蘿蔔 胡蘿蔔 薑 | H4: ='B6月素-國中'!AL10 -> 家常豆干 | ... P4: ='B6月素-國中'!AT10 -> Tap豆奶 | R4: ='B6月素-國中'!AV10 -> 5.875 | S4: ='B6月素-國中'!AW10 -> 2.6 | T4: ='B6月素-國中'!AX10 -> 1.7 | U4: ='B6月素-國中'!AY10 -> 2.65 | V4: ='B6月素-國中'!AZ10 -> 0 | W4: ='B6月素-國中'!BA10 -> 0 | X4: ='B6月素-國中'!BB10 -> 768
A5: ='B6月素-國中'!AE17 -> 46267 | B5: ='B6月素-國中'!AF17 -> 三 | C5: ='B6月素-國中'!AG17 -> A3 | D5: ='B6月素-國中'!AH17 -> 素火腿拌飯 | E5: ='B6月素-國中'!AI17 -> 米 糙米 | F5: ='B6月素-國中'!AJ17 -> 香滷素排 | G5: ='B6月素-國中'!AK17 -> 素排 | H5: ='B6月素-國中'!AL17 -> 拌飯配料 | ... P5: ='B6月素-國中'!AT17 -> 水果 | R5: ='B6月素-國中'!AV17 -> 5.25 | S5: ='B6月素-國中'!AW17 -> 3.5064935 | T5: ='B6月素-國中'!AX17 -> 1.45 | U5: ='B6月素-國中'!AY17 -> 2.9782468 | V5: ='B6月素-國中'!AZ17 -> 0 | W5: ='B6月素-國中'!BA17 -> 0 | X5: ='B6月素-國中'!BB17 -> 800.75812
A6: ='B6月素-國中'!AE24 -> 46268 | B6: ='B6月素-國中'!AF24 -> 四 | C6: ='B6月素-國中'!AG24 -> A4 | D6: ='B6月素-國中'!AH24 -> 糙米飯 | E6: ='B6月素-國中'!AI24 -> 米 糙米 | F6: ='B6月素-國中'!AJ24 -> 馬鈴薯油腐 | G6: ='B6月素-國中'!AK24 -> 四角油豆腐 馬鈴薯 胡蘿蔔 薑 | H6: ='B6月素-國中'!AL24 -> 紅仁炒蛋 | ... P6: ='B6月素-國中'!AT24 -> 葡萄乾 | R6: ='B6月素-國中'!AV24 -> 5.5 | S6: ='B6月素-國中'!AW24 -> 3.2727273 | T6: ='B6月素-國中'!AX24 -> 1.76 | U6: ='B6月素-國中'!AY24 -> 3.0163636 | V6: ='B6月素-國中'!AZ24 -> 0 | W6: ='B6月素-國中'!BA24 -> 0 | X6: ='B6月素-國中'!BB24 -> 810.19091
A7: ='B6月素-國中'!AE31 -> 46269 | B7: ='B6月素-國中'!AF31 -> 五 | C7: ='B6月素-國中'!AG31 -> A5 | D7: ='B6月素-國中'!AH31 -> 小米飯 | E7: ='B6月素-國中'!AI31 -> 米 小米 | F7: ='B6月素-國中'!AJ31 -> 香酥豆包 | G7: ='B6月素-國中'!AK31 -> 豆包 | H7: ='B6月素-國中'!AL31 -> 針菇豆腐 | ... P7: ='B6月素-國中'!AT31 -> 水果 | R7: ='B6月素-國中'!AV31 -> 5.2 | S7: ='B6月素-國中'!AW31 -> 3.2083333 | T7: ='B6月素-國中'!AX31 -> 1.85 | U7: ='B6月素-國中'!AY31 -> 3.0291667 | V7: ='B6月素-國中'!AZ31 -> 0 | W7: ='B6月素-國中'!BA31 -> 0 | X7: ='B6月素-國中'!BB31 -> 787.1875
A8: ='B6月素-國中'!AE38 -> 46272 | B8: ='B6月素-國中'!AF38 -> 一 | C8: ='B6月素-國中'!AG38 -> B1 | D8: ='B6月素-國中'!AH38 -> 白米飯 | E8: ='B6月素-國中'!AI38 -> 米 | F8: ='B6月素-國中'!AJ38 -> 花生豆干 | G8: ='B6月素-國中'!AK38 -> 豆干 油花生 胡蘿蔔 時蔬 薑 | H8: ='B6月素-國中'!AL38 -> 蛋香花椰 | ... P8: ='B6月素-國中'!AT38 -> 果汁 | R8: ='B6月素-國中'!AV38 -> 5.6875 | S8: ='B6月素-國中'!AW38 -> 2.5237013 | T8: ='B6月素-國中'!AX38 -> 2.056 | U8: ='B6月素-國中'!AY38 -> 2.7898506 | V8: ='B6月素-國中'!AZ38 -> 0 | W8: ='B6月素-國中'!BA38 -> 0 | X8: ='B6月素-國中'!BB38 -> 764.34588
A9: ='B6月素-國中'!AE45 -> 46273 | B9: ='B6月素-國中'!AF45 -> 二 | C9: ='B6月素-國中'!AG45 -> B2 | D9: ='B6月素-國中'!AH45 -> 糙米飯 | E9: ='B6月素-國中'!AI45 -> 米 糙米 | F9: ='B6月素-國中'!AJ45 -> 咖哩麵腸 | G9: ='B6月素-國中'!AK45 -> 麵腸 時蔬 馬鈴薯 胡蘿蔔 咖哩粉 | H9: ='B6月素-國中'!AL45 -> 皮絲海茸 | ... P9: ='B6月素-國中'!AT45 -> 海苔 | R9: ='B6月素-國中'!AV45 -> 5.625 | S9: ='B6月素-國中'!AW45 -> 2.1309524 | T9: ='B6月素-國中'!AX45 -> 1.88 | U9: ='B6月素-國中'!AY45 -> 2.5054762 | V9: ='B6月素-國中'!AZ45 -> 0 | W9: ='B6月素-國中'!BA45 -> 0 | X9: ='B6月素-國中'!BB45 -> 713.31786
A10: ='B6月素-國中'!AE52 -> 46274 | B10: ='B6月素-國中'!AF52 -> 三 | C10: ='B6月素-國中'!AG52 -> B3 | D10: ='B6月素-國中'!AH52 -> 拌麵特餐 | E10: ='B6月素-國中'!AI52 -> 麵條 | F10: ='B6月素-國中'!AJ52 -> 香滷豆包 | G10: ='B6月素-國中'!AK52 -> 豆包 | H10: ='B6月素-國中'!AL52 -> 拌麵配料 | ... P10: ='B6月素-國中'!AT52 -> 水果 | Q10: 有機豆奶 | R10: ='B6月素-國中'!AV52 -> 6 | S10: ='B6月素-國中'!AW52 -> 2.8636364 | T10: ='B6月素-國中'!AX52 -> 1.155 | U10: ='B6月素-國中'!AY52 -> 2.5093182 | V10: ='B6月素-國中'!AZ52 -> 0 | W10: ='B6月素-國中'!BA52 -> 0 | X10: ='B6月素-國中'!BB52 -> 776.56705
A11: ='B6月素-國中'!AE59 -> 46275 | B11: ='B6月素-國中'!AF59 -> 四 | C11: ='B6月素-國中'!AG59 -> B4 | D11: ='B6月素-國中'!AH59 -> 糙米飯 | E11: ='B6月素-國中'!AI59 -> 米 糙米 | F11: ='B6月素-國中'!AJ59 -> 筍干油腐 | G11: ='B6月素-國中'!AK59 -> 四角油豆腐 麻竹筍干 梅乾菜 胡蘿蔔 薑 | H11: ='B6月素-國中'!AL59 -> 紅仁炒蛋 | ... P11: ='B6月素-國中'!AT59 -> 堅果 | R11: ='B6月素-國中'!AV59 -> 5 | S11: ='B6月素-國中'!AW59 -> 2.5151515 | T11: ='B6月素-國中'!AX59 -> 2.17 | U11: ='B6月素-國中'!AY59 -> 2.8425758 | V11: ='B6月素-國中'!AZ59 -> 0 | W11: ='B6月素-國中'!BA59 -> 0.2 | X11: ='B6月素-國中'!BB59 -> 732.80227
A12: ='B6月素-國中'!AE66 -> 46276 | B12: ='B6月素-國中'!AF66 -> 五 | C12: ='B6月素-國中'!AG66 -> B5 | D12: ='B6月素-國中'!AH66 -> 紫米飯 | E12: ='B6月素-國中'!AI66 -> 米 黑糯米 | F12: ='B6月素-國中'!AJ66 -> 咖哩素排 | G12: ='B6月素-國中'!AK66 -> 素排 咖哩粉 咖哩素排 | H12: ='B6月素-國中'!AL66 -> 海結滷豆干 | ... P12: ='B6月素-國中'!AT66 -> 水果 | R12: ='B6月素-國中'!AV66 -> 5.2 | S12: ='B6月素-國中'!AW66 -> 3.0464286 | T12: ='B6月素-國中'!AX66 -> 2.2 | U12: ='B6月素-國中'!AY66 -> 3.1232143 | V12: ='B6月素-國中'!AZ66 -> 0 | W12: ='B6月素-國中'!BA66 -> 0 | X12: ='B6月素-國中'!BB66 -> 788.02679
A13: ='B6月素-國中'!AE73 -> 46279 | B13: ='B6月素-國中'!AF73 -> 一 | C13: ='B6月素-國中'!AG73 -> C1 | D13: ='B6月素-國中'!AH73 -> 白米飯 | E13: ='B6月素-國中'!AI73 -> 米 | F13: ='B6月素-國中'!AJ73 -> 京醬豆腐 | G13: ='B6月素-國中'!AK73 -> 豆腐 胡蘿蔔 豆薯 薑 甜麵醬 | H13: ='B6月素-國中'!AL73 -> 時蔬炒蛋 | ... P13: ='B6月素-國中'!AT73 -> 果汁 | R13: ='B6月素-國中'!AV73 -> 6 | S13: ='B6月素-國中'!AW73 -> 2.3606061 | T13: ='B6月素-國中'!AX73 -> 2.105 | U13: ='B6月素-國中'!AY73 -> 2.732803 | V13: ='B6月素-國中'!AZ73 -> 0 | W13: ='B6月素-國中'!BA73 -> 0 | X13: ='B6月素-國中'!BB73 -> 772.64659
A14: ='B6月素-國中'!AE80 -> 46280 | B14: ='B6月素-國中'!AF80 -> 二 | C14: ='B6月素-國中'!AG80 -> c2 | D14: ='B6月素-國中'!AH80 -> 糙米飯 | E14: ='B6月素-國中'!AI80 -> 米 糙米 | F14: ='B6月素-國中'!AJ80 -> 香酥豆包 | G14: ='B6月素-國中'!AK80 -> 豆包 | H14: ='B6月素-國中'!AL80 -> 泡菜凍腐 | ... P14: ='B6月素-國中'!AT80 -> 葡萄乾 | R14: ='B6月素-國中'!AV80 -> 5 | S14: ='B6月素-國中'!AW80 -> 3.4107143 | T14: ='B6月素-國中'!AX80 -> 2.25 | U14: ='B6月素-國中'!AY80 -> 3.3303571 | V14: ='B6月素-國中'!AZ80 -> 0 | W14: ='B6月素-國中'!BA80 -> 0 | X14: ='B6月素-國中'!BB80 -> 811.91964
A15: ='B6月素-國中'!AE87 -> 46281 | B15: ='B6月素-國中'!AF87 -> 三 | C15: ='B6月素-國中'!AG87 -> C3 | D15: ='B6月素-國中'!AH87 -> 中式米粉 | E15: ='B6月素-國中'!AI87 -> 米粉 | F15: ='B6月素-國中'!AJ87 -> 南瓜豆干 | G15: ='B6月素-國中'!AK87 -> 豆干 南瓜 胡蘿蔔 薑 | H15: ='B6月素-國中'!AL87 -> 特餐配料 | ... P15: ='B6月素-國中'!AT87 -> 水果 | Q15: 有機豆奶 | R15: ='B6月素-國中'!AV87 -> 4.5 | S15: ='B6月素-國中'!AW87 -> 2.9666667 | T15: ='B6月素-國中'!AX87 -> 1.365 | U15: ='B6月素-國中'!AY87 -> 4 | V15: ='B6月素-國中'!AZ87 -> 0 | W15: ='B6月素-國中'!BA87 -> 0 | X15: ='B6月素-國中'!BB87 -> 751.625
A16: ='B6月素-國中'!AE94 -> 46282 | B16: ='B6月素-國中'!AF94 -> 四 | C16: ='B6月素-國中'!AG94 -> C4 | D16: ='B6月素-國中'!AH94 -> 糙米飯 | E16: ='B6月素-國中'!AI94 -> 米 糙米 | F16: ='B6月素-國中'!AJ94 -> 鮮蔬麵腸 | G16: ='B6月素-國中'!AK94 -> 麵腸 胡蘿蔔 時蔬 薑 | H16: ='B6月素-國中'!AL94 -> 塔香海根 | ... P16: ='B6月素-國中'!AT94 -> 海苔 | R16: ='B6月素-國中'!AV94 -> 6.1375 | S16: ='B6月素-國中'!AW94 -> 2.6142857 | T16: ='B6月素-國中'!AX94 -> 1.416 | U16: ='B6月素-國中'!AY94 -> 2.5151429 | V16: ='B6月素-國中'!AZ94 -> 0 | W16: ='B6月素-國中'!BA94 -> 0 | X16: ='B6月素-國中'!BB94 -> 774.27786
A17: ='B6月素-國中'!AE101 -> 46283 | B17: ='B6月素-國中'!AF101 -> 五 | C17: ='B6月素-國中'!AG101 -> C5 | D17: ='B6月素-國中'!AH101 -> 燕麥飯 | E17: ='B6月素-國中'!AI101 -> 米 燕麥 | F17: ='B6月素-國中'!AJ101 -> 時蔬油腐 | G17: ='B6月素-國中'!AK101 -> 四角油豆腐 時蔬 胡蘿蔔 薑 | H17: ='B6月素-國中'!AL101 -> 豆包花椰 | ... P17: ='B6月素-國中'!AT101 -> 水果 | R17: ='B6月素-國中'!AV101 -> 6.45 | S17: ='B6月素-國中'!AW101 -> 2.6212121 | T17: ='B6月素-國中'!AX101 -> 1.755 | U17: ='B6月素-國中'!AY101 -> 2.6881061 | V17: ='B6月素-國中'!AZ101 -> 0 | W17: ='B6月素-國中'!BA101 -> 0 | X17: ='B6月素-國中'!BB101 -> 812.93068
A18: ='B6月素-國中'!AE108 -> 46286 | B18: ='B6月素-國中'!AF108 -> 一 | C18: ='B6月素-國中'!AG108 -> D1 | D18: ='B6月素-國中'!AH108 -> 白米飯 | E18: ='B6月素-國中'!AI108 -> 米 | F18: ='B6月素-國中'!AJ108 -> 瓜仔麵腸 | G18: ='B6月素-國中'!AK108 -> 麵腸 乾香菇 醃漬花胡瓜 胡蘿蔔 薑 | H18: ='B6月素-國中'!AL108 -> 毛豆干丁 | ... P18: ='B6月素-國中'!AT108 -> 果汁 | R18: ='B6月素-國中'!AV108 -> 5 | S18: ='B6月素-國中'!AW108 -> 3.0309524 | T18: ='B6月素-國中'!AX108 -> 2.201 | U18: ='B6月素-國中'!AY108 -> 3.1159762 | V18: ='B6月素-國中'!AZ108 -> 0 | W18: ='B6月素-國中'!BA108 -> 0 | X18: ='B6月素-國中'!BB108 -> 772.56536
A19: ='B6月素-國中'!AE115 -> 46287 | B19: ='B6月素-國中'!AF115 -> 二 | C19: ='B6月素-國中'!AG115 -> D2 | D19: ='B6月素-國中'!AH115 -> 糙米飯 | E19: ='B6月素-國中'!AI115 -> 米 糙米 | F19: ='B6月素-國中'!AJ115 -> 三杯豆干 | G19: ='B6月素-國中'!AK115 -> 豆干 豆薯 薑 九層塔 | H19: ='B6月素-國中'!AL115 -> 關東煮 | ... P19: ='B6月素-國中'!AT115 -> 堅果 | R19: ='B6月素-國中'!AV115 -> 5.5625 | S19: ='B6月素-國中'!AW115 -> 3.8878788 | T19: ='B6月素-國中'!AX115 -> 2.05 | U19: ='B6月素-國中'!AY115 -> 3.4689394 | V19: ='B6月素-國中'!AZ115 -> 0 | W19: ='B6月素-國中'!BA115 -> 0 | X19: ='B6月素-國中'!BB115 -> 888.31818
A20: ='B6月素-國中'!AE122 -> 46288 | B20: ='B6月素-國中'!AF122 -> 三 | C20: ='B6月素-國中'!AG122 -> D3 | D20: ='B6月素-國中'!AH122 -> 古早味炒麵 | E20: ='B6月素-國中'!AI122 -> 麵條 | F20: ='B6月素-國中'!AJ122 -> 滷煎蒸炒蛋 | G20: ='B6月素-國中'!AK122 -> 雞蛋 | H20: ='B6月素-國中'!AL122 -> 炒麵拌料 | ... P20: ='B6月素-國中'!AT122 -> 水果 | Q20: 有機豆奶 | R20: ='B6月素-國中'!AV122 -> 5 | S20: ='B6月素-國中'!AW122 -> 2.5 | T20: ='B6月素-國中'!AX122 -> 1.3 | U20: ='B6月素-國中'!AY122 -> 4.5 | V20: ='B6月素-國中'!AZ122 -> 0 | W20: ='B6月素-國中'!BA122 -> 0 | X20: ='B6月素-國中'!BB122 -> 772.5
A21: ='B6月素-國中'!AE129 -> 46289 | B21: ='B6月素-國中'!AF129 -> 四 | C21: E1 | D21: ='B6月素-國中'!AH129 -> 糙米飯 | E21: ='B6月素-國中'!AI129 -> 米 糙米 | F21: ='B6月素-國中'!AJ129 -> 椒鹽豆包 | G21: ='B6月素-國中'!AK129 -> 豆包 胡椒鹽 | H21: ='B6月素-國中'!AL129 -> 筍干凍腐 | I21: ='B6月素-國中'!AM129 -> 麻竹筍干 凍豆腐 胡蘿蔔 薑 | J21: ='B6月素-國中'!AN129 -> 蛋香時蔬 | K21: ='B6月素-國中'!AO129 -> 時蔬 胡蘿蔔 薑 雞蛋 | ... P21: ='B6月素-國中'!AT129 -> 葡萄乾 | R21: ='B6月素-國中'!AV129 -> 6.35 | S21: ='B6月素-國中'!AW129 -> 2.9318182 | T21: ='B6月素-國中'!AX129 -> 2.15 | U21: ='B6月素-國中'!AY129 -> 3.0409091 | V21: ='B6月素-國中'!AZ129 -> 0 | W21: ='B6月素-國中'!BA129 -> 0 | X21: ='B6月素-國中'!BB129 -> 854.97727
A22: ='B6月素-國中'!AE136 -> 46290 | B22: ='B6月素-國中'!AF136 -> 五 | C22: ='B6月素-國中'!AG136 -> D5 | D22: 中秋
A23: ='B6月素-國中'!AE143 -> 46293 | B23: ='B6月素-國中'!AF143 -> 一 | C23: ='B6月素-國中'!AG143 -> E1 | D23: 教師節
A24: ='B6月素-國中'!AE150 -> 46294 | B24: ='B6月素-國中'!AF150 -> 二 | C24: ='B6月素-國中'!AG150 -> E2 | D24: ='B6月素-國中'!AH150 -> 白米飯 | E24: ='B6月素-國中'!AI150 -> 米 | F24: ='B6月素-國中'!AJ150 -> 泡菜油腐 | G24: ='B6月素-國中'!AK150 -> 四角油豆腐 韓式泡菜 甘藍 薑 | H24: ='B6月素-國中'!AL150 -> 時蔬玉米炒蛋 | ... P24: ='B6月素-國中'!AT150 -> 海苔 | R24: ='B6月素-國中'!AV150 -> 5.375 | S24: ='B6月素-國中'!AW150 -> 2.5 | T24: ='B6月素-國中'!AX150 -> 2.075 | U24: ='B6月素-國中'!AY150 -> 2.7875 | V24: ='B6月素-國中'!AZ150 -> 0 | W24: ='B6月素-國中'!BA150 -> 0 | X24: ='B6月素-國中'!BB150 -> 741.0625
A25: ='B6月素-國中'!AE157 -> 46295 | B25: ='B6月素-國中'!AF157 -> 三 | C25: ='B6月素-國中'!AG157 -> E3 | D25: ='B6月素-國中'!AH157 -> 油飯特餐 | E25: ='B6月素-國中'!AI157 -> 米 糯米 | F25: ='B6月素-國中'!AJ157 -> 美味豆包 | G25: ='B6月素-國中'!AK157 -> 豆包 | H25: ='B6月素-國中'!AL157 -> 油飯配料 | ... P25: ='B6月素-國中'!AT157 -> 水果 | R25: ='B6月素-國中'!AV157 -> 5.5 | S25: ='B6月素-國中'!AW157 -> 2.9147727 | T25: ='B6月素-國中'!AX157 -> 1.66 | U25: ='B6月素-國中'!AY157 -> 2.7873864 | V25: ='B6月素-國中'!AZ157 -> 0 | W25: ='B6月素-國中'!BA157 -> 0 | X25: ='B6月素-國中'!BB157 -> 770.54034
A26: ※「本產品含有甲殼類、芒果、花生、牛奶、蛋、堅果類、芝麻、含麩質穀物、大豆、魚類及亞硫酸鹽類，不適合對其過敏體質者食用。」 菜單說明： 1.每周二、五吃有機蔬菜。 2.每周三供應有機豆奶（每月三次
