Workbook

Sheet 葷-國中
B1: 食材明細（食材重量以100人份計量，營養分析以個人計量,其中肉雞包含23%骨頭之採購量，每周供應特餐一次，當日得混搭供應，國中4菜1湯，國小3菜1湯）
A2: 日期 | B2: 循環 | C2: 主食 | D2: 重/kg | F2: 重/kg | G2: 公斤 | I2: 重/kg | J2: 公斤 | L2: 重/kg | M2: 公斤 | N2: 蔬菜 | O2: 重/kg | P2: 公斤 | R2: 重/kg | S2: 公斤 | T2: 點心1 | U2: 點心2 | V2: 穀/份 | W2: 豆/份 | X2: 蔬/份 | Y2: 油/份 | Z2: 乳/份 | AA2: 果/份 | AB2: 熱量 | AD2: 日期 | AE2: 星期 | AF2: 循環 | AG2: 主食 | AH2: 明細 | AI2: 主菜 | AJ2: 明細 | AK2: 副菜一 | AL2: 明細 | AM2: 副菜二 | AN2: 明細 | AO2: 時蔬 | AP2: 明細 | AQ2: 湯品 | AR2: 明細 | AS2: 附餐1 | AT2: 附餐2 | AU2: 穀/份 | AV2: 豆/份 | AW2: 蔬/份 | AX2: 油/份 | AY2: 乳/份 | AZ2: 果/份 | BA2: 熱量
A3: 45413 | B3: L3 | C3: 拌麵特餐 | E3: 梅粉魚排 | G3: =IF(F3,"公斤","") | H3: 拌麵配料 | J3: =IF(I3,"公斤","") | K3: 蛋香時蔬 | M3: =IF(L3,"公斤","") | N3: 時蔬 | P3: =IF(O3,"公斤","") | Q3: 時瓜魚丸湯 | S3: =IF(R3,"公斤","") | T3: 水果 | V3: 5 | W3: 3.174026 | X3: 1.9 | Y3: 2.737013 | AB3: 758.71753 | AD3: =A3 -> 45413 | AE3: =A4 -> 三 | AF3: =B3 -> L3 | AG3: =C3 -> 拌麵特餐 | AH3: =C4&" "&C5&" "&C6&" "&C7&" "&C8&" "&C9 -> 麵條 | AI3: =E3 -> 梅粉魚排 | AJ3: =E4&" "&E5&" "&E6&" "&E7&" "&E8&" "&E9 -> 魚排 梅子粉 | AK3: =H3 -> 拌麵配料 | AL3: =H4&" "&H5&" "&H6&" "&H7&" "&H8&" "&H9 -> 豬後腿肉 甘藍 胡蘿蔔 洋蔥 乾香菇 油蔥酥 | AM3: =K3 -> 蛋香時蔬 | AN3: =K4&" "&K5&" "&K6&" "&K7&" "&K8&" "&K9 -> 時蔬 雞蛋 胡蘿蔔 大蒜 | AO3: =N3 -> 時蔬 | AP3: =N4&" "&N5&" "&N6&" "&N7&" "&N8&" "&N9 -> 蔬菜 大蒜 | AQ3: =Q3 -> 時瓜魚丸湯 | AR3: =Q4&" "&Q5&" "&Q6&" "&Q7&" "&Q8&" "&Q9 -> 時瓜 魚丸 薑 | AS3: =T3 -> 水果 | AT3: =U3 -> 0 | AU3: =V3 -> 5 | AV3: =W3 -> 3.174026 | AW3: =X3 -> 1.9 | AX3: =Y3 -> 2.737013 | AY3: =Z3 -> 0 | AZ3: =AA3 -> 0 | BA3: =AB3 -> 758.71753
A4: 三 | C4: 麵條 | D4: 15 | E4: 魚排 | F4: 6.5 | G4: =IF(F4,"公斤","") -> 公斤 | H4: 豬後腿肉 | I4: 2 | J4: =IF(I4,"公斤","") -> 公斤 | K4: 時蔬 | L4: 3 | M4: =IF(L4,"公斤","") -> 公斤 | N4: 蔬菜 | O4: 7 | P4: =IF(O4,"公斤","") -> 公斤 | Q4: 時瓜 | R4: 5 | S4: =IF(R4,"公斤","") -> 公斤
E5: 梅子粉 | G5: =IF(F5,"公斤","") | H5: 甘藍 | I5: 2 | J5: =IF(I5,"公斤","") -> 公斤 | K5: 雞蛋 | L5: 3 | M5: =IF(L5,"公斤","") -> 公斤 | N5: 大蒜 | O5: 0.05 | P5: =IF(O5,"公斤","") -> 公斤 | Q5: 魚丸 | R5: 1 | S5: =IF(R5,"公斤","") -> 公斤 | V5: 5 | W5: 2.6285714 | X5: 1.55 | Y5: 2.2892857 | AB5: 688.91071
G6: =IF(F6,"公斤","") | H6: 胡蘿蔔 | I6: 0.5 | J6: =IF(I6,"公斤","") -> 公斤 | K6: 胡蘿蔔 | L6: 0.5 | M6: =IF(L6,"公斤","") -> 公斤 | P6: =IF(O6,"公斤","") | Q6: 薑 | R6: 0.05 | S6: =IF(R6,"公斤","") -> 公斤
G7: =IF(F7,"公斤","") | H7: 洋蔥 | I7: 1 | J7: =IF(I7,"公斤","") -> 公斤 | K7: 大蒜 | L7: 0.05 | M7: =IF(L7,"公斤","") -> 公斤 | P7: =IF(O7,"公斤","") | S7: =IF(R7,"公斤","")
G8: =IF(F8,"公斤","") | H8: 乾香菇 | I8: 0.05 | J8: =IF(I8,"公斤","") -> 公斤 | M8: =IF(L8,"公斤","") | P8: =IF(O8,"公斤","") | S8: =IF(R8,"公斤","")
G9: =IF(F9,"公斤","") | H9: 油蔥酥 | I9: 0.01 | J9: =IF(I9,"公斤","") -> 公斤 | M9: =IF(L9,"公斤","") | P9: =IF(O9,"公斤","") | S9: =IF(R9,"公斤","")
A10: =A3+1 -> 45414 | B10: L4 | C10: 糙米飯 | E10: 南瓜滷肉 | G10: =IF(F10,"公斤","") | H10: 豆瓣海根 | J10: =IF(I10,"公斤","") | K10: 豆包甘藍 | M10: =IF(L10,"公斤","") | N10: 時蔬 | P10: =IF(O10,"公斤","") | Q10: 綠豆粉圓湯 | S10: =IF(R10,"公斤","") | T10: 果汁 | V10: 6.4 | W10: 2.4761905 | X10: 2.2 | Y10: 2.5380952 | AB10: 802.92857 | AD10: =A10 -> 45414 | AE10: =A11 -> 四 | AF10: =B10 -> L4 | AG10: =C10 -> 糙米飯 | AH10: =C11&" "&C12&" "&C13&" "&C14&" "&C15&" "&C16 -> 米 糙米 | AI10: =E10 -> 南瓜滷肉 | AJ10: =E11&" "&E12&" "&E13&" "&E14&" "&E15&" "&E16 -> 豬後腿肉 南瓜 胡蘿蔔 大蒜 | AK10: =H10 -> 豆瓣海根 | AL10: =H11&" "&H12&" "&H13&" "&H14&" "&H15&" "&H16 -> 海帶根 豬後腿肉 胡蘿蔔 大蒜 豆瓣醬 | AM10: =K10 -> 豆包甘藍 | AN10: =K11&" "&K12&" "&K13&" "&K14&" "&K15&" "&K16 -> 甘藍 大蒜 豆包 | AO10: =N10 -> 時蔬 | AP10: =N11&" "&N12&" "&N13&" "&N14&" "&N15&" "&N16 -> 蔬菜 大蒜 | AQ10: =Q10 -> 綠豆粉圓湯 | AR10: =Q11&" "&Q12&" "&Q13&" "&Q14&" "&Q15&" "&Q16 -> 綠豆 二砂糖 粉圓 | AS10: =T10 -> 果汁 | AT10: =U10 -> 0 | AU10: =V10 -> 6.4 | AV10: =W10 -> 2.4761905 | AW10: =X10 -> 2.2 | AX10: =Y10 -> 2.5380952 | AY10: =Z10 -> 0 | AZ10: =AA10 -> 0 | BA10: =AB10 -> 802.92857
A11: 四 | C11: 米 | D11: 8 | E11: 豬後腿肉 | F11: 6.5 | G11: =IF(F11,"公斤","") -> 公斤 | H11: 海帶根 | I11: 6 | J11: =IF(I11,"公斤","") -> 公斤 | K11: 甘藍 | L11: 7 | M11: =IF(L11,"公斤","") -> 公斤 | N11: 蔬菜 | O11: 7 | P11: =IF(O11,"公斤","") -> 公斤 | Q11: 綠豆 | R11: 1 | S11: =IF(R11,"公斤","") -> 公斤
C12: 糙米 | D12: 2 | E12: 南瓜 | F12: 4 | G12: =IF(F12,"公斤","") -> 公斤 | H12: 豬後腿肉 | I12: 1 | J12: =IF(I12,"公斤","") -> 公斤 | K12: 大蒜 | L12: 0.05 | M12: =IF(L12,"公斤","") -> 公斤 | N12: 大蒜 | O12: 0.05 | P12: =IF(O12,"公斤","") -> 公斤 | Q12: 二砂糖 | R12: 1 | S12: =IF(R12,"公斤","") -> 公斤 | V12: 5.8 | W12: 2.1428571 | X12: 1.4 | Y12: 1.9714286 | AB12: 690.42857
E13: 胡蘿蔔 | F13: 0.5 | G13: =IF(F13,"公斤","") -> 公斤 | H13: 胡蘿蔔 | I13: 0.5 | J13: =IF(I13,"公斤","") -> 公斤 | K13: 豆包 | L13: 1 | M13: =IF(L13,"公斤","") -> 公斤 | P13: =IF(O13,"公斤","") | Q13: 粉圓 | R13: 1 | S13: =IF(R13,"公斤","") -> 公斤
E14: 大蒜 | F14: 0.05 | G14: =IF(F14,"公斤","") -> 公斤 | H14: 大蒜 | I14: 0.05 | J14: =IF(I14,"公斤","") -> 公斤 | M14: =IF(L14,"公斤","") | P14: =IF(O14,"公斤","") | S14: =IF(R14,"公斤","")
G15: =IF(F15,"公斤","") | H15: 豆瓣醬 | J15: =IF(I15,"公斤","") | M15: =IF(L15,"公斤","") | P15: =IF(O15,"公斤","") | S15: =IF(R15,"公斤","")
G16: =IF(F16,"公斤","") | J16: =IF(I16,"公斤","") | M16: =IF(L16,"公斤","") | P16: =IF(O16,"公斤","") | S16: =IF(R16,"公斤","")
A17: =A10+1 -> 45415 | B17: L5 | C17: 麥仁飯 | E17: 瓜仔雞 | G17: =IF(F17,"公斤","") | H17: 番茄炒蛋 | J17: =IF(I17,"公斤","") | K17: 奶香馬鈴薯 | M17: =IF(L17,"公斤","") | N17: 時蔬 | P17: =IF(O17,"公斤","") | Q17: 時蔬湯 | S17: =IF(R17,"公斤","") | T17: 綜合堅果 | U17: 有機豆奶 | V17: 6.2 | W17: 3.512987 | X17: 1.65 | Y17: 2.7814935 | AB17: 863.89123 | AD17: =A17 -> 45415 | AE17: =A18 -> 五 | AF17: =B17 -> L5 | AG17: =C17 -> 麥仁飯 | AH17: =C18&" "&C19&" "&C20&" "&C21&" "&C22&" "&C23 -> 米 大麥仁 | AI17: =E17 -> 瓜仔雞 | AJ17: =E18&" "&E19&" "&E20&" "&E21&" "&E22&" "&E23 -> 肉雞 醃漬花胡瓜 胡蘿蔔 大蒜 | AK17: =H17 -> 番茄炒蛋 | AL17: =H18&" "&H19&" "&H20&" "&H21&" "&H22&" "&H23 -> 大番茄 雞蛋 大蒜 | AM17: =K17 -> 奶香馬鈴薯 | AN17: =K18&" "&K19&" "&K20&" "&K21&" "&K22&" "&K23 -> 馬鈴薯 胡蘿蔔 奶油(固態) | AO17: =N17 -> 時蔬 | AP17: =N18&" "&N19&" "&N20&" "&N21&" "&N22&" "&N23 -> 蔬菜 大蒜 | AQ17: =Q17 -> 時蔬湯 | AR17: =Q18&" "&Q19&" "&Q20&" "&Q21&" "&Q22&" "&Q23 -> 時蔬 排骨 薑 | AS17: =T17 -> 綜合堅果 | AT17: =U17 -> 有機豆奶 | AU17: =V17 -> 6.2 | AV17: =W17 -> 3.512987 | AW17: =X17 -> 1.65 | AX17: =Y17 -> 2.7814935 | AY17: =Z17 -> 0 | AZ17: =AA17 -> 0 | BA17: =AB17 -> 863.89123
A18: 五 | C18: 米 | D18: 10 | E18: 肉雞 | F18: 10 | G18: =IF(F18,"公斤","") -> 公斤 | H18: 大番茄 | I18: 4 | J18: =IF(I18,"公斤","") -> 公斤 | K18: 馬鈴薯 | L18: 8 | M18: =IF(L18,"公斤","") -> 公斤 | N18: 蔬菜 | O18: 7 | P18: =IF(O18,"公斤","") -> 公斤 | Q18: 時蔬 | R18: 3 | S18: =IF(R18,"公斤","") -> 公斤
C19: 大麥仁 | D19: 0.4 | E19: 醃漬花胡瓜 | F19: 2 | G19: =IF(F19,"公斤","") -> 公斤 | H19: 雞蛋 | I19: 4 | J19: =IF(I19,"公斤","") -> 公斤 | K19: 胡蘿蔔 | L19: 0.5 | M19: =IF(L19,"公斤","") -> 公斤 | N19: 大蒜 | O19: 0.05 | P19: =IF(O19,"公斤","") -> 公斤 | Q19: 排骨 | R19: 1 | S19: =IF(R19,"公斤","") -> 公斤 | V19: 5.2 | W19: 3.512987 | X19: 1.655 | Y19: 2.7839935 | AB19: 794.12873
E20: 胡蘿蔔 | F20: 0.5 | G20: =IF(F20,"公斤","") -> 公斤 | H20: 大蒜 | I20: 0.05 | J20: =IF(I20,"公斤","") -> 公斤 | K20: 奶油(固態) | L20: 0.5 | M20: =IF(L20,"公斤","") -> 公斤 | P20: =IF(O20,"公斤","") | Q20: 薑 | R20: 0.05 | S20: =IF(R20,"公斤","") -> 公斤
E21: 大蒜 | F21: 0.05 | G21: =IF(F21,"公斤","") -> 公斤 | J21: =IF(I21,"公斤","") | M21: =IF(L21,"公斤","") | P21: =IF(O21,"公斤","") | S21: =IF(R21,"公斤","")
G22: =IF(F22,"公斤","") | J22: =IF(I22,"公斤","") | M22: =IF(L22,"公斤","") | P22: =IF(O22,"公斤","") | S22: =IF(R22,"公斤","")
G23: =IF(F23,"公斤","") | J23: =IF(I23,"公斤","") | M23: =IF(L23,"公斤","") | P23: =IF(O23,"公斤","") | S23: =IF(R23,"公斤","")
A24: 45052 | B24: M1 | C24: 白米飯 | E24: 梅干滷肉 | G24: =IF(F24,"公斤","") | H24: 花椰炒蛋 | J24: =IF(I24,"公斤","") | K24: 螞蟻上樹 | M24: =IF(L24,"公斤","") | N24: 時蔬 | P24: =IF(O24,"公斤","") | Q24: 時瓜湯 | S24: =IF(R24,"公斤","") | T24: 水果 | V24: 6.2 | W24: 2.974026 | X24: 2.45 | Y24: 2.912013 | AB24: 849.34253 | AD24: =A24 -> 45052 | AE24: =A25 -> 一 | AF24: =B24 -> M1 | AG24: =C24 -> 白米飯 | AH24: =C25&" "&C26&" "&C27&" "&C28&" "&C29&" "&C30 -> 米 | AI24: =E24 -> 梅干滷肉 | AJ24: =E25&" "&E26&" "&E27&" "&E28&" "&E29&" "&E30 -> 豬後腿肉 麻竹筍干 梅乾菜 大蒜 | AK24: =H24 -> 花椰炒蛋 | AL24: =H25&" "&H26&" "&H27&" "&H28&" "&H29&" "&H30 -> 雞蛋 冷凍青花菜 大蒜 胡蘿蔔 | AM24: =K24 -> 螞蟻上樹 | AN24: =K25&" "&K26&" "&K27&" "&K28&" "&K29&" "&K30 -> 豬絞肉 冬粉 時蔬 乾木耳 大蒜 | AO24: =N24 -> 時蔬 | AP24: =N25&" "&N26&" "&N27&" "&N28&" "&N29&" "&N30 -> 蔬菜 大蒜 | AQ24: =Q24 -> 時瓜湯 | AR24: =Q25&" "&Q26&" "&Q27&" "&Q28&" "&Q29&" "&Q30 -> 時瓜 薑 排骨 | AS24: =T24 -> 水果 | AT24: =U24 -> 0 | AU24: =V24 -> 6.2 | AV24: =W24 -> 2.974026 | AW24: =X24 -> 2.45 | AX24: =Y24 -> 2.912013 | AY24: =Z24 -> 0 | AZ24: =AA24 -> 0 | BA24: =AB24 -> 849.34253
A25: 一 | C25: 米 | D25: 10 | E25: 豬後腿肉 | F25: 6.5 | G25: =IF(F25,"公斤","") -> 公斤 | H25: 雞蛋 | I25: 3 | J25: =IF(I25,"公斤","") -> 公斤 | K25: 豬絞肉 | L25: 1 | M25: =IF(L25,"公斤","") -> 公斤 | N25: 蔬菜 | O25: 7 | P25: =IF(O25,"公斤","") -> 公斤 | Q25: 時瓜 | R25: 5 | S25: =IF(R25,"公斤","") -> 公斤
E26: 麻竹筍干 | F26: 2.5 | G26: =IF(F26,"公斤","") -> 公斤 | H26: 冷凍青花菜 | I26: 6 | J26: =IF(I26,"公斤","") -> 公斤 | K26: 冬粉 | L26: 1.8 | M26: =IF(L26,"公斤","") -> 公斤 | N26: 大蒜 | O26: 0.05 | P26: =IF(O26,"公斤","") -> 公斤 | Q26: 薑 | R26: 0.05 | S26: =IF(R26,"公斤","") -> 公斤 | V26: 5 | W26: 2.6883117 | X26: 2.15 | Y26: 2.6191558 | AB26: 723.23539
E27: 梅乾菜 | F27: 0.5 | G27: =IF(F27,"公斤","") -> 公斤 | H27: 大蒜 | I27: 0.05 | J27: =IF(I27,"公斤","") -> 公斤 | K27: 時蔬 | L27: 3 | M27: =IF(L27,"公斤","") -> 公斤 | P27: =IF(O27,"公斤","") | Q27: 排骨 | R27: 1 | S27: =IF(R27,"公斤","") -> 公斤
E28: 大蒜 | F28: 0.05 | G28: =IF(F28,"公斤","") -> 公斤 | H28: 胡蘿蔔 | I28: 0.5 | J28: =IF(I28,"公斤","") -> 公斤 | K28: 乾木耳 | L28: 0.01 | M28: =IF(L28,"公斤","") -> 公斤 | P28: =IF(O28,"公斤","") | S28: =IF(R28,"公斤","")
G29: =IF(F29,"公斤","") | J29: =IF(I29,"公斤","") | K29: 大蒜 | L29: 0.05 | M29: =IF(L29,"公斤","") -> 公斤 | P29: =IF(O29,"公斤","") | S29: =IF(R29,"公斤","")
G30: =IF(F30,"公斤","") | J30: =IF(I30,"公斤","") | M30: =IF(L30,"公斤","") | P30: =IF(O30,"公斤","") | S30: =IF(R30,"公斤","")
A31: =A24+1 -> 45053 | B31: M2 | C31: 糙米飯 | E31: 香滷腿排 | G31: =IF(F31,"公斤","") | H31: 三杯杏鮑菇 | J31: =IF(I31,"公斤","") | K31: 香炒四色 | M31: =IF(L31,"公斤","") | N31: 時蔬 | P31: =IF(O31,"公斤","") | Q31: 海芽蛋花湯 | S31: =IF(R31,"公斤","") | T31: TAP豆漿 | V31: 5.1764706 | W31: 3.9246753 | X31: 1.525 | Y31: 2.9248377 | AB31: 826.44629 | AD31: =A31 -> 45053 | AE31: =A32 -> 二 | AF31: =B31 -> M2 | AG31: =C31 -> 糙米飯 | AH31: =C32&" "&C33&" "&C34&" "&C35&" "&C36&" "&C37 -> 米 糙米 | AI31: =E31 -> 香滷腿排 | AJ31: =E32&" "&E33&" "&E34&" "&E35&" "&E36&" "&E37 -> 腿排 | AK31: =H31 -> 三杯杏鮑菇 | AL31: =H32&" "&H33&" "&H34&" "&H35&" "&H36&" "&H37 -> 杏鮑菇 麵腸 胡蘿蔔 九層塔 薑 | AM31: =K31 -> 香炒四色 | AN31: =K32&" "&K33&" "&K34&" "&K35&" "&K36&" "&K37 -> 冷凍玉米粒 白蘿蔔 胡蘿蔔 豬絞肉 薑 | AO31: =N31 -> 時蔬 | AP31: =N32&" "&N33&" "&N34&" "&N35&" "&N36&" "&N37 -> 蔬菜 大蒜 | AQ31: =Q31 -> 海芽蛋花湯 | AR31: =Q32&" "&Q33&" "&Q34&" "&Q35&" "&Q36&" "&Q37 -> 乾裙帶菜 雞蛋 薑 | AS31: =T31 -> TAP豆漿 | AT31: =U31 -> 0 | AU31: =V31 -> 5.1764706 | AV31: =W31 -> 3.9246753 | AW31: =X31 -> 1.525 | AX31: =Y31 -> 2.9248377 | AY31: =Z31 -> 0 | AZ31: =AA31 -> 0 | BA31: =AB31 -> 826.44629
A32: 二 | C32: 米 | D32: 8 | E32: 腿排 | F32: 12 | G32: =IF(F32,"公斤","") -> 公斤 | H32: 杏鮑菇 | I32: 3 | J32: =IF(I32,"公斤","") -> 公斤 | K32: 冷凍玉米粒 | L32: 1.5 | M32: =IF(L32,"公斤","") -> 公斤 | N32: 蔬菜 | O32: 7 | P32: =IF(O32,"公斤","") -> 公斤 | Q32: 乾裙帶菜 | R32: 0.05 | S32: =IF(R32,"公斤","") -> 公斤
C33: 糙米 | D33: 2 | G33: =IF(F33,"公斤","") | H33: 麵腸 | I33: 2 | J33: =IF(I33,"公斤","") -> 公斤 | K33: 白蘿蔔 | L33: 4 | M33: =IF(L33,"公斤","") -> 公斤 | N33: 大蒜 | O33: 0.05 | P33: =IF(O33,"公斤","") -> 公斤 | Q33: 雞蛋 | R33: 1 | S33: =IF(R33,"公斤","") -> 公斤 | V33: 5 | W33: 3.7532468 | X33: 1.075 | Y33: 2.6141234 | AB33: 776.00406
G34: =IF(F34,"公斤","") | H34: 胡蘿蔔 | I34: 0.5 | J34: =IF(I34,"公斤","") -> 公斤 | K34: 胡蘿蔔 | L34: 0.5 | M34: =IF(L34,"公斤","") -> 公斤 | P34: =IF(O34,"公斤","") | Q34: 薑 | R34: 0.05 | S34: =IF(R34,"公斤","") -> 公斤
G35: =IF(F35,"公斤","") | H35: 九層塔 | I35: 0.2 | J35: =IF(I35,"公斤","") -> 公斤 | K35: 豬絞肉 | L35: 0.6 | M35: =IF(L35,"公斤","") -> 公斤 | P35: =IF(O35,"公斤","") | S35: =IF(R35,"公斤","")
G36: =IF(F36,"公斤","") | H36: 薑 | I36: 0.01 | J36: =IF(I36,"公斤","") -> 公斤 | K36: 薑 | L36: 0.01 | M36: =IF(L36,"公斤","") -> 公斤 | P36: =IF(O36,"公斤","") | S36: =IF(R36,"公斤","")
G37: =IF(F37,"公斤","") | J37: =IF(I37,"公斤","") | M37: =IF(L37,"公斤","") | P37: =IF(O37,"公斤","") | S37: =IF(R37,"公斤","")
A38: =A31+1 -> 45054 | B38: M3 | C38: 南瓜米粉 | E38: 香菇肉燥 | G38: =IF(F38,"公斤","") | H38: 特餐配料 | J38: =IF(I38,"公斤","") | K38: 饅頭 | M38: =IF(L38,"公斤","") | N38: 時蔬 | P38: =IF(O38,"公斤","") | Q38: 酸菜肉片湯 | S38: =IF(R38,"公斤","") | T38: 水果 | V38: 2 | W38: 0.88571429 | X38: 2.152 | Y38: 2.0188571 | AB38: 351.07714 | AD38: =A38 -> 45054 | AE38: =A39 -> 三 | AF38: =B38 -> M3 | AG38: =C38 -> 南瓜米粉 | AH38: =C39&" "&C40&" "&C41&" "&C42&" "&C43&" "&C44 -> 米粉 | AI38: =E38 -> 香菇肉燥 | AJ38: =E39&" "&E40&" "&E41&" "&E42&" "&E43&" "&E44 -> 絞肉 乾香菇 洋蔥 大蒜 | AK38: =H38 -> 特餐配料 | AL38: =H39&" "&H40&" "&H41&" "&H42&" "&H43&" "&H44 -> 豬後腿肉 時蔬 南瓜 胡蘿蔔 乾香菇 油蔥酥 | AM38: =K38 -> 饅頭 | AN38: =K39&" "&K40&" "&K41&" "&K42&" "&K43&" "&K44 -> 饅頭 | AO38: =N38 -> 時蔬 | AP38: =N39&" "&N40&" "&N41&" "&N42&" "&N43&" "&N44 -> 蔬菜 大蒜 | AQ38: =Q38 -> 酸菜肉片湯 | AR38: =Q39&" "&Q40&" "&Q41&" "&Q42&" "&Q43&" "&Q44 -> 酸菜 豬後腿肉 薑 | AS38: =T38 -> 水果 | AT38: =U38 -> 0 | AU38: =V38 -> 2 | AV38: =W38 -> 0.88571429 | AW38: =X38 -> 2.152 | AX38: =Y38 -> 2.0188571 | AY38: =Z38 -> 0 | AZ38: =AA38 -> 0 | BA38: =AB38 -> 351.07714
A39: 三 | C39: 米粉 | D39: 5 | E39: 絞肉 | F39: 6.5 | G39: =IF(F39,"公斤","") -> 公斤 | H39: 豬後腿肉 | I39: 2 | J39: =IF(I39,"公斤","") -> 公斤 | K39: 饅頭 | L39: 3 | M39: =IF(L39,"公斤","") -> 公斤 | N39: 蔬菜 | O39: 7 | P39: =IF(O39,"公斤","") -> 公斤 | Q39: 酸菜 | R39: 2 | S39: =IF(R39,"公斤","") -> 公斤
E40: 乾香菇 | F40: 0.1 | G40: =IF(F40,"公斤","") -> 公斤 | H40: 時蔬 | I40: 2 | J40: =IF(I40,"公斤","") -> 公斤 | M40: =IF(L40,"公斤","") | N40: 大蒜 | O40: 0.05 | P40: =IF(O40,"公斤","") -> 公斤 | Q40: 豬後腿肉 | R40: 1 | S40: =IF(R40,"公斤","") -> 公斤 | V40: 1 | W40: 0.88571429 | X40: 1.6 | Y40: 2.6 | AB40: 293.42857
...

Sheet 葷-國中總表
E1: 花蓮縣112學年度國民中學05月葷食菜單-馨儂快餐(偏鄉廚房)
A2: 日期 | B2: 星期 | C2: 循環 | D2: 主食 | E2: 明細 | F2: 主菜 | G2: 明細 | H2: 副菜一 | I2: 明細 | J2: 副菜二 | K2: 明細 | L2: 時蔬 | M2: 明細 | N2: 湯品 | O2: 明細 | P2: 附餐1 | Q2: 附餐2 | R2: 穀/份 | S2: 豆/份 | T2: 蔬/份 | U2: 油/份 | V2: 乳/份 | W2: 果/份 | X2: 熱量
A3: ='葷-國中'!AD3 -> 45413 | B3: ='葷-國中'!AE3 -> 三 | C3: ='葷-國中'!AF3 -> L3 | D3: ='葷-國中'!AG3 -> 拌麵特餐 | E3: ='葷-國中'!AH3 -> 麵條 | F3: ='葷-國中'!AI3 -> 梅粉魚排 | G3: ='葷-國中'!AJ3 -> 魚排 梅子粉 | H3: ='葷-國中'!AK3 -> 拌麵配料 | ... X3: ='葷-國中'!BA3 -> 758.71753
A4: ='葷-國中'!AD10 -> 45414 | B4: ='葷-國中'!AE10 -> 四 | C4: ='葷-國中'!AF10 -> L4 | D4: ='葷-國中'!AG10 -> 糙米飯 | E4: ='葷-國中'!AH10 -> 米 糙米 | F4: ='葷-國中'!AI10 -> 南瓜滷肉 | G4: ='葷-國中'!AJ10 -> 豬後腿肉 南瓜 胡蘿蔔 大蒜 | H4: ='葷-國中'!AK10 -> 豆瓣海根 | ... P4: ='葷-國中'!AS10 -> 果汁 | R4: ='葷-國中'!AU10 -> 6.4 | S4: ='葷-國中'!AV10 -> 2.4761905 | T4: ='葷-國中'!AW10 -> 2.2 | U4: ='葷-國中'!AX10 -> 2.5380952 | V4: ='葷-國中'!AY10 -> 0 | W4: ='葷-國中'!AZ10 -> 0 | X4: ='葷-國中'!BA10 -> 802.92857
A5: ='葷-國中'!AD17 -> 45415 | B5: ='葷-國中'!AE17 -> 五 | C5: ='葷-國中'!AF17 -> L5 | D5: ='葷-國中'!AG17 -> 麥仁飯 | E5: ='葷-國中'!AH17 -> 米 大麥仁 | F5: ='葷-國中'!AI17 -> 瓜仔雞 | G5: ='葷-國中'!AJ17 -> 肉雞 醃漬花胡瓜 胡蘿蔔 大蒜 | H5: ='葷-國中'!AK17 -> 番茄炒蛋 | ... X5: ='葷-國中'!BA17 -> 863.89123
A6: ='葷-國中'!AD24 -> 45052 | B6: ='葷-國中'!AE24 -> 一 | C6: ='葷-國中'!AF24 -> M1 | D6: ='葷-國中'!AG24 -> 白米飯 | E6: ='葷-國中'!AH24 -> 米 | F6: ='葷-國中'!AI24 -> 梅干滷肉 | G6: ='葷-國中'!AJ24 -> 豬後腿肉 麻竹筍干 梅乾菜 大蒜 | H6: ='葷-國中'!AK24 -> 花椰炒蛋 | ... X6: ='葷-國中'!BA24 -> 849.34253
A7: ='葷-國中'!AD31 -> 45053 | B7: ='葷-國中'!AE31 -> 二 | C7: ='葷-國中'!AF31 -> M2 | D7: ='葷-國中'!AG31 -> 糙米飯 | E7: ='葷-國中'!AH31 -> 米 糙米 | F7: ='葷-國中'!AI31 -> 香滷腿排 | G7: ='葷-國中'!AJ31 -> 腿排 | H7: ='葷-國中'!AK31 -> 三杯杏鮑菇 | ... P7: ='葷-國中'!AS31 -> TAP豆漿 | R7: ='葷-國中'!AU31 -> 5.1764706 | S7: ='葷-國中'!AV31 -> 3.9246753 | T7: ='葷-國中'!AW31 -> 1.525 | U7: ='葷-國中'!AX31 -> 2.9248377 | V7: ='葷-國中'!AY31 -> 0 | W7: ='葷-國中'!AZ31 -> 0 | X7: ='葷-國中'!BA31 -> 826.44629
A8: ='葷-國中'!AD38 -> 45054 | B8: ='葷-國中'!AE38 -> 三 | C8: ='葷-國中'!AF38 -> M3 | D8: ='葷-國中'!AG38 -> 南瓜米粉 | E8: ='葷-國中'!AH38 -> 米粉 | F8: ='葷-國中'!AI38 -> 香菇肉燥 | G8: ='葷-國中'!AJ38 -> 絞肉 乾香菇 洋蔥 大蒜 | H8: ='葷-國中'!AK38 -> 特餐配料 | ... P8: ='葷-國中'!AS38 -> 水果 | R8: ='葷-國中'!AU38 -> 2 | S8: ='葷-國中'!AV38 -> 0.88571429 | T8: ='葷-國中'!AW38 -> 2.152 | U8: ='葷-國中'!AX38 -> 2.0188571 | V8: ='葷-國中'!AY38 -> 0 | W8: ='葷-國中'!AZ38 -> 0 | X8: ='葷-國中'!BA38 -> 351.07714
A9: ='葷-國中'!AD45 -> 45055 | B9: ='葷-國中'!AE45 -> 四 | C9: ='葷-國中'!AF45 -> M4 | D9: ='葷-國中'!AG45 -> 糙米飯 | E9: ='葷-國中'!AH45 -> 米 糙米 | F9: ='葷-國中'!AI45 -> 紅燒雞丁 | G9: ='葷-國中'!AJ45 -> 肉雞 白蘿蔔 胡蘿蔔 大蒜 | H9: ='葷-國中'!AK45 -> 玉米炒蛋 | ... P9: ='葷-國中'!AS45 -> 果汁 | R9: ='葷-國中'!AU45 -> 5.375 | S9: ='葷-國中'!AV45 -> 3.512987 | T9: ='葷-國中'!AW45 -> 1.8 | U9: ='葷-國中'!AX45 -> 2.8564935 | V9: ='葷-國中'!AY45 -> 0 | W9: ='葷-國中'!AZ45 -> 0 | X9: ='葷-國中'!BA45 -> 813.26623
A10: ='葷-國中'!AD52 -> 45056 | B10: ='葷-國中'!AE52 -> 五 | C10: ='葷-國中'!AF52 -> M5 | D10: ='葷-國中'!AG52 -> 紫米飯 | E10: ='葷-國中'!AH52 -> 米 黑糯米 | F10: ='葷-國中'!AI52 -> 香滷肉排 | G10: ='葷-國中'!AJ52 -> 肉排 滷包 | H10: ='葷-國中'!AK52 -> 蔬香豆包 | ... X10: ='葷-國中'!BA52 -> 743.69464
A11: ='葷-國中'!AD59 -> 45059 | B11: ='葷-國中'!AE59 -> 一 | C11: ='葷-國中'!AF59 -> N1 | D11: ='葷-國中'!AG59 -> 白米飯 | E11: ='葷-國中'!AH59 -> 米 | F11: ='葷-國中'!AI59 -> 洋蔥豬柳 | G11: ='葷-國中'!AJ59 -> 豬後腿肉 洋蔥 胡蘿蔔 | H11: ='葷-國中'!AK59 -> 火腿花椰 | ... X11: ='葷-國中'!BA59 -> 777.17857
A12: ='葷-國中'!AD66 -> 45060 | B12: ='葷-國中'!AE66 -> 二 | C12: ='葷-國中'!AF66 -> N2 | D12: ='葷-國中'!AG66 -> 糙米飯 | E12: ='葷-國中'!AH66 -> 米 糙米 | F12: ='葷-國中'!AI66 -> 塔香魷魚 | G12: ='葷-國中'!AJ66 -> 阿根廷魷 豬後腿肉 時蔬 胡蘿蔔 九層塔 大蒜 | H12: ='葷-國中'!AK66 -> 海結滷豆干 | ... P12: ='葷-國中'!AS66 -> TAP豆漿 | R12: ='葷-國中'!AU66 -> 5.375 | S12: ='葷-國中'!AV66 -> 3.1701299 | T12: ='葷-國中'!AW66 -> 1.5 | U12: ='葷-國中'!AX66 -> 2.5350649 | V12: ='葷-國中'!AY66 -> 0 | W12: ='葷-國中'!AZ66 -> 0 | X12: ='葷-國中'!BA66 -> 765.58766
A13: ='葷-國中'!AD73 -> 45061 | B13: ='葷-國中'!AE73 -> 三 | C13: ='葷-國中'!AF73 -> N3 | D13: ='葷-國中'!AG73 -> 油飯特餐 | E13: ='葷-國中'!AH73 -> 米 糯米 | F13: ='葷-國中'!AI73 -> 香滷棒腿 | G13: ='葷-國中'!AJ73 -> 棒腿 滷包 | H13: ='葷-國中'!AK73 -> 油飯配料 | ... P13: ='葷-國中'!AS73 -> 水果 | R13: ='葷-國中'!AU73 -> 5 | S13: ='葷-國中'!AV73 -> 3.7341991 | T13: ='葷-國中'!AW73 -> 2.15 | U13: ='葷-國中'!AX73 -> 2.9420996 | V13: ='葷-國中'!AY73 -> 0 | W13: ='葷-國中'!AZ73 -> 0 | X13: ='葷-國中'!BA73 -> 816.20942
A14: ='葷-國中'!AD80 -> 45062 | B14: ='葷-國中'!AE80 -> 四 | C14: ='葷-國中'!AF80 -> N4 | D14: ='葷-國中'!AG80 -> 糙米飯 | E14: ='葷-國中'!AH80 -> 米 糙米 | F14: ='葷-國中'!AI80 -> 咕咾雞丁 | G14: ='葷-國中'!AJ80 -> 肉雞 鳳梨豆醬 洋蔥 番茄醬 大蒜 | H14: ='葷-國中'!AK80 -> 蔬香寬粉 | ... P14: ='葷-國中'!AS80 -> 果汁 | R14: ='葷-國中'!AU80 -> 7 | S14: ='葷-國中'!AV80 -> 3.4090909 | T14: ='葷-國中'!AW80 -> 1.55 | U14: ='葷-國中'!AX80 -> 2.6795455 | V14: ='葷-國中'!AY80 -> 0 | W14: ='葷-國中'!AZ80 -> 0.1 | X14: ='葷-國中'!BA80 -> 911.01136
A15: ='葷-國中'!AD87 -> 45063 | B15: ='葷-國中'!AE87 -> 五 | C15: ='葷-國中'!AF87 -> N5 | D15: ='葷-國中'!AG87 -> 燕麥飯 | E15: ='葷-國中'!AH87 -> 米 燕麥 | F15: ='葷-國中'!AI87 -> 燒烤雞翅 | G15: ='葷-國中'!AJ87 -> 燒烤雞翅 | H15: ='葷-國中'!AK87 -> 時瓜燴魚丸 | ... X15: ='葷-國中'!BA87 -> 800.16071
A16: ='葷-國中'!AD94 -> 45066 | B16: ='葷-國中'!AE94 -> 一 | C16: ='葷-國中'!AF94 -> O1 | D16: ='葷-國中'!AG94 -> 白米飯 | E16: ='葷-國中'!AH94 -> 米 | F16: ='葷-國中'!AI94 -> 花生肉片 | G16: ='葷-國中'!AJ94 -> 豬後腿肉 胡蘿蔔 時蔬 油花生 大蒜 | H16: ='葷-國中'!AK94 -> 番茄毛豆炒蛋 | ... X16: ='葷-國中'!BA94 -> 773.48052
A17: ='葷-國中'!AD101 -> 45067 | B17: ='葷-國中'!AE101 -> 二 | C17: ='葷-國中'!AF101 -> O2 | D17: ='葷-國中'!AG101 -> 糙米飯 | E17: ='葷-國中'!AH101 -> 米 糙米 | F17: ='葷-國中'!AI101 -> 鹹酥雞 | G17: ='葷-國中'!AJ101 -> 鹹酥雞 九層塔 | H17: ='葷-國中'!AK101 -> 紅燒豆腐 | ... P17: ='葷-國中'!AS101 -> 保久乳 | R17: ='葷-國中'!AU101 -> 5 | S17: ='葷-國中'!AV101 -> 4.3568182 | T17: ='葷-國中'!AW101 -> 1.703 | U17: ='葷-國中'!AX101 -> 3.0299091 | V17: ='葷-國中'!AY101 -> 0 | W17: ='葷-國中'!AZ101 -> 0 | X17: ='葷-國中'!BA101 -> 855.68227
A18: ='葷-國中'!AD108 -> 45068 | B18: ='葷-國中'!AE108 -> 三 | C18: ='葷-國中'!AF108 -> O3 | D18: ='葷-國中'!AG108 -> 培根拌飯 | E18: ='葷-國中'!AH108 -> 米 糙米 | F18: ='葷-國中'!AI108 -> 鮮菇燒肉 | G18: ='葷-國中'!AJ108 -> 豬後腿肉 杏鮑菇 胡蘿蔔 大蒜 | H18: ='葷-國中'!AK108 -> 拌飯配料 | ... P18: ='葷-國中'!AS108 -> 水果 | R18: ='葷-國中'!AU108 -> 5.125 | S18: ='葷-國中'!AV108 -> 2.9142857 | T18: ='葷-國中'!AW108 -> 2.2 | U18: ='葷-國中'!AX108 -> 3.0571429 | V18: ='葷-國中'!AY108 -> 0 | W18: ='葷-國中'!AZ108 -> 0 | X18: ='葷-國中'!BA108 -> 769.89286
A19: ='葷-國中'!AD115 -> 45069 | B19: ='葷-國中'!AE115 -> 四 | C19: D6 | D19: ='葷-國中'!AG115 -> 糙米飯 | E19: ='葷-國中'!AH115 -> 米 糙米 | F19: ='葷-國中'!AI115 -> 竹筍炒肉絲 | G19: ='葷-國中'!AJ115 -> 豬後腿肉 筍絲 胡蘿蔔 大蒜 | H19: ='葷-國中'!AK115 -> 三色鮪魚蛋 | I19: ='葷-國中'!AL115 -> 蛋 鮪魚罐 三色豆 大蒜 | J19: ='葷-國中'!AM115 -> 豆皮甘藍 | K19: ='葷-國中'!AN115 -> 甘藍 胡蘿蔔 大蒜 豆皮 | ... P19: ='葷-國中'!AS115 -> 果汁 | R19: ='葷-國中'!AU115 -> 6.05 | S19: ='葷-國中'!AV115 -> 3.1351732 | T19: ='葷-國中'!AW115 -> 1.755 | U19: ='葷-國中'!AX115 -> 2.6450866 | V19: ='葷-國中'!AY115 -> 0 | W19: ='葷-國中'!AZ115 -> 0 | X19: ='葷-國中'!BA115 -> 821.54188
A20: ='葷-國中'!AD122 -> 45070 | B20: ='葷-國中'!AE122 -> 五 | C20: E1 | D20: ='葷-國中'!AG122 -> 芝麻飯 | E20: ='葷-國中'!AH122 -> 米 芝麻(熟) | F20: ='葷-國中'!AI122 -> 金黃魚排 | G20: ='葷-國中'!AJ122 -> 鯊魚 | H20: ='葷-國中'!AK122 -> 肉絲花椰 | I20: ='葷-國中'!AL122 -> 豬後腿肉 冷凍青花菜 胡蘿蔔 大蒜 | J20: ='葷-國中'!AM122 -> 蘿蔔乾炒蛋 | K20: ='葷-國中'!AN122 -> 雞蛋 蘿蔔乾 胡蘿蔔 大蒜 | ... X20: ='葷-國中'!BA122 -> 771.50974
A21: ='葷-國中'!AD129 -> 45073 | B21: ='葷-國中'!AE129 -> 一 | C21: ='葷-國中'!AF129 -> P1 | D21: ='葷-國中'!AG129 -> 白米飯 | E21: ='葷-國中'!AH129 -> 米 | F21: ='葷-國中'!AI129 -> 打拋豬 | G21: ='葷-國中'!AJ129 -> 豬絞肉 豆薯 大番茄 九層塔 大蒜 | H21: ='葷-國中'!AK129 -> 蛋香花椰 | ... P21: ='葷-國中'!AS129 -> 水果 | R21: ='葷-國中'!AU129 -> 5 | S21: ='葷-國中'!AV129 -> 3.5064935 | T21: ='葷-國中'!AW129 -> 1.97 | U21: ='葷-國中'!AX129 -> 2.9382468 | V21: ='葷-國中'!AY129 -> 0 | W21: ='葷-國中'!AZ129 -> 0 | X21: ='葷-國中'!BA129 -> 794.45812
A22: ='葷-國中'!AD136 -> 45074 | B22: ='葷-國中'!AE136 -> 二 | C22: ='葷-國中'!AF136 -> P2 | D22: ='葷-國中'!AG136 -> 糙米飯 | E22: ='葷-國中'!AH136 -> 米 糙米 | F22: ='葷-國中'!AI136 -> 香滷腿排 | G22: ='葷-國中'!AJ136 -> 腿排 滷包 | H22: ='葷-國中'!AK136 -> 豆瓣海根 | ... P22: ='葷-國中'!AS136 -> 保久乳 | R22: ='葷-國中'!AU136 -> 5.3333333 | S22: ='葷-國中'!AV136 -> 4.012987 | T22: ='葷-國中'!AW136 -> 1.51 | U22: ='葷-國中'!AX136 -> 2.9614935 | V22: ='葷-國中'!AY136 -> 0 | W22: ='葷-國中'!AZ136 -> 0 | X22: ='葷-國中'!BA136 -> 845.32457
A23: ='葷-國中'!AD143 -> 45075 | B23: ='葷-國中'!AE143 -> 三 | C23: ='葷-國中'!AF143 -> P3 | D23: ='葷-國中'!AG143 -> 刈包特餐 | E23: ='葷-國中'!AH143 -> 刈包 | F23: ='葷-國中'!AI143 -> 香滷肉排 | G23: ='葷-國中'!AJ143 -> 肉排 滷包 | H23: ='葷-國中'!AK143 -> 酸菜麵腸 | ... P23: ='葷-國中'!AS143 -> 水果 | R23: ='葷-國中'!AU143 -> 3.6666667 | S23: ='葷-國中'!AV143 -> 3.4285714 | T23: ='葷-國中'!AW143 -> 2.03 | U23: ='葷-國中'!AX143 -> 2.9292857 | V23: ='葷-國中'!AY143 -> 0 | W23: ='葷-國中'!AZ143 -> 0 | X23: ='葷-國中'!BA143 -> 696.37738
A24: ='葷-國中'!AD150 -> 45076 | B24: ='葷-國中'!AE150 -> 四 | C24: ='葷-國中'!AF150 -> P4 | D24: ='葷-國中'!AG150 -> 糙米飯 | E24: ='葷-國中'!AH150 -> 米 糙米 | F24: ='葷-國中'!AI150 -> 馬鈴薯燒肉 | G24: ='葷-國中'!AJ150 -> 豬後腿肉 馬鈴薯 胡蘿蔔 大蒜 | H24: ='葷-國中'!AK150 -> 蔬菜佃煮 | ... P24: ='葷-國中'!AS150 -> 果汁 | R24: ='葷-國中'!AU150 -> 6.05 | S24: ='葷-國中'!AV150 -> 2.1917262 | T24: ='葷-國中'!AW150 -> 2.2 | U24: ='葷-國中'!AX150 -> 2.3958631 | V24: ='葷-國中'!AY150 -> 0.3 | W24: ='葷-國中'!AZ150 -> 0 | X24: ='葷-國中'!BA150 -> 795.6933
A25: ='葷-國中'!AD157 -> 45077 | B25: ='葷-國中'!AE157 -> 五 | C25: ='葷-國中'!AF157 -> P5 | D25: ='葷-國中'!AG157 -> 小米飯 | E25: ='葷-國中'!AH157 -> 米 小米 | F25: ='葷-國中'!AI157 -> 後山鹹豬肉 | G25: ='葷-國中'!AJ157 -> 豬後腿肉 洋蔥 胡蘿蔔 青蔥 大蒜 | H25: ='葷-國中'!AK157 -> 番茄炒蛋 | ... X25: ='葷-國中'!BA157 -> 831.42695
A26: ※「本產品含有甲殼類、芒果、花生、牛奶、蛋、堅果類、芝麻、含麩質穀物、大豆、魚類及亞硫酸鹽類，不適合對其過敏體質者食用。」 5月菜單說明： 1.每周一、二吃有機蔬菜。 2.每周五供應有機豆奶。 3.本店使用國產豬肉。

Sheet 葷-國小
B1: 食材明細（食材重量以100人份計量，營養分析以個人計量,其中肉雞包含23%骨頭之採購量，每周供應特餐一次，當日得混搭供應，國中4菜1湯，國小3菜1湯）
A2: 日期 | B2: 循環 | C2: 主食 | D2: 重/kg | F2: 重/kg | G2: 公斤 | I2: 重/kg | J2: 公斤 | K2: 蔬菜 | L2: 重/kg | M2: 公斤 | O2: 重/kg | P2: 公斤 | Q2: 點心1 | R2: 點心2 | S2: 穀/份 | T2: 豆/份 | U2: 蔬/份 | V2: 油/份 | W2: 乳/份 | X2: 果/份 | Y2: 熱量 | AA2: 日期 | AB2: 星期 | AC2: 循環 | AD2: 主食 | AE2: 明細 | AF2: 主菜 | AG2: 明細 | AH2: 副菜一 | AI2: 明細 | AJ2: 時蔬 | AK2: 明細 | AL2: 湯品 | AM2: 明細 | AN2: 附餐1 | AO2: 附餐2 | AP2: 穀/份 | AQ2: 豆/份 | AR2: 蔬/份 | AS2: 油/份 | AT2: 乳/份 | AU2: 果/份 | AV2: 熱量
A3: 45413 | B3: L3 | C3: 拌麵特餐 | E3: 梅粉魚排 | G3: =IF(F3,"公斤","") | H3: 拌麵配料 | J3: =IF(I3,"公斤","") | K3: 時蔬 | M3: =IF(L3,"公斤","") | N3: 時瓜魚丸湯 | P3: =IF(O3,"公斤","") | Q3: 水果 | S3: 5 | T3: 2.6285714 | U3: 1.55 | V3: 2.2892857 | Y3: 688.91071 | AA3: =A3 -> 45413 | AB3: =A4 -> 三 | AC3: =B3 -> L3 | AD3: =C3 -> 拌麵特餐 | AE3: =C4&" "&C5&" "&C6&" "&C7&" "&C8&" "&C9 -> 麵條 | AF3: =E3 -> 梅粉魚排 | AG3: =E4&" "&E5&" "&E6&" "&E7&" "&E8&" "&E9 -> 魚排 梅子粉 | AH3: =H3 -> 拌麵配料 | AI3: =H4&" "&H5&" "&H6&" "&H7&" "&H8&" "&H9 -> 豬後腿肉 甘藍 胡蘿蔔 洋蔥 乾香菇 油蔥酥 | AJ3: =K3 -> 時蔬 | AK3: =K4&" "&K5&" "&K6&" "&K7&" "&L8&" "&L9 -> 蔬菜 大蒜 | AL3: =N3 -> 時瓜魚丸湯 | AM3: =N4&" "&N5&" "&N6&" "&N7&" "&N8&" "&N9 -> 時瓜 魚丸 薑 | AN3: =Q3 -> 水果 | AO3: =R3 -> 0 | AP3: =S3 -> 5 | AQ3: =T3 -> 2.6285714 | AR3: =U3 -> 1.55 | AS3: =V3 -> 2.2892857 | AT3: =W3 -> 0 | AU3: =X3 -> 0 | AV3: =Y3 -> 688.91071
A4: 三 | C4: 麵條 | D4: 15 | E4: 魚排 | F4: 6.5 | G4: =IF(F4,"公斤","") -> 公斤 | H4: 豬後腿肉 | I4: 2 | J4: =IF(I4,"公斤","") -> 公斤 | K4: 蔬菜 | L4: 7 | M4: =IF(L4,"公斤","") -> 公斤 | N4: 時瓜 | O4: 5 | P4: =IF(O4,"公斤","") -> 公斤
E5: 梅子粉 | G5: =IF(F5,"公斤","") | H5: 甘藍 | I5: 2 | J5: =IF(I5,"公斤","") -> 公斤 | K5: 大蒜 | L5: 0.05 | M5: =IF(L5,"公斤","") -> 公斤 | N5: 魚丸 | O5: 1 | P5: =IF(O5,"公斤","") -> 公斤 | S5: 5 | T5: 3.312987 | U5: 1.261 | V5: 2.2869935 | Y5: 732.91373
G6: =IF(F6,"公斤","") | H6: 胡蘿蔔 | I6: 0.5 | J6: =IF(I6,"公斤","") -> 公斤 | M6: =IF(L6,"公斤","") | N6: 薑 | O6: 0.05 | P6: =IF(O6,"公斤","") -> 公斤
G7: =IF(F7,"公斤","") | H7: 洋蔥 | I7: 1 | J7: =IF(I7,"公斤","") -> 公斤 | M7: =IF(L7,"公斤","") | P7: =IF(O7,"公斤","")
G8: =IF(F8,"公斤","") | H8: 乾香菇 | I8: 0.05 | J8: =IF(I8,"公斤","") -> 公斤 | M8: =IF(L8,"公斤","") | P8: =IF(O8,"公斤","")
G9: =IF(F9,"公斤","") | H9: 油蔥酥 | I9: 0.01 | J9: =IF(I9,"公斤","") -> 公斤 | M9: =IF(L9,"公斤","") | P9: =IF(O9,"公斤","")
A10: =A3+1 -> 45414 | B10: L4 | C10: 糙米飯 | E10: 南瓜滷肉 | G10: =IF(F10,"公斤","") | H10: 豆瓣海根 | J10: =IF(I10,"公斤","") | K10: 時蔬 | M10: =IF(L10,"公斤","") | N10: 綠豆粉圓湯 | P10: =IF(O10,"公斤","") | Q10: 果汁 | S10: 5.8 | T10: 2.1428571 | U10: 1.4 | V10: 1.9714286 | Y10: 690.42857 | AA10: =A10 -> 45414 | AB10: =A11 -> 四 | AC10: =B10 -> L4 | AD10: =C10 -> 糙米飯 | AE10: =C11&" "&C12&" "&C13&" "&C14&" "&C15&" "&C16 -> 米 糙米 | AF10: =E10 -> 南瓜滷肉 | AG10: =E11&" "&E12&" "&E13&" "&E14&" "&E15&" "&E16 -> 豬後腿肉 南瓜 胡蘿蔔 大蒜 | AH10: =H10 -> 豆瓣海根 | AI10: =H11&" "&H12&" "&H13&" "&H14&" "&H15&" "&H16 -> 海帶根 豬後腿肉 胡蘿蔔 大蒜 豆瓣醬 | AJ10: =K10 -> 時蔬 | AK10: =K11&" "&K12&" "&K13&" "&K14&" "&L15&" "&L16 -> 蔬菜 大蒜 | AL10: =N10 -> 綠豆粉圓湯 | AM10: =N11&" "&N12&" "&N13&" "&N14&" "&N15&" "&N16 -> 綠豆 二砂糖 粉圓 | AN10: =Q10 -> 果汁 | AO10: =R10 -> 0 | AP10: =S10 -> 5.8 | AQ10: =T10 -> 2.1428571 | AR10: =U10 -> 1.4 | AS10: =V10 -> 1.9714286 | AT10: =W10 -> 0 | AU10: =X10 -> 0 | AV10: =Y10 -> 690.42857
A11: 四 | C11: 米 | D11: 8 | E11: 豬後腿肉 | F11: 6.5 | G11: =IF(F11,"公斤","") -> 公斤 | H11: 海帶根 | I11: 6 | J11: =IF(I11,"公斤","") -> 公斤 | K11: 蔬菜 | L11: 7 | M11: =IF(L11,"公斤","") -> 公斤 | N11: 綠豆 | O11: 1 | P11: =IF(O11,"公斤","") -> 公斤
C12: 糙米 | D12: 2 | E12: 南瓜 | F12: 4 | G12: =IF(F12,"公斤","") -> 公斤 | H12: 豬後腿肉 | I12: 1 | J12: =IF(I12,"公斤","") -> 公斤 | K12: 大蒜 | L12: 0.05 | M12: =IF(L12,"公斤","") -> 公斤 | N12: 二砂糖 | O12: 1 | P12: =IF(O12,"公斤","") -> 公斤 | S12: 5 | T12: 3.1857143 | U12: 2.005 | V12: 2.5953571 | Y12: 755.84464
E13: 胡蘿蔔 | F13: 0.5 | G13: =IF(F13,"公斤","") -> 公斤 | H13: 胡蘿蔔 | I13: 0.5 | J13: =IF(I13,"公斤","") -> 公斤 | M13: =IF(L13,"公斤","") | N13: 粉圓 | O13: 1 | P13: =IF(O13,"公斤","") -> 公斤
E14: 大蒜 | F14: 0.05 | G14: =IF(F14,"公斤","") -> 公斤 | H14: 大蒜 | I14: 0.05 | J14: =IF(I14,"公斤","") -> 公斤 | M14: =IF(L14,"公斤","") | P14: =IF(O14,"公斤","")
G15: =IF(F15,"公斤","") | H15: 豆瓣醬 | J15: =IF(I15,"公斤","") | M15: =IF(L15,"公斤","") | P15: =IF(O15,"公斤","")
G16: =IF(F16,"公斤","") | J16: =IF(I16,"公斤","") | M16: =IF(L16,"公斤","") | P16: =IF(O16,"公斤","")
A17: =A10+1 -> 45415 | B17: L5 | C17: 麥仁飯 | E17: 瓜仔雞 | G17: =IF(F17,"公斤","") | H17: 番茄炒蛋 | J17: =IF(I17,"公斤","") | K17: 時蔬 | M17: =IF(L17,"公斤","") | N17: 時蔬湯 | P17: =IF(O17,"公斤","") | Q17: 綜合堅果 | R17: 有機豆奶 | S17: 5.2 | T17: 3.512987 | U17: 1.655 | V17: 2.7839935 | Y17: 794.12873 | AA17: =A17 -> 45415 | AB17: =A18 -> 五 | AC17: =B17 -> L5 | AD17: =C17 -> 麥仁飯 | AE17: =C18&" "&C19&" "&C20&" "&C21&" "&C22&" "&C23 -> 米 大麥仁 | AF17: =E17 -> 瓜仔雞 | AG17: =E18&" "&E19&" "&E20&" "&E21&" "&E22&" "&E23 -> 肉雞 醃漬花胡瓜 胡蘿蔔 大蒜 | AH17: =H17 -> 番茄炒蛋 | AI17: =H18&" "&H19&" "&H20&" "&H21&" "&H22&" "&H23 -> 大番茄 雞蛋 大蒜 | AJ17: =K17 -> 時蔬 | AK17: =K18&" "&K19&" "&K20&" "&K21&" "&L22&" "&L23 -> 蔬菜 大蒜 | AL17: =N17 -> 時蔬湯 | AM17: =N18&" "&N19&" "&N20&" "&N21&" "&N22&" "&N23 -> 時蔬 排骨 薑 | AN17: =Q17 -> 綜合堅果 | AO17: =R17 -> 有機豆奶 | AP17: =S17 -> 5.2 | AQ17: =T17 -> 3.512987 | AR17: =U17 -> 1.655 | AS17: =V17 -> 2.7839935 | AT17: =W17 -> 0 | AU17: =X17 -> 0 | AV17: =Y17 -> 794.12873
A18: 五 | C18: 米 | D18: 10 | E18: 肉雞 | F18: 10 | G18: =IF(F18,"公斤","") -> 公斤 | H18: 大番茄 | I18: 4 | J18: =IF(I18,"公斤","") -> 公斤 | K18: 蔬菜 | L18: 7 | M18: =IF(L18,"公斤","") -> 公斤 | N18: 時蔬 | O18: 3 | P18: =IF(O18,"公斤","") -> 公斤
C19: 大麥仁 | D19: 0.4 | E19: 醃漬花胡瓜 | F19: 2 | G19: =IF(F19,"公斤","") -> 公斤 | H19: 雞蛋 | I19: 4 | J19: =IF(I19,"公斤","") -> 公斤 | K19: 大蒜 | L19: 0.05 | M19: =IF(L19,"公斤","") -> 公斤 | N19: 排骨 | O19: 1 | P19: =IF(O19,"公斤","") -> 公斤 | S19: 5.1 | T19: 2.8961039 | U19: 1.25 | V19: 2.5 | Y19: 717.95779
E20: 胡蘿蔔 | F20: 0.5 | G20: =IF(F20,"公斤","") -> 公斤 | H20: 大蒜 | I20: 0.05 | J20: =IF(I20,"公斤","") -> 公斤 | M20: =IF(L20,"公斤","") | N20: 薑 | O20: 0.05 | P20: =IF(O20,"公斤","") -> 公斤
E21: 大蒜 | F21: 0.05 | G21: =IF(F21,"公斤","") -> 公斤 | J21: =IF(I21,"公斤","") | M21: =IF(L21,"公斤","") | P21: =IF(O21,"公斤","")
G22: =IF(F22,"公斤","") | J22: =IF(I22,"公斤","") | M22: =IF(L22,"公斤","") | P22: =IF(O22,"公斤","")
G23: =IF(F23,"公斤","") | J23: =IF(I23,"公斤","") | M23: =IF(L23,"公斤","") | P23: =IF(O23,"公斤","")
A24: 45052 | B24: M1 | C24: 白米飯 | E24: 梅干滷肉 | G24: =IF(F24,"公斤","") | H24: 花椰炒蛋 | J24: =IF(I24,"公斤","") | K24: 時蔬 | M24: =IF(L24,"公斤","") | N24: 時瓜湯 | P24: =IF(O24,"公斤","") | Q24: 水果 | S24: 5 | T24: 2.6883117 | U24: 2.15 | V24: 2.6191558 | Y24: 723.23539 | AA24: =A24 -> 45052 | AB24: =A25 -> 一 | AC24: =B24 -> M1 | AD24: =C24 -> 白米飯 | AE24: =C25&" "&C26&" "&C27&" "&C28&" "&C29&" "&C30 -> 米 | AF24: =E24 -> 梅干滷肉 | AG24: =E25&" "&E26&" "&E27&" "&E28&" "&E29&" "&E30 -> 豬後腿肉 麻竹筍干 梅乾菜 大蒜 | AH24: =H24 -> 花椰炒蛋 | AI24: =H25&" "&H26&" "&H27&" "&H28&" "&H29&" "&H30 -> 雞蛋 冷凍青花菜 大蒜 胡蘿蔔 | AJ24: =K24 -> 時蔬 | AK24: =K25&" "&K26&" "&K27&" "&K28&" "&L29&" "&L30 -> 蔬菜 大蒜 | AL24: =N24 -> 時瓜湯 | AM24: =N25&" "&N26&" "&N27&" "&N28&" "&N29&" "&N30 -> 時瓜 薑 排骨 | AN24: =Q24 -> 水果 | AO24: =R24 -> 0 | AP24: =S24 -> 5 | AQ24: =T24 -> 2.6883117 | AR24: =U24 -> 2.15 | AS24: =V24 -> 2.6191558 | AT24: =W24 -> 0 | AU24: =X24 -> 0 | AV24: =Y24 -> 723.23539
A25: 一 | C25: 米 | D25: 10 | E25: 豬後腿肉 | F25: 6.5 | G25: =IF(F25,"公斤","") -> 公斤 | H25: 雞蛋 | I25: 3 | J25: =IF(I25,"公斤","") -> 公斤 | K25: 蔬菜 | L25: 7 | M25: =IF(L25,"公斤","") -> 公斤 | N25: 時瓜 | O25: 5 | P25: =IF(O25,"公斤","") -> 公斤
E26: 麻竹筍干 | F26: 2.5 | G26: =IF(F26,"公斤","") -> 公斤 | H26: 冷凍青花菜 | I26: 6 | J26: =IF(I26,"公斤","") -> 公斤 | K26: 大蒜 | L26: 0.05 | M26: =IF(L26,"公斤","") -> 公斤 | N26: 薑 | O26: 0.05 | P26: =IF(O26,"公斤","") -> 公斤 | S26: 5.5 | T26: 3.4808442 | U26: 1.06 | V26: 2.2704221 | Y26: 774.73231
E27: 梅乾菜 | F27: 0.5 | G27: =IF(F27,"公斤","") -> 公斤 | H27: 大蒜 | I27: 0.05 | J27: =IF(I27,"公斤","") -> 公斤 | M27: =IF(L27,"公斤","") | N27: 排骨 | O27: 1 | P27: =IF(O27,"公斤","") -> 公斤
E28: 大蒜 | F28: 0.05 | G28: =IF(F28,"公斤","") -> 公斤 | H28: 胡蘿蔔 | I28: 0.5 | J28: =IF(I28,"公斤","") -> 公斤 | M28: =IF(L28,"公斤","") | P28: =IF(O28,"公斤","")
G29: =IF(F29,"公斤","") | J29: =IF(I29,"公斤","") | M29: =IF(L29,"公斤","") | P29: =IF(O29,"公斤","")
G30: =IF(F30,"公斤","") | J30: =IF(I30,"公斤","") | M30: =IF(L30,"公斤","") | P30: =IF(O30,"公斤","")
A31: =A24+1 -> 45053 | B31: M2 | C31: 糙米飯 | E31: 香滷腿排 | G31: =IF(F31,"公斤","") | H31: 三杯杏鮑菇 | J31: =IF(I31,"公斤","") | K31: 時蔬 | M31: =IF(L31,"公斤","") | N31: 海芽蛋花湯 | P31: =IF(O31,"公斤","") | Q31: TAP豆漿 | S31: 5 | T31: 3.7532468 | U31: 1.075 | V31: 2.6141234 | Y31: 776.00406 | AA31: =A31 -> 45053 | AB31: =A32 -> 二 | AC31: =B31 -> M2 | AD31: =C31 -> 糙米飯 | AE31: =C32&" "&C33&" "&C34&" "&C35&" "&C36&" "&C37 -> 米 糙米 | AF31: =E31 -> 香滷腿排 | AG31: =E32&" "&E33&" "&E34&" "&E35&" "&E36&" "&E37 -> 腿排 | AH31: =H31 -> 三杯杏鮑菇 | AI31: =H32&" "&H33&" "&H34&" "&H35&" "&H36&" "&H37 -> 杏鮑菇 麵腸 胡蘿蔔 九層塔 薑 | AJ31: =K31 -> 時蔬 | AK31: =K32&" "&K33&" "&K34&" "&K35&" "&L36&" "&L37 -> 蔬菜 大蒜 | AL31: =N31 -> 海芽蛋花湯 | AM31: =N32&" "&N33&" "&N34&" "&N35&" "&N36&" "&N37 -> 乾裙帶菜 雞蛋 薑 | AN31: =Q31 -> TAP豆漿 | AO31: =R31 -> 0 | AP31: =S31 -> 5 | AQ31: =T31 -> 3.7532468 | AR31: =U31 -> 1.075 | AS31: =V31 -> 2.6141234 | AT31: =W31 -> 0 | AU31: =X31 -> 0 | AV31: =Y31 -> 776.00406
A32: 二 | C32: 米 | D32: 8 | E32: 腿排 | F32: 12 | G32: =IF(F32,"公斤","") -> 公斤 | H32: 杏鮑菇 | I32: 3 | J32: =IF(I32,"公斤","") -> 公斤 | K32: 蔬菜 | L32: 7 | M32: =IF(L32,"公斤","") -> 公斤 | N32: 乾裙帶菜 | O32: 0.05 | P32: =IF(O32,"公斤","") -> 公斤
C33: 糙米 | D33: 2 | G33: =IF(F33,"公斤","") | H33: 麵腸 | I33: 2 | J33: =IF(I33,"公斤","") -> 公斤 | K33: 大蒜 | L33: 0.05 | M33: =IF(L33,"公斤","") -> 公斤 | N33: 雞蛋 | O33: 1 | P33: =IF(O33,"公斤","") -> 公斤 | S33: 5 | T33: 3.7357143 | U33: 1.45 | V33: 2.5928571 | Y33: 783.10714
G34: =IF(F34,"公斤","") | H34: 胡蘿蔔 | I34: 0.5 | J34: =IF(I34,"公斤","") -> 公斤 | M34: =IF(L34,"公斤","") | N34: 薑 | O34: 0.05 | P34: =IF(O34,"公斤","") -> 公斤
G35: =IF(F35,"公斤","") | H35: 九層塔 | I35: 0.2 | J35: =IF(I35,"公斤","") -> 公斤 | M35: =IF(L35,"公斤","") | P35: =IF(O35,"公斤","")
G36: =IF(F36,"公斤","") | H36: 薑 | I36: 0.01 | J36: =IF(I36,"公斤","") -> 公斤 | M36: =IF(L36,"公斤","") | P36: =IF(O36,"公斤","")
G37: =IF(F37,"公斤","") | J37: =IF(I37,"公斤","") | M37: =IF(L37,"公斤","") | P37: =IF(O37,"公斤","")
A38: =A31+1 -> 45054 | B38: M3 | C38: 南瓜米粉 | E38: 香菇肉燥 | G38: =IF(F38,"公斤","") | H38: 特餐配料 | J38: =IF(I38,"公斤","") | K38: 時蔬 | M38: =IF(L38,"公斤","") | N38: 酸菜肉片湯 | P38: =IF(O38,"公斤","") | Q38: 水果 | S38: 1 | T38: 0.88571429 | U38: 1.6 | V38: 2.6 | Y38: 293.42857 | AA38: =A38 -> 45054 | AB38: =A39 -> 三 | AC38: =B38 -> M3 | AD38: =C38 -> 南瓜米粉 | AE38: =C39&" "&C40&" "&C41&" "&C42&" "&C43&" "&C44 -> 米粉 | AF38: =E38 -> 香菇肉燥 | AG38: =E39&" "&E40&" "&E41&" "&E42&" "&E43&" "&E44 -> 絞肉 乾香菇 洋蔥 大蒜 | AH38: =H38 -> 特餐配料 | AI38: =H39&" "&H40&" "&H41&" "&H42&" "&H43&" "&H44 -> 豬後腿肉 時蔬 南瓜 胡蘿蔔 乾香菇 油蔥酥 | AJ38: =K38 -> 時蔬 | AK38: =K39&" "&K40&" "&K41&" "&K42&" "&L43&" "&L44 -> 蔬菜 大蒜 | AL38: =N38 -> 酸菜肉片湯 | AM38: =N39&" "&N40&" "&N41&" "&N42&" "&N43&" "&N44 -> 酸菜 豬後腿肉 薑 | AN38: =Q38 -> 水果 | AO38: =R38 -> 0 | AP38: =S38 -> 1 | AQ38: =T38 -> 0.88571429 | AR38: =U38 -> 1.6 | AS38: =V38 -> 2.6 | AT38: =W38 -> 0 | AU38: =X38 -> 0 | AV38: =Y38 -> 293.42857
A39: 三 | C39: 米粉 | D39: 5 | E39: 絞肉 | F39: 6.5 | G39: =IF(F39,"公斤","") -> 公斤 | H39: 豬後腿肉 | I39: 2 | J39: =IF(I39,"公斤","") -> 公斤 | K39: 蔬菜 | L39: 7 | M39: =IF(L39,"公斤","") -> 公斤 | N39: 酸菜 | O39: 2 | P39: =IF(O39,"公斤","") -> 公斤
E40: 乾香菇 | F40: 0.1 | G40: =IF(F40,"公斤","") -> 公斤 | H40: 時蔬 | I40: 2 | J40: =IF(I40,"公斤","") -> 公斤 | K40: 大蒜 | L40: 0.05 | M40: =IF(L40,"公斤","") -> 公斤 | N40: 豬後腿肉 | O40: 1 | P40: =IF(O40,"公斤","") -> 公斤 | S40: 5 | T40: 2.5714286 | U40: 1.61 | V40: 2.0907143 | Y40: 677.18929
...

Sheet 葷-國小總表
E1: 花蓮縣112學年度國民小學05月葷食菜單-馨儂快餐店(偏鄉廚房)
A2: 日期 | B2: 星期 | C2: 循環 | D2: 主食 | E2: 明細 | F2: 主菜 | G2: 明細 | H2: 副菜一 | I2: 明細 | J2: 時蔬 | K2: 明細 | L2: 湯品 | M2: 明細 | N2: 附餐1 | O2: 附餐2 | P2: 穀/份 | Q2: 豆/份 | R2: 蔬/份 | S2: 油/份 | T2: 乳/份 | U2: 果/份 | V2: 熱量
A3: ='葷-國小'!AA3 -> 45413 | B3: ='葷-國小'!AB3 -> 三 | C3: ='葷-國小'!AC3 -> L3 | D3: ='葷-國小'!AD3 -> 拌麵特餐 | E3: ='葷-國小'!AE3 -> 麵條 | F3: ='葷-國小'!AF3 -> 梅粉魚排 | G3: ='葷-國小'!AG3 -> 魚排 梅子粉 | H3: ='葷-國小'!AH3 -> 拌麵配料 | ... V3: ='葷-國小'!AV3 -> 688.91071
A4: ='葷-國小'!AA10 -> 45414 | B4: ='葷-國小'!AB10 -> 四 | C4: ='葷-國小'!AC10 -> L4 | D4: ='葷-國小'!AD10 -> 糙米飯 | E4: ='葷-國小'!AE10 -> 米 糙米 | F4: ='葷-國小'!AF10 -> 南瓜滷肉 | G4: ='葷-國小'!AG10 -> 豬後腿肉 南瓜 胡蘿蔔 大蒜 | H4: ='葷-國小'!AH10 -> 豆瓣海根 | ... N4: ='葷-國小'!AN10 -> 果汁 | P4: ='葷-國小'!AP10 -> 5.8 | Q4: ='葷-國小'!AQ10 -> 2.1428571 | R4: ='葷-國小'!AR10 -> 1.4 | S4: ='葷-國小'!AS10 -> 1.9714286 | T4: ='葷-國小'!AT10 -> 0 | U4: ='葷-國小'!AU10 -> 0 | V4: ='葷-國小'!AV10 -> 690.42857
A5: ='葷-國小'!AA17 -> 45415 | B5: ='葷-國小'!AB17 -> 五 | C5: ='葷-國小'!AC17 -> L5 | D5: ='葷-國小'!AD17 -> 麥仁飯 | E5: ='葷-國小'!AE17 -> 米 大麥仁 | F5: ='葷-國小'!AF17 -> 瓜仔雞 | G5: ='葷-國小'!AG17 -> 肉雞 醃漬花胡瓜 胡蘿蔔 大蒜 | H5: ='葷-國小'!AH17 -> 番茄炒蛋 | ... V5: ='葷-國小'!AV17 -> 794.12873
A6: ='葷-國小'!AA24 -> 45052 | B6: ='葷-國小'!AB24 -> 一 | C6: ='葷-國小'!AC24 -> M1 | D6: ='葷-國小'!AD24 -> 白米飯 | E6: ='葷-國小'!AE24 -> 米 | F6: ='葷-國小'!AF24 -> 梅干滷肉 | G6: ='葷-國小'!AG24 -> 豬後腿肉 麻竹筍干 梅乾菜 大蒜 | H6: ='葷-國小'!AH24 -> 花椰炒蛋 | ... N6: ='葷-國小'!AN24 -> 水果 | P6: ='葷-國小'!AP24 -> 5 | Q6: ='葷-國中'!AV24 -> 2.974026 | R6: ='葷-國中'!AW24 -> 2.45 | S6: ='葷-國中'!AX24 -> 2.912013 | T6: ='葷-國中'!AY24 -> 0 | U6: ='葷-國中'!AZ24 -> 0 | V6: ='葷-國中'!BA24 -> 849.34253
A7: ='葷-國小'!AA31 -> 45053 | B7: ='葷-國小'!AB31 -> 二 | C7: ='葷-國小'!AC31 -> M2 | D7: ='葷-國小'!AD31 -> 糙米飯 | E7: ='葷-國小'!AE31 -> 米 糙米 | F7: ='葷-國小'!AF31 -> 香滷腿排 | G7: ='葷-國小'!AG31 -> 腿排 | H7: ='葷-國小'!AH31 -> 三杯杏鮑菇 | ... N7: ='葷-國小'!AN31 -> TAP豆漿 | P7: ='葷-國小'!AP31 -> 5 | Q7: ='葷-國小'!AQ31 -> 3.7532468 | R7: ='葷-國小'!AR31 -> 1.075 | S7: ='葷-國小'!AS31 -> 2.6141234 | T7: ='葷-國小'!AT31 -> 0 | U7: ='葷-國小'!AU31 -> 0 | V7: ='葷-國小'!AV31 -> 776.00406
A8: ='葷-國小'!AA38 -> 45054 | B8: ='葷-國小'!AB38 -> 三 | C8: ='葷-國小'!AC38 -> M3 | D8: ='葷-國小'!AD38 -> 南瓜米粉 | E8: ='葷-國小'!AE38 -> 米粉 | F8: ='葷-國小'!AF38 -> 香菇肉燥 | G8: ='葷-國小'!AG38 -> 絞肉 乾香菇 洋蔥 大蒜 | H8: ='葷-國小'!AH38 -> 特餐配料 | ... N8: ='葷-國小'!AN38 -> 水果 | P8: ='葷-國小'!AP38 -> 1 | Q8: ='葷-國小'!AQ38 -> 0.88571429 | R8: ='葷-國小'!AR38 -> 1.6 | S8: ='葷-國小'!AS38 -> 2.6 | T8: ='葷-國小'!AT38 -> 0 | U8: ='葷-國小'!AU38 -> 0 | V8: ='葷-國小'!AV38 -> 293.42857
A9: ='葷-國小'!AA45 -> 45055 | B9: ='葷-國小'!AB45 -> 四 | C9: ='葷-國小'!AC45 -> M4 | D9: ='葷-國小'!AD45 -> 糙米飯 | E9: ='葷-國小'!AE45 -> 米 糙米 | F9: ='葷-國小'!AF45 -> 紅燒雞丁 | G9: ='葷-國小'!AG45 -> 肉雞 白蘿蔔 胡蘿蔔 大蒜 | H9: ='葷-國小'!AH45 -> 玉米炒蛋 | ... N9: ='葷-國小'!AN45 -> 果汁 | P9: ='葷-國小'!AP45 -> 5.4 | Q9: ='葷-國小'!AQ45 -> 3.2272727 | R9: ='葷-國小'!AR45 -> 1.1 | S9: ='葷-國小'!AS45 -> 2.3636364 | T9: ='葷-國小'!AT45 -> 0 | U9: ='葷-國小'!AU45 -> 0 | V9: ='葷-國小'!AV45 -> 753.90909
A10: ='葷-國小'!AA52 -> 45056 | B10: ='葷-國小'!AB52 -> 五 | C10: ='葷-國小'!AC52 -> M5 | D10: ='葷-國小'!AD52 -> 紫米飯 | E10: ='葷-國小'!AE52 -> 米 黑糯米 | F10: ='葷-國小'!AF52 -> 香滷肉排 | G10: ='葷-國小'!AG52 -> 肉排 滷包 | H10: ='葷-國小'!AH52 -> 蔬香豆包 | ... V10: ='葷-國小'!AV52 -> 721.75536
A11: ='葷-國小'!AA59 -> 45059 | B11: ='葷-國小'!AB59 -> 一 | C11: ='葷-國小'!AC59 -> N1 | D11: ='葷-國小'!AD59 -> 白米飯 | E11: ='葷-國小'!AE59 -> 米 | F11: ='葷-國小'!AF59 -> 洋蔥豬柳 | G11: ='葷-國小'!AG59 -> 豬後腿肉 洋蔥 胡蘿蔔 | H11: ='葷-國小'!AH59 -> 火腿花椰 | ... N11: ='葷-國小'!AN59 -> 水果 | P11: ='葷-國小'!AP59 -> 5 | Q11: ='葷-國小'!AQ59 -> 2.4428571 | R11: ='葷-國小'!AR59 -> 2.05 | S11: ='葷-國小'!AS59 -> 2.4464286 | T11: ='葷-國小'!AT59 -> 0 | U11: ='葷-國小'!AU59 -> 0 | V11: ='葷-國小'!AV59 -> 694.55357
A12: ='葷-國小'!AA66 -> 45060 | B12: ='葷-國小'!AB66 -> 二 | C12: ='葷-國小'!AC66 -> N2 | D12: ='葷-國小'!AD66 -> 糙米飯 | E12: ='葷-國小'!AE66 -> 米 糙米 | F12: ='葷-國小'!AF66 -> 塔香魷魚 | G12: ='葷-國小'!AG66 -> 阿根廷魷 豬後腿肉 時蔬 胡蘿蔔 九層塔 大蒜 | H12: ='葷-國小'!AH66 -> 海結滷豆干 | ... N12: ='葷-國小'!AN66 -> TAP豆漿 | P12: ='葷-國小'!AP66 -> 5 | Q12: ='葷-國小'!AQ66 -> 2.4428571 | R12: ='葷-國小'!AR66 -> 1.5 | S12: ='葷-國小'!AS66 -> 2.1714286 | T12: ='葷-國小'!AT66 -> 0 | U12: ='葷-國小'!AU66 -> 0 | V12: ='葷-國小'!AV66 -> 668.42857
A13: ='葷-國小'!AA73 -> 45061 | B13: ='葷-國小'!AB73 -> 三 | C13: ='葷-國小'!AC73 -> N3 | D13: ='葷-國小'!AD73 -> 油飯特餐 | E13: ='葷-國小'!AE73 -> 米 糯米 | F13: ='葷-國小'!AF73 -> 香滷棒腿 | G13: ='葷-國小'!AG73 -> 棒腿 滷包 | H13: ='葷-國小'!AH73 -> 油飯配料 | ... N13: ='葷-國小'!AN73 -> 水果 | P13: ='葷-國小'!AP73 -> 5 | Q13: ='葷-國小'!AQ73 -> 3.4675325 | R13: ='葷-國小'!AR73 -> 1.4 | S13: ='葷-國小'!AS73 -> 2.6337662 | T13: ='葷-國小'!AT73 -> 0 | U13: ='葷-國小'!AU73 -> 0 | V13: ='葷-國小'!AV73 -> 763.58442
A14: ='葷-國小'!AA80 -> 45062 | B14: ='葷-國小'!AB80 -> 四 | C14: ='葷-國小'!AC80 -> N4 | D14: ='葷-國小'!AD80 -> 糙米飯 | E14: ='葷-國小'!AE80 -> 米 糙米 | F14: ='葷-國小'!AF80 -> 咕咾雞丁 | G14: ='葷-國小'!AG80 -> 肉雞 鳳梨豆醬 洋蔥 番茄醬 大蒜 | H14: ='葷-國小'!AH80 -> 蔬香寬粉 | ... N14: ='葷-國小'!AN80 -> 果汁 | P14: ='葷-國小'!AP80 -> 7 | Q14: ='葷-國小'!AQ80 -> 2.6818182 | R14: ='葷-國小'!AR80 -> 1.2 | S14: ='葷-國小'!AS80 -> 2.1409091 | T14: ='葷-國小'!AT80 -> 0 | U14: ='葷-國小'!AU80 -> 0.1 | V14: ='葷-國小'!AV80 -> 823.47727
A15: ='葷-國小'!AA87 -> 45063 | B15: ='葷-國小'!AB87 -> 五 | C15: ='葷-國小'!AC87 -> N5 | D15: ='葷-國小'!AD87 -> 燕麥飯 | E15: ='葷-國小'!AE87 -> 米 燕麥 | F15: ='葷-國小'!AF87 -> 燒烤雞翅 | G15: ='葷-國小'!AG87 -> 燒烤雞翅 | H15: ='葷-國小'!AH87 -> 時瓜燴魚丸 | ... V15: ='葷-國小'!AV87 -> 798.69643
A16: ='葷-國小'!AA94 -> 45066 | B16: ='葷-國小'!AB94 -> 一 | C16: ='葷-國小'!AC94 -> O1 | D16: ='葷-國小'!AD94 -> 白米飯 | E16: ='葷-國小'!AE94 -> 米 | F16: ='葷-國小'!AF94 -> 花生肉片 | G16: ='葷-國小'!AG94 -> 豬後腿肉 胡蘿蔔 時蔬 油花生 大蒜 | H16: ='葷-國小'!AH94 -> 番茄毛豆炒蛋 | ... N16: ='葷-國小'!AN94 -> 水果 | P16: ='葷-國小'!AP94 -> 5.2 | Q16: ='葷-國小'!AQ94 -> 2.7844156 | R16: ='葷-國小'!AR94 -> 1.9 | S16: ='葷-國小'!AS94 -> 2.7422078 | T16: ='葷-國小'!AT94 -> 0 | U16: ='葷-國小'!AU94 -> 0 | V16: ='葷-國小'!AV94 -> 743.73052
A17: ='葷-國小'!AA101 -> 45067 | B17: ='葷-國小'!AB101 -> 二 | C17: ='葷-國小'!AC101 -> O2 | D17: ='葷-國小'!AD101 -> 糙米飯 | E17: ='葷-國小'!AE101 -> 米 糙米 | F17: ='葷-國小'!AF101 -> 鹹酥雞 | G17: ='葷-國小'!AG101 -> 鹹酥雞 九層塔 | H17: ='葷-國小'!AH101 -> 紅燒豆腐 | ... N17: ='葷-國小'!AN101 -> 保久乳 | P17: ='葷-國小'!AP101 -> 5 | Q17: ='葷-國小'!AQ101 -> 4.0711039 | R17: ='葷-國小'!AR101 -> 0.963 | S17: ='葷-國小'!AS101 -> 2.7170519 | T17: ='葷-國小'!AT101 -> 0 | U17: ='葷-國小'!AU101 -> 0 | V17: ='葷-國小'!AV101 -> 801.67513
A18: ='葷-國小'!AA108 -> 45068 | B18: ='葷-國小'!AB108 -> 三 | C18: ='素-國中'!AF108 -> O3 | D18: ='葷-國小'!AD108 -> 培根拌飯 | E18: ='葷-國小'!AE108 -> 米 糙米 | F18: ='葷-國小'!AF108 -> 鮮菇燒肉 | G18: ='葷-國小'!AG108 -> 豬後腿肉 杏鮑菇 胡蘿蔔 大蒜 | H18: ='葷-國小'!AH108 -> 拌飯配料 | I18: ='葷-國小'!AI108 -> 培根 絞肉 洋蔥 冷凍玉米粒 鳳梨罐頭 | J18: ='葷-國小'!AJ108 -> 時蔬 | K18: ='葷-國小'!AK108 -> 蔬菜 大蒜 | ... N18: ='葷-國小'!AN108 -> 水果 | P18: ='葷-國小'!AP108 -> 5.125 | Q18: ='葷-國小'!AQ108 -> 2.3857143 | R18: ='葷-國小'!AR108 -> 1.6 | S18: ='葷-國小'!AS108 -> 2.4928571 | T18: ='葷-國小'!AT108 -> 0 | U18: ='葷-國小'!AU108 -> 0 | V18: ='葷-國小'!AV108 -> 689.85714
A19: ='葷-國小'!AA115 -> 45069 | B19: ='葷-國小'!AB115 -> 四 | C19: D6 | D19: ='葷-國小'!AD115 -> 糙米飯 | E19: ='葷-國小'!AE115 -> 米 糙米 | F19: ='葷-國小'!AF115 -> 竹筍炒肉絲 | G19: ='葷-國小'!AG115 -> 豬後腿肉 筍絲 胡蘿蔔 大蒜 | H19: ='葷-國小'!AH115 -> 三色鮪魚蛋 | I19: ='葷-國小'!AI115 -> 蛋 鮪魚罐 三色豆 大蒜 | J19: ='葷-國小'!AJ115 -> 時蔬 | K19: ='葷-國小'!AK115 -> 蔬菜 大蒜 | ... N19: ='葷-國小'!AN115 -> 果汁 | P19: ='葷-國小'!AP115 -> 6.05 | Q19: ='葷-國小'!AQ115 -> 2.8685065 | R19: ='葷-國小'!AR115 -> 1.005 | S19: ='葷-國小'!AS115 -> 2.1367532 | T19: ='葷-國小'!AT115 -> 0 | U19: ='葷-國小'!AU115 -> 0 | V19: ='葷-國小'!AV115 -> 759.91688
A20: ='葷-國小'!AA122 -> 45070 | B20: ='葷-國小'!AB122 -> 五 | C20: E1 | D20: ='葷-國小'!AD122 -> 芝麻飯 | E20: ='葷-國小'!AE122 -> 米 芝麻(熟) | F20: ='葷-國小'!AF122 -> 金黃魚排 | G20: ='葷-國小'!AG122 -> 鯊魚 | H20: ='葷-國小'!AH122 -> 肉絲花椰 | I20: ='葷-國小'!AI122 -> 豬後腿肉 冷凍青花菜 胡蘿蔔 大蒜 | J20: ='葷-國小'!AJ122 -> 時蔬 | K20: ='葷-國小'!AK122 -> 蔬菜 大蒜 | ... V20: ='葷-國小'!AV122 -> 697.58929
A21: ='葷-國小'!AA129 -> 45073 | B21: ='葷-國小'!AB129 -> 一 | C21: ='葷-國小'!AC129 -> P1 | D21: ='葷-國小'!AD129 -> 白米飯 | E21: ='葷-國小'!AE129 -> 米 | F21: ='葷-國小'!AF129 -> 打拋豬 | G21: ='葷-國小'!AG129 -> 豬絞肉 豆薯 大番茄 九層塔 大蒜 | H21: ='葷-國小'!AH129 -> 蛋香花椰 | ... N21: ='葷-國小'!AN129 -> 水果 | P21: ='葷-國小'!AP129 -> 5 | Q21: ='葷-國小'!AQ129 -> 2.5064935 | R21: ='葷-國小'!AR129 -> 1.77 | S21: ='葷-國小'!AS129 -> 2.3382468 | T21: ='葷-國小'!AT129 -> 0 | U21: ='葷-國小'!AU129 -> 0 | V21: ='葷-國小'!AV129 -> 687.45812
A22: ='葷-國小'!AA136 -> 45074 | B22: ='葷-國小'!AB136 -> 二 | C22: ='葷-國小'!AC136 -> P2 | D22: ='葷-國小'!AD136 -> 糙米飯 | E22: ='葷-國小'!AE136 -> 米 糙米 | F22: ='葷-國小'!AF136 -> 香滷腿排 | G22: ='葷-國小'!AG136 -> 腿排 滷包 | H22: ='葷-國小'!AH136 -> 豆瓣海根 | ... N22: ='葷-國小'!AN136 -> 保久乳 | P22: ='葷-國小'!AP136 -> 5.3 | Q22: ='葷-國小'!AQ136 -> 3.4675325 | R22: ='葷-國小'!AR136 -> 1.21 | S22: ='葷-國小'!AS136 -> 2.5387662 | T22: ='葷-國小'!AT136 -> 0 | U22: ='葷-國小'!AU136 -> 0 | V22: ='葷-國小'!AV136 -> 775.55942
A23: ='葷-國小'!AA143 -> 45075 | B23: ='葷-國小'!AB143 -> 三 | C23: ='葷-國小'!AC143 -> P3 | D23: ='葷-國小'!AD143 -> 刈包特餐 | E23: ='葷-國小'!AE143 -> 刈包 | F23: ='葷-國小'!AF143 -> 香滷肉排 | G23: ='葷-國小'!AG143 -> 肉排 滷包 | H23: ='葷-國小'!AH143 -> 酸菜麵腸 | ... N23: ='葷-國小'!AN143 -> 水果 | P23: ='葷-國小'!AP143 -> 3.6666667 | Q23: ='葷-國小'!AQ143 -> 3.1428571 | R23: ='葷-國小'!AR143 -> 1.28 | S23: ='葷-國小'!AS143 -> 2.4114286 | T23: ='葷-國小'!AT143 -> 0 | U23: ='葷-國小'!AU143 -> 0 | V23: ='葷-國小'!AV143 -> 632.89524
A24: ='葷-國小'!AA150 -> 45076 | B24: ='葷-國小'!AB150 -> 四 | C24: ='葷-國小'!AC150 -> P4 | D24: ='葷-國小'!AD150 -> 糙米飯 | E24: ='葷-國小'!AE150 -> 米 糙米 | F24: ='葷-國小'!AF150 -> 馬鈴薯燒肉 | G24: ='葷-國小'!AG150 -> 豬後腿肉 馬鈴薯 胡蘿蔔 大蒜 | H24: ='葷-國小'!AH150 -> 蔬菜佃煮 | ... N24: ='葷-國小'!AN150 -> 果汁 | P24: ='葷-國小'!AP150 -> 6.2 | Q24: ='葷-國小'!AQ150 -> 2.1071429 | R24: ='葷-國小'!AR150 -> 1.5 | S24: ='葷-國小'!AS150 -> 2.0035714 | T24: ='葷-國小'!AT150 -> 0 | U24: ='葷-國小'!AU150 -> 0 | V24: ='葷-國小'!AV150 -> 764.69643
A25: ='葷-國小'!AA157 -> 45077 | B25: ='葷-國小'!AB157 -> 五 | C25: ='葷-國小'!AC157 -> P5 | D25: ='葷-國小'!AD157 -> 小米飯 | E25: ='葷-國小'!AE157 -> 米 小米 | F25: ='葷-國小'!AF157 -> 後山鹹豬肉 | G25: ='葷-國小'!AG157 -> 豬後腿肉 洋蔥 胡蘿蔔 青蔥 大蒜 | H25: ='葷-國小'!AH157 -> 番茄炒蛋 | ... V25: ='葷-國小'!AV157 -> 724.875
A26: ※「本產品含有甲殼類、芒果、花生、牛奶、蛋、堅果類、芝麻、含麩質穀物、大豆、魚類及亞硫酸鹽類，不適合對其過敏體質者食用。」 5月菜單說明： 1.每周一、二吃有機蔬菜。 2.每周五供應有機豆奶。 3.本店使用國產豬肉。

Sheet 素-國中
B1: 食材明細（食材重量以100人份計量，營養分析以個人計量,其中肉雞包含23%骨頭之採購量，每周供應特餐一次，當日得混搭供應，國中4菜1湯，國小3菜1湯）
A2: 日期 | B2: 循環 | C2: 主食 | D2: 重/kg | G2: 公斤 | J2: 公斤 | M2: 公斤 | N2: 蔬菜 | O2: 重/kg | P2: 公斤 | S2: 公斤 | T2: 點心1 | U2: 點心2 | V2: 穀/份 | W2: 豆/份 | X2: 蔬/份 | Y2: 油/份 | Z2: 乳/份 | AA2: 果/份 | AB2: 熱量 | AD2: 日期 | AE2: 星期 | AF2: 循環 | AG2: 主食 | AH2: 明細 | AI2: 主菜 | AJ2: 明細 | AK2: 副菜一 | AL2: 明細 | AM2: 副菜二 | AN2: 明細 | AO2: 時蔬 | AP2: 明細 | AQ2: 湯品 | AR2: 明細 | AS2: 附餐1 | AT2: 附餐2 | AU2: 穀/份 | AV2: 豆/份 | AW2: 蔬/份 | AX2: 油/份 | AY2: 乳/份 | AZ2: 果/份 | BA2: 熱量
A3: 45413 | B3: L3 | C3: 拌麵特餐 | E3: 美味豆包 | G3: =IF(F3,"公斤","") | H3: 拌麵配料 | J3: =IF(I3,"公斤","") | K3: 蛋香季豆 | M3: =IF(L3,"公斤","") | N3: 時蔬 | P3: =IF(O3,"公斤","") | Q3: 時瓜素丸湯 | S3: =IF(R3,"公斤","") | T3: 水果 | V3: 5 | W3: 3.5454545 | X3: 1.86 | Y3: 2.9027273 | AB3: 793.03182 | AD3: =A3 -> 45413 | AE3: =A4 -> 三 | AF3: =B3 -> L3 | AG3: =C3 -> 拌麵特餐 | AH3: =C4&" "&C5&" "&C6&" "&C7&" "&C8&" "&C9 -> 麵條 | AI3: =E3 -> 美味豆包 | AJ3: =E4&" "&E5&" "&E6&" "&E7&" "&E8&" "&E9 -> 豆包 | AK3: =H3 -> 拌麵配料 | AL3: =H4&" "&H5&" "&H6&" "&H7&" "&H8&" "&H9 -> 豆干 甘藍 胡蘿蔔 素肉 乾香菇 | AM3: =K3 -> 蛋香季豆 | AN3: =K4&" "&K5&" "&K6&" "&K7&" "&K8&" "&K9 -> 時蔬 雞蛋 胡蘿蔔 薑 | AO3: =N3 -> 時蔬 | AP3: =N4&" "&N5&" "&N6&" "&N7&" "&N8&" "&N9 -> 蔬菜 薑 | AQ3: =Q3 -> 時瓜素丸湯 | AR3: =Q4&" "&Q5&" "&Q6&" "&Q7&" "&Q8&" "&Q9 -> 時瓜 素丸 薑 | AS3: =T3 -> 水果 | AT3: =U3 -> 0 | AU3: =V3 -> 5 | AV3: =W3 -> 3.5454545 | AW3: =X3 -> 1.86 | AX3: =Y3 -> 2.9027273 | AY3: =Z3 -> 0 | AZ3: =AA3 -> 0 | BA3: =AB3 -> 793.03182
A4: 三 | C4: 麵條 | D4: 15 | E4: 豆包 | F4: 6 | G4: =IF(F4,"公斤","") -> 公斤 | H4: 豆干 | I4: 2 | J4: =IF(I4,"公斤","") -> 公斤 | K4: 時蔬 | L4: 3 | M4: =IF(L4,"公斤","") -> 公斤 | N4: 蔬菜 | O4: 7 | P4: =IF(O4,"公斤","") -> 公斤 | Q4: 時瓜 | R4: 5 | S4: =IF(R4,"公斤","") -> 公斤
G5: =IF(F5,"公斤","") | H5: 甘藍 | I5: 2 | J5: =IF(I5,"公斤","") -> 公斤 | K5: 雞蛋 | L5: 3 | M5: =IF(L5,"公斤","") -> 公斤 | N5: 薑 | O5: 0.05 | P5: =IF(O5,"公斤","") -> 公斤 | Q5: 素丸 | R5: 1 | S5: =IF(R5,"公斤","") -> 公斤 | V5: 5 | W5: 3 | X5: 1.51 | Y5: 2.455 | AB5: 723.225
G6: =IF(F6,"公斤","") | H6: 胡蘿蔔 | I6: 0.5 | J6: =IF(I6,"公斤","") -> 公斤 | K6: 胡蘿蔔 | L6: 0.5 | M6: =IF(L6,"公斤","") -> 公斤 | P6: =IF(O6,"公斤","") | Q6: 薑 | R6: 0.05 | S6: =IF(R6,"公斤","") -> 公斤
G7: =IF(F7,"公斤","") | H7: 素肉 | I7: 0.6 | J7: =IF(I7,"公斤","") -> 公斤 | K7: 薑 | L7: 0.05 | M7: =IF(L7,"公斤","") -> 公斤 | P7: =IF(O7,"公斤","") | S7: =IF(R7,"公斤","")
G8: =IF(F8,"公斤","") | H8: 乾香菇 | I8: 0.05 | J8: =IF(I8,"公斤","") -> 公斤 | M8: =IF(L8,"公斤","") | P8: =IF(O8,"公斤","") | S8: =IF(R8,"公斤","")
G9: =IF(F9,"公斤","") | J9: =IF(I9,"公斤","") | M9: =IF(L9,"公斤","") | P9: =IF(O9,"公斤","") | S9: =IF(R9,"公斤","")
A10: =A3+1 -> 45414 | B10: L4 | C10: 糙米飯 | E10: 南瓜麵腸 | G10: =IF(F10,"公斤","") | H10: 豆瓣海根 | J10: =IF(I10,"公斤","") | K10: 豆包甘藍 | M10: =IF(L10,"公斤","") | N10: 時蔬 | P10: =IF(O10,"公斤","") | Q10: 綠豆粉圓湯 | S10: =IF(R10,"公斤","") | T10: 果汁 | V10: 6.4 | W10: 2.547619 | X10: 2.2 | Y10: 2.5738095 | AB10: 809.89286 | AD10: =A10 -> 45414 | AE10: =A11 -> 四 | AF10: =B10 -> L4 | AG10: =C10 -> 糙米飯 | AH10: =C11&" "&C12&" "&C13&" "&C14&" "&C15&" "&C16 -> 米 糙米 | AI10: =E10 -> 南瓜麵腸 | AJ10: =E11&" "&E12&" "&E13&" "&E14&" "&E15&" "&E16 -> 麵腸 南瓜 胡蘿蔔 薑 | AK10: =H10 -> 豆瓣海根 | AL10: =H11&" "&H12&" "&H13&" "&H14&" "&H15&" "&H16 -> 海帶根 素肉 胡蘿蔔 薑 豆瓣醬 | AM10: =K10 -> 豆包甘藍 | AN10: =K11&" "&K12&" "&K13&" "&K14&" "&K15&" "&K16 -> 甘藍 薑 豆包 | AO10: =N10 -> 時蔬 | AP10: =N11&" "&N12&" "&N13&" "&N14&" "&N15&" "&N16 -> 蔬菜 薑 | AQ10: =Q10 -> 綠豆粉圓湯 | AR10: =Q11&" "&Q12&" "&Q13&" "&Q14&" "&Q15&" "&Q16 -> 綠豆 二砂糖 粉圓 | AS10: =T10 -> 果汁 | AT10: =U10 -> 0 | AU10: =V10 -> 6.4 | AV10: =W10 -> 2.547619 | AW10: =X10 -> 2.2 | AX10: =Y10 -> 2.5738095 | AY10: =Z10 -> 0 | AZ10: =AA10 -> 0 | BA10: =AB10 -> 809.89286
A11: 四 | C11: 米 | D11: 8 | E11: 麵腸 | F11: 6 | G11: =IF(F11,"公斤","") -> 公斤 | H11: 海帶根 | I11: 6 | J11: =IF(I11,"公斤","") -> 公斤 | K11: 甘藍 | L11: 7 | M11: =IF(L11,"公斤","") -> 公斤 | N11: 蔬菜 | O11: 7 | P11: =IF(O11,"公斤","") -> 公斤 | Q11: 綠豆 | R11: 1 | S11: =IF(R11,"公斤","") -> 公斤
C12: 糙米 | D12: 2 | E12: 南瓜 | F12: 4 | G12: =IF(F12,"公斤","") -> 公斤 | H12: 素肉 | I12: 0.6 | J12: =IF(I12,"公斤","") -> 公斤 | K12: 薑 | L12: 0.05 | M12: =IF(L12,"公斤","") -> 公斤 | N12: 薑 | O12: 0.05 | P12: =IF(O12,"公斤","") -> 公斤 | Q12: 二砂糖 | R12: 1 | S12: =IF(R12,"公斤","") -> 公斤 | V12: 5.8 | W12: 2.2142857 | X12: 1.4 | Y12: 2.0071429 | AB12: 697.39286
E13: 胡蘿蔔 | F13: 0.5 | G13: =IF(F13,"公斤","") -> 公斤 | H13: 胡蘿蔔 | I13: 0.5 | J13: =IF(I13,"公斤","") -> 公斤 | K13: 豆包 | L13: 1 | M13: =IF(L13,"公斤","") -> 公斤 | P13: =IF(O13,"公斤","") | Q13: 粉圓 | R13: 1 | S13: =IF(R13,"公斤","") -> 公斤
E14: 薑 | F14: 0.05 | G14: =IF(F14,"公斤","") -> 公斤 | H14: 薑 | I14: 0.05 | J14: =IF(I14,"公斤","") -> 公斤 | M14: =IF(L14,"公斤","") | P14: =IF(O14,"公斤","") | S14: =IF(R14,"公斤","")
G15: =IF(F15,"公斤","") | H15: 豆瓣醬 | J15: =IF(I15,"公斤","") | M15: =IF(L15,"公斤","") | P15: =IF(O15,"公斤","") | S15: =IF(R15,"公斤","")
G16: =IF(F16,"公斤","") | J16: =IF(I16,"公斤","") | M16: =IF(L16,"公斤","") | P16: =IF(O16,"公斤","") | S16: =IF(R16,"公斤","")
A17: =A10+1 -> 45415 | B17: L5 | C17: 麥仁飯 | E17: 香滷素排 | G17: =IF(F17,"公斤","") | H17: 番茄炒蛋 | J17: =IF(I17,"公斤","") | K17: 奶香馬鈴薯 | M17: =IF(L17,"公斤","") | N17: 時蔬 | P17: =IF(O17,"公斤","") | Q17: 時蔬豆腐湯 | S17: =IF(R17,"公斤","") | T17: 綜合堅果 | U17: 有機豆奶 | V17: 6.2 | W17: 2.75 | X17: 1.4 | Y17: 2.275 | AB17: 777.625 | AD17: =A17 -> 45415 | AE17: =A18 -> 五 | AF17: =B17 -> L5 | AG17: =C17 -> 麥仁飯 | AH17: =C18&" "&C19&" "&C20&" "&C21&" "&C22&" "&C23 -> 米 大麥仁 | AI17: =E17 -> 香滷素排 | AJ17: =E18&" "&E19&" "&E20&" "&E21&" "&E22&" "&E23 -> 素排 | AK17: =H17 -> 番茄炒蛋 | AL17: =H18&" "&H19&" "&H20&" "&H21&" "&H22&" "&H23 -> 大番茄 雞蛋 薑 | AM17: =K17 -> 奶香馬鈴薯 | AN17: =K18&" "&K19&" "&K20&" "&K21&" "&K22&" "&K23 -> 馬鈴薯 胡蘿蔔 奶油(固態) | AO17: =N17 -> 時蔬 | AP17: =N18&" "&N19&" "&N20&" "&N21&" "&N22&" "&N23 -> 蔬菜 薑 | AQ17: =Q17 -> 時蔬豆腐湯 | AR17: =Q18&" "&Q19&" "&Q20&" "&Q21&" "&Q22&" "&Q23 -> 時蔬 豆腐 薑 | AS17: =T17 -> 綜合堅果 | AT17: =U17 -> 有機豆奶 | AU17: =V17 -> 6.2 | AV17: =W17 -> 2.75 | AW17: =X17 -> 1.4 | AX17: =Y17 -> 2.275 | AY17: =Z17 -> 0 | AZ17: =AA17 -> 0 | BA17: =AB17 -> 777.625
A18: 五 | C18: 米 | D18: 10 | E18: 素排 | F18: 6 | G18: =IF(F18,"公斤","") -> 公斤 | H18: 大番茄 | I18: 4 | J18: =IF(I18,"公斤","") -> 公斤 | K18: 馬鈴薯 | L18: 8 | M18: =IF(L18,"公斤","") -> 公斤 | N18: 蔬菜 | O18: 7 | P18: =IF(O18,"公斤","") -> 公斤 | Q18: 時蔬 | R18: 3 | S18: =IF(R18,"公斤","") -> 公斤
C19: 大麥仁 | D19: 0.4 | G19: =IF(F19,"公斤","") | H19: 雞蛋 | I19: 5.5 | J19: =IF(I19,"公斤","") -> 公斤 | K19: 胡蘿蔔 | L19: 0.5 | M19: =IF(L19,"公斤","") -> 公斤 | N19: 薑 | O19: 0.05 | P19: =IF(O19,"公斤","") -> 公斤 | Q19: 豆腐 | R19: 2 | S19: =IF(R19,"公斤","") -> 公斤 | V19: 5.2 | W19: 2.75 | X19: 1.405 | Y19: 2.2775 | AB19: 707.8625
G20: =IF(F20,"公斤","") | H20: 薑 | I20: 0.05 | J20: =IF(I20,"公斤","") -> 公斤 | K20: 奶油(固態) | L20: 0.5 | M20: =IF(L20,"公斤","") -> 公斤 | P20: =IF(O20,"公斤","") | Q20: 薑 | R20: 0.05 | S20: =IF(R20,"公斤","") -> 公斤
G21: =IF(F21,"公斤","") | J21: =IF(I21,"公斤","") | M21: =IF(L21,"公斤","") | P21: =IF(O21,"公斤","") | S21: =IF(R21,"公斤","")
G22: =IF(F22,"公斤","") | J22: =IF(I22,"公斤","") | M22: =IF(L22,"公斤","") | P22: =IF(O22,"公斤","") | S22: =IF(R22,"公斤","")
G23: =IF(F23,"公斤","") | J23: =IF(I23,"公斤","") | M23: =IF(L23,"公斤","") | P23: =IF(O23,"公斤","") | S23: =IF(R23,"公斤","")
A24: 45052 | B24: M1 | C24: 白米飯 | E24: 梅干豆干 | G24: =IF(F24,"公斤","") | H24: 花椰炒蛋 | J24: =IF(I24,"公斤","") | K24: 螞蟻上樹 | M24: =IF(L24,"公斤","") | N24: 時蔬 | P24: =IF(O24,"公斤","") | Q24: 時瓜湯 | S24: =IF(R24,"公斤","") | T24: 水果 | V24: 6.2 | W24: 2.4772727 | X24: 2.405 | Y24: 2.6411364 | AB24: 798.77159 | AD24: =A24 -> 45052 | AE24: =A25 -> 一 | AF24: =B24 -> M1 | AG24: =C24 -> 白米飯 | AH24: =C25&" "&C26&" "&C27&" "&C28&" "&C29&" "&C30 -> 米 | AI24: =E24 -> 梅干豆干 | AJ24: =E25&" "&E26&" "&E27&" "&E28&" "&E29&" "&E30 -> 豆干 麻竹筍干 薑 梅乾菜 | AK24: =H24 -> 花椰炒蛋 | AL24: =H25&" "&H26&" "&H27&" "&H28&" "&H29&" "&H30 -> 雞蛋 冷凍青花菜 薑 胡蘿蔔 | AM24: =K24 -> 螞蟻上樹 | AN24: =K25&" "&K26&" "&K27&" "&K28&" "&K29&" "&K30 -> 素肉 冬粉 時蔬 乾木耳 薑 | AO24: =N24 -> 時蔬 | AP24: =N25&" "&N26&" "&N27&" "&N28&" "&N29&" "&N30 -> 蔬菜 薑 | AQ24: =Q24 -> 時瓜湯 | AR24: =Q25&" "&Q26&" "&Q27&" "&Q28&" "&Q29&" "&Q30 -> 時瓜 薑 素羊肉 | AS24: =T24 -> 水果 | AT24: =U24 -> 0 | AU24: =V24 -> 6.2 | AV24: =W24 -> 2.4772727 | AW24: =X24 -> 2.405 | AX24: =Y24 -> 2.6411364 | AY24: =Z24 -> 0 | AZ24: =AA24 -> 0 | BA24: =AB24 -> 798.77159
A25: 一 | C25: 米 | D25: 10 | E25: 豆干 | F25: 6 | G25: =IF(F25,"公斤","") -> 公斤 | H25: 雞蛋 | I25: 4 | J25: =IF(I25,"公斤","") -> 公斤 | K25: 素肉 | L25: 0.3 | M25: =IF(L25,"公斤","") -> 公斤 | N25: 蔬菜 | O25: 7 | P25: =IF(O25,"公斤","") -> 公斤 | Q25: 時瓜 | R25: 5 | S25: =IF(R25,"公斤","") -> 公斤
E26: 麻竹筍干 | F26: 2.5 | G26: =IF(F26,"公斤","") -> 公斤 | H26: 冷凍青花菜 | I26: 6 | J26: =IF(I26,"公斤","") -> 公斤 | K26: 冬粉 | L26: 1.8 | M26: =IF(L26,"公斤","") -> 公斤 | N26: 薑 | O26: 0.05 | P26: =IF(O26,"公斤","") -> 公斤 | Q26: 薑 | R26: 0.05 | S26: =IF(R26,"公斤","") -> 公斤 | V26: 5 | W26: 2.2272727 | X26: 2.105 | Y26: 2.3661364 | AB26: 676.14659
E27: 薑 | F27: 0.05 | G27: =IF(F27,"公斤","") -> 公斤 | H27: 薑 | I27: 0.05 | J27: =IF(I27,"公斤","") -> 公斤 | K27: 時蔬 | L27: 3 | M27: =IF(L27,"公斤","") -> 公斤 | P27: =IF(O27,"公斤","") | Q27: 素羊肉 | R27: 1 | S27: =IF(R27,"公斤","") -> 公斤
E28: 梅乾菜 | F28: 0.5 | G28: =IF(F28,"公斤","") -> 公斤 | H28: 胡蘿蔔 | I28: 0.5 | J28: =IF(I28,"公斤","") -> 公斤 | K28: 乾木耳 | L28: 0.01 | M28: =IF(L28,"公斤","") -> 公斤 | P28: =IF(O28,"公斤","") | S28: =IF(R28,"公斤","")
G29: =IF(F29,"公斤","") | J29: =IF(I29,"公斤","") | K29: 薑 | L29: 0.05 | M29: =IF(L29,"公斤","") -> 公斤 | P29: =IF(O29,"公斤","") | S29: =IF(R29,"公斤","")
G30: =IF(F30,"公斤","") | J30: =IF(I30,"公斤","") | M30: =IF(L30,"公斤","") | P30: =IF(O30,"公斤","") | S30: =IF(R30,"公斤","")
A31: =A24+1 -> 45053 | B31: M2 | C31: 糙米飯 | E31: 香滷豆包 | G31: =IF(F31,"公斤","") | H31: 三杯杏鮑菇 | J31: =IF(I31,"公斤","") | K31: 香炒四色 | M31: =IF(L31,"公斤","") | N31: 時蔬 | P31: =IF(O31,"公斤","") | Q31: 海芽蛋花湯 | S31: =IF(R31,"公斤","") | T31: TAP豆漿 | V31: 5.1764706 | W31: 3.2532468 | X31: 1.525 | Y31: 2.5891234 | AB31: 760.982 | AD31: =A31 -> 45053 | AE31: =A32 -> 二 | AF31: =B31 -> M2 | AG31: =C31 -> 糙米飯 | AH31: =C32&" "&C33&" "&C34&" "&C35&" "&C36&" "&C37 -> 米 糙米 | AI31: =E31 -> 香滷豆包 | AJ31: =E32&" "&E33&" "&E34&" "&E35&" "&E36&" "&E37 -> 豆包 | AK31: =H31 -> 三杯杏鮑菇 | AL31: =H32&" "&H33&" "&H34&" "&H35&" "&H36&" "&H37 -> 杏鮑菇 麵腸 胡蘿蔔 九層塔 薑 | AM31: =K31 -> 香炒四色 | AN31: =K32&" "&K33&" "&K34&" "&K35&" "&K36&" "&K37 -> 冷凍玉米粒 白蘿蔔 胡蘿蔔 素肉 薑 | AO31: =N31 -> 時蔬 | AP31: =N32&" "&N33&" "&N34&" "&N35&" "&N36&" "&N37 -> 蔬菜 薑 | AQ31: =Q31 -> 海芽蛋花湯 | AR31: =Q32&" "&Q33&" "&Q34&" "&Q35&" "&Q36&" "&Q37 -> 乾裙帶菜 雞蛋 薑 | AS31: =T31 -> TAP豆漿 | AT31: =U31 -> 0 | AU31: =V31 -> 5.1764706 | AV31: =W31 -> 3.2532468 | AW31: =X31 -> 1.525 | AX31: =Y31 -> 2.5891234 | AY31: =Z31 -> 0 | AZ31: =AA31 -> 0 | BA31: =AB31 -> 760.982
A32: 二 | C32: 米 | D32: 8 | E32: 豆包 | F32: 6 | G32: =IF(F32,"公斤","") -> 公斤 | H32: 杏鮑菇 | I32: 3 | J32: =IF(I32,"公斤","") -> 公斤 | K32: 冷凍玉米粒 | L32: 1.5 | M32: =IF(L32,"公斤","") -> 公斤 | N32: 蔬菜 | O32: 7 | P32: =IF(O32,"公斤","") -> 公斤 | Q32: 乾裙帶菜 | R32: 0.05 | S32: =IF(R32,"公斤","") -> 公斤
C33: 糙米 | D33: 2 | G33: =IF(F33,"公斤","") | H33: 麵腸 | I33: 2 | J33: =IF(I33,"公斤","") -> 公斤 | K33: 白蘿蔔 | L33: 4 | M33: =IF(L33,"公斤","") -> 公斤 | N33: 薑 | O33: 0.05 | P33: =IF(O33,"公斤","") -> 公斤 | Q33: 雞蛋 | R33: 1 | S33: =IF(R33,"公斤","") -> 公斤 | V33: 5 | W33: 2.7532468 | X33: 1.075 | Y33: 2.1141234 | AB33: 678.50406
G34: =IF(F34,"公斤","") | H34: 胡蘿蔔 | I34: 0.5 | J34: =IF(I34,"公斤","") -> 公斤 | K34: 胡蘿蔔 | L34: 0.5 | M34: =IF(L34,"公斤","") -> 公斤 | P34: =IF(O34,"公斤","") | Q34: 薑 | R34: 0.05 | S34: =IF(R34,"公斤","") -> 公斤
G35: =IF(F35,"公斤","") | H35: 九層塔 | I35: 0.2 | J35: =IF(I35,"公斤","") -> 公斤 | K35: 素肉 | L35: 0.6 | M35: =IF(L35,"公斤","") -> 公斤 | P35: =IF(O35,"公斤","") | S35: =IF(R35,"公斤","")
G36: =IF(F36,"公斤","") | H36: 薑 | I36: 0.01 | J36: =IF(I36,"公斤","") -> 公斤 | K36: 薑 | L36: 0.01 | M36: =IF(L36,"公斤","") -> 公斤 | P36: =IF(O36,"公斤","") | S36: =IF(R36,"公斤","")
G37: =IF(F37,"公斤","") | J37: =IF(I37,"公斤","") | M37: =IF(L37,"公斤","") | P37: =IF(O37,"公斤","") | S37: =IF(R37,"公斤","")
A38: =A31+1 -> 45054 | B38: D3 | C38: 南瓜米粉 | E38: 香菇麵腸 | G38: =IF(F38,"公斤","") | H38: 特餐配料 | J38: =IF(I38,"公斤","") | K38: 饅頭 | M38: =IF(L38,"公斤","") | N38: 時蔬 | P38: =IF(O38,"公斤","") | Q38: 酸菜豆腐湯 | S38: =IF(R38,"公斤","") | T38: 水果 | V38: 4.25 | W38: 2.8809524 | X38: 1.56 | Y38: 2.7204762 | AB38: 674.99286 | AD38: =A38 -> 45054 | AE38: =A39 -> 三 | AF38: =B38 -> D3 | AG38: =C38 -> 南瓜米粉 | AH38: =C39&" "&C40&" "&C41&" "&C42&" "&C43&" "&C44 -> 米粉 | AI38: =E38 -> 香菇麵腸 | AJ38: =E39&" "&E40&" "&E41&" "&E42&" "&E43&" "&E44 -> 麵腸 乾香菇 時蔬 薑 | AK38: =H38 -> 特餐配料 | AL38: =H39&" "&H40&" "&H41&" "&H42&" "&H43&" "&H44 -> 素肉絲 時蔬 南瓜 胡蘿蔔 乾香菇 | AM38: =K38 -> 饅頭 | AN38: =K39&" "&K40&" "&K41&" "&K42&" "&K43&" "&K44 -> 饅頭 | AO38: =N38 -> 時蔬 | AP38: =N39&" "&N40&" "&N41&" "&N42&" "&N43&" "&N44 -> 蔬菜 薑 | AQ38: =Q38 -> 酸菜豆腐湯 | AR38: =Q39&" "&Q40&" "&Q41&" "&Q42&" "&Q43&" "&Q44 -> 酸菜 豆腐 薑 | AS38: =T38 -> 水果 | AT38: =U38 -> 0 | AU38: =V38 -> 4.25 | AV38: =W38 -> 2.8809524 | AW38: =X38 -> 1.56 | AX38: =Y38 -> 2.7204762 | AY38: =Z38 -> 0 | AZ38: =AA38 -> 0 | BA38: =AB38 -> 674.99286
A39: 三 | C39: 米粉 | D39: 5 | E39: 麵腸 | F39: 6 | G39: =IF(F39,"公斤","") -> 公斤 | H39: 素肉絲 | I39: 0.8 | J39: =IF(I39,"公斤","") -> 公斤 | K39: 饅頭 | L39: 3 | M39: =IF(L39,"公斤","") -> 公斤 | N39: 蔬菜 | O39: 7 | P39: =IF(O39,"公斤","") -> 公斤 | Q39: 酸菜 | R39: 2 | S39: =IF(R39,"公斤","") -> 公斤
E40: 乾香菇 | F40: 0.1 | G40: =IF(F40,"公斤","") -> 公斤 | H40: 時蔬 | I40: 2 | J40: =IF(I40,"公斤","") -> 公斤 | M40: =IF(L40,"公斤","") | N40: 薑 | O40: 0.05 | P40: =IF(O40,"公斤","") -> 公斤 | Q40: 豆腐 | R40: 4 | S40: =IF(R40,"公斤","") -> 公斤 | V40: 2.75 | W40: 2.3809524 | X40: 1.6 | Y40: 2.6 | AB40: 528.07143
...

Sheet 素-國中總表
E1: 花蓮縣112學年度國民中學5月素食菜單-馨儂快餐店(偏鄉廚房)
A2: 日期 | B2: 星期 | C2: 循環 | D2: 主食 | E2: 明細 | F2: 主菜 | G2: 明細 | H2: 副菜一 | I2: 明細 | J2: 副菜二 | K2: 明細 | L2: 時蔬 | M2: 明細 | N2: 湯品 | O2: 明細 | P2: 附餐1 | Q2: 附餐2 | R2: 穀/份 | S2: 豆/份 | T2: 蔬/份 | U2: 油/份 | V2: 乳/份 | W2: 果/份 | X2: 熱量
A3: ='素-國中'!AD3 -> 45413 | B3: ='素-國中'!AE3 -> 三 | C3: ='素-國中'!AF3 -> L3 | D3: ='素-國中'!AG3 -> 拌麵特餐 | E3: ='素-國中'!AH3 -> 麵條 | F3: ='素-國中'!AI3 -> 美味豆包 | G3: ='素-國中'!AJ3 -> 豆包 | H3: ='素-國中'!AK3 -> 拌麵配料 | ... X3: ='素-國中'!BA3 -> 793.03182
A4: ='素-國中'!AD10 -> 45414 | B4: ='素-國中'!AE10 -> 四 | C4: ='素-國中'!AF10 -> L4 | D4: ='素-國中'!AG10 -> 糙米飯 | E4: ='素-國中'!AH10 -> 米 糙米 | F4: ='素-國中'!AI10 -> 南瓜麵腸 | G4: ='素-國中'!AJ10 -> 麵腸 南瓜 胡蘿蔔 薑 | H4: ='素-國中'!AK10 -> 豆瓣海根 | ... P4: ='素-國中'!AS10 -> 果汁 | R4: ='素-國中'!AU10 -> 6.4 | S4: ='素-國中'!AV10 -> 2.547619 | T4: ='素-國中'!AW10 -> 2.2 | U4: ='素-國中'!AX10 -> 2.5738095 | V4: ='素-國中'!AY10 -> 0 | W4: ='素-國中'!AZ10 -> 0 | X4: ='素-國中'!BA10 -> 809.89286
A5: ='素-國中'!AD17 -> 45415 | B5: ='素-國中'!AE17 -> 五 | C5: ='素-國中'!AF17 -> L5 | D5: ='素-國中'!AG17 -> 麥仁飯 | E5: ='素-國中'!AH17 -> 米 大麥仁 | F5: ='素-國中'!AI17 -> 香滷素排 | G5: ='素-國中'!AJ17 -> 素排 | H5: ='素-國中'!AK17 -> 番茄炒蛋 | ... X5: ='素-國中'!BA17 -> 777.625
A6: ='素-國中'!AD24 -> 45052 | B6: ='素-國中'!AE24 -> 一 | C6: ='素-國中'!AF24 -> M1 | D6: ='素-國中'!AG24 -> 白米飯 | E6: ='素-國中'!AH24 -> 米 | F6: ='素-國中'!AI24 -> 梅干豆干 | G6: ='素-國中'!AJ24 -> 豆干 麻竹筍干 薑 梅乾菜 | H6: ='素-國中'!AK24 -> 花椰炒蛋 | ... X6: ='素-國中'!BA24 -> 798.77159
