Workbook

Sheet 偏鄉計劃學校(葷)國中
A1: 112學年度下學期國民中學2月份葷食菜單(偏鄉計劃學校)-------華王御膳
A2: 食材明細（食材重量以100人份計量，營養分析以個人計量,其中肉雞包含23%骨頭之採購量，每周供應特餐一次，當日得混搭供應，國中4菜1湯1附餐點心1，國小3菜1湯1附餐點1)
A3: 為符合契約規範，每周供應一次附餐點心2本縣有機豆奶，每周供應二次有機蔬菜。每周供應一次果汁、保久乳、水果。 | AF3: 統整區的檔案，連動到上方循環，後續給教育處的檔案，此處請自行隱藏
A4: 循環 | B4: 穀/份 | C4: 豆/份 | D4: 蔬/份 | E4: 油/份 | F4: 乳/份 | G4: 果/份 | H4: 熱量 | I4: 主食 | J4: 重/kg | K4: 公斤 | L4: 主菜 | M4: 重/kg | N4: 公斤 | O4: 副菜一 | P4: 重/kg | Q4: 公斤 | R4: 副菜二 | S4: 重/kg | T4: 公斤 | U4: 蔬菜 | V4: 重/kg | W4: 公斤 | X4: 湯品 | Y4: 重/kg | Z4: 公斤 | AA4: 附餐點心 | AB4: 重/kg | AC4: 公斤 | AD4: 附餐點心 | AE4: 附餐點心 | AG4: 主食 | AH4: 主菜 | AI4: 副菜一 | AJ4: 副菜二 | AK4: 蔬菜 | AL4: 湯品 | AM4: 點心 | AN4: 點心 | AO4: 點心
A5: a4 | B5: 5 | C5: 3.8 | D5: 2 | E5: 4 | F5: 0 | G5: 0 | H5: 865 | I5: 白米飯 | K5: =IF(J5,"公斤","") | L5: 香酥雞翅 | N5: =IF(M5,"公斤","") | O5: 麻婆豆腐 | Q5: =IF(P5,"公斤","") | R5: 培根花椰 | T5: =IF(S5,"公斤","") | U5: 時蔬 | W5: =IF(V5,"公斤","") | X5: 時蔬湯 | Z5: =IF(Y5,"公斤","") | AA5: 點心 | AD5: 有雞豆奶 | AF5: =A5 -> a4 | AG5: =I6&" "&I7&" "&I8&" "&I9&" "&I10&" "&I11 -> 米 | AH5: =L6&" "&L7&" "&L8&" "&L9&" "&L10&" "&L11 -> 三節翅 胡椒鹽 | AI5: =O6&" "&O7&" "&O8&" "&O9&" "&O10&" "&O11 -> 豆腐 豬絞肉 時瓜 大蒜 豆瓣醬 | AJ5: =R6&" "&R7&" "&R8&" "&R9&" "&R10&" "&R11 -> 冷凍花椰菜 培根 大蒜 | AK5: =U6&" "&U7&" "&U8&" "&U9&" "&U10&" "&U11 -> 蔬菜 大蒜 | AL5: =X6&" "&X7&" "&X8&" "&X9&" "&X10&" "&X11 -> 時蔬 豬大排 薑 | AM5: =AA6&" "&AA7&" "&AA8&" "&AA9&" "&AA10&" "&AA11 -> 點心 | AN5: =AD6&" "&AD7&" "&AD8&" "&AD9&" "&AD10&" "&AD11 | AO5: =AE6&" "&AE7&" "&AE8&" "&AE9&" "&AE10&" "&AE11 -> 123
I6: 米 | J6: 10 | K6: =IF(J6,"公斤","") -> 公斤 | L6: 三節翅 | M6: 9 | N6: =IF(M6,"公斤","") -> 公斤 | O6: 豆腐 | P6: 6 | Q6: =IF(P6,"公斤","") -> 公斤 | R6: 冷凍花椰菜 | S6: 5 | T6: =IF(S6,"公斤","") -> 公斤 | U6: 蔬菜 | V6: 7 | W6: =IF(V6,"公斤","") -> 公斤 | X6: 時蔬 | Y6: 4 | Z6: =IF(Y6,"公斤","") -> 公斤 | AA6: 點心 | AB6: 5 | AE6: 123
A7: 45338 | K7: =IF(J7,"公斤","") | L7: 胡椒鹽 | N7: =IF(M7,"公斤","") | O7: 豬絞肉 | P7: 1 | Q7: =IF(P7,"公斤","") -> 公斤 | R7: 培根 | S7: 1 | T7: =IF(S7,"公斤","") -> 公斤 | U7: 大蒜 | V7: 0.05 | W7: =IF(V7,"公斤","") -> 公斤 | X7: 豬大排 | Y7: 1 | Z7: =IF(Y7,"公斤","") -> 公斤
K8: =IF(J8,"公斤","") | N8: =IF(M8,"公斤","") | O8: 時瓜 | P8: 4 | Q8: =IF(P8,"公斤","") -> 公斤 | R8: 大蒜 | S8: 0.05 | T8: =IF(S8,"公斤","") -> 公斤 | W8: =IF(V8,"公斤","") | X8: 薑 | Y8: 0.05 | Z8: =IF(Y8,"公斤","") -> 公斤
A9: 星期五 | K9: =IF(J9,"公斤","") | N9: =IF(M9,"公斤","") | O9: 大蒜 | P9: 0.05 | Q9: =IF(P9,"公斤","") -> 公斤 | T9: =IF(S9,"公斤","") | W9: =IF(V9,"公斤","") | Z9: =IF(Y9,"公斤","")
K10: =IF(J10,"公斤","") | N10: =IF(M10,"公斤","") | O10: 豆瓣醬 | Q10: =IF(P10,"公斤","") | T10: =IF(S10,"公斤","") | W10: =IF(V10,"公斤","") | Z10: =IF(Y10,"公斤","")
K11: =IF(J11,"公斤","") | N11: =IF(M11,"公斤","") | Q11: =IF(P11,"公斤","") | T11: =IF(S11,"公斤","") | W11: =IF(V11,"公斤","") | Z11: =IF(Y11,"公斤","")
A12: a5 | B12: 5.5 | C12: 3.6 | D12: 2 | E12: 3 | F12: 0 | G12: 0 | H12: 840 | I12: 糙米飯 | K12: =IF(J12,"公斤","") | L12: 咖哩雞 | N12: =IF(M12,"公斤","") | O12: 螞蟻上樹 | Q12: =IF(P12,"公斤","") | R12: 蜜汁豆干 | T12: =IF(S12,"公斤","") | U12: 時蔬 | W12: =IF(V12,"公斤","") | X12: 蘿蔔魚丸湯 | Z12: =IF(Y12,"公斤","") | AA12: 點心 | AF12: =A12 -> a5 | AG12: =I13&" "&I14&" "&I15&" "&I16&" "&I17&" "&I18 -> 米 糙米 | AH12: =L13&" "&L14&" "&L15&" "&L16&" "&L17&" "&L18 -> 肉雞 馬鈴薯 洋蔥 胡蘿蔔 大蒜 咖哩粉 | AI12: =O13&" "&O14&" "&O15&" "&O16&" "&O17&" "&O18 -> 冬粉 豬絞肉 時蔬 乾木耳 大蒜 | AJ12: =R13&" "&R14&" "&R15&" "&R16&" "&R17&" "&R18 -> 豆干 大蒜 芝麻(熟) 滷包 | AK12: =U13&" "&U14&" "&U15&" "&U16&" "&U17&" "&U18 -> 蔬菜 大蒜 | AL12: =X13&" "&X14&" "&X15&" "&X16&" "&X17&" "&X18 -> 魚丸 白蘿蔔 薑 | AM12: =AA13&" "&AA14&" "&AA15&" "&AA16&" "&AA17&" "&AA18 -> 點心 | AN12: =AD13&" "&AD14&" "&AD15&" "&AD16&" "&AD17&" "&AD18 | AO12: =AE13&" "&AE14&" "&AE15&" "&AE16&" "&AE17&" "&AE18
I13: 米 | J13: 8 | K13: =IF(J13,"公斤","") -> 公斤 | L13: 肉雞 | M13: 10 | N13: =IF(M13,"公斤","") -> 公斤 | O13: 冬粉 | P13: 1.2 | Q13: =IF(P13,"公斤","") -> 公斤 | R13: 豆干 | S13: 5 | T13: =IF(S13,"公斤","") -> 公斤 | U13: 蔬菜 | V13: 7 | W13: =IF(V13,"公斤","") -> 公斤 | X13: 魚丸 | Y13: 1 | Z13: =IF(Y13,"公斤","") -> 公斤 | AA13: 點心 | AB13: 5
A14: 45339 | I14: 糙米 | J14: 2 | K14: =IF(J14,"公斤","") -> 公斤 | L14: 馬鈴薯 | M14: 2 | N14: =IF(M14,"公斤","") -> 公斤 | O14: 豬絞肉 | P14: 1 | Q14: =IF(P14,"公斤","") -> 公斤 | R14: 大蒜 | S14: 0.05 | T14: =IF(S14,"公斤","") -> 公斤 | U14: 大蒜 | V14: 0.05 | W14: =IF(V14,"公斤","") -> 公斤 | X14: 白蘿蔔 | Y14: 4 | Z14: =IF(Y14,"公斤","") -> 公斤
K15: =IF(J15,"公斤","") | L15: 洋蔥 | M15: 3 | N15: =IF(M15,"公斤","") -> 公斤 | O15: 時蔬 | P15: 4 | Q15: =IF(P15,"公斤","") -> 公斤 | R15: 芝麻(熟) | T15: =IF(S15,"公斤","") | W15: =IF(V15,"公斤","") | X15: 薑 | Y15: 0.05 | Z15: =IF(Y15,"公斤","") -> 公斤
A16: 星期六 | K16: =IF(J16,"公斤","") | L16: 胡蘿蔔 | M16: 2 | N16: =IF(M16,"公斤","") -> 公斤 | O16: 乾木耳 | P16: 0.01 | Q16: =IF(P16,"公斤","") -> 公斤 | R16: 滷包 | T16: =IF(S16,"公斤","") | W16: =IF(V16,"公斤","") | Z16: =IF(Y16,"公斤","")
A17: 補課 | K17: =IF(J17,"公斤","") | L17: 大蒜 | M17: 0.05 | N17: =IF(M17,"公斤","") -> 公斤 | O17: 大蒜 | P17: 0.05 | Q17: =IF(P17,"公斤","") -> 公斤 | T17: =IF(S17,"公斤","") | W17: =IF(V17,"公斤","") | Z17: =IF(Y17,"公斤","")
K18: =IF(J18,"公斤","") | L18: 咖哩粉 | N18: =IF(M18,"公斤","") | Q18: =IF(P18,"公斤","") | T18: =IF(S18,"公斤","") | W18: =IF(V18,"公斤","") | Z18: =IF(Y18,"公斤","")
A19: b1 | B19: 5 | C19: 2.6 | D19: 2.4 | E19: 3 | F19: 0 | G19: 0 | H19: 740 | I19: 白米飯 | K19: =IF(J19,"公斤","") | L19: 回鍋肉片 | N19: =IF(M19,"公斤","") | O19: 西滷白菜 | Q19: =IF(P19,"公斤","") | R19: 塔香海茸 | T19: =IF(S19,"公斤","") | U19: 時蔬 | W19: =IF(V19,"公斤","") | X19: 牛蒡湯 | Z19: =IF(Y19,"公斤","") | AA19: 點心 | AF19: =A19 -> b1 | AG19: =I20&" "&I21&" "&I22&" "&I23&" "&I24&" "&I25 -> 米 | AH19: =L20&" "&L21&" "&L22&" "&L23&" "&L24&" "&L25 -> 豬後腿肉 洋蔥 胡蘿蔔 大蒜 甜麵醬 | AI19: =O20&" "&O21&" "&O22&" "&O23&" "&O24&" "&O25 -> 雞蛋 結球白菜 胡蘿蔔 蝦仁 大蒜 | AJ19: =R20&" "&R21&" "&R22&" "&R23&" "&R24&" "&R25 -> 海帶茸 九層塔 豬後腿肉 大蒜 | AK19: =U20&" "&U21&" "&U22&" "&U23&" "&U24&" "&U25 -> 蔬菜 大蒜 | AL19: =X20&" "&X21&" "&X22&" "&X23&" "&X24&" "&X25 -> 牛蒡 豬大排 薑 枸杞 | AM19: =AA20&" "&AA21&" "&AA22&" "&AA23&" "&AA24&" "&AA25 -> 點心 | AN19: =AD20&" "&AD21&" "&AD22&" "&AD23&" "&AD24&" "&AD25 | AO19: =AE20&" "&AE21&" "&AE22&" "&AE23&" "&AE24&" "&AE25
I20: 米 | J20: 10 | K20: =IF(J20,"公斤","") -> 公斤 | L20: 豬後腿肉 | M20: 6 | N20: =IF(M20,"公斤","") -> 公斤 | O20: 雞蛋 | P20: 0.5 | Q20: =IF(P20,"公斤","") -> 公斤 | R20: 海帶茸 | S20: 6 | T20: =IF(S20,"公斤","") -> 公斤 | U20: 蔬菜 | V20: 7 | W20: =IF(V20,"公斤","") -> 公斤 | X20: 牛蒡 | Y20: 2 | Z20: =IF(Y20,"公斤","") -> 公斤 | AA20: 點心 | AB20: 5
A21: 45341 | K21: =IF(J21,"公斤","") | L21: 洋蔥 | M21: 4 | N21: =IF(M21,"公斤","") -> 公斤 | O21: 結球白菜 | P21: 4 | Q21: =IF(P21,"公斤","") -> 公斤 | R21: 九層塔 | S21: 0.1 | T21: =IF(S21,"公斤","") -> 公斤 | U21: 大蒜 | V21: 0.05 | W21: =IF(V21,"公斤","") -> 公斤 | X21: 豬大排 | Y21: 1 | Z21: =IF(Y21,"公斤","") -> 公斤
K22: =IF(J22,"公斤","") | L22: 胡蘿蔔 | M22: 0.5 | N22: =IF(M22,"公斤","") -> 公斤 | O22: 胡蘿蔔 | P22: 1 | Q22: =IF(P22,"公斤","") -> 公斤 | R22: 豬後腿肉 | S22: 1 | T22: =IF(S22,"公斤","") -> 公斤 | W22: =IF(V22,"公斤","") | X22: 薑 | Y22: 0.05 | Z22: =IF(Y22,"公斤","") -> 公斤
A23: 星期一 | K23: =IF(J23,"公斤","") | L23: 大蒜 | M23: 0.05 | N23: =IF(M23,"公斤","") -> 公斤 | O23: 蝦仁 | P23: 2 | Q23: =IF(P23,"公斤","") -> 公斤 | R23: 大蒜 | S23: 0.05 | T23: =IF(S23,"公斤","") -> 公斤 | W23: =IF(V23,"公斤","") | X23: 枸杞 | Z23: =IF(Y23,"公斤","")
K24: =IF(J24,"公斤","") | L24: 甜麵醬 | N24: =IF(M24,"公斤","") | O24: 大蒜 | P24: 0.05 | Q24: =IF(P24,"公斤","") -> 公斤 | T24: =IF(S24,"公斤","") | W24: =IF(V24,"公斤","") | Z24: =IF(Y24,"公斤","")
K25: =IF(J25,"公斤","") | N25: =IF(M25,"公斤","") | Q25: =IF(P25,"公斤","") | T25: =IF(S25,"公斤","") | W25: =IF(V25,"公斤","") | Z25: =IF(Y25,"公斤","")
A26: b2 | B26: 5 | C26: 2.7 | D26: 2.1 | E26: 4 | F26: 0 | G26: 0 | H26: 785 | I26: 糙米飯 | K26: =IF(J26,"公斤","") | L26: 香酥魚排 | N26: =IF(M26,"公斤","") | O26: 玉米三色 | Q26: =IF(P26,"公斤","") | R26: 香滷油腐 | T26: =IF(S26,"公斤","") | U26: 時蔬 | W26: =IF(V26,"公斤","") | X26: 味噌海芽湯 | Z26: =IF(Y26,"公斤","") | AA26: 點心 | AF26: =A26 -> b2 | AG26: =I27&" "&I28&" "&I29&" "&I30&" "&I31&" "&I32 -> 米 糙米 | AH26: =L27&" "&L28&" "&L29&" "&L30&" "&L31&" "&L32 -> 魚排 | AI26: =O27&" "&O28&" "&O29&" "&O30&" "&O31&" "&O32 -> 甜椒(青皮) 冷凍玉米粒 馬鈴薯 胡蘿蔔 培根 大蒜 | AJ26: =R27&" "&R28&" "&R29&" "&R30&" "&R31&" "&R32 -> 四角油豆腐 麻竹筍干 大蒜 滷包 | AK26: =U27&" "&U28&" "&U29&" "&U30&" "&U31&" "&U32 -> 蔬菜 大蒜 | AL26: =X27&" "&X28&" "&X29&" "&X30&" "&X31&" "&X32 -> 乾裙帶菜 時蔬 味噌 | AM26: =AA27&" "&AA28&" "&AA29&" "&AA30&" "&AA31&" "&AA32 -> 點心 | AN26: =AD27&" "&AD28&" "&AD29&" "&AD30&" "&AD31&" "&AD32 | AO26: =AE27&" "&AE28&" "&AE29&" "&AE30&" "&AE31&" "&AE32
I27: 米 | J27: 8 | K27: =IF(J27,"公斤","") -> 公斤 | L27: 魚排 | M27: 7 | N27: =IF(M27,"公斤","") -> 公斤 | O27: 甜椒(青皮) | P27: 2 | Q27: =IF(P27,"公斤","") -> 公斤 | R27: 四角油豆腐 | S27: 4 | T27: =IF(S27,"公斤","") -> 公斤 | U27: 蔬菜 | V27: 7 | W27: =IF(V27,"公斤","") -> 公斤 | X27: 乾裙帶菜 | Y27: 0.05 | Z27: =IF(Y27,"公斤","") -> 公斤 | AA27: 點心 | AB27: 5
A28: 45342 | I28: 糙米 | J28: 2 | K28: =IF(J28,"公斤","") -> 公斤 | N28: =IF(M28,"公斤","") | O28: 冷凍玉米粒 | P28: 2 | Q28: =IF(P28,"公斤","") -> 公斤 | R28: 麻竹筍干 | S28: 3 | T28: =IF(S28,"公斤","") -> 公斤 | U28: 大蒜 | V28: 0.05 | W28: =IF(V28,"公斤","") -> 公斤 | X28: 時蔬 | Y28: 4 | Z28: =IF(Y28,"公斤","") -> 公斤
K29: =IF(J29,"公斤","") | N29: =IF(M29,"公斤","") | O29: 馬鈴薯 | P29: 2 | Q29: =IF(P29,"公斤","") -> 公斤 | R29: 大蒜 | S29: 0.05 | T29: =IF(S29,"公斤","") -> 公斤 | W29: =IF(V29,"公斤","") | X29: 味噌 | Y29: 0.6 | Z29: =IF(Y29,"公斤","") -> 公斤
A30: 星期二 | K30: =IF(J30,"公斤","") | N30: =IF(M30,"公斤","") | O30: 胡蘿蔔 | P30: 2 | Q30: =IF(P30,"公斤","") -> 公斤 | R30: 滷包 | T30: =IF(S30,"公斤","") | W30: =IF(V30,"公斤","") | Z30: =IF(Y30,"公斤","")
K31: =IF(J31,"公斤","") | N31: =IF(M31,"公斤","") | O31: 培根 | P31: 0.5 | Q31: =IF(P31,"公斤","") -> 公斤 | T31: =IF(S31,"公斤","") | W31: =IF(V31,"公斤","") | Z31: =IF(Y31,"公斤","")
K32: =IF(J32,"公斤","") | N32: =IF(M32,"公斤","") | O32: 大蒜 | P32: 0.05 | Q32: =IF(P32,"公斤","") -> 公斤 | T32: =IF(S32,"公斤","") | W32: =IF(V32,"公斤","") | Z32: =IF(Y32,"公斤","")
A33: b3 | B33: 5 | C33: 2.5 | D33: 2 | E33: 3 | F33: 0 | G33: 0 | H33: 723 | I33: 拌麵特餐 | K33: =IF(J33,"公斤","") | L33: 香菇絞肉 | N33: =IF(M33,"公斤","") | O33: 拌麵配料 | Q33: =IF(P33,"公斤","") | R33: 芝麻豆干 | T33: =IF(S33,"公斤","") | U33: 時蔬 | W33: =IF(V33,"公斤","") | X33: 肉羹湯 | Z33: =IF(Y33,"公斤","") | AA33: 點心 | AF33: =A33 -> b3 | AG33: =I34&" "&I35&" "&I36&" "&I37&" "&I38&" "&I39 -> 麵條 | AH33: =L34&" "&L35&" "&L36&" "&L37&" "&L38&" "&L39 -> 豬絞肉 冬瓜 乾香菇 大蒜 油蔥酥 | AI33: =O34&" "&O35&" "&O36&" "&O37&" "&O38&" "&O39 -> 甘藍 胡蘿蔔 大蒜 紅蔥頭 | AJ33: =R34&" "&R35&" "&R36&" "&R37&" "&R38&" "&R39 -> 豆干 大蒜 芝麻(熟) 滷包 | AK33: =U34&" "&U35&" "&U36&" "&U37&" "&U38&" "&U39 -> 蔬菜 大蒜 | AL33: =X34&" "&X35&" "&X36&" "&X37&" "&X38&" "&X39 -> 雞蛋 脆筍 時蔬 肉羹 乾木耳 | AM33: =AA34&" "&AA35&" "&AA36&" "&AA37&" "&AA38&" "&AA39 -> 點心 | AN33: =AD34&" "&AD35&" "&AD36&" "&AD37&" "&AD38&" "&AD39 | AO33: =AE34&" "&AE35&" "&AE36&" "&AE37&" "&AE38&" "&AE39
I34: 麵條 | J34: 15 | K34: =IF(J34,"公斤","") -> 公斤 | L34: 豬絞肉 | M34: 6 | N34: =IF(M34,"公斤","") -> 公斤 | O34: 甘藍 | P34: 5 | Q34: =IF(P34,"公斤","") -> 公斤 | R34: 豆干 | S34: 4 | T34: =IF(S34,"公斤","") -> 公斤 | U34: 蔬菜 | V34: 7 | W34: =IF(V34,"公斤","") -> 公斤 | X34: 雞蛋 | Y34: 1 | Z34: =IF(Y34,"公斤","") -> 公斤 | AA34: 點心 | AB34: 5
A35: 45343 | K35: =IF(J35,"公斤","") | L35: 冬瓜 | M35: 4 | N35: =IF(M35,"公斤","") -> 公斤 | O35: 胡蘿蔔 | P35: 0.5 | Q35: =IF(P35,"公斤","") -> 公斤 | R35: 大蒜 | S35: 0.05 | T35: =IF(S35,"公斤","") -> 公斤 | U35: 大蒜 | V35: 0.05 | W35: =IF(V35,"公斤","") -> 公斤 | X35: 脆筍 | Y35: 1 | Z35: =IF(Y35,"公斤","") -> 公斤
K36: =IF(J36,"公斤","") | L36: 乾香菇 | M36: 0.05 | N36: =IF(M36,"公斤","") -> 公斤 | O36: 大蒜 | P36: 0.05 | Q36: =IF(P36,"公斤","") -> 公斤 | R36: 芝麻(熟) | T36: =IF(S36,"公斤","") | W36: =IF(V36,"公斤","") | X36: 時蔬 | Y36: 2 | Z36: =IF(Y36,"公斤","") -> 公斤
A37: 星期三 | K37: =IF(J37,"公斤","") | L37: 大蒜 | M37: 0.05 | N37: =IF(M37,"公斤","") -> 公斤 | O37: 紅蔥頭 | Q37: =IF(P37,"公斤","") | R37: 滷包 | T37: =IF(S37,"公斤","") | W37: =IF(V37,"公斤","") | X37: 肉羹 | Y37: 1 | Z37: =IF(Y37,"公斤","") -> 公斤
K38: =IF(J38,"公斤","") | L38: 油蔥酥 | N38: =IF(M38,"公斤","") | Q38: =IF(P38,"公斤","") | T38: =IF(S38,"公斤","") | W38: =IF(V38,"公斤","") | X38: 乾木耳 | Y38: 0.02 | Z38: =IF(Y38,"公斤","") -> 公斤
K39: =IF(J39,"公斤","") | N39: =IF(M39,"公斤","") | Q39: =IF(P39,"公斤","") | T39: =IF(S39,"公斤","") | W39: =IF(V39,"公斤","") | Z39: =IF(Y39,"公斤","") | AC39: =IF(AB39,"公斤","")
A40: b4 | B40: 5.7 | C40: 2.6 | D40: 2 | E40: 3 | F40: 0 | G40: 0 | H40: 779 | I40: 糙米飯 | K40: =IF(J40,"公斤","") | L40: 沙茶魷魚 | N40: =IF(M40,"公斤","") | O40: 培根花椰 | Q40: =IF(P40,"公斤","") | R40: 蛋香碎脯 | T40: =IF(S40,"公斤","") | U40: 時蔬 | W40: =IF(V40,"公斤","") | X40: 銀耳西米露 | Z40: =IF(Y40,"公斤","") | AA40: 點心 | AC40: =IF(AB40,"公斤","") | AF40: =A40 -> b4 | AG40: =I41&" "&I42&" "&I43&" "&I44&" "&I45&" "&I46 -> 米 糙米 | AH40: =L41&" "&L42&" "&L43&" "&L44&" "&L45&" "&L46 -> 阿根廷魷 豬後腿肉 洋蔥 甜椒 大蒜 沙茶醬 | AI40: =O41&" "&O42&" "&O43&" "&O44&" "&O45&" "&O46 -> 培根 冷凍花椰菜 大蒜 | AJ40: =R41&" "&R42&" "&R43&" "&R44&" "&R45&" "&R46 -> 雞蛋 蘿蔔乾 大蒜 青蔥 | AK40: =U41&" "&U42&" "&U43&" "&U44&" "&U45&" "&U46 -> 蔬菜 大蒜 | AL40: =X41&" "&X42&" "&X43&" "&X44&" "&X45&" "&X46 -> 乾銀耳 西谷米 紅砂糖 枸杞 | AM40: =AA41&" "&AA42&" "&AA43&" "&AA44&" "&AA45&" "&AA46 -> 點心 | AN40: =AD41&" "&AD42&" "&AD43&" "&AD44&" "&AD45&" "&AD46 | AO40: =AE41&" "&AE42&" "&AE43&" "&AE44&" "&AE45&" "&AE46
I41: 米 | J41: 8 | K41: =IF(J41,"公斤","") -> 公斤 | L41: 阿根廷魷 | M41: 3.5 | N41: =IF(M41,"公斤","") -> 公斤 | O41: 培根 | P41: 1 | Q41: =IF(P41,"公斤","") -> 公斤 | R41: 雞蛋 | S41: 2.7 | T41: =IF(S41,"公斤","") -> 公斤 | U41: 蔬菜 | V41: 7 | W41: =IF(V41,"公斤","") -> 公斤 | X41: 乾銀耳 | Y41: 0.1 | Z41: =IF(Y41,"公斤","") -> 公斤 | AA41: 點心 | AB41: 5 | AC41: =IF(AB41,"公斤","") -> 公斤
A42: 45344 | I42: 糙米 | J42: 2 | K42: =IF(J42,"公斤","") -> 公斤 | L42: 豬後腿肉 | M42: 3.5 | N42: =IF(M42,"公斤","") -> 公斤 | O42: 冷凍花椰菜 | P42: 6 | Q42: =IF(P42,"公斤","") -> 公斤 | R42: 蘿蔔乾 | S42: 3 | T42: =IF(S42,"公斤","") -> 公斤 | U42: 大蒜 | V42: 0.05 | W42: =IF(V42,"公斤","") -> 公斤 | X42: 西谷米 | Y42: 1 | Z42: =IF(Y42,"公斤","") -> 公斤 | AC42: =IF(AB42,"公斤","")
K43: =IF(J43,"公斤","") | L43: 洋蔥 | M43: 3 | N43: =IF(M43,"公斤","") -> 公斤 | O43: 大蒜 | P43: 0.05 | Q43: =IF(P43,"公斤","") -> 公斤 | R43: 大蒜 | S43: 0.05 | T43: =IF(S43,"公斤","") -> 公斤 | W43: =IF(V43,"公斤","") | X43: 紅砂糖 | Y43: 1 | Z43: =IF(Y43,"公斤","") -> 公斤 | AC43: =IF(AB43,"公斤","")
A44: 星期四 | K44: =IF(J44,"公斤","") | L44: 甜椒 | M44: 0.5 | N44: =IF(M44,"公斤","") -> 公斤 | Q44: =IF(P44,"公斤","") | R44: 青蔥 | T44: =IF(S44,"公斤","") | W44: =IF(V44,"公斤","") | X44: 枸杞 | Z44: =IF(Y44,"公斤","") | AC44: =IF(AB44,"公斤","")
K45: =IF(J45,"公斤","") | L45: 大蒜 | M45: 0.05 | N45: =IF(M45,"公斤","") -> 公斤 | Q45: =IF(P45,"公斤","") | T45: =IF(S45,"公斤","") | W45: =IF(V45,"公斤","") | Z45: =IF(Y45,"公斤","") | AC45: =IF(AB45,"公斤","")
K46: =IF(J46,"公斤","") | L46: 沙茶醬 | N46: =IF(M46,"公斤","") | Q46: =IF(P46,"公斤","") | T46: =IF(S46,"公斤","") | W46: =IF(V46,"公斤","") | Z46: =IF(Y46,"公斤","") | AC46: =IF(AB46,"公斤","")
A47: b5 | B47: 5.2 | C47: 3.2 | D47: 2.3 | E47: 3 | F47: 0 | G47: 0 | H47: 797 | I47: 小米飯 | K47: =IF(J47,"公斤","") | L47: 京醬肉絲 | N47: =IF(M47,"公斤","") | O47: 塔香豆腐 | Q47: =IF(P47,"公斤","") | R47: 絞肉季豆 | T47: =IF(S47,"公斤","") | U47: 時蔬 | W47: =IF(V47,"公斤","") | X47: 冬瓜湯 | Z47: =IF(Y47,"公斤","") | AA47: 點心 | AC47: =IF(AB47,"公斤","") | AD47: 有雞豆奶 | AF47: =A47 -> b5 | AG47: =I48&" "&I49&" "&I50&" "&I51&" "&I52&" "&I53 -> 米 小米 糙米 | AH47: =L48&" "&L49&" "&L50&" "&L51&" "&L52&" "&L53 -> 豬後腿肉 時瓜 胡蘿蔔 大蒜 甜麵醬 | AI47: =O48&" "&O49&" "&O50&" "&O51&" "&O52&" "&O53 -> 豆腐 杏鮑菇 胡蘿蔔 九層塔 大蒜 薑 | AJ47: =R48&" "&R49&" "&R50&" "&R51&" "&R52&" "&R53 -> 豬絞肉 冷凍菜豆(莢) 大蒜 | AK47: =U48&" "&U49&" "&U50&" "&U51&" "&U52&" "&U53 -> 蔬菜 大蒜 | AL47: =X48&" "&X49&" "&X50&" "&X51&" "&X52&" "&X53 -> 冬瓜 豬大排 薑 | AM47: =AA48&" "&AA49&" "&AA50&" "&AA51&" "&AA52&" "&AA53 -> 點心 | AN47: =AD48&" "&AD49&" "&AD50&" "&AD51&" "&AD52&" "&AD53 | AO47: =AE48&" "&AE49&" "&AE50&" "&AE51&" "&AE52&" "&AE53
I48: 米 | J48: 8 | K48: =IF(J48,"公斤","") -> 公斤 | L48: 豬後腿肉 | M48: 6.5 | N48: =IF(M48,"公斤","") -> 公斤 | O48: 豆腐 | P48: 6.5 | Q48: =IF(P48,"公斤","") -> 公斤 | R48: 豬絞肉 | S48: 1 | T48: =IF(S48,"公斤","") -> 公斤 | U48: 蔬菜 | V48: 7 | W48: =IF(V48,"公斤","") -> 公斤 | X48: 冬瓜 | Y48: 3 | Z48: =IF(Y48,"公斤","") -> 公斤 | AA48: 點心 | AB48: 5 | AC48: =IF(AB48,"公斤","") -> 公斤
A49: 45345 | I49: 小米 | J49: 0.4 | K49: =IF(J49,"公斤","") -> 公斤 | L49: 時瓜 | M49: 4 | N49: =IF(M49,"公斤","") -> 公斤 | O49: 杏鮑菇 | P49: 1 | Q49: =IF(P49,"公斤","") -> 公斤 | R49: 冷凍菜豆(莢) | S49: 6.5 | T49: =IF(S49,"公斤","") -> 公斤 | U49: 大蒜 | V49: 0.05 | W49: =IF(V49,"公斤","") -> 公斤 | X49: 豬大排 | Y49: 1 | Z49: =IF(Y49,"公斤","") -> 公斤 | AC49: =IF(AB49,"公斤","")
I50: 糙米 | J50: 2 | K50: =IF(J50,"公斤","") -> 公斤 | L50: 胡蘿蔔 | M50: 0.5 | N50: =IF(M50,"公斤","") -> 公斤 | O50: 胡蘿蔔 | P50: 0.5 | Q50: =IF(P50,"公斤","") -> 公斤 | R50: 大蒜 | S50: 0.05 | T50: =IF(S50,"公斤","") -> 公斤 | W50: =IF(V50,"公斤","") | X50: 薑 | Y50: 0.05 | Z50: =IF(Y50,"公斤","") -> 公斤 | AC50: =IF(AB50,"公斤","")
A51: 星期五 | K51: =IF(J51,"公斤","") | L51: 大蒜 | M51: 0.05 | N51: =IF(M51,"公斤","") -> 公斤 | O51: 九層塔 | P51: 0.1 | Q51: =IF(P51,"公斤","") -> 公斤 | T51: =IF(S51,"公斤","") | W51: =IF(V51,"公斤","") | Z51: =IF(Y51,"公斤","") | AC51: =IF(AB51,"公斤","")
K52: =IF(J52,"公斤","") | L52: 甜麵醬 | N52: =IF(M52,"公斤","") | O52: 大蒜 | P52: 0.05 | Q52: =IF(P52,"公斤","") -> 公斤 | T52: =IF(S52,"公斤","") | W52: =IF(V52,"公斤","") | Z52: =IF(Y52,"公斤","") | AC52: =IF(AB52,"公斤","")
K53: =IF(J53,"公斤","") | N53: =IF(M53,"公斤","") | O53: 薑 | Q53: =IF(P53,"公斤","") | T53: =IF(S53,"公斤","") | W53: =IF(V53,"公斤","") | Z53: =IF(Y53,"公斤","") | AC53: =IF(AB53,"公斤","")
A54: c1 | B54: 5.1 | C54: 3.2 | D54: 2 | E54: 3 | F54: 0 | G54: 0 | H54: 782 | I54: 白米飯 | K54: =IF(J54,"公斤","") | L54: 醬醋滷肉 | N54: =IF(M54,"公斤","") | O54: 開陽玉菜 | Q54: =IF(P54,"公斤","") | R54: 泰式魚丸 | T54: =IF(S54,"公斤","") | U54: 時蔬 | W54: =IF(V54,"公斤","") | X54: 羅宋湯 | Z54: =IF(Y54,"公斤","") | AA54: 點心 | AC54: =IF(AB54,"公斤","") | AF54: =A54 -> c1 | AG54: =I55&" "&I56&" "&I57&" "&I58&" "&I59&" "&I60 -> 米 | AH54: =L55&" "&L56&" "&L57&" "&L58&" "&L59&" "&L60 -> 豬後腿肉 白蘿蔔 胡蘿蔔 大蒜 月桂葉 滷包 | AI54: =O55&" "&O56&" "&O57&" "&O58&" "&O59&" "&O60 -> 雞蛋 甘藍 大蒜 蝦米 | AJ54: =R55&" "&R56&" "&R57&" "&R58&" "&R59&" "&R60 -> 魚丸 泰式甜辣醬 | AK54: =U55&" "&U56&" "&U57&" "&U58&" "&U59&" "&U60 -> 蔬菜 大蒜 | AL54: =X55&" "&X56&" "&X57&" "&X58&" "&X59&" "&X60 -> 洋蔥 大番茄 馬鈴薯 芹菜 豬大排 薑 | AM54: =AA55&" "&AA56&" "&AA57&" "&AA58&" "&AA59&" "&AA60 -> 點心 | AN54: =AD55&" "&AD56&" "&AD57&" "&AD58&" "&AD59&" "&AD60 | AO54: =AE55&" "&AE56&" "&AE57&" "&AE58&" "&AE59&" "&AE60
I55: 米 | J55: 10 | K55: =IF(J55,"公斤","") -> 公斤 | L55: 豬後腿肉 | M55: 7 | N55: =IF(M55,"公斤","") -> 公斤 | O55: 雞蛋 | P55: 1 | Q55: =IF(P55,"公斤","") -> 公斤 | R55: 魚丸 | S55: 4 | T55: =IF(S55,"公斤","") -> 公斤 | U55: 蔬菜 | V55: 7 | W55: =IF(V55,"公斤","") -> 公斤 | X55: 洋蔥 | Y55: 1 | Z55: =IF(Y55,"公斤","") -> 公斤 | AA55: 點心 | AB55: 5 | AC55: =IF(AB55,"公斤","") -> 公斤
A56: 45348 | K56: =IF(J56,"公斤","") | L56: 白蘿蔔 | M56: 3 | N56: =IF(M56,"公斤","") -> 公斤 | O56: 甘藍 | P56: 6 | Q56: =IF(P56,"公斤","") -> 公斤 | R56: 泰式甜辣醬 | S56: 0.3 | T56: =IF(S56,"公斤","") -> 公斤 | U56: 大蒜 | V56: 0.05 | W56: =IF(V56,"公斤","") -> 公斤 | X56: 大番茄 | Y56: 2 | Z56: =IF(Y56,"公斤","") -> 公斤 | AC56: =IF(AB56,"公斤","")
K57: =IF(J57,"公斤","") | L57: 胡蘿蔔 | M57: 0.5 | N57: =IF(M57,"公斤","") -> 公斤 | O57: 大蒜 | P57: 0.05 | Q57: =IF(P57,"公斤","") -> 公斤 | T57: =IF(S57,"公斤","") | W57: =IF(V57,"公斤","") | X57: 馬鈴薯 | Y57: 1 | Z57: =IF(Y57,"公斤","") -> 公斤 | AC57: =IF(AB57,"公斤","")
A58: 星期一 | K58: =IF(J58,"公斤","") | L58: 大蒜 | M58: 0.05 | N58: =IF(M58,"公斤","") -> 公斤 | O58: 蝦米 | P58: 0.1 | Q58: =IF(P58,"公斤","") -> 公斤 | T58: =IF(S58,"公斤","") | W58: =IF(V58,"公斤","") | X58: 芹菜 | Y58: 0.5 | Z58: =IF(Y58,"公斤","") -> 公斤 | AC58: =IF(AB58,"公斤","")
K59: =IF(J59,"公斤","") | L59: 月桂葉 | N59: =IF(M59,"公斤","") | Q59: =IF(P59,"公斤","") | T59: =IF(S59,"公斤","") | W59: =IF(V59,"公斤","") | X59: 豬大排 | Y59: 1 | Z59: =IF(Y59,"公斤","") -> 公斤 | AC59: =IF(AB59,"公斤","")
K60: =IF(J60,"公斤","") | L60: 滷包 | N60: =IF(M60,"公斤","") | Q60: =IF(P60,"公斤","") | T60: =IF(S60,"公斤","") | W60: =IF(V60,"公斤","") | X60: 薑 | Y60: 0.05 | Z60: =IF(Y60,"公斤","") -> 公斤 | AC60: =IF(AB60,"公斤","")
A61: c2 | B61: 5.1 | C61: 3.5 | D61: 2.2 | E61: 3 | F61: 0 | G61: 0 | H61: 810 | I61: 糙米飯 | K61: =IF(J61,"公斤","") | L61: 栗子燒雞 | N61: =IF(M61,"公斤","") | O61: 鮮燴時蔬 | Q61: =IF(P61,"公斤","") | R61: 豆包瓜粒 | T61: =IF(S61,"公斤","") | U61: 時蔬 | W61: =IF(V61,"公斤","") | X61: 時蔬湯 | Z61: =IF(Y61,"公斤","") | AA61: 點心 | AC61: =IF(AB61,"公斤","") | AF61: =A61 -> c2 | AG61: =I62&" "&I63&" "&I64&" "&I65&" "&I66&" "&I67 -> 米 糙米 | AH61: =L62&" "&L63&" "&L64&" "&L65&" "&L66&" "&L67 -> 肉雞 時瓜 栗子(生) 大蒜 | AI61: =O62&" "&O63&" "&O64&" "&O65&" "&O66&" "&O67 -> 冷凍玉米筍 鵪鶉水煮蛋 時蔬 豬後腿肉 大蒜 | AJ61: =R62&" "&R63&" "&R64&" "&R65&" "&R66&" "&R67 -> 豆包 冬瓜 胡蘿蔔 大蒜 | AK61: =U62&" "&U63&" "&U64&" "&U65&" "&U66&" "&U67 -> 蔬菜 大蒜 | AL61: =X62&" "&X63&" "&X64&" "&X65&" "&X66&" "&X67 -> 時蔬 豬大排 胡蘿蔔 薑 | AM61: =AA62&" "&AA63&" "&AA64&" "&AA65&" "&AA66&" "&AA67 -> 點心 | AN61: =AD62&" "&AD63&" "&AD64&" "&AD65&" "&AD66&" "&AD67 | AO61: =AE62&" "&AE63&" "&AE64&" "&AE65&" "&AE66&" "&AE67
I62: 米 | J62: 8 | K62: =IF(J62,"公斤","") -> 公斤 | L62: 肉雞 | M62: 10 | N62: =IF(M62,"公斤","") -> 公斤 | O62: 冷凍玉米筍 | P62: 1 | Q62: =IF(P62,"公斤","") -> 公斤 | R62: 豆包 | S62: 0.6 | T62: =IF(S62,"公斤","") -> 公斤 | U62: 蔬菜 | V62: 7 | W62: =IF(V62,"公斤","") -> 公斤 | X62: 時蔬 | Y62: 2 | Z62: =IF(Y62,"公斤","") -> 公斤 | AA62: 點心 | AB62: 5 | AC62: =IF(AB62,"公斤","") -> 公斤
A63: 45349 | I63: 糙米 | J63: 2 | K63: =IF(J63,"公斤","") -> 公斤 | L63: 時瓜 | M63: 2 | N63: =IF(M63,"公斤","") -> 公斤 | O63: 鵪鶉水煮蛋 | P63: 1.2 | Q63: =IF(P63,"公斤","") -> 公斤 | R63: 冬瓜 | S63: 6 | T63: =IF(S63,"公斤","") -> 公斤 | U63: 大蒜 | V63: 0.05 | W63: =IF(V63,"公斤","") -> 公斤 | X63: 豬大排 | Y63: 1 | Z63: =IF(Y63,"公斤","") -> 公斤 | AC63: =IF(AB63,"公斤","")
K64: =IF(J64,"公斤","") | L64: 栗子(生) | M64: 0.1 | N64: =IF(M64,"公斤","") -> 公斤 | O64: 時蔬 | P64: 3 | Q64: =IF(P64,"公斤","") -> 公斤 | R64: 胡蘿蔔 | S64: 0.5 | T64: =IF(S64,"公斤","") -> 公斤 | W64: =IF(V64,"公斤","") | X64: 胡蘿蔔 | Y64: 0.5 | Z64: =IF(Y64,"公斤","") -> 公斤 | AC64: =IF(AB64,"公斤","")
A65: 星期二 | K65: =IF(J65,"公斤","") | L65: 大蒜 | M65: 0.05 | N65: =IF(M65,"公斤","") -> 公斤 | O65: 豬後腿肉 | P65: 1 | Q65: =IF(P65,"公斤","") -> 公斤 | R65: 大蒜 | S65: 0.05 | T65: =IF(S65,"公斤","") -> 公斤 | W65: =IF(V65,"公斤","") | X65: 薑 | Y65: 0.05 | Z65: =IF(Y65,"公斤","") -> 公斤 | AC65: =IF(AB65,"公斤","")
K66: =IF(J66,"公斤","") | N66: =IF(M66,"公斤","") | O66: 大蒜 | P66: 0.05 | Q66: =IF(P66,"公斤","") -> 公斤 | T66: =IF(S66,"公斤","") | W66: =IF(V66,"公斤","") | Z66: =IF(Y66,"公斤","") | AC66: =IF(AB66,"公斤","")
K67: =IF(J67,"公斤","") | N67: =IF(M67,"公斤","") | Q67: =IF(P67,"公斤","") | T67: =IF(S67,"公斤","") | W67: =IF(V67,"公斤","") | Z67: =IF(Y67,"公斤","") | AC67: =IF(AB67,"公斤","")
A68: c4 | B68: 6.1 | C68: 3.1 | D68: 2 | E68: 3 | F68: 0 | G68: 0 | H68: 845 | I68: 糙米飯 | K68: =IF(J68,"公斤","") | L68: 筍干燒肉 | N68: =IF(M68,"公斤","") | O68: 藜麥毛豆 | Q68: =IF(P68,"公斤","") | R68: 洋蔥炒蛋 | T68: =IF(S68,"公斤","") | U68: 時蔬 | W68: =IF(V68,"公斤","") | X68: 綠豆薏仁甜湯 | Z68: =IF(Y68,"公斤","") | AA68: 點心 | AC68: =IF(AB68,"公斤","") | AF68: =A68 -> c4 | AG68: =I69&" "&I70&" "&I71&" "&I72&" "&I73&" "&I74 -> 米 糙米 | AH68: =L69&" "&L70&" "&L71&" "&L72&" "&L73&" "&L74 -> 豬後腿肉 麻竹筍干 大蒜 | AI68: =O69&" "&O70&" "&O71&" "&O72&" "&O73&" "&O74 -> 冷凍毛豆仁 時瓜 豬絞肉 甜椒 紅藜 大蒜 | AJ68: =R69&" "&R70&" "&R71&" "&R72&" "&R73&" "&R74 -> 雞蛋 洋蔥 胡蘿蔔 大蒜 | AK68: =U69&" "&U70&" "&U71&" "&U72&" "&U73&" "&U74 -> 蔬菜 大蒜 | AL68: =X69&" "&X70&" "&X71&" "&X72&" "&X73&" "&X74 -> 小薏仁 紅砂糖 綠豆 | AM68: =AA69&" "&AA70&" "&AA71&" "&AA72&" "&AA73&" "&AA74 -> 點心 | AN68: =AD69&" "&AD70&" "&AD71&" "&AD72&" "&AD73&" "&AD74 | AO68: =AE69&" "&AE70&" "&AE71&" "&AE72&" "&AE73&" "&AE74
I69: 米 | J69: 8 | K69: =IF(J69,"公斤","") -> 公斤 | L69: 豬後腿肉 | M69: 7 | N69: =IF(M69,"公斤","") -> 公斤 | O69: 冷凍毛豆仁 | P69: 2 | Q69: =IF(P69,"公斤","") -> 公斤 | R69: 雞蛋 | S69: 2.7 | T69: =IF(S69,"公斤","") -> 公斤 | U69: 蔬菜 | V69: 7 | W69: =IF(V69,"公斤","") -> 公斤 | X69: 小薏仁 | Y69: 0.5 | Z69: =IF(Y69,"公斤","") -> 公斤 | AA69: 點心 | AB69: 5 | AC69: =IF(AB69,"公斤","") -> 公斤
A70: 45351 | I70: 糙米 | J70: 2 | K70: =IF(J70,"公斤","") -> 公斤 | L70: 麻竹筍干 | M70: 3 | N70: =IF(M70,"公斤","") -> 公斤 | O70: 時瓜 | P70: 4 | Q70: =IF(P70,"公斤","") -> 公斤 | R70: 洋蔥 | S70: 4 | T70: =IF(S70,"公斤","") -> 公斤 | U70: 大蒜 | V70: 0.05 | W70: =IF(V70,"公斤","") -> 公斤 | X70: 紅砂糖 | Y70: 1 | Z70: =IF(Y70,"公斤","") -> 公斤 | AC70: =IF(AB70,"公斤","")
K71: =IF(J71,"公斤","") | L71: 大蒜 | M71: 0.05 | N71: =IF(M71,"公斤","") -> 公斤 | O71: 豬絞肉 | P71: 1 | Q71: =IF(P71,"公斤","") -> 公斤 | R71: 胡蘿蔔 | S71: 0.5 | T71: =IF(S71,"公斤","") -> 公斤 | W71: =IF(V71,"公斤","") | X71: 綠豆 | Y71: 2 | Z71: =IF(Y71,"公斤","") -> 公斤 | AC71: =IF(AB71,"公斤","")
A72: 星期四 | K72: =IF(J72,"公斤","") | N72: =IF(M72,"公斤","") | O72: 甜椒 | P72: 1 | Q72: =IF(P72,"公斤","") -> 公斤 | R72: 大蒜 | S72: 0.05 | T72: =IF(S72,"公斤","") -> 公斤 | W72: =IF(V72,"公斤","") | Z72: =IF(Y72,"公斤","") | AC72: =IF(AB72,"公斤","")
K73: =IF(J73,"公斤","") | N73: =IF(M73,"公斤","") | O73: 紅藜 | P73: 0.15 | Q73: =IF(P73,"公斤","") -> 公斤 | T73: =IF(S73,"公斤","") | W73: =IF(V73,"公斤","") | Z73: =IF(Y73,"公斤","") | AC73: =IF(AB73,"公斤","")
K74: =IF(J74,"公斤","") | N74: =IF(M74,"公斤","") | O74: 大蒜 | P74: 0.05 | Q74: =IF(P74,"公斤","") -> 公斤 | T74: =IF(S74,"公斤","") | W74: =IF(V74,"公斤","") | Z74: =IF(Y74,"公斤","") | AC74: =IF(AB74,"公斤","")
A75: 過敏警語:「本月產品含有蛋、芝麻、含麩之穀物、花生、大豆、魚類、亞硫酸鹽類及其相關製品，不適合其過敏體質者食用」
A76: 說明:2月份菜單編排說明如下:一、
A77: 一、星期三、四為有機蔬菜，(新城國小、秀林國小、富士國小、崇德國小、秀林國中)。
A78: 二、豬肉食材來源一律使用國產豬

Sheet 偏鄉計劃學校(葷)國中月總表
A1: 112學年度下學期國民中學2月份葷食菜單(偏鄉計劃學校)-------華王御膳
A2: 日期 | B2: 循環 | C2: 主食 | D2: 主食明細 | E2: 主菜 | F2: 主菜明細 | G2: 副菜一 | H2: 副菜一明細 | I2: 副菜二 | J2: 副菜二明細 | K2: 蔬菜 | L2: 蔬菜明細 | M2: 湯品 | N2: 湯品明細 | O2: 附餐點心 | P2: 附餐點心 | Q2: 附餐點心 | R2: 穀/份 | S2: 豆/份 | T2: 蔬/份 | U2: 油/份 | V2: 乳/份 | W2: 果/份 | X2: 熱量
A3: 45338 | B3: ='偏鄉計劃學校(葷)國中'!A5 -> a4 | C3: ='偏鄉計劃學校(葷)國中'!I5 -> 白米飯 | D3: ='偏鄉計劃學校(葷)國中'!AG5 -> 米 | E3: ='偏鄉計劃學校(葷)國中'!L5 -> 香酥雞翅 | F3: ='偏鄉計劃學校(葷)國中'!AH5 -> 三節翅 胡椒鹽 | G3: ='偏鄉計劃學校(葷)國中'!O5 -> 麻婆豆腐 | H3: ='偏鄉計劃學校(葷)國中'!AI5 -> 豆腐 豬絞肉 時瓜 大蒜 豆瓣醬 | I3: ='偏鄉計劃學校(葷)國中'!R5 -> 培根花椰 | J3: ='偏鄉計劃學校(葷)國中'!AJ5 -> 冷凍花椰菜 培根 大蒜 | K3: ='偏鄉計劃學校(葷)國中'!U5 -> 時蔬 | L3: ='偏鄉計劃學校(葷)國中'!AK5 -> 蔬菜 大蒜 | M3: ='偏鄉計劃學校(葷)國中'!X5 -> 時蔬湯 | N3: ='偏鄉計劃學校(葷)國中'!AL5 -> 時蔬 豬大排 薑 | O3: ='偏鄉計劃學校(葷)國中'!AM5 -> 點心 | P3: ='偏鄉計劃學校(葷)國中'!AN5 | Q3: ='偏鄉計劃學校(葷)國中'!AO5 -> 123 | R3: ='偏鄉計劃學校(葷)國中'!B5 -> 5 | S3: ='偏鄉計劃學校(葷)國中'!C5 -> 3.8 | T3: ='偏鄉計劃學校(葷)國中'!D5 -> 2 | U3: ='偏鄉計劃學校(葷)國中'!E5 -> 4 | V3: ='偏鄉計劃學校(葷)國中'!F5 -> 0 | W3: ='偏鄉計劃學校(葷)國中'!G5 -> 0 | X3: ='偏鄉計劃學校(葷)國中'!H5 -> 865
A4: 45339 | B4: ='偏鄉計劃學校(葷)國中'!A12 -> a5 | C4: ='偏鄉計劃學校(葷)國中'!I12 -> 糙米飯 | D4: ='偏鄉計劃學校(葷)國中'!AG12 -> 米 糙米 | E4: ='偏鄉計劃學校(葷)國中'!L12 -> 咖哩雞 | F4: ='偏鄉計劃學校(葷)國中'!AH12 -> 肉雞 馬鈴薯 洋蔥 胡蘿蔔 大蒜 咖哩粉 | G4: ='偏鄉計劃學校(葷)國中'!O12 -> 螞蟻上樹 | H4: ='偏鄉計劃學校(葷)國中'!AI12 -> 冬粉 豬絞肉 時蔬 乾木耳 大蒜 | I4: ='偏鄉計劃學校(葷)國中'!R12 -> 蜜汁豆干 | J4: ='偏鄉計劃學校(葷)國中'!AJ12 -> 豆干 大蒜 芝麻(熟) 滷包 | K4: ='偏鄉計劃學校(葷)國中'!U12 -> 時蔬 | L4: ='偏鄉計劃學校(葷)國中'!AK12 -> 蔬菜 大蒜 | M4: ='偏鄉計劃學校(葷)國中'!X12 -> 蘿蔔魚丸湯 | N4: ='偏鄉計劃學校(葷)國中'!AL12 -> 魚丸 白蘿蔔 薑 | O4: ='偏鄉計劃學校(葷)國中'!AM12 -> 點心 | P4: ='偏鄉計劃學校(葷)國中'!AN12 | Q4: ='偏鄉計劃學校(葷)國中'!AO12 | R4: ='偏鄉計劃學校(葷)國中'!B12 -> 5.5 | S4: ='偏鄉計劃學校(葷)國中'!C12 -> 3.6 | T4: ='偏鄉計劃學校(葷)國中'!D12 -> 2 | U4: ='偏鄉計劃學校(葷)國中'!E12 -> 3 | V4: ='偏鄉計劃學校(葷)國中'!F12 -> 0 | W4: ='偏鄉計劃學校(葷)國中'!G12 -> 0 | X4: ='偏鄉計劃學校(葷)國中'!H12 -> 840
A5: 45341 | B5: ='偏鄉計劃學校(葷)國中'!A19 -> b1 | C5: ='偏鄉計劃學校(葷)國中'!I19 -> 白米飯 | D5: ='偏鄉計劃學校(葷)國中'!AG19 -> 米 | E5: ='偏鄉計劃學校(葷)國中'!L19 -> 回鍋肉片 | F5: ='偏鄉計劃學校(葷)國中'!AH19 -> 豬後腿肉 洋蔥 胡蘿蔔 大蒜 甜麵醬 | G5: ='偏鄉計劃學校(葷)國中'!O19 -> 西滷白菜 | H5: ='偏鄉計劃學校(葷)國中'!AI19 -> 雞蛋 結球白菜 胡蘿蔔 蝦仁 大蒜 | I5: ='偏鄉計劃學校(葷)國中'!R19 -> 塔香海茸 | J5: ='偏鄉計劃學校(葷)國中'!AJ19 -> 海帶茸 九層塔 豬後腿肉 大蒜 | K5: ='偏鄉計劃學校(葷)國中'!U19 -> 時蔬 | L5: ='偏鄉計劃學校(葷)國中'!AK19 -> 蔬菜 大蒜 | M5: ='偏鄉計劃學校(葷)國中'!X19 -> 牛蒡湯 | N5: ='偏鄉計劃學校(葷)國中'!AL19 -> 牛蒡 豬大排 薑 枸杞 | O5: ='偏鄉計劃學校(葷)國中'!AM19 -> 點心 | P5: ='偏鄉計劃學校(葷)國中'!AN19 | Q5: ='偏鄉計劃學校(葷)國中'!AO19 | R5: ='偏鄉計劃學校(葷)國中'!B19 -> 5 | S5: ='偏鄉計劃學校(葷)國中'!C19 -> 2.6 | T5: ='偏鄉計劃學校(葷)國中'!D19 -> 2.4 | U5: ='偏鄉計劃學校(葷)國中'!E19 -> 3 | V5: ='偏鄉計劃學校(葷)國中'!F19 -> 0 | W5: ='偏鄉計劃學校(葷)國中'!G19 -> 0 | X5: ='偏鄉計劃學校(葷)國中'!H19 -> 740
A6: 45342 | B6: ='偏鄉計劃學校(葷)國中'!A26 -> b2 | C6: ='偏鄉計劃學校(葷)國中'!I26 -> 糙米飯 | D6: ='偏鄉計劃學校(葷)國中'!AG26 -> 米 糙米 | E6: ='偏鄉計劃學校(葷)國中'!L26 -> 香酥魚排 | F6: ='偏鄉計劃學校(葷)國中'!AH26 -> 魚排 | G6: ='偏鄉計劃學校(葷)國中'!O26 -> 玉米三色 | H6: ='偏鄉計劃學校(葷)國中'!AI26 -> 甜椒(青皮) 冷凍玉米粒 馬鈴薯 胡蘿蔔 培根 大蒜 | I6: ='偏鄉計劃學校(葷)國中'!R26 -> 香滷油腐 | J6: ='偏鄉計劃學校(葷)國中'!AJ26 -> 四角油豆腐 麻竹筍干 大蒜 滷包 | K6: ='偏鄉計劃學校(葷)國中'!U26 -> 時蔬 | L6: ='偏鄉計劃學校(葷)國中'!AK26 -> 蔬菜 大蒜 | M6: ='偏鄉計劃學校(葷)國中'!X26 -> 味噌海芽湯 | N6: ='偏鄉計劃學校(葷)國中'!AL26 -> 乾裙帶菜 時蔬 味噌 | O6: ='偏鄉計劃學校(葷)國中'!AM26 -> 點心 | P6: ='偏鄉計劃學校(葷)國中'!AN26 | Q6: ='偏鄉計劃學校(葷)國中'!AO26 | R6: ='偏鄉計劃學校(葷)國中'!B26 -> 5 | S6: ='偏鄉計劃學校(葷)國中'!C26 -> 2.7 | T6: ='偏鄉計劃學校(葷)國中'!D26 -> 2.1 | U6: ='偏鄉計劃學校(葷)國中'!E26 -> 4 | V6: ='偏鄉計劃學校(葷)國中'!F26 -> 0 | W6: ='偏鄉計劃學校(葷)國中'!G26 -> 0 | X6: ='偏鄉計劃學校(葷)國中'!H26 -> 785
A7: 45343 | B7: ='偏鄉計劃學校(葷)國中'!A33 -> b3 | C7: ='偏鄉計劃學校(葷)國中'!I33 -> 拌麵特餐 | D7: ='偏鄉計劃學校(葷)國中'!AG33 -> 麵條 | E7: ='偏鄉計劃學校(葷)國中'!L33 -> 香菇絞肉 | F7: ='偏鄉計劃學校(葷)國中'!AH33 -> 豬絞肉 冬瓜 乾香菇 大蒜 油蔥酥 | G7: ='偏鄉計劃學校(葷)國中'!O33 -> 拌麵配料 | H7: ='偏鄉計劃學校(葷)國中'!AI33 -> 甘藍 胡蘿蔔 大蒜 紅蔥頭 | I7: ='偏鄉計劃學校(葷)國中'!R33 -> 芝麻豆干 | J7: ='偏鄉計劃學校(葷)國中'!AJ33 -> 豆干 大蒜 芝麻(熟) 滷包 | K7: ='偏鄉計劃學校(葷)國中'!U33 -> 時蔬 | L7: ='偏鄉計劃學校(葷)國中'!AK33 -> 蔬菜 大蒜 | M7: ='偏鄉計劃學校(葷)國中'!X33 -> 肉羹湯 | N7: ='偏鄉計劃學校(葷)國中'!AL33 -> 雞蛋 脆筍 時蔬 肉羹 乾木耳 | O7: ='偏鄉計劃學校(葷)國中'!AM33 -> 點心 | P7: ='偏鄉計劃學校(葷)國中'!AN33 | Q7: ='偏鄉計劃學校(葷)國中'!AO33 | R7: ='偏鄉計劃學校(葷)國中'!B33 -> 5 | S7: ='偏鄉計劃學校(葷)國中'!C33 -> 2.5 | T7: ='偏鄉計劃學校(葷)國中'!D33 -> 2 | U7: ='偏鄉計劃學校(葷)國中'!E33 -> 3 | V7: ='偏鄉計劃學校(葷)國中'!F33 -> 0 | W7: ='偏鄉計劃學校(葷)國中'!G33 -> 0 | X7: ='偏鄉計劃學校(葷)國中'!H33 -> 723
A8: 45344 | B8: ='偏鄉計劃學校(葷)國中'!A40 -> b4 | C8: ='偏鄉計劃學校(葷)國中'!I40 -> 糙米飯 | D8: ='偏鄉計劃學校(葷)國中'!AG40 -> 米 糙米 | E8: ='偏鄉計劃學校(葷)國中'!L40 -> 沙茶魷魚 | F8: ='偏鄉計劃學校(葷)國中'!AH40 -> 阿根廷魷 豬後腿肉 洋蔥 甜椒 大蒜 沙茶醬 | G8: ='偏鄉計劃學校(葷)國中'!O40 -> 培根花椰 | H8: ='偏鄉計劃學校(葷)國中'!AI40 -> 培根 冷凍花椰菜 大蒜 | I8: ='偏鄉計劃學校(葷)國中'!R40 -> 蛋香碎脯 | J8: ='偏鄉計劃學校(葷)國中'!AJ40 -> 雞蛋 蘿蔔乾 大蒜 青蔥 | K8: ='偏鄉計劃學校(葷)國中'!U40 -> 時蔬 | L8: ='偏鄉計劃學校(葷)國中'!AK40 -> 蔬菜 大蒜 | M8: ='偏鄉計劃學校(葷)國中'!X40 -> 銀耳西米露 | N8: ='偏鄉計劃學校(葷)國中'!AL40 -> 乾銀耳 西谷米 紅砂糖 枸杞 | O8: ='偏鄉計劃學校(葷)國中'!AM40 -> 點心 | P8: ='偏鄉計劃學校(葷)國中'!AN40 | Q8: ='偏鄉計劃學校(葷)國中'!AO40 | R8: ='偏鄉計劃學校(葷)國中'!B40 -> 5.7 | S8: ='偏鄉計劃學校(葷)國中'!C40 -> 2.6 | T8: ='偏鄉計劃學校(葷)國中'!D40 -> 2 | U8: ='偏鄉計劃學校(葷)國中'!E40 -> 3 | V8: ='偏鄉計劃學校(葷)國中'!F40 -> 0 | W8: ='偏鄉計劃學校(葷)國中'!G40 -> 0 | X8: ='偏鄉計劃學校(葷)國中'!H40 -> 779
A9: 45345 | B9: ='偏鄉計劃學校(葷)國中'!A47 -> b5 | C9: ='偏鄉計劃學校(葷)國中'!I47 -> 小米飯 | D9: ='偏鄉計劃學校(葷)國中'!AG47 -> 米 小米 糙米 | E9: ='偏鄉計劃學校(葷)國中'!L47 -> 京醬肉絲 | F9: ='偏鄉計劃學校(葷)國中'!AH47 -> 豬後腿肉 時瓜 胡蘿蔔 大蒜 甜麵醬 | G9: ='偏鄉計劃學校(葷)國中'!O47 -> 塔香豆腐 | H9: ='偏鄉計劃學校(葷)國中'!AI47 -> 豆腐 杏鮑菇 胡蘿蔔 九層塔 大蒜 薑 | I9: ='偏鄉計劃學校(葷)國中'!R47 -> 絞肉季豆 | J9: ='偏鄉計劃學校(葷)國中'!AJ47 -> 豬絞肉 冷凍菜豆(莢) 大蒜 | K9: ='偏鄉計劃學校(葷)國中'!U47 -> 時蔬 | L9: ='偏鄉計劃學校(葷)國中'!AK47 -> 蔬菜 大蒜 | M9: ='偏鄉計劃學校(葷)國中'!X47 -> 冬瓜湯 | N9: ='偏鄉計劃學校(葷)國中'!AL47 -> 冬瓜 豬大排 薑 | O9: ='偏鄉計劃學校(葷)國中'!AM47 -> 點心 | P9: ='偏鄉計劃學校(葷)國中'!AN47 | Q9: ='偏鄉計劃學校(葷)國中'!AO47 | R9: ='偏鄉計劃學校(葷)國中'!B47 -> 5.2 | S9: ='偏鄉計劃學校(葷)國中'!C47 -> 3.2 | T9: ='偏鄉計劃學校(葷)國中'!D47 -> 2.3 | U9: ='偏鄉計劃學校(葷)國中'!E47 -> 3 | V9: ='偏鄉計劃學校(葷)國中'!F47 -> 0 | W9: ='偏鄉計劃學校(葷)國中'!G47 -> 0 | X9: ='偏鄉計劃學校(葷)國中'!H47 -> 797
A10: 45348 | B10: ='偏鄉計劃學校(葷)國中'!A54 -> c1 | C10: ='偏鄉計劃學校(葷)國中'!I54 -> 白米飯 | D10: ='偏鄉計劃學校(葷)國中'!AG54 -> 米 | E10: ='偏鄉計劃學校(葷)國中'!L54 -> 醬醋滷肉 | F10: ='偏鄉計劃學校(葷)國中'!AH54 -> 豬後腿肉 白蘿蔔 胡蘿蔔 大蒜 月桂葉 滷包 | G10: ='偏鄉計劃學校(葷)國中'!O54 -> 開陽玉菜 | H10: ='偏鄉計劃學校(葷)國中'!AI54 -> 雞蛋 甘藍 大蒜 蝦米 | I10: ='偏鄉計劃學校(葷)國中'!R54 -> 泰式魚丸 | J10: ='偏鄉計劃學校(葷)國中'!AJ54 -> 魚丸 泰式甜辣醬 | K10: ='偏鄉計劃學校(葷)國中'!U54 -> 時蔬 | L10: ='偏鄉計劃學校(葷)國中'!AK54 -> 蔬菜 大蒜 | M10: ='偏鄉計劃學校(葷)國中'!X54 -> 羅宋湯 | N10: ='偏鄉計劃學校(葷)國中'!AL54 -> 洋蔥 大番茄 馬鈴薯 芹菜 豬大排 薑 | O10: ='偏鄉計劃學校(葷)國中'!AM54 -> 點心 | P10: ='偏鄉計劃學校(葷)國中'!AN54 | Q10: ='偏鄉計劃學校(葷)國中'!AO54 | R10: ='偏鄉計劃學校(葷)國中'!B54 -> 5.1 | S10: ='偏鄉計劃學校(葷)國中'!C54 -> 3.2 | T10: ='偏鄉計劃學校(葷)國中'!D54 -> 2 | U10: ='偏鄉計劃學校(葷)國中'!E54 -> 3 | V10: ='偏鄉計劃學校(葷)國中'!F54 -> 0 | W10: ='偏鄉計劃學校(葷)國中'!G54 -> 0 | X10: ='偏鄉計劃學校(葷)國中'!H54 -> 782
A11: 45349 | B11: ='偏鄉計劃學校(葷)國中'!A61 -> c2 | C11: ='偏鄉計劃學校(葷)國中'!I61 -> 糙米飯 | D11: ='偏鄉計劃學校(葷)國中'!AG61 -> 米 糙米 | E11: ='偏鄉計劃學校(葷)國中'!L61 -> 栗子燒雞 | F11: ='偏鄉計劃學校(葷)國中'!AH61 -> 肉雞 時瓜 栗子(生) 大蒜 | G11: ='偏鄉計劃學校(葷)國中'!O61 -> 鮮燴時蔬 | H11: ='偏鄉計劃學校(葷)國中'!AI61 -> 冷凍玉米筍 鵪鶉水煮蛋 時蔬 豬後腿肉 大蒜 | I11: ='偏鄉計劃學校(葷)國中'!R61 -> 豆包瓜粒 | J11: ='偏鄉計劃學校(葷)國中'!AJ61 -> 豆包 冬瓜 胡蘿蔔 大蒜 | K11: ='偏鄉計劃學校(葷)國中'!U61 -> 時蔬 | L11: ='偏鄉計劃學校(葷)國中'!AK61 -> 蔬菜 大蒜 | M11: ='偏鄉計劃學校(葷)國中'!X61 -> 時蔬湯 | N11: ='偏鄉計劃學校(葷)國中'!AL61 -> 時蔬 豬大排 胡蘿蔔 薑 | O11: ='偏鄉計劃學校(葷)國中'!AM61 -> 點心 | P11: ='偏鄉計劃學校(葷)國中'!AN61 | Q11: ='偏鄉計劃學校(葷)國中'!AO61 | R11: ='偏鄉計劃學校(葷)國中'!B61 -> 5.1 | S11: ='偏鄉計劃學校(葷)國中'!C61 -> 3.5 | T11: ='偏鄉計劃學校(葷)國中'!D61 -> 2.2 | U11: ='偏鄉計劃學校(葷)國中'!E61 -> 3 | V11: ='偏鄉計劃學校(葷)國中'!F61 -> 0 | W11: ='偏鄉計劃學校(葷)國中'!G61 -> 0 | X11: ='偏鄉計劃學校(葷)國中'!H61 -> 810
A12: 45351 | B12: ='偏鄉計劃學校(葷)國中'!A68 -> c4 | C12: ='偏鄉計劃學校(葷)國中'!I68 -> 糙米飯 | D12: ='偏鄉計劃學校(葷)國中'!AG68 -> 米 糙米 | E12: ='偏鄉計劃學校(葷)國中'!L68 -> 筍干燒肉 | F12: ='偏鄉計劃學校(葷)國中'!AH68 -> 豬後腿肉 麻竹筍干 大蒜 | G12: ='偏鄉計劃學校(葷)國中'!O68 -> 藜麥毛豆 | H12: ='偏鄉計劃學校(葷)國中'!AI68 -> 冷凍毛豆仁 時瓜 豬絞肉 甜椒 紅藜 大蒜 | I12: ='偏鄉計劃學校(葷)國中'!R68 -> 洋蔥炒蛋 | J12: ='偏鄉計劃學校(葷)國中'!AJ68 -> 雞蛋 洋蔥 胡蘿蔔 大蒜 | K12: ='偏鄉計劃學校(葷)國中'!U68 -> 時蔬 | L12: ='偏鄉計劃學校(葷)國中'!AK68 -> 蔬菜 大蒜 | M12: ='偏鄉計劃學校(葷)國中'!X68 -> 綠豆薏仁甜湯 | N12: ='偏鄉計劃學校(葷)國中'!AL68 -> 小薏仁 紅砂糖 綠豆 | O12: ='偏鄉計劃學校(葷)國中'!AM68 -> 點心 | P12: ='偏鄉計劃學校(葷)國中'!AN68 | Q12: ='偏鄉計劃學校(葷)國中'!AO68 | R12: ='偏鄉計劃學校(葷)國中'!B68 -> 6.1 | S12: ='偏鄉計劃學校(葷)國中'!C68 -> 3.1 | T12: ='偏鄉計劃學校(葷)國中'!D68 -> 2 | U12: ='偏鄉計劃學校(葷)國中'!E68 -> 3 | V12: ='偏鄉計劃學校(葷)國中'!F68 -> 0 | W12: ='偏鄉計劃學校(葷)國中'!G68 -> 0 | X12: ='偏鄉計劃學校(葷)國中'!H68 -> 845
C13: 過敏警語:「本月產品含有蛋、芝麻、含麩之穀物、花生、大豆、魚類、亞硫酸鹽類及其相關製品，不適合其過敏體質者食用」

Sheet 偏鄉計劃學校(葷)國小
A1: 112學年度下學期國民小學2月份葷食菜單(偏鄉計劃學校)-------華王御膳
A2: 食材明細（食材重量以100人份計量，營養分析以個人計量,其中肉雞包含23%骨頭之採購量，每周供應特餐一次，當日得混搭供應，國中4菜1湯1附餐點心1，國小3菜1湯1附餐點1)
A3: 為符合契約規範，每周供應一次附餐點心2本縣有機豆奶，每周供應二次有機蔬菜。每周供應一次果汁、保久乳、水果。 | AC3: 統整區的檔案，連動到上方循環，後續給教育處的檔案，此處請自行隱藏
A4: 循環 | B4: 穀/份 | C4: 豆/份 | D4: 蔬/份 | E4: 油/份 | F4: 乳/份 | G4: 果/份 | H4: 熱量 | I4: 主食 | J4: 重/kg | K4: 公斤 | L4: 主菜 | M4: 重/kg | N4: 公斤 | O4: 副菜一 | P4: 重/kg | Q4: 公斤 | R4: 蔬菜 | S4: 重/kg | T4: 公斤 | U4: 湯品 | V4: 重/kg | W4: 公斤 | X4: 附餐點心 | Y4: 重/kg | Z4: 公斤 | AA4: 附餐點心 | AB4: 重/kg | AC4: 主食 | AD4: 主菜 | AE4: 副菜一 | AF4: 副菜二 | AG4: 蔬菜 | AH4: 湯品 | AI4: 點心 | AJ4: 點心 | AK4: 點心
A5: a4 | B5: 5 | C5: 3.5 | D5: 1.5 | E5: 4 | F5: 0 | G5: 0 | H5: 830 | I5: 白米飯 | L5: 香酥雞翅 | O5: 麻婆豆腐 | R5: 時蔬 | U5: 時蔬湯 | X5: 點心 | AA5: 有雞豆奶 | AC5: =A5 -> a4 | AD5: =I6&" "&I7&" "&I8&" "&I9&" "&I10&" "&I11 -> 米 | AE5: =L6&" "&L7&" "&L8&" "&L9&" "&L10&" "&L11 -> 三節翅 胡椒鹽 | AF5: =O6&" "&O7&" "&O8&" "&O9&" "&O10&" "&O11 -> 豆腐 豬絞肉 時瓜 大蒜 豆瓣醬 | AG5: =R6&" "&R7&" "&R8&" "&R9&" "&R10&" "&R11 -> 蔬菜 大蒜 | AH5: =U6&" "&U7&" "&U8&" "&U9&" "&U10&" "&U11 -> 時蔬 豬大排 薑 | AI5: =X6&" "&X7&" "&X8&" "&X9&" "&X10&" "&X11 -> 點心 | AJ5: =AA6&" "&AA7&" "&AA8&" "&AA9&" "&AA10&" "&AA11 | AK5: =AB6&" "&AB7&" "&AB8&" "&AB9&" "&AB10&" "&AB11 -> 包子
I6: 米 | J6: 10 | K6: =IF(J6,"公斤","") -> 公斤 | L6: 三節翅 | M6: 9 | N6: =IF(M6,"公斤","") -> 公斤 | O6: 豆腐 | P6: 6 | Q6: =IF(P6,"公斤","") -> 公斤 | R6: 蔬菜 | S6: 7 | T6: =IF(S6,"公斤","") -> 公斤 | U6: 時蔬 | V6: 4 | W6: =IF(V6,"公斤","") -> 公斤 | X6: 點心 | Y6: 5 | AB6: 包子
A7: 45338 | K7: =IF(J7,"公斤","") | L7: 胡椒鹽 | N7: =IF(M7,"公斤","") | O7: 豬絞肉 | P7: 1 | Q7: =IF(P7,"公斤","") -> 公斤 | R7: 大蒜 | S7: 0.05 | T7: =IF(S7,"公斤","") -> 公斤 | U7: 豬大排 | V7: 1 | W7: =IF(V7,"公斤","") -> 公斤
K8: =IF(J8,"公斤","") | N8: =IF(M8,"公斤","") | O8: 時瓜 | P8: 4 | Q8: =IF(P8,"公斤","") -> 公斤 | T8: =IF(S8,"公斤","") | U8: 薑 | V8: 0.05 | W8: =IF(V8,"公斤","") -> 公斤
A9: 星期五 | K9: =IF(J9,"公斤","") | N9: =IF(M9,"公斤","") | O9: 大蒜 | P9: 0.05 | Q9: =IF(P9,"公斤","") -> 公斤 | T9: =IF(S9,"公斤","") | W9: =IF(V9,"公斤","")
K10: =IF(J10,"公斤","") | N10: =IF(M10,"公斤","") | O10: 豆瓣醬 | Q10: =IF(P10,"公斤","") | T10: =IF(S10,"公斤","") | W10: =IF(V10,"公斤","")
K11: =IF(J11,"公斤","") | N11: =IF(M11,"公斤","") | Q11: =IF(P11,"公斤","") | T11: =IF(S11,"公斤","") | W11: =IF(V11,"公斤","")
A12: a5 | B12: 5.5 | C12: 2.9 | D12: 2 | E12: 3 | F12: 0 | G12: 0 | H12: 788 | I12: 糙米飯 | L12: 咖哩雞 | O12: 螞蟻上樹 | R12: 時蔬 | U12: 蘿蔔魚丸湯 | X12: 點心 | AC12: =A12 -> a5 | AD12: =I13&" "&I14&" "&I15&" "&I16&" "&I17&" "&I18 -> 米 糙米 | AE12: =L13&" "&L14&" "&L15&" "&L16&" "&L17&" "&L18 -> 肉雞 馬鈴薯 洋蔥 胡蘿蔔 大蒜 咖哩粉 | AF12: =O13&" "&O14&" "&O15&" "&O16&" "&O17&" "&O18 -> 冬粉 豬絞肉 時蔬 乾木耳 大蒜 | AG12: =R13&" "&R14&" "&R15&" "&R16&" "&R17&" "&R18 -> 蔬菜 大蒜 | AH12: =U13&" "&U14&" "&U15&" "&U16&" "&U17&" "&U18 -> 魚丸 白蘿蔔 薑 | AI12: =X13&" "&X14&" "&X15&" "&X16&" "&X17&" "&X18 -> 點心 | AJ12: =AA13&" "&AA14&" "&AA15&" "&AA16&" "&AA17&" "&AA18 | AK12: =AB13&" "&AB14&" "&AB15&" "&AB16&" "&AB17&" "&AB18 -> 肉包
I13: 米 | J13: 8 | K13: =IF(J13,"公斤","") -> 公斤 | L13: 肉雞 | M13: 10 | N13: =IF(M13,"公斤","") -> 公斤 | O13: 冬粉 | P13: 1.2 | Q13: =IF(P13,"公斤","") -> 公斤 | R13: 蔬菜 | S13: 7 | T13: =IF(S13,"公斤","") -> 公斤 | U13: 魚丸 | V13: 1 | W13: =IF(V13,"公斤","") -> 公斤 | X13: 點心 | Y13: 5 | Z13: =IF(Y13,"公斤","") -> 公斤 | AB13: 肉包
A14: 45339 | I14: 糙米 | J14: 2 | K14: =IF(J14,"公斤","") -> 公斤 | L14: 馬鈴薯 | M14: 2 | N14: =IF(M14,"公斤","") -> 公斤 | O14: 豬絞肉 | P14: 1 | Q14: =IF(P14,"公斤","") -> 公斤 | R14: 大蒜 | S14: 0.05 | T14: =IF(S14,"公斤","") -> 公斤 | U14: 白蘿蔔 | V14: 4 | W14: =IF(V14,"公斤","") -> 公斤 | Z14: =IF(Y14,"公斤","")
K15: =IF(J15,"公斤","") | L15: 洋蔥 | M15: 3 | N15: =IF(M15,"公斤","") -> 公斤 | O15: 時蔬 | P15: 4 | Q15: =IF(P15,"公斤","") -> 公斤 | T15: =IF(S15,"公斤","") | U15: 薑 | V15: 0.05 | W15: =IF(V15,"公斤","") -> 公斤 | Z15: =IF(Y15,"公斤","")
A16: 星期六 | K16: =IF(J16,"公斤","") | L16: 胡蘿蔔 | M16: 2 | N16: =IF(M16,"公斤","") -> 公斤 | O16: 乾木耳 | P16: 0.01 | Q16: =IF(P16,"公斤","") -> 公斤 | T16: =IF(S16,"公斤","") | W16: =IF(V16,"公斤","") | Z16: =IF(Y16,"公斤","")
A17: 補課 | K17: =IF(J17,"公斤","") | L17: 大蒜 | M17: 0.05 | N17: =IF(M17,"公斤","") -> 公斤 | O17: 大蒜 | P17: 0.05 | Q17: =IF(P17,"公斤","") -> 公斤 | T17: =IF(S17,"公斤","") | W17: =IF(V17,"公斤","") | Z17: =IF(Y17,"公斤","")
K18: =IF(J18,"公斤","") | L18: 咖哩粉 | N18: =IF(M18,"公斤","") | Q18: =IF(P18,"公斤","") | T18: =IF(S18,"公斤","") | W18: =IF(V18,"公斤","") | Z18: =IF(Y18,"公斤","")
A19: b1 | B19: 5 | C19: 2.3 | D19: 1.8 | E19: 3 | F19: 0 | G19: 0 | H19: 703 | I19: 白米飯 | L19: 回鍋肉片 | O19: 西滷白菜 | R19: 時蔬 | U19: 牛蒡湯 | X19: 點心 | AC19: =A19 -> b1 | AD19: =I20&" "&I21&" "&I22&" "&I23&" "&I24&" "&I25 -> 米 | AE19: =L20&" "&L21&" "&L22&" "&L23&" "&L24&" "&L25 -> 豬後腿肉 洋蔥 胡蘿蔔 大蒜 甜麵醬 | AF19: =O20&" "&O21&" "&O22&" "&O23&" "&O24&" "&O25 -> 雞蛋 結球白菜 胡蘿蔔 蝦仁 大蒜 | AG19: =R20&" "&R21&" "&R22&" "&R23&" "&R24&" "&R25 -> 蔬菜 大蒜 | AH19: =U20&" "&U21&" "&U22&" "&U23&" "&U24&" "&U25 -> 牛蒡 豬大排 薑 枸杞 | AI19: =X20&" "&X21&" "&X22&" "&X23&" "&X24&" "&X25 -> 點心 | AJ19: =AA20&" "&AA21&" "&AA22&" "&AA23&" "&AA24&" "&AA25 | AK19: =AB20&" "&AB21&" "&AB22&" "&AB23&" "&AB24&" "&AB25 -> 包子
I20: 米 | J20: 10 | K20: =IF(J20,"公斤","") -> 公斤 | L20: 豬後腿肉 | M20: 6 | N20: =IF(M20,"公斤","") -> 公斤 | O20: 雞蛋 | P20: 0.5 | Q20: =IF(P20,"公斤","") -> 公斤 | R20: 蔬菜 | S20: 7 | T20: =IF(S20,"公斤","") -> 公斤 | U20: 牛蒡 | V20: 2 | W20: =IF(V20,"公斤","") -> 公斤 | X20: 點心 | Y20: 5 | Z20: 公斤 | AB20: 包子
A21: 45341 | K21: =IF(J21,"公斤","") | L21: 洋蔥 | M21: 4 | N21: =IF(M21,"公斤","") -> 公斤 | O21: 結球白菜 | P21: 4 | Q21: =IF(P21,"公斤","") -> 公斤 | R21: 大蒜 | S21: 0.05 | T21: =IF(S21,"公斤","") -> 公斤 | U21: 豬大排 | V21: 1 | W21: =IF(V21,"公斤","") -> 公斤
K22: =IF(J22,"公斤","") | L22: 胡蘿蔔 | M22: 0.5 | N22: =IF(M22,"公斤","") -> 公斤 | O22: 胡蘿蔔 | P22: 1 | Q22: =IF(P22,"公斤","") -> 公斤 | T22: =IF(S22,"公斤","") | U22: 薑 | V22: 0.05 | W22: =IF(V22,"公斤","") -> 公斤
A23: 星期一 | K23: =IF(J23,"公斤","") | L23: 大蒜 | M23: 0.05 | N23: =IF(M23,"公斤","") -> 公斤 | O23: 蝦仁 | P23: 2 | Q23: =IF(P23,"公斤","") -> 公斤 | T23: =IF(S23,"公斤","") | U23: 枸杞 | W23: =IF(V23,"公斤","")
K24: =IF(J24,"公斤","") | L24: 甜麵醬 | N24: =IF(M24,"公斤","") | O24: 大蒜 | P24: 0.05 | Q24: =IF(P24,"公斤","") -> 公斤 | T24: =IF(S24,"公斤","") | W24: =IF(V24,"公斤","")
K25: =IF(J25,"公斤","") | N25: =IF(M25,"公斤","") | Q25: =IF(P25,"公斤","") | T25: =IF(S25,"公斤","") | W25: =IF(V25,"公斤","")
A26: b2 | B26: 5 | C26: 2.4 | D26: 1.7 | E26: 4 | F26: 0 | G26: 0 | H26: 753 | I26: 糙米飯 | L26: 香酥魚排 | O26: 玉米三色 | R26: 時蔬 | U26: 味噌海芽湯 | X26: 點心 | AC26: =A26 -> b2 | AD26: =I27&" "&I28&" "&I29&" "&I30&" "&I31&" "&I32 -> 米 糙米 | AE26: =L27&" "&L28&" "&L29&" "&L30&" "&L31&" "&L32 -> 魚排 | AF26: =O27&" "&O28&" "&O29&" "&O30&" "&O31&" "&O32 -> 甜椒(青皮) 冷凍玉米粒 馬鈴薯 胡蘿蔔 培根 大蒜 | AG26: =R27&" "&R28&" "&R29&" "&R30&" "&R31&" "&R32 -> 蔬菜 大蒜 | AH26: =U27&" "&U28&" "&U29&" "&U30&" "&U31&" "&U32 -> 乾裙帶菜 時蔬 味噌 | AI26: =X27&" "&X28&" "&X29&" "&X30&" "&X31&" "&X32 -> 點心 | AJ26: =AA27&" "&AA28&" "&AA29&" "&AA30&" "&AA31&" "&AA32 | AK26: =AB27&" "&AB28&" "&AB29&" "&AB30&" "&AB31&" "&AB32 -> 包子
I27: 米 | J27: 8 | K27: =IF(J27,"公斤","") -> 公斤 | L27: 魚排 | M27: 7 | N27: =IF(M27,"公斤","") -> 公斤 | O27: 甜椒(青皮) | P27: 2 | Q27: =IF(P27,"公斤","") -> 公斤 | R27: 蔬菜 | S27: 7 | T27: =IF(S27,"公斤","") -> 公斤 | U27: 乾裙帶菜 | V27: 0.05 | W27: =IF(V27,"公斤","") -> 公斤 | X27: 點心 | Y27: 5 | Z27: 公斤 | AB27: 包子
A28: 45342 | I28: 糙米 | J28: 2 | K28: =IF(J28,"公斤","") -> 公斤 | N28: =IF(M28,"公斤","") | O28: 冷凍玉米粒 | P28: 2 | Q28: =IF(P28,"公斤","") -> 公斤 | R28: 大蒜 | S28: 0.05 | T28: =IF(S28,"公斤","") -> 公斤 | U28: 時蔬 | V28: 4 | W28: =IF(V28,"公斤","") -> 公斤
K29: =IF(J29,"公斤","") | N29: =IF(M29,"公斤","") | O29: 馬鈴薯 | P29: 2 | Q29: =IF(P29,"公斤","") -> 公斤 | T29: =IF(S29,"公斤","") | U29: 味噌 | V29: 0.6 | W29: =IF(V29,"公斤","") -> 公斤
A30: 星期二 | K30: =IF(J30,"公斤","") | N30: =IF(M30,"公斤","") | O30: 胡蘿蔔 | P30: 2 | Q30: =IF(P30,"公斤","") -> 公斤 | T30: =IF(S30,"公斤","") | W30: =IF(V30,"公斤","")
K31: =IF(J31,"公斤","") | N31: =IF(M31,"公斤","") | O31: 培根 | P31: 0.5 | Q31: =IF(P31,"公斤","") -> 公斤 | T31: =IF(S31,"公斤","") | W31: =IF(V31,"公斤","")
K32: =IF(J32,"公斤","") | N32: =IF(M32,"公斤","") | O32: 大蒜 | P32: 0.05 | Q32: =IF(P32,"公斤","") -> 公斤 | T32: =IF(S32,"公斤","") | W32: =IF(V32,"公斤","")
A33: b3 | B33: 5 | C33: 1.9 | D33: 2 | E33: 3 | F33: 0 | G33: 0 | H33: 678 | I33: 拌麵特餐 | L33: 香菇絞肉 | O33: 拌麵配料 | R33: 時蔬 | U33: 肉羹湯 | X33: 點心 | Z33: =IF(Y33,"公斤","") | AC33: =A33 -> b3 | AD33: =I34&" "&I35&" "&I36&" "&I37&" "&I38&" "&I39 -> 麵條 | AE33: =L34&" "&L35&" "&L36&" "&L37&" "&L38&" "&L39 -> 豬絞肉 冬瓜 乾香菇 大蒜 油蔥酥 | AF33: =O34&" "&O35&" "&O36&" "&O37&" "&O38&" "&O39 -> 甘藍 胡蘿蔔 大蒜 紅蔥頭 | AG33: =R34&" "&R35&" "&R36&" "&R37&" "&R38&" "&R39 -> 蔬菜 大蒜 | AH33: =U34&" "&U35&" "&U36&" "&U37&" "&U38&" "&U39 -> 雞蛋 脆筍 時蔬 肉羹 乾木耳 | AI33: =X34&" "&X35&" "&X36&" "&X37&" "&X38&" "&X39 -> 點心 | AJ33: =AA34&" "&AA35&" "&AA36&" "&AA37&" "&AA38&" "&AA39 | AK33: =AB34&" "&AB35&" "&AB36&" "&AB37&" "&AB38&" "&AB39
I34: 麵條 | J34: 15 | K34: =IF(J34,"公斤","") -> 公斤 | L34: 豬絞肉 | M34: 6 | N34: =IF(M34,"公斤","") -> 公斤 | O34: 甘藍 | P34: 5 | Q34: =IF(P34,"公斤","") -> 公斤 | R34: 蔬菜 | S34: 7 | T34: =IF(S34,"公斤","") -> 公斤 | U34: 雞蛋 | V34: 1 | W34: =IF(V34,"公斤","") -> 公斤 | X34: 點心 | Y34: 5 | Z34: =IF(Y34,"公斤","") -> 公斤
A35: 45343 | K35: =IF(J35,"公斤","") | L35: 冬瓜 | M35: 4 | N35: =IF(M35,"公斤","") -> 公斤 | O35: 胡蘿蔔 | P35: 0.5 | Q35: =IF(P35,"公斤","") -> 公斤 | R35: 大蒜 | S35: 0.05 | T35: =IF(S35,"公斤","") -> 公斤 | U35: 脆筍 | V35: 1 | W35: =IF(V35,"公斤","") -> 公斤 | Z35: =IF(Y35,"公斤","")
K36: =IF(J36,"公斤","") | L36: 乾香菇 | M36: 0.05 | N36: =IF(M36,"公斤","") -> 公斤 | O36: 大蒜 | P36: 0.05 | Q36: =IF(P36,"公斤","") -> 公斤 | T36: =IF(S36,"公斤","") | U36: 時蔬 | V36: 2 | W36: =IF(V36,"公斤","") -> 公斤 | Z36: =IF(Y36,"公斤","")
A37: 星期三 | K37: =IF(J37,"公斤","") | L37: 大蒜 | M37: 0.05 | N37: =IF(M37,"公斤","") -> 公斤 | O37: 紅蔥頭 | Q37: =IF(P37,"公斤","") | T37: =IF(S37,"公斤","") | U37: 肉羹 | V37: 1 | W37: =IF(V37,"公斤","") -> 公斤 | Z37: =IF(Y37,"公斤","")
K38: =IF(J38,"公斤","") | L38: 油蔥酥 | N38: =IF(M38,"公斤","") | Q38: =IF(P38,"公斤","") | T38: =IF(S38,"公斤","") | U38: 乾木耳 | V38: 0.02 | W38: =IF(V38,"公斤","") -> 公斤 | Z38: =IF(Y38,"公斤","")
K39: =IF(J39,"公斤","") | N39: =IF(M39,"公斤","") | Q39: =IF(P39,"公斤","") | T39: =IF(S39,"公斤","") | W39: =IF(V39,"公斤","") | Z39: =IF(Y39,"公斤","")
A40: b4 | B40: 5.7 | C40: 2.1 | D40: 1.7 | E40: 3 | F40: 0 | G40: 0 | H40: 734 | I40: 糙米飯 | L40: 沙茶魷魚 | O40: 培根花椰 | R40: 時蔬 | U40: 銀耳西米露 | X40: 點心 | Z40: =IF(Y40,"公斤","") | AC40: =A40 -> b4 | AD40: =I41&" "&I42&" "&I43&" "&I44&" "&I45&" "&I46 -> 米 糙米 | AE40: =L41&" "&L42&" "&L43&" "&L44&" "&L45&" "&L46 -> 阿根廷魷 豬後腿肉 洋蔥 甜椒 大蒜 沙茶醬 | AF40: =O41&" "&O42&" "&O43&" "&O44&" "&O45&" "&O46 -> 培根 冷凍花椰菜 大蒜 | AG40: =R41&" "&R42&" "&R43&" "&R44&" "&R45&" "&R46 -> 蔬菜 大蒜 | AH40: =U41&" "&U42&" "&U43&" "&U44&" "&U45&" "&U46 -> 乾銀耳 西谷米 紅砂糖 枸杞 | AI40: =X41&" "&X42&" "&X43&" "&X44&" "&X45&" "&X46 -> 點心 | AJ40: =AA41&" "&AA42&" "&AA43&" "&AA44&" "&AA45&" "&AA46 | AK40: =AB41&" "&AB42&" "&AB43&" "&AB44&" "&AB45&" "&AB46
I41: 米 | J41: 8 | K41: =IF(J41,"公斤","") -> 公斤 | L41: 阿根廷魷 | M41: 3.5 | N41: =IF(M41,"公斤","") -> 公斤 | O41: 培根 | P41: 1 | Q41: =IF(P41,"公斤","") -> 公斤 | R41: 蔬菜 | S41: 7 | T41: =IF(S41,"公斤","") -> 公斤 | U41: 乾銀耳 | V41: 0.1 | W41: =IF(V41,"公斤","") -> 公斤 | X41: 點心 | Y41: 5 | Z41: =IF(Y41,"公斤","") -> 公斤
A42: 45344 | I42: 糙米 | J42: 2 | K42: =IF(J42,"公斤","") -> 公斤 | L42: 豬後腿肉 | M42: 3.5 | N42: =IF(M42,"公斤","") -> 公斤 | O42: 冷凍花椰菜 | P42: 6 | Q42: =IF(P42,"公斤","") -> 公斤 | R42: 大蒜 | S42: 0.05 | T42: =IF(S42,"公斤","") -> 公斤 | U42: 西谷米 | V42: 1 | W42: =IF(V42,"公斤","") -> 公斤 | Z42: =IF(Y42,"公斤","")
K43: =IF(J43,"公斤","") | L43: 洋蔥 | M43: 3 | N43: =IF(M43,"公斤","") -> 公斤 | O43: 大蒜 | P43: 0.05 | Q43: =IF(P43,"公斤","") -> 公斤 | T43: =IF(S43,"公斤","") | U43: 紅砂糖 | V43: 1 | W43: =IF(V43,"公斤","") -> 公斤 | Z43: =IF(Y43,"公斤","")
A44: 星期四 | K44: =IF(J44,"公斤","") | L44: 甜椒 | M44: 0.5 | N44: =IF(M44,"公斤","") -> 公斤 | Q44: =IF(P44,"公斤","") | T44: =IF(S44,"公斤","") | U44: 枸杞 | W44: =IF(V44,"公斤","") | Z44: =IF(Y44,"公斤","")
K45: =IF(J45,"公斤","") | L45: 大蒜 | M45: 0.05 | N45: =IF(M45,"公斤","") -> 公斤 | Q45: =IF(P45,"公斤","") | T45: =IF(S45,"公斤","") | W45: =IF(V45,"公斤","") | Z45: =IF(Y45,"公斤","")
K46: =IF(J46,"公斤","") | L46: 沙茶醬 | N46: =IF(M46,"公斤","") | Q46: =IF(P46,"公斤","") | T46: =IF(S46,"公斤","") | W46: =IF(V46,"公斤","") | Z46: =IF(Y46,"公斤","")
A47: b5 | B47: 5.2 | C47: 3 | D47: 1.6 | E47: 3 | F47: 0 | G47: 0 | H47: 764 | I47: 小米飯 | L47: 京醬肉絲 | O47: 塔香豆腐 | R47: 時蔬 | U47: 冬瓜湯 | X47: 點心 | Z47: =IF(Y47,"公斤","") | AA47: 有雞豆奶 | AC47: =A47 -> b5 | AD47: =I48&" "&I49&" "&I50&" "&I51&" "&I52&" "&I53 -> 米 小米 糙米 | AE47: =L48&" "&L49&" "&L50&" "&L51&" "&L52&" "&L53 -> 豬後腿肉 時瓜 胡蘿蔔 大蒜 甜麵醬 | AF47: =O48&" "&O49&" "&O50&" "&O51&" "&O52&" "&O53 -> 豆腐 杏鮑菇 胡蘿蔔 九層塔 大蒜 薑 | AG47: =R48&" "&R49&" "&R50&" "&R51&" "&R52&" "&R53 -> 蔬菜 大蒜 | AH47: =U48&" "&U49&" "&U50&" "&U51&" "&U52&" "&U53 -> 冬瓜 豬大排 薑 | AI47: =X48&" "&X49&" "&X50&" "&X51&" "&X52&" "&X53 -> 點心 | AJ47: =AA48&" "&AA49&" "&AA50&" "&AA51&" "&AA52&" "&AA53 | AK47: =AB48&" "&AB49&" "&AB50&" "&AB51&" "&AB52&" "&AB53
I48: 米 | J48: 8 | K48: =IF(J48,"公斤","") -> 公斤 | L48: 豬後腿肉 | M48: 6.5 | N48: =IF(M48,"公斤","") -> 公斤 | O48: 豆腐 | P48: 6.5 | Q48: =IF(P48,"公斤","") -> 公斤 | R48: 蔬菜 | S48: 7 | T48: =IF(S48,"公斤","") -> 公斤 | U48: 冬瓜 | V48: 3 | W48: =IF(V48,"公斤","") -> 公斤 | X48: 點心 | Y48: 5 | Z48: =IF(Y48,"公斤","") -> 公斤
A49: 45345 | I49: 小米 | J49: 0.4 | K49: =IF(J49,"公斤","") -> 公斤 | L49: 時瓜 | M49: 4 | N49: =IF(M49,"公斤","") -> 公斤 | O49: 杏鮑菇 | P49: 1 | Q49: =IF(P49,"公斤","") -> 公斤 | R49: 大蒜 | S49: 0.05 | T49: =IF(S49,"公斤","") -> 公斤 | U49: 豬大排 | V49: 1 | W49: =IF(V49,"公斤","") -> 公斤 | Z49: =IF(Y49,"公斤","")
I50: 糙米 | J50: 2 | K50: =IF(J50,"公斤","") -> 公斤 | L50: 胡蘿蔔 | M50: 0.5 | N50: =IF(M50,"公斤","") -> 公斤 | O50: 胡蘿蔔 | P50: 0.5 | Q50: =IF(P50,"公斤","") -> 公斤 | T50: =IF(S50,"公斤","") | U50: 薑 | V50: 0.05 | W50: =IF(V50,"公斤","") -> 公斤 | Z50: =IF(Y50,"公斤","")
A51: 星期五 | K51: =IF(J51,"公斤","") | L51: 大蒜 | M51: 0.05 | N51: =IF(M51,"公斤","") -> 公斤 | O51: 九層塔 | P51: 0.1 | Q51: =IF(P51,"公斤","") -> 公斤 | T51: =IF(S51,"公斤","") | W51: =IF(V51,"公斤","") | Z51: =IF(Y51,"公斤","")
K52: =IF(J52,"公斤","") | L52: 甜麵醬 | N52: =IF(M52,"公斤","") | O52: 大蒜 | P52: 0.05 | Q52: =IF(P52,"公斤","") -> 公斤 | T52: =IF(S52,"公斤","") | W52: =IF(V52,"公斤","") | Z52: =IF(Y52,"公斤","")
K53: =IF(J53,"公斤","") | N53: =IF(M53,"公斤","") | O53: 薑 | Q53: =IF(P53,"公斤","") | T53: =IF(S53,"公斤","") | W53: =IF(V53,"公斤","") | Z53: =IF(Y53,"公斤","")
A54: c1 | B54: 5.1 | C54: 2.5 | D54: 2 | E54: 3 | F54: 0 | G54: 0 | H54: 730 | I54: 白米飯 | L54: 醬醋滷肉 | O54: 開陽玉菜 | R54: 時蔬 | U54: 羅宋湯 | X54: 點心 | Z54: =IF(Y54,"公斤","") | AC54: =A54 -> c1 | AD54: =I55&" "&I56&" "&I57&" "&I58&" "&I59&" "&I60 -> 米 | AE54: =L55&" "&L56&" "&L57&" "&L58&" "&L59&" "&L60 -> 豬後腿肉 白蘿蔔 胡蘿蔔 大蒜 月桂葉 滷包 | AF54: =O55&" "&O56&" "&O57&" "&O58&" "&O59&" "&O60 -> 雞蛋 甘藍 大蒜 蝦米 | AG54: =R55&" "&R56&" "&R57&" "&R58&" "&R59&" "&R60 -> 蔬菜 大蒜 | AH54: =U55&" "&U56&" "&U57&" "&U58&" "&U59&" "&U60 -> 洋蔥 大番茄 馬鈴薯 芹菜 豬大排 薑 | AI54: =X55&" "&X56&" "&X57&" "&X58&" "&X59&" "&X60 -> 點心 | AJ54: =AA55&" "&AA56&" "&AA57&" "&AA58&" "&AA59&" "&AA60 | AK54: =AB55&" "&AB56&" "&AB57&" "&AB58&" "&AB59&" "&AB60
I55: 米 | J55: 10 | K55: =IF(J55,"公斤","") -> 公斤 | L55: 豬後腿肉 | M55: 7 | N55: =IF(M55,"公斤","") -> 公斤 | O55: 雞蛋 | P55: 1 | Q55: =IF(P55,"公斤","") -> 公斤 | R55: 蔬菜 | S55: 7 | T55: =IF(S55,"公斤","") -> 公斤 | U55: 洋蔥 | V55: 1 | W55: =IF(V55,"公斤","") -> 公斤 | X55: 點心 | Y55: 5 | Z55: =IF(Y55,"公斤","") -> 公斤
A56: 45348 | K56: =IF(J56,"公斤","") | L56: 白蘿蔔 | M56: 3 | N56: =IF(M56,"公斤","") -> 公斤 | O56: 甘藍 | P56: 6 | Q56: =IF(P56,"公斤","") -> 公斤 | R56: 大蒜 | S56: 0.05 | T56: =IF(S56,"公斤","") -> 公斤 | U56: 大番茄 | V56: 2 | W56: =IF(V56,"公斤","") -> 公斤 | Z56: =IF(Y56,"公斤","")
K57: =IF(J57,"公斤","") | L57: 胡蘿蔔 | M57: 0.5 | N57: =IF(M57,"公斤","") -> 公斤 | O57: 大蒜 | P57: 0.05 | Q57: =IF(P57,"公斤","") -> 公斤 | T57: =IF(S57,"公斤","") | U57: 馬鈴薯 | V57: 1 | W57: =IF(V57,"公斤","") -> 公斤 | Z57: =IF(Y57,"公斤","")
A58: 星期一 | K58: =IF(J58,"公斤","") | L58: 大蒜 | M58: 0.05 | N58: =IF(M58,"公斤","") -> 公斤 | O58: 蝦米 | P58: 0.1 | Q58: =IF(P58,"公斤","") -> 公斤 | T58: =IF(S58,"公斤","") | U58: 芹菜 | V58: 0.5 | W58: =IF(V58,"公斤","") -> 公斤 | Z58: =IF(Y58,"公斤","")
K59: =IF(J59,"公斤","") | L59: 月桂葉 | N59: =IF(M59,"公斤","") | Q59: =IF(P59,"公斤","") | T59: =IF(S59,"公斤","") | U59: 豬大排 | V59: 1 | W59: =IF(V59,"公斤","") -> 公斤 | Z59: =IF(Y59,"公斤","")
K60: =IF(J60,"公斤","") | L60: 滷包 | N60: =IF(M60,"公斤","") | Q60: =IF(P60,"公斤","") | T60: =IF(S60,"公斤","") | U60: 薑 | V60: 0.05 | W60: =IF(V60,"公斤","") -> 公斤 | Z60: =IF(Y60,"公斤","")
A61: c2 | B61: 5.1 | C61: 3.3 | D61: 1.6 | E61: 3 | F61: 0 | G61: 0 | H61: 780 | I61: 糙米飯 | L61: 栗子燒雞 | O61: 鮮燴時蔬 | R61: 時蔬 | U61: 時蔬湯 | X61: 點心 | Z61: =IF(Y61,"公斤","") | AC61: =A61 -> c2 | AD61: =I62&" "&I63&" "&I64&" "&I65&" "&I66&" "&I67 -> 米 糙米 | AE61: =L62&" "&L63&" "&L64&" "&L65&" "&L66&" "&L67 -> 肉雞 時瓜 栗子(生) 大蒜 | AF61: =O62&" "&O63&" "&O64&" "&O65&" "&O66&" "&O67 -> 冷凍玉米筍 鵪鶉水煮蛋 時蔬 豬後腿肉 大蒜 | AG61: =R62&" "&R63&" "&R64&" "&R65&" "&R66&" "&R67 -> 蔬菜 大蒜 | AH61: =U62&" "&U63&" "&U64&" "&U65&" "&U66&" "&U67 -> 時蔬 豬大排 胡蘿蔔 薑 | AI61: =X62&" "&X63&" "&X64&" "&X65&" "&X66&" "&X67 -> 點心 | AJ61: =AA62&" "&AA63&" "&AA64&" "&AA65&" "&AA66&" "&AA67 | AK61: =AB62&" "&AB63&" "&AB64&" "&AB65&" "&AB66&" "&AB67
I62: 米 | J62: 8 | K62: =IF(J62,"公斤","") -> 公斤 | L62: 肉雞 | M62: 10 | N62: =IF(M62,"公斤","") -> 公斤 | O62: 冷凍玉米筍 | P62: 1 | Q62: =IF(P62,"公斤","") -> 公斤 | R62: 蔬菜 | S62: 7 | T62: =IF(S62,"公斤","") -> 公斤 | U62: 時蔬 | V62: 2 | W62: =IF(V62,"公斤","") -> 公斤 | X62: 點心 | Y62: 5 | Z62: =IF(Y62,"公斤","") -> 公斤
A63: 45349 | I63: 糙米 | J63: 2 | K63: =IF(J63,"公斤","") -> 公斤 | L63: 時瓜 | M63: 2 | N63: =IF(M63,"公斤","") -> 公斤 | O63: 鵪鶉水煮蛋 | P63: 1.2 | Q63: =IF(P63,"公斤","") -> 公斤 | R63: 大蒜 | S63: 0.05 | T63: =IF(S63,"公斤","") -> 公斤 | U63: 豬大排 | V63: 1 | W63: =IF(V63,"公斤","") -> 公斤 | Z63: =IF(Y63,"公斤","")
K64: =IF(J64,"公斤","") | L64: 栗子(生) | M64: 0.1 | N64: =IF(M64,"公斤","") -> 公斤 | O64: 時蔬 | P64: 3 | Q64: =IF(P64,"公斤","") -> 公斤 | T64: =IF(S64,"公斤","") | U64: 胡蘿蔔 | V64: 0.5 | W64: =IF(V64,"公斤","") -> 公斤 | Z64: =IF(Y64,"公斤","")
A65: 星期二 | K65: =IF(J65,"公斤","") | L65: 大蒜 | M65: 0.05 | N65: =IF(M65,"公斤","") -> 公斤 | O65: 豬後腿肉 | P65: 1 | Q65: =IF(P65,"公斤","") -> 公斤 | T65: =IF(S65,"公斤","") | U65: 薑 | V65: 0.05 | W65: =IF(V65,"公斤","") -> 公斤 | Z65: =IF(Y65,"公斤","")
K66: =IF(J66,"公斤","") | N66: =IF(M66,"公斤","") | O66: 大蒜 | P66: 0.05 | Q66: =IF(P66,"公斤","") -> 公斤 | T66: =IF(S66,"公斤","") | W66: =IF(V66,"公斤","") | Z66: =IF(Y66,"公斤","")
K67: =IF(J67,"公斤","") | N67: =IF(M67,"公斤","") | Q67: =IF(P67,"公斤","") | T67: =IF(S67,"公斤","") | W67: =IF(V67,"公斤","") | Z67: =IF(Y67,"公斤","")
A68: c4 | B68: 6.1 | C68: 2.7 | D68: 1.5 | E68: 3 | F68: 0 | G68: 0 | H68: 802 | I68: 糙米飯 | L68: 筍干燒肉 | O68: 藜麥毛豆 | R68: 時蔬 | U68: 綠豆薏仁甜湯 | X68: 點心 | Z68: =IF(Y68,"公斤","") | AC68: =A68 -> c4 | AD68: =I69&" "&I70&" "&I71&" "&I72&" "&I73&" "&I74 -> 米 糙米 | AE68: =L69&" "&L70&" "&L71&" "&L72&" "&L73&" "&L74 -> 豬後腿肉 麻竹筍干 大蒜 | AF68: =O69&" "&O70&" "&O71&" "&O72&" "&O73&" "&O74 -> 冷凍毛豆仁 時瓜 豬絞肉 甜椒 紅藜 大蒜 | AG68: =R69&" "&R70&" "&R71&" "&R72&" "&R73&" "&R74 -> 蔬菜 大蒜 | AH68: =U69&" "&U70&" "&U71&" "&U72&" "&U73&" "&U74 -> 小薏仁 紅砂糖 綠豆 | AI68: =X69&" "&X70&" "&X71&" "&X72&" "&X73&" "&X74 -> 點心 | AJ68: =AA69&" "&AA70&" "&AA71&" "&AA72&" "&AA73&" "&AA74 | AK68: =AB69&" "&AB70&" "&AB71&" "&AB72&" "&AB73&" "&AB74
I69: 米 | J69: 8 | K69: =IF(J69,"公斤","") -> 公斤 | L69: 豬後腿肉 | M69: 7 | N69: =IF(M69,"公斤","") -> 公斤 | O69: 冷凍毛豆仁 | P69: 2 | Q69: =IF(P69,"公斤","") -> 公斤 | R69: 蔬菜 | S69: 7 | T69: =IF(S69,"公斤","") -> 公斤 | U69: 小薏仁 | V69: 0.5 | W69: =IF(V69,"公斤","") -> 公斤 | X69: 點心 | Y69: 5 | Z69: =IF(Y69,"公斤","") -> 公斤
A70: 45351 | I70: 糙米 | J70: 2 | K70: =IF(J70,"公斤","") -> 公斤 | L70: 麻竹筍干 | M70: 3 | N70: =IF(M70,"公斤","") -> 公斤 | O70: 時瓜 | P70: 4 | Q70: =IF(P70,"公斤","") -> 公斤 | R70: 大蒜 | S70: 0.05 | T70: =IF(S70,"公斤","") -> 公斤 | U70: 紅砂糖 | V70: 1 | W70: =IF(V70,"公斤","") -> 公斤 | Z70: =IF(Y70,"公斤","")
K71: =IF(J71,"公斤","") | L71: 大蒜 | M71: 0.05 | N71: =IF(M71,"公斤","") -> 公斤 | O71: 豬絞肉 | P71: 1 | Q71: =IF(P71,"公斤","") -> 公斤 | T71: =IF(S71,"公斤","") | U71: 綠豆 | V71: 2 | W71: =IF(V71,"公斤","") -> 公斤 | Z71: =IF(Y71,"公斤","")
A72: 星期四 | K72: =IF(J72,"公斤","") | N72: =IF(M72,"公斤","") | O72: 甜椒 | P72: 1 | Q72: =IF(P72,"公斤","") -> 公斤 | T72: =IF(S72,"公斤","") | W72: =IF(V72,"公斤","") | Z72: =IF(Y72,"公斤","")
K73: =IF(J73,"公斤","") | N73: =IF(M73,"公斤","") | O73: 紅藜 | P73: 0.15 | Q73: =IF(P73,"公斤","") -> 公斤 | T73: =IF(S73,"公斤","") | W73: =IF(V73,"公斤","") | Z73: =IF(Y73,"公斤","")
K74: =IF(J74,"公斤","") | N74: =IF(M74,"公斤","") | O74: 大蒜 | P74: 0.05 | Q74: =IF(P74,"公斤","") -> 公斤 | T74: =IF(S74,"公斤","") | W74: =IF(V74,"公斤","") | Z74: =IF(Y74,"公斤","")
A75: 過敏警語:「本月產品含有蛋、芝麻、含麩之穀物、花生、大豆、魚類、亞硫酸鹽類及其相關製品，不適合其過敏體質者食用」
A76: 說明:2月份菜單編排說明如下:一、
A77: 一、星期三、四為有機蔬菜，(新城國小、秀林國小、富士國小、崇德國小、秀林國中)。
A78: 二、豬肉食材來源一律使用國產豬

Sheet 偏鄉計劃學校(葷)國小月總表
A1: 112學年度下學期國民小學2月份葷食菜單(偏鄉計劃學校)-------華王御膳
A2: 日期 | B2: 循環 | C2: 主食 | D2: 主食明細 | E2: 主菜 | F2: 主菜明細 | G2: 副菜一 | H2: 副菜一明細 | I2: 蔬菜 | J2: 蔬菜明細 | K2: 湯品 | L2: 湯品明細 | M2: 附餐點心 | N2: 附餐點心 | O2: 附餐點心 | P2: 穀/份 | Q2: 豆/份 | R2: 蔬/份 | S2: 油/份 | T2: 乳/份 | U2: 果/份 | V2: 熱量
A3: 45338 | B3: ='偏鄉計劃學校(葷)國小'!A5 -> a4 | C3: ='偏鄉計劃學校(葷)國小'!I5 -> 白米飯 | D3: ='偏鄉計劃學校(葷)國小'!AD5 -> 米 | E3: ='偏鄉計劃學校(葷)國小'!L5 -> 香酥雞翅 | F3: ='偏鄉計劃學校(葷)國小'!AE5 -> 三節翅 胡椒鹽 | G3: ='偏鄉計劃學校(葷)國小'!O5 -> 麻婆豆腐 | H3: ='偏鄉計劃學校(葷)國小'!AF5 -> 豆腐 豬絞肉 時瓜 大蒜 豆瓣醬 | I3: ='偏鄉計劃學校(葷)國小'!R5 -> 時蔬 | J3: ='偏鄉計劃學校(葷)國小'!AG5 -> 蔬菜 大蒜 | K3: ='偏鄉計劃學校(葷)國小'!U5 -> 時蔬湯 | L3: ='偏鄉計劃學校(葷)國小'!AH5 -> 時蔬 豬大排 薑 | M3: ='偏鄉計劃學校(葷)國小'!AI5 -> 點心 | N3: ='偏鄉計劃學校(葷)國小'!AJ5 | O3: ='偏鄉計劃學校(葷)國小'!AK5 -> 包子 | P3: ='偏鄉計劃學校(葷)國小'!B5 -> 5 | Q3: ='偏鄉計劃學校(葷)國小'!C5 -> 3.5 | R3: ='偏鄉計劃學校(葷)國小'!D5 -> 1.5 | S3: ='偏鄉計劃學校(葷)國小'!E5 -> 4 | T3: ='偏鄉計劃學校(葷)國小'!F5 -> 0 | U3: ='偏鄉計劃學校(葷)國小'!G5 -> 0 | V3: ='偏鄉計劃學校(葷)國小'!H5 -> 830
A4: 45339 | B4: ='偏鄉計劃學校(葷)國小'!A12 -> a5 | C4: ='偏鄉計劃學校(葷)國小'!I12 -> 糙米飯 | D4: ='偏鄉計劃學校(葷)國小'!AD12 -> 米 糙米 | E4: ='偏鄉計劃學校(葷)國小'!L12 -> 咖哩雞 | F4: ='偏鄉計劃學校(葷)國小'!AE12 -> 肉雞 馬鈴薯 洋蔥 胡蘿蔔 大蒜 咖哩粉 | G4: ='偏鄉計劃學校(葷)國小'!O12 -> 螞蟻上樹 | H4: ='偏鄉計劃學校(葷)國小'!AF12 -> 冬粉 豬絞肉 時蔬 乾木耳 大蒜 | I4: ='偏鄉計劃學校(葷)國小'!R12 -> 時蔬 | J4: ='偏鄉計劃學校(葷)國小'!AG12 -> 蔬菜 大蒜 | K4: ='偏鄉計劃學校(葷)國小'!U12 -> 蘿蔔魚丸湯 | L4: ='偏鄉計劃學校(葷)國小'!AH12 -> 魚丸 白蘿蔔 薑 | M4: ='偏鄉計劃學校(葷)國小'!AI12 -> 點心 | N4: ='偏鄉計劃學校(葷)國小'!AJ12 | O4: ='偏鄉計劃學校(葷)國小'!AK12 -> 肉包 | P4: ='偏鄉計劃學校(葷)國小'!B12 -> 5.5 | Q4: ='偏鄉計劃學校(葷)國小'!C12 -> 2.9 | R4: ='偏鄉計劃學校(葷)國小'!D12 -> 2 | S4: ='偏鄉計劃學校(葷)國小'!E12 -> 3 | T4: ='偏鄉計劃學校(葷)國小'!F12 -> 0 | U4: ='偏鄉計劃學校(葷)國小'!G12 -> 0 | V4: ='偏鄉計劃學校(葷)國小'!H12 -> 788
A5: 45341 | B5: ='偏鄉計劃學校(葷)國小'!A19 -> b1 | C5: ='偏鄉計劃學校(葷)國小'!I19 -> 白米飯 | D5: ='偏鄉計劃學校(葷)國小'!AD19 -> 米 | E5: ='偏鄉計劃學校(葷)國小'!L19 -> 回鍋肉片 | F5: ='偏鄉計劃學校(葷)國小'!AE19 -> 豬後腿肉 洋蔥 胡蘿蔔 大蒜 甜麵醬 | G5: ='偏鄉計劃學校(葷)國小'!O19 -> 西滷白菜 | H5: ='偏鄉計劃學校(葷)國小'!AF19 -> 雞蛋 結球白菜 胡蘿蔔 蝦仁 大蒜 | I5: ='偏鄉計劃學校(葷)國小'!R19 -> 時蔬 | J5: ='偏鄉計劃學校(葷)國小'!AG19 -> 蔬菜 大蒜 | K5: ='偏鄉計劃學校(葷)國小'!U19 -> 牛蒡湯 | L5: ='偏鄉計劃學校(葷)國小'!AH19 -> 牛蒡 豬大排 薑 枸杞 | M5: ='偏鄉計劃學校(葷)國小'!AI19 -> 點心 | N5: ='偏鄉計劃學校(葷)國小'!AJ19 | O5: ='偏鄉計劃學校(葷)國小'!AK19 -> 包子 | P5: ='偏鄉計劃學校(葷)國小'!B19 -> 5 | Q5: ='偏鄉計劃學校(葷)國小'!C19 -> 2.3 | R5: ='偏鄉計劃學校(葷)國小'!D19 -> 1.8 | S5: ='偏鄉計劃學校(葷)國小'!E19 -> 3 | T5: ='偏鄉計劃學校(葷)國小'!F19 -> 0 | U5: ='偏鄉計劃學校(葷)國小'!G19 -> 0 | V5: ='偏鄉計劃學校(葷)國小'!H19 -> 703
A6: 45342 | B6: ='偏鄉計劃學校(葷)國小'!A26 -> b2 | C6: ='偏鄉計劃學校(葷)國小'!I26 -> 糙米飯 | D6: ='偏鄉計劃學校(葷)國小'!AD26 -> 米 糙米 | E6: ='偏鄉計劃學校(葷)國小'!L26 -> 香酥魚排 | F6: ='偏鄉計劃學校(葷)國小'!AE26 -> 魚排 | G6: ='偏鄉計劃學校(葷)國小'!O26 -> 玉米三色 | H6: ='偏鄉計劃學校(葷)國小'!AF26 -> 甜椒(青皮) 冷凍玉米粒 馬鈴薯 胡蘿蔔 培根 大蒜 | I6: ='偏鄉計劃學校(葷)國小'!R26 -> 時蔬 | J6: ='偏鄉計劃學校(葷)國小'!AG26 -> 蔬菜 大蒜 | K6: ='偏鄉計劃學校(葷)國小'!U26 -> 味噌海芽湯 | L6: ='偏鄉計劃學校(葷)國小'!AH26 -> 乾裙帶菜 時蔬 味噌 | M6: ='偏鄉計劃學校(葷)國小'!AI26 -> 點心 | N6: ='偏鄉計劃學校(葷)國小'!AJ26 | O6: ='偏鄉計劃學校(葷)國小'!AK26 -> 包子 | P6: ='偏鄉計劃學校(葷)國小'!B26 -> 5 | Q6: ='偏鄉計劃學校(葷)國小'!C26 -> 2.4 | R6: ='偏鄉計劃學校(葷)國小'!D26 -> 1.7 | S6: ='偏鄉計劃學校(葷)國小'!E26 -> 4 | T6: ='偏鄉計劃學校(葷)國小'!F26 -> 0 | U6: ='偏鄉計劃學校(葷)國小'!G26 -> 0 | V6: ='偏鄉計劃學校(葷)國小'!H26 -> 753
A7: 45343 | B7: ='偏鄉計劃學校(葷)國小'!A33 -> b3 | C7: ='偏鄉計劃學校(葷)國小'!I33 -> 拌麵特餐 | D7: ='偏鄉計劃學校(葷)國小'!AD33 -> 麵條 | E7: ='偏鄉計劃學校(葷)國小'!L33 -> 香菇絞肉 | F7: ='偏鄉計劃學校(葷)國小'!AE33 -> 豬絞肉 冬瓜 乾香菇 大蒜 油蔥酥 | G7: ='偏鄉計劃學校(葷)國小'!O33 -> 拌麵配料 | H7: ='偏鄉計劃學校(葷)國小'!AF33 -> 甘藍 胡蘿蔔 大蒜 紅蔥頭 | I7: ='偏鄉計劃學校(葷)國小'!R33 -> 時蔬 | J7: ='偏鄉計劃學校(葷)國小'!AG33 -> 蔬菜 大蒜 | K7: ='偏鄉計劃學校(葷)國小'!U33 -> 肉羹湯 | L7: ='偏鄉計劃學校(葷)國小'!AH33 -> 雞蛋 脆筍 時蔬 肉羹 乾木耳 | M7: ='偏鄉計劃學校(葷)國小'!AI33 -> 點心 | N7: ='偏鄉計劃學校(葷)國小'!AJ33 | O7: ='偏鄉計劃學校(葷)國小'!AK33 | P7: ='偏鄉計劃學校(葷)國小'!B33 -> 5 | Q7: ='偏鄉計劃學校(葷)國小'!C33 -> 1.9 | R7: ='偏鄉計劃學校(葷)國小'!D33 -> 2 | S7: ='偏鄉計劃學校(葷)國小'!E33 -> 3 | T7: ='偏鄉計劃學校(葷)國小'!F33 -> 0 | U7: ='偏鄉計劃學校(葷)國小'!G33 -> 0 | V7: ='偏鄉計劃學校(葷)國小'!H33 -> 678
A8: 45344 | B8: ='偏鄉計劃學校(葷)國小'!A40 -> b4 | C8: ='偏鄉計劃學校(葷)國小'!I40 -> 糙米飯 | D8: ='偏鄉計劃學校(葷)國小'!AD40 -> 米 糙米 | E8: ='偏鄉計劃學校(葷)國小'!L40 -> 沙茶魷魚 | F8: ='偏鄉計劃學校(葷)國小'!AE40 -> 阿根廷魷 豬後腿肉 洋蔥 甜椒 大蒜 沙茶醬 | G8: ='偏鄉計劃學校(葷)國小'!O40 -> 培根花椰 | H8: ='偏鄉計劃學校(葷)國小'!AF40 -> 培根 冷凍花椰菜 大蒜 | I8: ='偏鄉計劃學校(葷)國小'!R40 -> 時蔬 | J8: ='偏鄉計劃學校(葷)國小'!AG40 -> 蔬菜 大蒜 | K8: ='偏鄉計劃學校(葷)國小'!U40 -> 銀耳西米露 | L8: ='偏鄉計劃學校(葷)國小'!AH40 -> 乾銀耳 西谷米 紅砂糖 枸杞 | M8: ='偏鄉計劃學校(葷)國小'!AI40 -> 點心 | N8: ='偏鄉計劃學校(葷)國小'!AJ40 | O8: ='偏鄉計劃學校(葷)國小'!AK40 | P8: ='偏鄉計劃學校(葷)國小'!B40 -> 5.7 | Q8: ='偏鄉計劃學校(葷)國小'!C40 -> 2.1 | R8: ='偏鄉計劃學校(葷)國小'!D40 -> 1.7 | S8: ='偏鄉計劃學校(葷)國小'!E40 -> 3 | T8: ='偏鄉計劃學校(葷)國小'!F40 -> 0 | U8: ='偏鄉計劃學校(葷)國小'!G40 -> 0 | V8: ='偏鄉計劃學校(葷)國小'!H40 -> 734
A9: 45345 | B9: ='偏鄉計劃學校(葷)國小'!A47 -> b5 | C9: ='偏鄉計劃學校(葷)國小'!I47 -> 小米飯 | D9: ='偏鄉計劃學校(葷)國小'!AD47 -> 米 小米 糙米 | E9: ='偏鄉計劃學校(葷)國小'!L47 -> 京醬肉絲 | F9: ='偏鄉計劃學校(葷)國小'!AE47 -> 豬後腿肉 時瓜 胡蘿蔔 大蒜 甜麵醬 | G9: ='偏鄉計劃學校(葷)國小'!O47 -> 塔香豆腐 | H9: ='偏鄉計劃學校(葷)國小'!AF47 -> 豆腐 杏鮑菇 胡蘿蔔 九層塔 大蒜 薑 | I9: ='偏鄉計劃學校(葷)國小'!R47 -> 時蔬 | J9: ='偏鄉計劃學校(葷)國小'!AG47 -> 蔬菜 大蒜 | K9: ='偏鄉計劃學校(葷)國小'!U47 -> 冬瓜湯 | L9: ='偏鄉計劃學校(葷)國小'!AH47 -> 冬瓜 豬大排 薑 | M9: ='偏鄉計劃學校(葷)國小'!AI47 -> 點心 | N9: ='偏鄉計劃學校(葷)國小'!AJ47 | O9: ='偏鄉計劃學校(葷)國小'!AK47 | P9: ='偏鄉計劃學校(葷)國小'!B47 -> 5.2 | Q9: ='偏鄉計劃學校(葷)國小'!C47 -> 3 | R9: ='偏鄉計劃學校(葷)國小'!D47 -> 1.6 | S9: ='偏鄉計劃學校(葷)國小'!E47 -> 3 | T9: ='偏鄉計劃學校(葷)國小'!F47 -> 0 | U9: ='偏鄉計劃學校(葷)國小'!G47 -> 0 | V9: ='偏鄉計劃學校(葷)國小'!H47 -> 764
A10: 45348 | B10: ='偏鄉計劃學校(葷)國小'!A54 -> c1 | C10: ='偏鄉計劃學校(葷)國小'!I54 -> 白米飯 | D10: ='偏鄉計劃學校(葷)國小'!AD54 -> 米 | E10: ='偏鄉計劃學校(葷)國小'!L54 -> 醬醋滷肉 | F10: ='偏鄉計劃學校(葷)國小'!AE54 -> 豬後腿肉 白蘿蔔 胡蘿蔔 大蒜 月桂葉 滷包 | G10: ='偏鄉計劃學校(葷)國小'!O54 -> 開陽玉菜 | H10: ='偏鄉計劃學校(葷)國小'!AF54 -> 雞蛋 甘藍 大蒜 蝦米 | I10: ='偏鄉計劃學校(葷)國小'!R54 -> 時蔬 | J10: ='偏鄉計劃學校(葷)國小'!AG54 -> 蔬菜 大蒜 | K10: ='偏鄉計劃學校(葷)國小'!U54 -> 羅宋湯 | L10: ='偏鄉計劃學校(葷)國小'!AH54 -> 洋蔥 大番茄 馬鈴薯 芹菜 豬大排 薑 | M10: ='偏鄉計劃學校(葷)國小'!AI54 -> 點心 | N10: ='偏鄉計劃學校(葷)國小'!AJ54 | O10: ='偏鄉計劃學校(葷)國小'!AK54 | P10: ='偏鄉計劃學校(葷)國小'!B54 -> 5.1 | Q10: ='偏鄉計劃學校(葷)國小'!C54 -> 2.5 | R10: ='偏鄉計劃學校(葷)國小'!D54 -> 2 | S10: ='偏鄉計劃學校(葷)國小'!E54 -> 3 | T10: ='偏鄉計劃學校(葷)國小'!F54 -> 0 | U10: ='偏鄉計劃學校(葷)國小'!G54 -> 0 | V10: ='偏鄉計劃學校(葷)國小'!H54 -> 730
A11: 45349 | B11: ='偏鄉計劃學校(葷)國小'!A61 -> c2 | C11: ='偏鄉計劃學校(葷)國小'!I61 -> 糙米飯 | D11: ='偏鄉計劃學校(葷)國小'!AD61 -> 米 糙米 | E11: ='偏鄉計劃學校(葷)國小'!L61 -> 栗子燒雞 | F11: ='偏鄉計劃學校(葷)國小'!AE61 -> 肉雞 時瓜 栗子(生) 大蒜 | G11: ='偏鄉計劃學校(葷)國小'!O61 -> 鮮燴時蔬 | H11: ='偏鄉計劃學校(葷)國小'!AF61 -> 冷凍玉米筍 鵪鶉水煮蛋 時蔬 豬後腿肉 大蒜 | I11: ='偏鄉計劃學校(葷)國小'!R61 -> 時蔬 | J11: ='偏鄉計劃學校(葷)國小'!AG61 -> 蔬菜 大蒜 | K11: ='偏鄉計劃學校(葷)國小'!U61 -> 時蔬湯 | L11: ='偏鄉計劃學校(葷)國小'!AH61 -> 時蔬 豬大排 胡蘿蔔 薑 | M11: ='偏鄉計劃學校(葷)國小'!AI61 -> 點心 | N11: ='偏鄉計劃學校(葷)國小'!AJ61 | O11: ='偏鄉計劃學校(葷)國小'!AK61 | P11: ='偏鄉計劃學校(葷)國小'!B61 -> 5.1 | Q11: ='偏鄉計劃學校(葷)國小'!C61 -> 3.3 | R11: ='偏鄉計劃學校(葷)國小'!D61 -> 1.6 | S11: ='偏鄉計劃學校(葷)國小'!E61 -> 3 | T11: ='偏鄉計劃學校(葷)國小'!F61 -> 0 | U11: ='偏鄉計劃學校(葷)國小'!G61 -> 0 | V11: ='偏鄉計劃學校(葷)國小'!H61 -> 780
A12: 45351 | B12: ='偏鄉計劃學校(葷)國小'!A68 -> c4 | C12: ='偏鄉計劃學校(葷)國小'!I68 -> 糙米飯 | D12: ='偏鄉計劃學校(葷)國小'!AD68 -> 米 糙米 | E12: ='偏鄉計劃學校(葷)國小'!L68 -> 筍干燒肉 | F12: ='偏鄉計劃學校(葷)國小'!AE68 -> 豬後腿肉 麻竹筍干 大蒜 | G12: ='偏鄉計劃學校(葷)國小'!O68 -> 藜麥毛豆 | H12: ='偏鄉計劃學校(葷)國小'!AF68 -> 冷凍毛豆仁 時瓜 豬絞肉 甜椒 紅藜 大蒜 | I12: ='偏鄉計劃學校(葷)國小'!R68 -> 時蔬 | J12: ='偏鄉計劃學校(葷)國小'!AG68 -> 蔬菜 大蒜 | K12: ='偏鄉計劃學校(葷)國小'!U68 -> 綠豆薏仁甜湯 | L12: ='偏鄉計劃學校(葷)國小'!AH68 -> 小薏仁 紅砂糖 綠豆 | M12: ='偏鄉計劃學校(葷)國小'!AI68 -> 點心 | N12: ='偏鄉計劃學校(葷)國小'!AJ68 | O12: ='偏鄉計劃學校(葷)國小'!AK68 | P12: ='偏鄉計劃學校(葷)國小'!B68 -> 6.1 | Q12: ='偏鄉計劃學校(葷)國小'!C68 -> 2.7 | R12: ='偏鄉計劃學校(葷)國小'!D68 -> 1.5 | S12: ='偏鄉計劃學校(葷)國小'!E68 -> 3 | T12: ='偏鄉計劃學校(葷)國小'!F68 -> 0 | U12: ='偏鄉計劃學校(葷)國小'!G68 -> 0 | V12: ='偏鄉計劃學校(葷)國小'!H68 -> 802
C14: 過敏警語:「本月產品含有蛋、芝麻、含麩之穀物、花生、大豆、魚類、亞硫酸鹽類及其相關製品，不適合其過敏體質者食用」

Sheet 偏鄉計劃學校(素)國中
A1: 112學年度下學期國民中學2月份素食菜單(偏鄉計劃學校)-------華王御膳
A2: 食材明細（食材重量以100人份計量，營養分析以個人計量,其中肉雞包含23%骨頭之採購量，每周供應特餐一次，當日得混搭供應，國中4菜1湯1附餐點心1，國小3菜1湯1附餐點1)
A3: 為符合契約規範，每周供應一次附餐點心2本縣有機豆奶，每周供應二次有機蔬菜。每周供應一次果汁、保久乳、水果。 | AG3: 統整區的檔案，連動到上方循環，後續給教育處的檔案，此處請自行隱藏
A4: 循環 | B4: 穀/份 | C4: 豆/份 | D4: 蔬/份 | E4: 油/份 | F4: 乳/份 | G4: 果/份 | H4: 熱量 | I4: 主食 | J4: 重/kg | K4: 公斤 | L4: 主菜 | M4: 重/kg | N4: 公斤 | O4: 副菜一 | P4: 重/kg | Q4: 公斤 | R4: 副菜二 | S4: 重/kg | T4: 公斤 | U4: 蔬菜 | V4: 重/kg | W4: 公斤 | X4: 湯品 | Y4: 重/kg | Z4: 公斤 | AA4: 附餐點心 | AB4: 重/kg | AC4: 公斤 | AD4: 附餐點心 | AE4: 附餐點心 | AG4: 主食 | AH4: 主菜 | AI4: 副菜一 | AJ4: 副菜二 | AK4: 蔬菜 | AL4: 湯品 | AM4: 附餐點心 | AN4: 附餐點心 | AO4: 附餐點心
A5: a4 | B5: 5 | C5: 3.1 | D5: 2 | E5: 3 | F5: 0 | G5: 0 | H5: 768 | I5: 白米飯 | K5: =IF(J5,"公斤","") | L5: 紅燒豆包 | N5: =IF(M5,"公斤","") | O5: 麻婆豆腐 | Q5: =IF(P5,"公斤","") | R5: 豆皮花椰 | T5: =IF(S5,"公斤","") | U5: 時蔬 | W5: =IF(V5,"公斤","") | X5: 時蔬湯 | Z5: =IF(Y5,"公斤","") | AA5: 點心 | AD5: 有雞豆奶 | AF5: =A5 -> a4 | AG5: =I6&" "&I7&" "&I8&" "&I9&" "&I10&" "&I11 -> 米 | AH5: =L6&" "&L7&" "&L8&" "&L9&" "&L10&" "&L11 -> 豆包 滷包 | AI5: =O6&" "&O7&" "&O8&" "&O9&" "&O10&" "&O11 -> 豆腐 三色豆 時瓜 薑 豆瓣醬 | AJ5: =R6&" "&R7&" "&R8&" "&R9&" "&R10&" "&R11 -> 冷凍花椰菜 乾豆腐皮 薑 | AK5: =U6&" "&U7&" "&U8&" "&U9&" "&U10&" "&U11 -> 蔬菜 薑 | AL5: =X6&" "&X7&" "&X8&" "&X9&" "&X10&" "&X11 -> 時蔬 素羊肉 薑 | AM5: =AA6&" "&AA7&" "&AA8&" "&AA9&" "&AA10&" "&AA11 -> 點心 | AN5: =AD6&" "&AD7&" "&AD8&" "&AD9&" "&AD10&" "&AD11 | AO5: =AE6&" "&AE7&" "&AE8&" "&AE9&" "&AE10&" "&AE11
I6: 米 | J6: 10 | K6: =IF(J6,"公斤","") -> 公斤 | L6: 豆包 | M6: 6 | N6: =IF(M6,"公斤","") -> 公斤 | O6: 豆腐 | P6: 6 | Q6: =IF(P6,"公斤","") -> 公斤 | R6: 冷凍花椰菜 | S6: 5 | T6: =IF(S6,"公斤","") -> 公斤 | U6: 蔬菜 | V6: 7 | W6: =IF(V6,"公斤","") -> 公斤 | X6: 時蔬 | Y6: 3 | Z6: =IF(Y6,"公斤","") -> 公斤 | AA6: 點心 | AB6: 5
A7: 45338 | K7: =IF(J7,"公斤","") | L7: 滷包 | N7: =IF(M7,"公斤","") | O7: 三色豆 | P7: 1 | Q7: =IF(P7,"公斤","") -> 公斤 | R7: 乾豆腐皮 | S7: 1 | T7: =IF(S7,"公斤","") -> 公斤 | U7: 薑 | V7: 0.05 | W7: =IF(V7,"公斤","") -> 公斤 | X7: 素羊肉 | Y7: 1 | Z7: =IF(Y7,"公斤","") -> 公斤
B8: 5 | C8: 2.8 | D8: 1.5 | E8: 3 | F8: 0 | G8: 0 | H8: 753 | K8: =IF(J8,"公斤","") | N8: =IF(M8,"公斤","") | O8: 時瓜 | P8: 3 | Q8: =IF(P8,"公斤","") -> 公斤 | R8: 薑 | S8: 0.05 | T8: =IF(S8,"公斤","") -> 公斤 | W8: =IF(V8,"公斤","") | X8: 薑 | Y8: 0.05 | Z8: =IF(Y8,"公斤","") -> 公斤
A9: 星期五 | K9: =IF(J9,"公斤","") | N9: =IF(M9,"公斤","") | O9: 薑 | P9: 0.05 | Q9: =IF(P9,"公斤","") -> 公斤 | T9: =IF(S9,"公斤","") | W9: =IF(V9,"公斤","") | Z9: =IF(Y9,"公斤","")
K10: =IF(J10,"公斤","") | N10: =IF(M10,"公斤","") | O10: 豆瓣醬 | Q10: =IF(P10,"公斤","") | T10: =IF(S10,"公斤","") | W10: =IF(V10,"公斤","") | Z10: =IF(Y10,"公斤","")
K11: =IF(J11,"公斤","") | N11: =IF(M11,"公斤","") | Q11: =IF(P11,"公斤","") | T11: =IF(S11,"公斤","") | W11: =IF(V11,"公斤","") | Z11: =IF(Y11,"公斤","")
A12: a5 | B12: 5.5 | C12: 3.5 | D12: 1.8 | E12: 3 | F12: 0 | G12: 0 | H12: 828 | I12: 糙米飯 | K12: =IF(J12,"公斤","") | L12: 咖哩麵腸 | N12: =IF(M12,"公斤","") | O12: 螞蟻上樹 | Q12: =IF(P12,"公斤","") | R12: 芝麻豆干 | T12: =IF(S12,"公斤","") | U12: 時蔬 | W12: =IF(V12,"公斤","") | X12: 蘿蔔蔬菜丸子湯 | Z12: =IF(Y12,"公斤","") | AA12: 點心 | AF12: =A12 -> a5 | AG12: =I13&" "&I14&" "&I15&" "&I16&" "&I17&" "&I18 -> 米 糙米 | AH12: =L13&" "&L14&" "&L15&" "&L16&" "&L17&" "&L18 -> 麵腸 芹菜 胡蘿蔔 馬鈴薯 咖哩粉 | AI12: =O13&" "&O14&" "&O15&" "&O16&" "&O17&" "&O18 -> 素肉 冬粉 時蔬 乾木耳 薑 | AJ12: =R13&" "&R14&" "&R15&" "&R16&" "&R17&" "&R18 -> 豆干 薑 芝麻(熟) | AK12: =U13&" "&U14&" "&U15&" "&U16&" "&U17&" "&U18 -> 蔬菜 薑 | AL12: =X13&" "&X14&" "&X15&" "&X16&" "&X17&" "&X18 -> 蔬菜丸子 白蘿蔔 薑 | AM12: =AA13&" "&AA14&" "&AA15&" "&AA16&" "&AA17&" "&AA18 -> 點心 | AN12: =AD13&" "&AD14&" "&AD15&" "&AD16&" "&AD17&" "&AD18 | AO12: =AE13&" "&AE14&" "&AE15&" "&AE16&" "&AE17&" "&AE18
I13: 米 | J13: 8 | K13: =IF(J13,"公斤","") -> 公斤 | L13: 麵腸 | M13: 8 | N13: =IF(M13,"公斤","") -> 公斤 | O13: 素肉 | P13: 0.8 | Q13: =IF(P13,"公斤","") -> 公斤 | R13: 豆干 | S13: 5 | T13: =IF(S13,"公斤","") -> 公斤 | U13: 蔬菜 | V13: 7 | W13: =IF(V13,"公斤","") -> 公斤 | X13: 蔬菜丸子 | Y13: 1.5 | Z13: =IF(Y13,"公斤","") -> 公斤 | AA13: 點心 | AB13: 5 | AC13: =IF(AB13,"公斤","") -> 公斤
A14: 45339 | I14: 糙米 | J14: 2 | K14: =IF(J14,"公斤","") -> 公斤 | L14: 芹菜 | M14: 2 | N14: =IF(M14,"公斤","") -> 公斤 | O14: 冬粉 | P14: 1 | Q14: =IF(P14,"公斤","") -> 公斤 | R14: 薑 | S14: 0.05 | T14: =IF(S14,"公斤","") -> 公斤 | U14: 薑 | V14: 0.05 | W14: =IF(V14,"公斤","") -> 公斤 | X14: 白蘿蔔 | Y14: 4 | Z14: =IF(Y14,"公斤","") -> 公斤 | AC14: =IF(AB14,"公斤","")
B15: 5.5 | C15: 2.7 | D15: 1.8 | E15: 3 | F15: 0 | G15: 0 | H15: 768 | K15: =IF(J15,"公斤","") | L15: 胡蘿蔔 | M15: 1 | N15: =IF(M15,"公斤","") -> 公斤 | O15: 時蔬 | P15: 4 | Q15: =IF(P15,"公斤","") -> 公斤 | R15: 芝麻(熟) | T15: =IF(S15,"公斤","") | W15: =IF(V15,"公斤","") | X15: 薑 | Y15: 0.05 | Z15: =IF(Y15,"公斤","") -> 公斤 | AC15: =IF(AB15,"公斤","")
A16: 星期六 | K16: =IF(J16,"公斤","") | L16: 馬鈴薯 | M16: 2.5 | N16: =IF(M16,"公斤","") -> 公斤 | O16: 乾木耳 | P16: 0.01 | Q16: =IF(P16,"公斤","") -> 公斤 | T16: =IF(S16,"公斤","") | W16: =IF(V16,"公斤","") | Z16: =IF(Y16,"公斤","") | AC16: =IF(AB16,"公斤","")
A17: 補課 | K17: =IF(J17,"公斤","") | L17: 咖哩粉 | N17: =IF(M17,"公斤","") | O17: 薑 | P17: 0.05 | Q17: =IF(P17,"公斤","") -> 公斤 | T17: =IF(S17,"公斤","") | W17: =IF(V17,"公斤","") | Z17: =IF(Y17,"公斤","") | AC17: =IF(AB17,"公斤","")
K18: =IF(J18,"公斤","") | N18: =IF(M18,"公斤","") | Q18: =IF(P18,"公斤","") | T18: =IF(S18,"公斤","") | W18: =IF(V18,"公斤","") | Z18: =IF(Y18,"公斤","") | AC18: =IF(AB18,"公斤","")
A19: b1 | B19: 5 | C19: 3 | D19: 2.2 | E19: 3 | F19: 0 | G19: 0 | H19: 765 | I19: 白米飯 | K19: =IF(J19,"公斤","") | L19: 回鍋豆干 | N19: =IF(M19,"公斤","") | O19: 西滷白菜 | Q19: =IF(P19,"公斤","") | R19: 塔香海茸 | T19: =IF(S19,"公斤","") | U19: 時蔬 | W19: =IF(V19,"公斤","") | X19: 牛蒡湯 | Z19: =IF(Y19,"公斤","") | AA19: 點心 | AF19: =A19 -> b1 | AG19: =I20&" "&I21&" "&I22&" "&I23&" "&I24&" "&I25 -> 米 | AH19: =L20&" "&L21&" "&L22&" "&L23&" "&L24&" "&L25 -> 豆干 時蔬 胡蘿蔔 薑 甜麵醬 | AI19: =O20&" "&O21&" "&O22&" "&O23&" "&O24&" "&O25 -> 雞蛋 結球白菜 胡蘿蔔 薑 | AJ19: =R20&" "&R21&" "&R22&" "&R23&" "&R24&" "&R25 -> 海帶茸 豆包 薑 九層塔 | AK19: =U20&" "&U21&" "&U22&" "&U23&" "&U24&" "&U25 -> 蔬菜 薑 | AL19: =X20&" "&X21&" "&X22&" "&X23&" "&X24&" "&X25 -> 牛蒡 豆腐 薑 枸杞 | AM19: =AA20&" "&AA21&" "&AA22&" "&AA23&" "&AA24&" "&AA25 -> 點心 | AN19: =AD20&" "&AD21&" "&AD22&" "&AD23&" "&AD24&" "&AD25 | AO19: =AE20&" "&AE21&" "&AE22&" "&AE23&" "&AE24&" "&AE25
I20: 米 | J20: 10 | K20: =IF(J20,"公斤","") -> 公斤 | L20: 豆干 | M20: 10 | N20: =IF(M20,"公斤","") -> 公斤 | O20: 雞蛋 | P20: 3.5 | Q20: =IF(P20,"公斤","") -> 公斤 | R20: 海帶茸 | S20: 6 | T20: =IF(S20,"公斤","") -> 公斤 | U20: 蔬菜 | V20: 7 | W20: =IF(V20,"公斤","") -> 公斤 | X20: 牛蒡 | Y20: 2 | Z20: =IF(Y20,"公斤","") -> 公斤 | AA20: 點心 | AB20: 5 | AC20: 公斤
A21: 45341 | K21: =IF(J21,"公斤","") | L21: 時蔬 | M21: 1 | N21: =IF(M21,"公斤","") -> 公斤 | O21: 結球白菜 | P21: 5 | Q21: =IF(P21,"公斤","") -> 公斤 | R21: 豆包 | S21: 2 | T21: =IF(S21,"公斤","") -> 公斤 | U21: 薑 | V21: 0.05 | W21: =IF(V21,"公斤","") -> 公斤 | X21: 豆腐 | Y21: 2 | Z21: =IF(Y21,"公斤","") -> 公斤
B22: 5 | C22: 2.3 | D22: 1.6 | E22: 3 | F22: 0 | G22: 0 | H22: 698 | K22: =IF(J22,"公斤","") | L22: 胡蘿蔔 | M22: 0.5 | N22: =IF(M22,"公斤","") -> 公斤 | O22: 胡蘿蔔 | P22: 0.5 | Q22: =IF(P22,"公斤","") -> 公斤 | R22: 薑 | S22: 0.05 | T22: =IF(S22,"公斤","") -> 公斤 | W22: =IF(V22,"公斤","") | X22: 薑 | Y22: 0.05 | Z22: =IF(Y22,"公斤","") -> 公斤
A23: 星期一 | K23: =IF(J23,"公斤","") | L23: 薑 | M23: 0.05 | N23: =IF(M23,"公斤","") -> 公斤 | O23: 薑 | P23: 0.05 | Q23: =IF(P23,"公斤","") -> 公斤 | R23: 九層塔 | T23: =IF(S23,"公斤","") | W23: =IF(V23,"公斤","") | X23: 枸杞 | Z23: =IF(Y23,"公斤","")
K24: =IF(J24,"公斤","") | L24: 甜麵醬 | N24: =IF(M24,"公斤","") | Q24: =IF(P24,"公斤","") | T24: =IF(S24,"公斤","") | W24: =IF(V24,"公斤","") | Z24: =IF(Y24,"公斤","")
K25: =IF(J25,"公斤","") | N25: =IF(M25,"公斤","") | Q25: =IF(P25,"公斤","") | T25: =IF(S25,"公斤","") | W25: =IF(V25,"公斤","") | Z25: =IF(Y25,"公斤","")
A26: b2 | B26: 5 | C26: 3.1 | D26: 2.2 | E26: 3 | F26: 0 | G26: 0 | H26: 773 | I26: 糙米飯 | K26: =IF(J26,"公斤","") | L26: 紅麴素排 | N26: =IF(M26,"公斤","") | O26: 玉米三色 | Q26: =IF(P26,"公斤","") | R26: 香滷油腐 | T26: =IF(S26,"公斤","") | U26: 時蔬 | W26: =IF(V26,"公斤","") | X26: 味噌海芽湯 | Z26: =IF(Y26,"公斤","") | AA26: 點心 | AF26: =A26 -> b2 | AG26: =I27&" "&I28&" "&I29&" "&I30&" "&I31&" "&I32 -> 米 糙米 | AH26: =L27&" "&L28&" "&L29&" "&L30&" "&L31&" "&L32 -> 素排 | AI26: =O27&" "&O28&" "&O29&" "&O30&" "&O31&" "&O32 -> 甜椒(青皮) 冷凍玉米粒 馬鈴薯 胡蘿蔔 素培根 薑 | AJ26: =R27&" "&R28&" "&R29&" "&R30&" "&R31&" "&R32 -> 四角油豆腐 麻竹筍干 薑 滷包 | AK26: =U27&" "&U28&" "&U29&" "&U30&" "&U31&" "&U32 -> 蔬菜 薑 | AL26: =X27&" "&X28&" "&X29&" "&X30&" "&X31&" "&X32 -> 乾裙帶菜 時蔬 味噌 薑 | AM26: =AA27&" "&AA28&" "&AA29&" "&AA30&" "&AA31&" "&AA32 -> 點心 | AN26: =AD27&" "&AD28&" "&AD29&" "&AD30&" "&AD31&" "&AD32 | AO26: =AE27&" "&AE28&" "&AE29&" "&AE30&" "&AE31&" "&AE32
I27: 米 | J27: 8 | K27: =IF(J27,"公斤","") -> 公斤 | L27: 素排 | M27: 6 | N27: =IF(M27,"公斤","") -> 公斤 | O27: 甜椒(青皮) | P27: 3 | Q27: =IF(P27,"公斤","") -> 公斤 | R27: 四角油豆腐 | S27: 4 | T27: =IF(S27,"公斤","") -> 公斤 | U27: 蔬菜 | V27: 7 | W27: =IF(V27,"公斤","") -> 公斤 | X27: 乾裙帶菜 | Y27: 0.05 | Z27: =IF(Y27,"公斤","") -> 公斤 | AA27: 點心 | AB27: 5 | AC27: 公斤
A28: 45342 | I28: 糙米 | J28: 2 | K28: =IF(J28,"公斤","") -> 公斤 | N28: =IF(M28,"公斤","") | O28: 冷凍玉米粒 | P28: 2 | Q28: =IF(P28,"公斤","") -> 公斤 | R28: 麻竹筍干 | S28: 3 | T28: =IF(S28,"公斤","") -> 公斤 | U28: 薑 | V28: 0.05 | W28: =IF(V28,"公斤","") -> 公斤 | X28: 時蔬 | Y28: 4 | Z28: =IF(Y28,"公斤","") -> 公斤
B29: 5 | C29: 2.8 | D29: 1.8 | E29: 3 | F29: 0 | G29: 0 | H29: 740 | K29: =IF(J29,"公斤","") | N29: =IF(M29,"公斤","") | O29: 馬鈴薯 | P29: 2 | Q29: =IF(P29,"公斤","") -> 公斤 | R29: 薑 | S29: 0.05 | T29: =IF(S29,"公斤","") -> 公斤 | W29: =IF(V29,"公斤","") | X29: 味噌 | Y29: 0.6 | Z29: =IF(Y29,"公斤","") -> 公斤
A30: 星期二 | K30: =IF(J30,"公斤","") | N30: =IF(M30,"公斤","") | O30: 胡蘿蔔 | P30: 2 | Q30: =IF(P30,"公斤","") -> 公斤 | R30: 滷包 | T30: =IF(S30,"公斤","") | W30: =IF(V30,"公斤","") | X30: 薑 | Y30: 0.05 | Z30: =IF(Y30,"公斤","") -> 公斤
K31: =IF(J31,"公斤","") | N31: =IF(M31,"公斤","") | O31: 素培根 | P31: 0.5 | Q31: =IF(P31,"公斤","") -> 公斤 | T31: =IF(S31,"公斤","") | W31: =IF(V31,"公斤","") | Z31: =IF(Y31,"公斤","")
K32: =IF(J32,"公斤","") | N32: =IF(M32,"公斤","") | O32: 薑 | P32: 0.05 | Q32: =IF(P32,"公斤","") -> 公斤 | T32: =IF(S32,"公斤","") | W32: =IF(V32,"公斤","") | Z32: =IF(Y32,"公斤","")
A33: b3 | B33: 5 | C33: 3.4 | D33: 2 | E33: 3 | F33: 0 | G33: 0 | H33: 790 | I33: 拌麵特餐 | K33: =IF(J33,"公斤","") | L33: 香菇若燥 | N33: =IF(M33,"公斤","") | O33: 拌麵配料 | Q33: =IF(P33,"公斤","") | R33: 芝麻豆干 | T33: =IF(S33,"公斤","") | U33: 時蔬 | W33: =IF(V33,"公斤","") | X33: 素肉羹湯 | Z33: =IF(Y33,"公斤","") | AA33: 點心 | AC33: =IF(AB33,"公斤","") | AF33: =A33 -> b3 | AG33: =I34&" "&I35&" "&I36&" "&I37&" "&I38&" "&I39 -> 麵條 | AH33: =L34&" "&L35&" "&L36&" "&L37&" "&L38&" "&L39 -> 豆包 冬瓜 乾香菇 薑 素肉燥 | AI33: =O34&" "&O35&" "&O36&" "&O37&" "&O38&" "&O39 -> 甘藍 胡蘿蔔 薑 | AJ33: =R34&" "&R35&" "&R36&" "&R37&" "&R38&" "&R39 -> 豆干 薑 芝麻(熟) 滷包 | AK33: =U34&" "&U35&" "&U36&" "&U37&" "&U38&" "&U39 -> 蔬菜 薑 | AL33: =X34&" "&X35&" "&X36&" "&X37&" "&X38&" "&X39 -> 雞蛋 脆筍 時蔬 素肉羹 乾木耳 | AM33: =AA34&" "&AA35&" "&AA36&" "&AA37&" "&AA38&" "&AA39 -> 點心 | AN33: =AD34&" "&AD35&" "&AD36&" "&AD37&" "&AD38&" "&AD39 | AO33: =AE34&" "&AE35&" "&AE36&" "&AE37&" "&AE38&" "&AE39
I34: 麵條 | J34: 15 | K34: =IF(J34,"公斤","") -> 公斤 | L34: 豆包 | M34: 6 | N34: =IF(M34,"公斤","") -> 公斤 | O34: 甘藍 | P34: 5 | Q34: =IF(P34,"公斤","") -> 公斤 | R34: 豆干 | S34: 4 | T34: =IF(S34,"公斤","") -> 公斤 | U34: 蔬菜 | V34: 7 | W34: =IF(V34,"公斤","") -> 公斤 | X34: 雞蛋 | Y34: 1 | Z34: =IF(Y34,"公斤","") -> 公斤 | AA34: 點心 | AB34: 5 | AC34: =IF(AB34,"公斤","") -> 公斤
A35: 45343 | K35: =IF(J35,"公斤","") | L35: 冬瓜 | M35: 4 | N35: =IF(M35,"公斤","") -> 公斤 | O35: 胡蘿蔔 | P35: 0.5 | Q35: =IF(P35,"公斤","") -> 公斤 | R35: 薑 | S35: 0.05 | T35: =IF(S35,"公斤","") -> 公斤 | U35: 薑 | V35: 0.05 | W35: =IF(V35,"公斤","") -> 公斤 | X35: 脆筍 | Y35: 1 | Z35: =IF(Y35,"公斤","") -> 公斤 | AC35: =IF(AB35,"公斤","")
B36: 5 | C36: 2.8 | D36: 2 | E36: 3 | F36: 0 | G36: 0 | H36: 745 | K36: =IF(J36,"公斤","") | L36: 乾香菇 | M36: 0.05 | N36: =IF(M36,"公斤","") -> 公斤 | O36: 薑 | P36: 0.05 | Q36: =IF(P36,"公斤","") -> 公斤 | R36: 芝麻(熟) | T36: =IF(S36,"公斤","") | W36: =IF(V36,"公斤","") | X36: 時蔬 | Y36: 2 | Z36: =IF(Y36,"公斤","") -> 公斤 | AC36: =IF(AB36,"公斤","")
A37: 星期三 | K37: =IF(J37,"公斤","") | L37: 薑 | M37: 0.05 | N37: =IF(M37,"公斤","") -> 公斤 | Q37: =IF(P37,"公斤","") | R37: 滷包 | T37: =IF(S37,"公斤","") | W37: =IF(V37,"公斤","") | X37: 素肉羹 | Y37: 1.5 | Z37: =IF(Y37,"公斤","") -> 公斤 | AC37: =IF(AB37,"公斤","")
K38: =IF(J38,"公斤","") | L38: 素肉燥 | N38: =IF(M38,"公斤","") | Q38: =IF(P38,"公斤","") | T38: =IF(S38,"公斤","") | W38: =IF(V38,"公斤","") | X38: 乾木耳 | Y38: 0.02 | Z38: =IF(Y38,"公斤","") -> 公斤 | AC38: =IF(AB38,"公斤","")
K39: =IF(J39,"公斤","") | N39: =IF(M39,"公斤","") | Q39: =IF(P39,"公斤","") | T39: =IF(S39,"公斤","") | W39: =IF(V39,"公斤","") | Z39: =IF(Y39,"公斤","") | AC39: =IF(AB39,"公斤","")
A40: b4 | B40: 5.7 | C40: 3.2 | D40: 2 | E40: 3 | F40: 0 | G40: 0 | H40: 824 | I40: 糙米飯 | K40: =IF(J40,"公斤","") | L40: 沙茶百頁 | N40: =IF(M40,"公斤","") | O40: 豆包花椰 | Q40: =IF(P40,"公斤","") | R40: 蛋香碎脯 | T40: =IF(S40,"公斤","") | U40: 時蔬 | W40: =IF(V40,"公斤","") | X40: 銀耳西米露 | Z40: =IF(Y40,"公斤","") | AA40: 點心 | AC40: =IF(AB40,"公斤","") | AF40: =A40 -> b4 | AG40: =I41&" "&I42&" "&I43&" "&I44&" "&I45&" "&I46 -> 米 糙米 | AH40: =L41&" "&L42&" "&L43&" "&L44&" "&L45&" "&L46 -> 百頁豆腐 時蔬 胡蘿蔔 薑 素沙茶醬 | AI40: =O41&" "&O42&" "&O43&" "&O44&" "&O45&" "&O46 -> 豆包 冷凍花椰菜 薑 | AJ40: =R41&" "&R42&" "&R43&" "&R44&" "&R45&" "&R46 -> 雞蛋 蘿蔔乾 薑 | AK40: =U41&" "&U42&" "&U43&" "&U44&" "&U45&" "&U46 -> 蔬菜 薑 | AL40: =X41&" "&X42&" "&X43&" "&X44&" "&X45&" "&X46 -> 乾銀耳 西谷米 紅砂糖 枸杞 | AM40: =AA41&" "&AA42&" "&AA43&" "&AA44&" "&AA45&" "&AA46 -> 點心 | AN40: =AD41&" "&AD42&" "&AD43&" "&AD44&" "&AD45&" "&AD46 | AO40: =AE41&" "&AE42&" "&AE43&" "&AE44&" "&AE45&" "&AE46
I41: 米 | J41: 8 | K41: =IF(J41,"公斤","") -> 公斤 | L41: 百頁豆腐 | M41: 9 | N41: =IF(M41,"公斤","") -> 公斤 | O41: 豆包 | P41: 4 | Q41: =IF(P41,"公斤","") -> 公斤 | R41: 雞蛋 | S41: 3 | T41: =IF(S41,"公斤","") -> 公斤 | U41: 蔬菜 | V41: 7 | W41: =IF(V41,"公斤","") -> 公斤 | X41: 乾銀耳 | Y41: 0.1 | Z41: =IF(Y41,"公斤","") -> 公斤 | AA41: 點心 | AB41: 5 | AC41: =IF(AB41,"公斤","") -> 公斤
A42: 45344 | I42: 糙米 | J42: 2 | K42: =IF(J42,"公斤","") -> 公斤 | L42: 時蔬 | M42: 3 | N42: =IF(M42,"公斤","") -> 公斤 | O42: 冷凍花椰菜 | P42: 6 | Q42: =IF(P42,"公斤","") -> 公斤 | R42: 蘿蔔乾 | S42: 3 | T42: =IF(S42,"公斤","") -> 公斤 | U42: 薑 | V42: 0.05 | W42: =IF(V42,"公斤","") -> 公斤 | X42: 西谷米 | Y42: 1 | Z42: =IF(Y42,"公斤","") -> 公斤 | AC42: =IF(AB42,"公斤","")
K43: =IF(J43,"公斤","") | L43: 胡蘿蔔 | M43: 0.5 | N43: =IF(M43,"公斤","") -> 公斤 | O43: 薑 | P43: 0.05 | Q43: =IF(P43,"公斤","") -> 公斤 | R43: 薑 | S43: 0.05 | T43: =IF(S43,"公斤","") -> 公斤 | W43: =IF(V43,"公斤","") | X43: 紅砂糖 | Y43: 1 | Z43: =IF(Y43,"公斤","") -> 公斤 | AC43: =IF(AB43,"公斤","")
A44: 星期四 | B44: 5.7 | C44: 2.6 | D44: 1.7 | E44: 3 | F44: 0 | G44: 0 | H44: 772 | K44: =IF(J44,"公斤","") | L44: 薑 | M44: 0.05 | N44: =IF(M44,"公斤","") -> 公斤 | Q44: =IF(P44,"公斤","") | T44: =IF(S44,"公斤","") | W44: =IF(V44,"公斤","") | X44: 枸杞 | Z44: =IF(Y44,"公斤","") | AC44: =IF(AB44,"公斤","")
K45: =IF(J45,"公斤","") | L45: 素沙茶醬 | N45: =IF(M45,"公斤","") | Q45: =IF(P45,"公斤","") | T45: =IF(S45,"公斤","") | W45: =IF(V45,"公斤","") | Z45: =IF(Y45,"公斤","") | AC45: =IF(AB45,"公斤","")
K46: =IF(J46,"公斤","") | N46: =IF(M46,"公斤","") | Q46: =IF(P46,"公斤","") | T46: =IF(S46,"公斤","") | W46: =IF(V46,"公斤","") | Z46: =IF(Y46,"公斤","") | AC46: =IF(AB46,"公斤","")
A47: b5 | B47: 5.7 | C47: 3.3 | D47: 2 | E47: 3 | F47: 0 | G47: 0 | H47: 832 | I47: 小米飯 | K47: =IF(J47,"公斤","") | L47: 京醬麵腸 | N47: =IF(M47,"公斤","") | O47: 塔香豆腐 | Q47: =IF(P47,"公斤","") | R47: 素培根季豆 | T47: =IF(S47,"公斤","") | U47: 時蔬 | W47: =IF(V47,"公斤","") | X47: 冬瓜湯 | Z47: =IF(Y47,"公斤","") | AA47: 點心 | AC47: =IF(AB47,"公斤","") | AD47: 有雞豆奶 | AF47: =A47 -> b5 | AG47: =I48&" "&I49&" "&I50&" "&I51&" "&I52&" "&I53 -> 米 小米 糙米 | AH47: =L48&" "&L49&" "&L50&" "&L51&" "&L52&" "&L53 -> 麵腸 豆薯 薑 甜麵醬 | AI47: =O48&" "&O49&" "&O50&" "&O51&" "&O52&" "&O53 -> 豆腐 杏鮑菇 胡蘿蔔 九層塔 薑 | AJ47: =R48&" "&R49&" "&R50&" "&R51&" "&R52&" "&R53 -> 素培根 冷凍菜豆(莢) 薑 | AK47: =U48&" "&U49&" "&U50&" "&U51&" "&U52&" "&U53 -> 蔬菜 薑 | AL47: =X48&" "&X49&" "&X50&" "&X51&" "&X52&" "&X53 -> 冬瓜 素羊肉 薑 | AM47: =AA48&" "&AA49&" "&AA50&" "&AA51&" "&AA52&" "&AA53 -> 點心 | AN47: =AD48&" "&AD49&" "&AD50&" "&AD51&" "&AD52&" "&AD53 | AO47: =AE48&" "&AE49&" "&AE50&" "&AE51&" "&AE52&" "&AE53
I48: 米 | J48: 8 | K48: =IF(J48,"公斤","") -> 公斤 | L48: 麵腸 | M48: 8 | N48: =IF(M48,"公斤","") -> 公斤 | O48: 豆腐 | P48: 6.5 | Q48: =IF(P48,"公斤","") -> 公斤 | R48: 素培根 | S48: 1 | T48: =IF(S48,"公斤","") -> 公斤 | U48: 蔬菜 | V48: 7 | W48: =IF(V48,"公斤","") -> 公斤 | X48: 冬瓜 | Y48: 4 | Z48: =IF(Y48,"公斤","") -> 公斤 | AA48: 點心 | AB48: 5 | AC48: =IF(AB48,"公斤","") -> 公斤
A49: 45345 | I49: 小米 | J49: 0.4 | K49: =IF(J49,"公斤","") -> 公斤 | L49: 豆薯 | M49: 2.5 | N49: =IF(M49,"公斤","") -> 公斤 | O49: 杏鮑菇 | P49: 1 | Q49: =IF(P49,"公斤","") -> 公斤 | R49: 冷凍菜豆(莢) | S49: 6 | T49: =IF(S49,"公斤","") -> 公斤 | U49: 薑 | V49: 0.05 | W49: =IF(V49,"公斤","") -> 公斤 | X49: 素羊肉 | Y49: 1 | Z49: =IF(Y49,"公斤","") -> 公斤 | AC49: =IF(AB49,"公斤","")
I50: 糙米 | J50: 2 | K50: =IF(J50,"公斤","") -> 公斤 | L50: 薑 | M50: 0.05 | N50: =IF(M50,"公斤","") -> 公斤 | O50: 胡蘿蔔 | P50: 0.5 | Q50: =IF(P50,"公斤","") -> 公斤 | R50: 薑 | S50: 0.05 | T50: =IF(S50,"公斤","") -> 公斤 | W50: =IF(V50,"公斤","") | X50: 薑 | Y50: 0.05 | Z50: =IF(Y50,"公斤","") -> 公斤 | AC50: =IF(AB50,"公斤","")
A51: 星期五 | B51: 5.7 | C51: 3.1 | D51: 1.4 | E51: 3 | F51: 0 | G51: 0 | H51: 802 | K51: =IF(J51,"公斤","") | L51: 甜麵醬 | N51: =IF(M51,"公斤","") | O51: 九層塔 | P51: 0.1 | Q51: =IF(P51,"公斤","") -> 公斤 | T51: =IF(S51,"公斤","") | W51: =IF(V51,"公斤","") | Z51: =IF(Y51,"公斤","") | AC51: =IF(AB51,"公斤","")
K52: =IF(J52,"公斤","") | N52: =IF(M52,"公斤","") | O52: 薑 | P52: 0.05 | Q52: =IF(P52,"公斤","") -> 公斤 | T52: =IF(S52,"公斤","") | W52: =IF(V52,"公斤","") | Z52: =IF(Y52,"公斤","") | AC52: =IF(AB52,"公斤","")
K53: =IF(J53,"公斤","") | N53: =IF(M53,"公斤","") | Q53: =IF(P53,"公斤","") | T53: =IF(S53,"公斤","") | W53: =IF(V53,"公斤","") | Z53: =IF(Y53,"公斤","") | AC53: =IF(AB53,"公斤","")
A54: c1 | B54: 5.2 | C54: 3 | D54: 2 | E54: 3 | F54: 0 | G54: 0 | H54: 774 | I54: 白米飯 | K54: =IF(J54,"公斤","") | L54: 醬醋豆干 | N54: =IF(M54,"公斤","") | O54: 蛋香玉菜 | Q54: =IF(P54,"公斤","") | R54: 泰式蔬菜丸 | T54: =IF(S54,"公斤","") | U54: 時蔬 | W54: =IF(V54,"公斤","") | X54: 羅宋湯 | Z54: =IF(Y54,"公斤","") | AA54: 點心 | AC54: =IF(AB54,"公斤","") | AF54: =A54 -> c1 | AG54: =I55&" "&I56&" "&I57&" "&I58&" "&I59&" "&I60 -> 米 | AH54: =L55&" "&L56&" "&L57&" "&L58&" "&L59&" "&L60 -> 豆干 白蘿蔔 胡蘿蔔 薑 月桂葉 滷包 | AI54: =O55&" "&O56&" "&O57&" "&O58&" "&O59&" "&O60 -> 雞蛋 甘藍 薑 | AJ54: =R55&" "&R56&" "&R57&" "&R58&" "&R59&" "&R60 -> 蔬菜丸子 泰式甜辣醬 | AK54: =U55&" "&U56&" "&U57&" "&U58&" "&U59&" "&U60 -> 蔬菜 薑 | AL54: =X55&" "&X56&" "&X57&" "&X58&" "&X59&" "&X60 -> 大番茄 馬鈴薯 凍豆腐 薑 | AM54: =AA55&" "&AA56&" "&AA57&" "&AA58&" "&AA59&" "&AA60 -> 點心 | AN54: =AD55&" "&AD56&" "&AD57&" "&AD58&" "&AD59&" "&AD60 | AO54: =AE55&" "&AE56&" "&AE57&" "&AE58&" "&AE59&" "&AE60
I55: 米 | J55: 10 | K55: =IF(J55,"公斤","") -> 公斤 | L55: 豆干 | M55: 10 | N55: =IF(M55,"公斤","") -> 公斤 | O55: 雞蛋 | P55: 2.7 | Q55: =IF(P55,"公斤","") -> 公斤 | R55: 蔬菜丸子 | S55: 4 | T55: =IF(S55,"公斤","") -> 公斤 | U55: 蔬菜 | V55: 7 | W55: =IF(V55,"公斤","") -> 公斤 | X55: 大番茄 | Y55: 2 | Z55: =IF(Y55,"公斤","") -> 公斤 | AA55: 點心 | AB55: 5 | AC55: =IF(AB55,"公斤","") -> 公斤
A56: 45348 | K56: =IF(J56,"公斤","") | L56: 白蘿蔔 | M56: 2 | N56: =IF(M56,"公斤","") -> 公斤 | O56: 甘藍 | P56: 8 | Q56: =IF(P56,"公斤","") -> 公斤 | R56: 泰式甜辣醬 | T56: =IF(S56,"公斤","") | U56: 薑 | V56: 0.05 | W56: =IF(V56,"公斤","") -> 公斤 | X56: 馬鈴薯 | Y56: 2 | Z56: =IF(Y56,"公斤","") -> 公斤 | AC56: =IF(AB56,"公斤","")
B57: 5.2 | C57: 2.4 | D57: 2 | E57: 3 | F57: 0 | G57: 0 | H57: 729 | K57: =IF(J57,"公斤","") | L57: 胡蘿蔔 | M57: 0.5 | N57: =IF(M57,"公斤","") -> 公斤 | O57: 薑 | P57: 0.05 | Q57: =IF(P57,"公斤","") -> 公斤 | T57: =IF(S57,"公斤","") | W57: =IF(V57,"公斤","") | X57: 凍豆腐 | Y57: 4 | Z57: =IF(Y57,"公斤","") -> 公斤 | AC57: =IF(AB57,"公斤","")
A58: 星期一 | K58: =IF(J58,"公斤","") | L58: 薑 | M58: 0.05 | N58: =IF(M58,"公斤","") -> 公斤 | Q58: =IF(P58,"公斤","") | T58: =IF(S58,"公斤","") | W58: =IF(V58,"公斤","") | X58: 薑 | Y58: 0.05 | Z58: =IF(Y58,"公斤","") -> 公斤 | AC58: =IF(AB58,"公斤","")
K59: =IF(J59,"公斤","") | L59: 月桂葉 | N59: =IF(M59,"公斤","") | Q59: =IF(P59,"公斤","") | T59: =IF(S59,"公斤","") | W59: =IF(V59,"公斤","") | Z59: =IF(Y59,"公斤","") | AC59: =IF(AB59,"公斤","")
K60: =IF(J60,"公斤","") | L60: 滷包 | N60: =IF(M60,"公斤","") | Q60: =IF(P60,"公斤","") | T60: =IF(S60,"公斤","") | W60: =IF(V60,"公斤","") | Z60: =IF(Y60,"公斤","") | AC60: =IF(AB60,"公斤","")
A61: c2 | B61: 5.1 | C61: 3 | D61: 2.3 | E61: 3 | F61: 0 | G61: 0 | H61: 775 | I61: 糙米飯 | K61: =IF(J61,"公斤","") | L61: 栗子麵腸 | N61: =IF(M61,"公斤","") | O61: 鮮燴時蔬 | Q61: =IF(P61,"公斤","") | R61: 豆包瓜粒 | T61: =IF(S61,"公斤","") | U61: 時蔬 | W61: =IF(V61,"公斤","") | X61: 時蔬湯 | Z61: =IF(Y61,"公斤","") | AA61: 點心 | AC61: =IF(AB61,"公斤","") | AF61: =A61 -> c2 | AG61: =I62&" "&I63&" "&I64&" "&I65&" "&I66&" "&I67 -> 米 糙米 | AH61: =L62&" "&L63&" "&L64&" "&L65&" "&L66&" "&L67 -> 麵腸 時瓜 栗子(生) 薑 | AI61: =O62&" "&O63&" "&O64&" "&O65&" "&O66&" "&O67 -> 冷凍玉米筍 鵪鶉水煮蛋 時蔬 豆干 薑 | AJ61: =R62&" "&R63&" "&R64&" "&R65&" "&R66&" "&R67 -> 豆包 冬瓜 胡蘿蔔 薑 | AK61: =U62&" "&U63&" "&U64&" "&U65&" "&U66&" "&U67 -> 蔬菜 薑 | AL61: =X62&" "&X63&" "&X64&" "&X65&" "&X66&" "&X67 -> 時蔬 素羊肉 薑 | AM61: =AA62&" "&AA63&" "&AA64&" "&AA65&" "&AA66&" "&AA67 -> 點心 | AN61: =AD62&" "&AD63&" "&AD64&" "&AD65&" "&AD66&" "&AD67 | AO61: =AE62&" "&AE63&" "&AE64&" "&AE65&" "&AE66&" "&AE67
I62: 米 | J62: 8 | K62: =IF(J62,"公斤","") -> 公斤 | L62: 麵腸 | M62: 8 | N62: =IF(M62,"公斤","") -> 公斤 | O62: 冷凍玉米筍 | P62: 1 | Q62: =IF(P62,"公斤","") -> 公斤 | R62: 豆包 | S62: 0.6 | T62: =IF(S62,"公斤","") -> 公斤 | U62: 蔬菜 | V62: 7 | W62: =IF(V62,"公斤","") -> 公斤 | X62: 時蔬 | Y62: 2 | Z62: =IF(Y62,"公斤","") -> 公斤 | AA62: 點心 | AB62: 5 | AC62: =IF(AB62,"公斤","") -> 公斤
A63: 45349 | I63: 糙米 | J63: 2 | K63: =IF(J63,"公斤","") -> 公斤 | L63: 時瓜 | M63: 2 | N63: =IF(M63,"公斤","") -> 公斤 | O63: 鵪鶉水煮蛋 | P63: 1.5 | Q63: =IF(P63,"公斤","") -> 公斤 | R63: 冬瓜 | S63: 6 | T63: =IF(S63,"公斤","") -> 公斤 | U63: 薑 | V63: 0.05 | W63: =IF(V63,"公斤","") -> 公斤 | X63: 素羊肉 | Y63: 1 | Z63: =IF(Y63,"公斤","") -> 公斤 | AC63: =IF(AB63,"公斤","")
B64: 5.1 | C64: 2.8 | D64: 1.6 | E64: 3 | F64: 0 | G64: 0 | H64: 742 | K64: =IF(J64,"公斤","") | L64: 栗子(生) | M64: 0.1 | N64: =IF(M64,"公斤","") -> 公斤 | O64: 時蔬 | P64: 3 | Q64: =IF(P64,"公斤","") -> 公斤 | R64: 胡蘿蔔 | S64: 0.5 | T64: =IF(S64,"公斤","") -> 公斤 | W64: =IF(V64,"公斤","") | X64: 薑 | Y64: 0.05 | Z64: =IF(Y64,"公斤","") -> 公斤 | AC64: =IF(AB64,"公斤","")
A65: 星期二 | K65: =IF(J65,"公斤","") | L65: 薑 | M65: 0.05 | N65: =IF(M65,"公斤","") -> 公斤 | O65: 豆干 | P65: 2 | Q65: =IF(P65,"公斤","") -> 公斤 | R65: 薑 | S65: 0.05 | T65: =IF(S65,"公斤","") -> 公斤 | W65: =IF(V65,"公斤","") | Z65: =IF(Y65,"公斤","") | AC65: =IF(AB65,"公斤","")
K66: =IF(J66,"公斤","") | N66: =IF(M66,"公斤","") | O66: 薑 | P66: 0.05 | Q66: =IF(P66,"公斤","") -> 公斤 | T66: =IF(S66,"公斤","") | W66: =IF(V66,"公斤","") | Z66: =IF(Y66,"公斤","") | AC66: =IF(AB66,"公斤","")
K67: =IF(J67,"公斤","") | N67: =IF(M67,"公斤","") | Q67: =IF(P67,"公斤","") | T67: =IF(S67,"公斤","") | W67: =IF(V67,"公斤","") | Z67: =IF(Y67,"公斤","") | AC67: =IF(AB67,"公斤","")
A68: c4 | B68: 6.1 | C68: 3.3 | D68: 2 | E68: 3 | F68: 0 | G68: 0 | H68: 860 | I68: 糙米飯 | K68: =IF(J68,"公斤","") | L68: 紅麴素排 | N68: =IF(M68,"公斤","") | O68: 藜麥毛豆 | Q68: =IF(P68,"公斤","") | R68: 時蔬炒蛋 | T68: =IF(S68,"公斤","") | U68: 時蔬 | W68: =IF(V68,"公斤","") | X68: 綠豆薏仁甜湯 | Z68: =IF(Y68,"公斤","") | AA68: 點心 | AC68: =IF(AB68,"公斤","") | AF68: =A68 -> c4 | AG68: =I69&" "&I70&" "&I71&" "&I72&" "&I73&" "&I74 -> 米 糙米 | AH68: =L69&" "&L70&" "&L71&" "&L72&" "&L73&" "&L74 -> 素排 | AI68: =O69&" "&O70&" "&O71&" "&O72&" "&O73&" "&O74 -> 冷凍毛豆仁 時瓜 豆干 甜椒 紅藜 薑 | AJ68: =R69&" "&R70&" "&R71&" "&R72&" "&R73&" "&R74 -> 雞蛋 時蔬 胡蘿蔔 薑 | AK68: =U69&" "&U70&" "&U71&" "&U72&" "&U73&" "&U74 -> 蔬菜 薑 | AL68: =X69&" "&X70&" "&X71&" "&X72&" "&X73&" "&X74 -> 小薏仁 紅砂糖 綠豆 | AM68: =AA69&" "&AA70&" "&AA71&" "&AA72&" "&AA73&" "&AA74 -> 點心 | AN68: =AD69&" "&AD70&" "&AD71&" "&AD72&" "&AD73&" "&AD74 | AO68: =AE69&" "&AE70&" "&AE71&" "&AE72&" "&AE73&" "&AE74
I69: 米 | J69: 8 | K69: =IF(J69,"公斤","") -> 公斤 | L69: 素排 | M69: 6 | N69: =IF(M69,"公斤","") -> 公斤 | O69: 冷凍毛豆仁 | P69: 2 | Q69: =IF(P69,"公斤","") -> 公斤 | R69: 雞蛋 | S69: 2 | T69: =IF(S69,"公斤","") -> 公斤 | U69: 蔬菜 | V69: 7 | W69: =IF(V69,"公斤","") -> 公斤 | X69: 小薏仁 | Y69: 0.5 | Z69: =IF(Y69,"公斤","") -> 公斤 | AA69: 點心 | AB69: 5 | AC69: =IF(AB69,"公斤","") -> 公斤
A70: 45351 | I70: 糙米 | J70: 2 | K70: =IF(J70,"公斤","") -> 公斤 | N70: =IF(M70,"公斤","") | O70: 時瓜 | P70: 4 | Q70: =IF(P70,"公斤","") -> 公斤 | R70: 時蔬 | S70: 6 | T70: =IF(S70,"公斤","") -> 公斤 | U70: 薑 | V70: 0.05 | W70: =IF(V70,"公斤","") -> 公斤 | X70: 紅砂糖 | Y70: 1 | Z70: =IF(Y70,"公斤","") -> 公斤 | AC70: =IF(AB70,"公斤","")
B71: 6.1 | C71: 2.9 | D71: 1.3 | E71: 3 | F71: 0 | G71: 0 | H71: 812 | K71: =IF(J71,"公斤","") | N71: =IF(M71,"公斤","") | O71: 豆干 | P71: 1 | Q71: =IF(P71,"公斤","") -> 公斤 | R71: 胡蘿蔔 | S71: 0.5 | T71: =IF(S71,"公斤","") -> 公斤 | W71: =IF(V71,"公斤","") | X71: 綠豆 | Y71: 2 | Z71: =IF(Y71,"公斤","") -> 公斤 | AC71: =IF(AB71,"公斤","")
A72: 星期四 | K72: =IF(J72,"公斤","") | N72: =IF(M72,"公斤","") | O72: 甜椒 | P72: 2 | Q72: =IF(P72,"公斤","") -> 公斤 | R72: 薑 | S72: 0.05 | T72: =IF(S72,"公斤","") -> 公斤 | W72: =IF(V72,"公斤","") | Z72: =IF(Y72,"公斤","") | AC72: =IF(AB72,"公斤","")
K73: =IF(J73,"公斤","") | N73: =IF(M73,"公斤","") | O73: 紅藜 | P73: 0.15 | Q73: =IF(P73,"公斤","") -> 公斤 | T73: =IF(S73,"公斤","") | W73: =IF(V73,"公斤","") | Z73: =IF(Y73,"公斤","") | AC73: =IF(AB73,"公斤","")
K74: =IF(J74,"公斤","") | N74: =IF(M74,"公斤","") | O74: 薑 | P74: 0.05 | Q74: =IF(P74,"公斤","") -> 公斤 | T74: =IF(S74,"公斤","") | W74: =IF(V74,"公斤","") | Z74: =IF(Y74,"公斤","") | AC74: =IF(AB74,"公斤","")
A75: 過敏警語:「本月產品含有蛋、芝麻、含麩之穀物、花生、大豆、魚類、亞硫酸鹽類及其相關製品，不適合其過敏體質者食用」
A76: 說明:2月份菜單編排說明如下:一、
A77: 一、星期三、四為有機蔬菜，(新城國小、秀林國小、富士國小、崇德國小、秀林國中)。

Sheet 偏鄉計劃學校(素)國中月總表
A1: 112學年度下學期國民中學2月份素食菜單(偏鄉計劃學校)-------華王御膳
A2: 日期 | B2: 循環 | C2: 主食 | D2: 主食明細 | E2: 主菜 | F2: 主菜明細 | G2: 副菜一 | H2: 副菜一明細 | I2: 副菜二 | J2: 副菜二明細 | K2: 蔬菜 | L2: 蔬菜明細 | M2: 湯品 | N2: 湯品明細 | O2: 附餐點心 | P2: 附餐點心 | Q2: 附餐點心 | R2: 穀/份 | S2: 豆/份 | T2: 蔬/份 | U2: 油/份 | V2: 乳/份 | W2: 果/份 | X2: 熱量
A3: 45338 | B3: ='偏鄉計劃學校(素)國中'!A5 -> a4 | C3: ='偏鄉計劃學校(素)國中'!I5 -> 白米飯 | D3: ='偏鄉計劃學校(素)國中'!AG5 -> 米 | E3: ='偏鄉計劃學校(素)國中'!L5 -> 紅燒豆包 | F3: ='偏鄉計劃學校(素)國中'!AH5 -> 豆包 滷包 | G3: ='偏鄉計劃學校(素)國中'!O5 -> 麻婆豆腐 | H3: ='偏鄉計劃學校(素)國中'!AI5 -> 豆腐 三色豆 時瓜 薑 豆瓣醬 | I3: ='偏鄉計劃學校(素)國中'!R5 -> 豆皮花椰 | J3: ='偏鄉計劃學校(素)國中'!AJ5 -> 冷凍花椰菜 乾豆腐皮 薑 | K3: ='偏鄉計劃學校(素)國中'!U5 -> 時蔬 | L3: ='偏鄉計劃學校(素)國中'!AK5 -> 蔬菜 薑 | M3: ='偏鄉計劃學校(素)國中'!X5 -> 時蔬湯 | N3: ='偏鄉計劃學校(素)國中'!AL5 -> 時蔬 素羊肉 薑 | O3: ='偏鄉計劃學校(素)國中'!AM5 -> 點心 | P3: ='偏鄉計劃學校(素)國中'!AN5 | Q3: ='偏鄉計劃學校(素)國中'!AO5 | R3: ='偏鄉計劃學校(素)國中'!B5 -> 5 | S3: ='偏鄉計劃學校(素)國中'!C5 -> 3.1 | T3: ='偏鄉計劃學校(素)國中'!D5 -> 2 | U3: ='偏鄉計劃學校(素)國中'!E5 -> 3 | V3: ='偏鄉計劃學校(素)國中'!F5 -> 0 | W3: ='偏鄉計劃學校(素)國中'!G5 -> 0 | X3: ='偏鄉計劃學校(素)國中'!H5 -> 768
A4: 45339 | B4: ='偏鄉計劃學校(素)國中'!A12 -> a5 | C4: ='偏鄉計劃學校(素)國中'!I12 -> 糙米飯 | D4: ='偏鄉計劃學校(素)國中'!AG12 -> 米 糙米 | E4: ='偏鄉計劃學校(素)國中'!L12 -> 咖哩麵腸 | F4: ='偏鄉計劃學校(素)國中'!AH12 -> 麵腸 芹菜 胡蘿蔔 馬鈴薯 咖哩粉 | G4: ='偏鄉計劃學校(素)國中'!O12 -> 螞蟻上樹 | H4: ='偏鄉計劃學校(素)國中'!AI12 -> 素肉 冬粉 時蔬 乾木耳 薑 | I4: ='偏鄉計劃學校(素)國中'!R12 -> 芝麻豆干 | J4: ='偏鄉計劃學校(素)國中'!AJ12 -> 豆干 薑 芝麻(熟) | K4: ='偏鄉計劃學校(素)國中'!U12 -> 時蔬 | L4: ='偏鄉計劃學校(素)國中'!AK12 -> 蔬菜 薑 | M4: ='偏鄉計劃學校(素)國中'!X12 -> 蘿蔔蔬菜丸子湯 | N4: ='偏鄉計劃學校(素)國中'!AL12 -> 蔬菜丸子 白蘿蔔 薑 | O4: ='偏鄉計劃學校(素)國中'!AM12 -> 點心 | P4: ='偏鄉計劃學校(素)國中'!AN12 | Q4: ='偏鄉計劃學校(素)國中'!AO12 | R4: ='偏鄉計劃學校(素)國中'!B12 -> 5.5 | S4: ='偏鄉計劃學校(素)國中'!C12 -> 3.5 | T4: ='偏鄉計劃學校(素)國中'!D12 -> 1.8 | U4: ='偏鄉計劃學校(素)國中'!E12 -> 3 | V4: ='偏鄉計劃學校(素)國中'!F12 -> 0 | W4: ='偏鄉計劃學校(素)國中'!G12 -> 0 | X4: ='偏鄉計劃學校(素)國中'!H12 -> 828
A5: 45341 | B5: ='偏鄉計劃學校(素)國中'!A19 -> b1 | C5: ='偏鄉計劃學校(素)國中'!I19 -> 白米飯 | D5: ='偏鄉計劃學校(素)國中'!AG19 -> 米 | E5: ='偏鄉計劃學校(素)國中'!L19 -> 回鍋豆干 | F5: ='偏鄉計劃學校(素)國中'!AH19 -> 豆干 時蔬 胡蘿蔔 薑 甜麵醬 | G5: ='偏鄉計劃學校(素)國中'!O19 -> 西滷白菜 | H5: ='偏鄉計劃學校(素)國中'!AI19 -> 雞蛋 結球白菜 胡蘿蔔 薑 | I5: ='偏鄉計劃學校(素)國中'!R19 -> 塔香海茸 | J5: ='偏鄉計劃學校(素)國中'!AJ19 -> 海帶茸 豆包 薑 九層塔 | K5: ='偏鄉計劃學校(素)國中'!U19 -> 時蔬 | L5: ='偏鄉計劃學校(素)國中'!AK19 -> 蔬菜 薑 | M5: ='偏鄉計劃學校(素)國中'!X19 -> 牛蒡湯 | N5: ='偏鄉計劃學校(素)國中'!AL19 -> 牛蒡 豆腐 薑 枸杞 | O5: ='偏鄉計劃學校(素)國中'!AM19 -> 點心 | P5: ='偏鄉計劃學校(素)國中'!AN19 | Q5: ='偏鄉計劃學校(素)國中'!AO19 | R5: ='偏鄉計劃學校(素)國中'!B19 -> 5 | S5: ='偏鄉計劃學校(素)國中'!C19 -> 3 | T5: ='偏鄉計劃學校(素)國中'!D19 -> 2.2 | U5: ='偏鄉計劃學校(素)國中'!E19 -> 3 | V5: ='偏鄉計劃學校(素)國中'!F19 -> 0 | W5: ='偏鄉計劃學校(素)國中'!G19 -> 0 | X5: ='偏鄉計劃學校(素)國中'!H19 -> 765
A6: 45342 | B6: ='偏鄉計劃學校(素)國中'!A26 -> b2 | C6: ='偏鄉計劃學校(素)國中'!I26 -> 糙米飯 | D6: ='偏鄉計劃學校(素)國中'!AG26 -> 米 糙米 | E6: ='偏鄉計劃學校(素)國中'!L26 -> 紅麴素排 | F6: ='偏鄉計劃學校(素)國中'!AH26 -> 素排 | G6: ='偏鄉計劃學校(素)國中'!O26 -> 玉米三色 | H6: ='偏鄉計劃學校(素)國中'!AI26 -> 甜椒(青皮) 冷凍玉米粒 馬鈴薯 胡蘿蔔 素培根 薑 | I6: ='偏鄉計劃學校(素)國中'!R26 -> 香滷油腐 | J6: ='偏鄉計劃學校(素)國中'!AJ26 -> 四角油豆腐 麻竹筍干 薑 滷包 | K6: ='偏鄉計劃學校(素)國中'!U26 -> 時蔬 | L6: ='偏鄉計劃學校(素)國中'!AK26 -> 蔬菜 薑 | M6: ='偏鄉計劃學校(素)國中'!X26 -> 味噌海芽湯 | N6: ='偏鄉計劃學校(素)國中'!AL26 -> 乾裙帶菜 時蔬 味噌 薑 | O6: ='偏鄉計劃學校(素)國中'!AM26 -> 點心 | P6: ='偏鄉計劃學校(素)國中'!AN26 | Q6: ='偏鄉計劃學校(素)國中'!AO26 | R6: ='偏鄉計劃學校(素)國中'!B26 -> 5 | S6: ='偏鄉計劃學校(素)國中'!C26 -> 3.1 | T6: ='偏鄉計劃學校(素)國中'!D26 -> 2.2 | U6: ='偏鄉計劃學校(素)國中'!E26 -> 3 | V6: ='偏鄉計劃學校(素)國中'!F26 -> 0 | W6: ='偏鄉計劃學校(素)國中'!G26 -> 0 | X6: ='偏鄉計劃學校(素)國中'!H26 -> 773
A7: 45343 | B7: ='偏鄉計劃學校(素)國中'!A33 -> b3 | C7: ='偏鄉計劃學校(素)國中'!I33 -> 拌麵特餐 | D7: ='偏鄉計劃學校(素)國中'!AG33 -> 麵條 | E7: ='偏鄉計劃學校(素)國中'!L33 -> 香菇若燥 | F7: ='偏鄉計劃學校(素)國中'!AH33 -> 豆包 冬瓜 乾香菇 薑 素肉燥 | G7: ='偏鄉計劃學校(素)國中'!O33 -> 拌麵配料 | H7: ='偏鄉計劃學校(素)國中'!AI33 -> 甘藍 胡蘿蔔 薑 | I7: ='偏鄉計劃學校(素)國中'!R33 -> 芝麻豆干 | J7: ='偏鄉計劃學校(素)國中'!AJ33 -> 豆干 薑 芝麻(熟) 滷包 | K7: ='偏鄉計劃學校(素)國中'!U33 -> 時蔬 | L7: ='偏鄉計劃學校(素)國中'!AK33 -> 蔬菜 薑 | M7: ='偏鄉計劃學校(素)國中'!X33 -> 素肉羹湯 | N7: ='偏鄉計劃學校(素)國中'!AL33 -> 雞蛋 脆筍 時蔬 素肉羹 乾木耳 | O7: ='偏鄉計劃學校(素)國中'!AM33 -> 點心 | P7: ='偏鄉計劃學校(素)國中'!AN33 | Q7: ='偏鄉計劃學校(素)國中'!AO33 | R7: ='偏鄉計劃學校(素)國中'!B33 -> 5 | S7: ='偏鄉計劃學校(素)國中'!C33 -> 3.4 | T7: ='偏鄉計劃學校(素)國中'!D33 -> 2 | U7: ='偏鄉計劃學校(素)國中'!E33 -> 3 | V7: ='偏鄉計劃學校(素)國中'!F33 -> 0 | W7: ='偏鄉計劃學校(素)國中'!G33 -> 0 | X7: ='偏鄉計劃學校(素)國中'!H33 -> 790
A8: 45344 | B8: ='偏鄉計劃學校(素)國中'!A40 -> b4 | C8: ='偏鄉計劃學校(素)國中'!I40 -> 糙米飯 | D8: ='偏鄉計劃學校(素)國中'!AG40 -> 米 糙米 | E8: ='偏鄉計劃學校(素)國中'!L40 -> 沙茶百頁 | F8: ='偏鄉計劃學校(素)國中'!AH40 -> 百頁豆腐 時蔬 胡蘿蔔 薑 素沙茶醬 | G8: ='偏鄉計劃學校(素)國中'!O40 -> 豆包花椰 | H8: ='偏鄉計劃學校(素)國中'!AI40 -> 豆包 冷凍花椰菜 薑 | I8: ='偏鄉計劃學校(素)國中'!R40 -> 蛋香碎脯 | J8: ='偏鄉計劃學校(素)國中'!AJ40 -> 雞蛋 蘿蔔乾 薑 | K8: ='偏鄉計劃學校(素)國中'!U40 -> 時蔬 | L8: ='偏鄉計劃學校(素)國中'!AK40 -> 蔬菜 薑 | M8: ='偏鄉計劃學校(素)國中'!X40 -> 銀耳西米露 | N8: ='偏鄉計劃學校(素)國中'!AL40 -> 乾銀耳 西谷米 紅砂糖 枸杞 | O8: ='偏鄉計劃學校(素)國中'!AM40 -> 點心 | P8: ='偏鄉計劃學校(素)國中'!AN40 | Q8: ='偏鄉計劃學校(素)國中'!AO40 | R8: ='偏鄉計劃學校(素)國中'!B40 -> 5.7 | S8: ='偏鄉計劃學校(素)國中'!C40 -> 3.2 | T8: ='偏鄉計劃學校(素)國中'!D40 -> 2 | U8: ='偏鄉計劃學校(素)國中'!E40 -> 3 | V8: ='偏鄉計劃學校(素)國中'!F40 -> 0 | W8: ='偏鄉計劃學校(素)國中'!G40 -> 0 | X8: ='偏鄉計劃學校(素)國中'!H40 -> 824
A9: 45345 | B9: ='偏鄉計劃學校(素)國中'!A47 -> b5 | C9: ='偏鄉計劃學校(素)國中'!I47 -> 小米飯 | D9: ='偏鄉計劃學校(素)國中'!AG47 -> 米 小米 糙米 | E9: ='偏鄉計劃學校(素)國中'!L47 -> 京醬麵腸 | F9: ='偏鄉計劃學校(素)國中'!AH47 -> 麵腸 豆薯 薑 甜麵醬 | G9: ='偏鄉計劃學校(素)國中'!O47 -> 塔香豆腐 | H9: ='偏鄉計劃學校(素)國中'!AI47 -> 豆腐 杏鮑菇 胡蘿蔔 九層塔 薑 | I9: ='偏鄉計劃學校(素)國中'!R47 -> 素培根季豆 | J9: ='偏鄉計劃學校(素)國中'!AJ47 -> 素培根 冷凍菜豆(莢) 薑 | K9: ='偏鄉計劃學校(素)國中'!U47 -> 時蔬 | L9: ='偏鄉計劃學校(素)國中'!AK47 -> 蔬菜 薑 | M9: ='偏鄉計劃學校(素)國中'!X47 -> 冬瓜湯 | N9: ='偏鄉計劃學校(素)國中'!AL47 -> 冬瓜 素羊肉 薑 | O9: ='偏鄉計劃學校(素)國中'!AM47 -> 點心 | P9: ='偏鄉計劃學校(素)國中'!AN47 | Q9: ='偏鄉計劃學校(素)國中'!AO47 | R9: ='偏鄉計劃學校(素)國中'!B47 -> 5.7 | S9: ='偏鄉計劃學校(素)國中'!C47 -> 3.3 | T9: ='偏鄉計劃學校(素)國中'!D47 -> 2 | U9: ='偏鄉計劃學校(素)國中'!E47 -> 3 | V9: ='偏鄉計劃學校(素)國中'!F47 -> 0 | W9: ='偏鄉計劃學校(素)國中'!G47 -> 0 | X9: ='偏鄉計劃學校(素)國中'!H47 -> 832
A10: 45348 | B10: ='偏鄉計劃學校(素)國中'!A54 -> c1 | C10: ='偏鄉計劃學校(素)國中'!I54 -> 白米飯 | D10: ='偏鄉計劃學校(素)國中'!AG54 -> 米 | E10: ='偏鄉計劃學校(素)國中'!L54 -> 醬醋豆干 | F10: ='偏鄉計劃學校(素)國中'!AH54 -> 豆干 白蘿蔔 胡蘿蔔 薑 月桂葉 滷包 | G10: ='偏鄉計劃學校(素)國中'!O54 -> 蛋香玉菜 | H10: ='偏鄉計劃學校(素)國中'!AI54 -> 雞蛋 甘藍 薑 | I10: ='偏鄉計劃學校(素)國中'!R54 -> 泰式蔬菜丸 | J10: ='偏鄉計劃學校(素)國中'!AJ54 -> 蔬菜丸子 泰式甜辣醬 | K10: ='偏鄉計劃學校(素)國中'!U54 -> 時蔬 | L10: ='偏鄉計劃學校(素)國中'!AK54 -> 蔬菜 薑 | M10: ='偏鄉計劃學校(素)國中'!X54 -> 羅宋湯 | N10: ='偏鄉計劃學校(素)國中'!AL54 -> 大番茄 馬鈴薯 凍豆腐 薑 | O10: ='偏鄉計劃學校(素)國中'!AM54 -> 點心 | P10: ='偏鄉計劃學校(素)國中'!AN54 | Q10: ='偏鄉計劃學校(素)國中'!AO54 | R10: ='偏鄉計劃學校(素)國中'!B54 -> 5.2 | S10: ='偏鄉計劃學校(素)國中'!C54 -> 3 | T10: ='偏鄉計劃學校(素)國中'!D54 -> 2 | U10: ='偏鄉計劃學校(素)國中'!E54 -> 3 | V10: ='偏鄉計劃學校(素)國中'!F54 -> 0 | W10: ='偏鄉計劃學校(素)國中'!G54 -> 0 | X10: ='偏鄉計劃學校(素)國中'!H54 -> 774
A11: 45349 | B11: ='偏鄉計劃學校(素)國中'!A61 -> c2 | C11: ='偏鄉計劃學校(素)國中'!I61 -> 糙米飯 | D11: ='偏鄉計劃學校(素)國中'!AG61 -> 米 糙米 | E11: ='偏鄉計劃學校(素)國中'!L61 -> 栗子麵腸 | F11: ='偏鄉計劃學校(素)國中'!AH61 -> 麵腸 時瓜 栗子(生) 薑 | G11: ='偏鄉計劃學校(素)國中'!O61 -> 鮮燴時蔬 | H11: ='偏鄉計劃學校(素)國中'!AI61 -> 冷凍玉米筍 鵪鶉水煮蛋 時蔬 豆干 薑 | I11: ='偏鄉計劃學校(素)國中'!R61 -> 豆包瓜粒 | J11: ='偏鄉計劃學校(素)國中'!AJ61 -> 豆包 冬瓜 胡蘿蔔 薑 | K11: ='偏鄉計劃學校(素)國中'!U61 -> 時蔬 | L11: ='偏鄉計劃學校(素)國中'!AK61 -> 蔬菜 薑 | M11: ='偏鄉計劃學校(素)國中'!X61 -> 時蔬湯 | N11: ='偏鄉計劃學校(素)國中'!AL61 -> 時蔬 素羊肉 薑 | O11: ='偏鄉計劃學校(素)國中'!AM61 -> 點心 | P11: ='偏鄉計劃學校(素)國中'!AN61 | Q11: ='偏鄉計劃學校(素)國中'!AO61 | R11: ='偏鄉計劃學校(素)國中'!B61 -> 5.1 | S11: ='偏鄉計劃學校(素)國中'!C61 -> 3 | T11: ='偏鄉計劃學校(素)國中'!D61 -> 2.3 | U11: ='偏鄉計劃學校(素)國中'!E61 -> 3 | V11: ='偏鄉計劃學校(素)國中'!F61 -> 0 | W11: ='偏鄉計劃學校(素)國中'!G61 -> 0 | X11: ='偏鄉計劃學校(素)國中'!H61 -> 775
A12: 45351 | B12: ='偏鄉計劃學校(素)國中'!A68 -> c4 | C12: ='偏鄉計劃學校(素)國中'!I68 -> 糙米飯 | D12: ='偏鄉計劃學校(素)國中'!AG68 -> 米 糙米 | E12: ='偏鄉計劃學校(素)國中'!L68 -> 紅麴素排 | F12: ='偏鄉計劃學校(素)國中'!AH68 -> 素排 | G12: ='偏鄉計劃學校(素)國中'!O68 -> 藜麥毛豆 | H12: ='偏鄉計劃學校(素)國中'!AI68 -> 冷凍毛豆仁 時瓜 豆干 甜椒 紅藜 薑 | I12: ='偏鄉計劃學校(素)國中'!R68 -> 時蔬炒蛋 | J12: ='偏鄉計劃學校(素)國中'!AJ68 -> 雞蛋 時蔬 胡蘿蔔 薑 | K12: ='偏鄉計劃學校(素)國中'!U68 -> 時蔬 | L12: ='偏鄉計劃學校(素)國中'!AK68 -> 蔬菜 薑 | M12: ='偏鄉計劃學校(素)國中'!X68 -> 綠豆薏仁甜湯 | N12: ='偏鄉計劃學校(素)國中'!AL68 -> 小薏仁 紅砂糖 綠豆 | O12: ='偏鄉計劃學校(素)國中'!AM68 -> 點心 | P12: ='偏鄉計劃學校(素)國中'!AN68 | Q12: ='偏鄉計劃學校(素)國中'!AO68 | R12: ='偏鄉計劃學校(素)國中'!B68 -> 6.1 | S12: ='偏鄉計劃學校(素)國中'!C68 -> 3.3 | T12: ='偏鄉計劃學校(素)國中'!D68 -> 2 | U12: ='偏鄉計劃學校(素)國中'!E68 -> 3 | V12: ='偏鄉計劃學校(素)國中'!F68 -> 0 | W12: ='偏鄉計劃學校(素)國中'!G68 -> 0 | X12: ='偏鄉計劃學校(素)國中'!H68 -> 860
C13: 過敏警語:「本月產品含有蛋、芝麻、含麩之穀物、花生、大豆、魚類、亞硫酸鹽類及其相關製品，不適合其過敏體質者食用」

Sheet 偏鄉計劃學校(素)國小
A1: 112學年度下學期國民小學2月份素食菜單(偏鄉計劃學校)-------華王御膳
A2: 食材明細（食材重量以100人份計量，營養分析以個人計量,其中肉雞包含23%骨頭之採購量，每周供應特餐一次，當日得混搭供應，國中4菜1湯1附餐點心1，國小3菜1湯1附餐點1)
A3: 為符合契約規範，每周供應一次附餐點心2本縣有機豆奶，每周供應二次有機蔬菜。每周供應一次果汁、保久乳、水果。 | AC3: 統整區的檔案，連動到上方循環，後續給教育處的檔案，此處請自行隱藏
A4: 循環 | B4: 穀/份 | C4: 豆/份 | D4: 蔬/份 | E4: 油/份 | F4: 乳/份 | G4: 果/份 | H4: 熱量 | I4: 主食 | J4: 重/kg | K4: 公斤 | L4: 主菜 | M4: 重/kg | N4: 公斤 | O4: 副菜一 | P4: 重/kg | Q4: 公斤 | R4: 副菜二 | S4: 重/kg | T4: 公斤 | U4: 蔬菜 | V4: 重/kg | W4: 公斤 | X4: 湯品 | Y4: 重/kg | Z4: 公斤 | AA4: 附餐點心 | AC4: 主食 | AD4: 主菜 | AE4: 副菜一 | AF4: 蔬菜 | AG4: 湯品 | AH4: 附餐點心 | AI4: 附餐點心 | AJ4: 附餐點心
A5: a4 | B5: 5 | C5: 2.8 | D5: 1.5 | E5: 3 | F5: 0 | G5: 0 | H5: 753 | I5: 白米飯 | K5: =IF(J5,"公斤","") | L5: 紅燒豆包 | N5: =IF(M5,"公斤","") | O5: 麻婆豆腐 | Q5: =IF(P5,"公斤","") | R5: 時蔬 | T5: =IF(S5,"公斤","") | U5: 時蔬湯 | W5: =IF(V5,"公斤","") | X5: 點心 | AA5: 有雞豆奶 | AB5: =A5 -> a4 | AC5: =I6&" "&I7&" "&I8&" "&I9&" "&I10&" "&I11 -> 米 | AD5: =L6&" "&L7&" "&L8&" "&L9&" "&L10&" "&L11 -> 豆包 滷包 | AE5: =O6&" "&O7&" "&O8&" "&O9&" "&O10&" "&O11 -> 豆腐 三色豆 時瓜 薑 豆瓣醬 | AF5: =R6&" "&R7&" "&R8&" "&R9&" "&R10&" "&R11 -> 蔬菜 薑 | AG5: =U6&" "&U7&" "&U8&" "&U9&" "&U10&" "&U11 -> 時蔬 素羊肉 薑 | AH5: =X6&" "&X7&" "&X8&" "&X9&" "&X10&" "&X11 -> 點心 | AI5: =AA6&" "&AA7&" "&AA8&" "&AA9&" "&AA10&" "&AA11 | AJ5: =#REF!&" "&#REF!&" "&#REF!&" "&#REF!&" "&#REF!&" "&#REF! -> #REF!
I6: 米 | J6: 10 | K6: =IF(J6,"公斤","") -> 公斤 | L6: 豆包 | M6: 6 | N6: =IF(M6,"公斤","") -> 公斤 | O6: 豆腐 | P6: 6 | Q6: =IF(P6,"公斤","") -> 公斤 | R6: 蔬菜 | S6: 7 | T6: =IF(S6,"公斤","") -> 公斤 | U6: 時蔬 | V6: 3 | W6: =IF(V6,"公斤","") -> 公斤 | X6: 點心 | Y6: 5
A7: 45338 | K7: =IF(J7,"公斤","") | L7: 滷包 | N7: =IF(M7,"公斤","") | O7: 三色豆 | P7: 1 | Q7: =IF(P7,"公斤","") -> 公斤 | R7: 薑 | S7: 0.05 | T7: =IF(S7,"公斤","") -> 公斤 | U7: 素羊肉 | V7: 1 | W7: =IF(V7,"公斤","") -> 公斤
K8: =IF(J8,"公斤","") | N8: =IF(M8,"公斤","") | O8: 時瓜 | P8: 3 | Q8: =IF(P8,"公斤","") -> 公斤 | T8: =IF(S8,"公斤","") | U8: 薑 | V8: 0.05 | W8: =IF(V8,"公斤","") -> 公斤
A9: 星期五 | K9: =IF(J9,"公斤","") | N9: =IF(M9,"公斤","") | O9: 薑 | P9: 0.05 | Q9: =IF(P9,"公斤","") -> 公斤 | T9: =IF(S9,"公斤","") | W9: =IF(V9,"公斤","")
K10: =IF(J10,"公斤","") | N10: =IF(M10,"公斤","") | O10: 豆瓣醬 | Q10: =IF(P10,"公斤","") | T10: =IF(S10,"公斤","") | W10: =IF(V10,"公斤","")
K11: =IF(J11,"公斤","") | N11: =IF(M11,"公斤","") | Q11: =IF(P11,"公斤","") | T11: =IF(S11,"公斤","") | W11: =IF(V11,"公斤","")
A12: a5 | B12: 5.5 | C12: 2.7 | D12: 1.8 | E12: 3 | F12: 0 | G12: 0 | H12: 768 | I12: 糙米飯 | K12: =IF(J12,"公斤","") | L12: 咖哩麵腸 | N12: =IF(M12,"公斤","") | O12: 螞蟻上樹 | Q12: =IF(P12,"公斤","") | R12: 時蔬 | T12: =IF(S12,"公斤","") | U12: 蘿蔔蔬菜丸子湯 | W12: =IF(V12,"公斤","") | X12: 點心 | AB12: =A12 -> a5 | AC12: =I13&" "&I14&" "&I15&" "&I16&" "&I17&" "&I18 -> 米 糙米 | AD12: =L13&" "&L14&" "&L15&" "&L16&" "&L17&" "&L18 -> 麵腸 芹菜 胡蘿蔔 馬鈴薯 咖哩粉 | AE12: =O13&" "&O14&" "&O15&" "&O16&" "&O17&" "&O18 -> 素肉 冬粉 時蔬 乾木耳 薑 | AF12: =R13&" "&R14&" "&R15&" "&R16&" "&R17&" "&R18 -> 蔬菜 薑 | AG12: =U13&" "&U14&" "&U15&" "&U16&" "&U17&" "&U18 -> 蔬菜丸子 白蘿蔔 薑 | AH12: =X13&" "&X14&" "&X15&" "&X16&" "&X17&" "&X18 -> 點心 | AI12: =AA13&" "&AA14&" "&AA15&" "&AA16&" "&AA17&" "&AA18 | AJ12: =#REF!&" "&#REF!&" "&#REF!&" "&#REF!&" "&#REF!&" "&#REF! -> #REF!
I13: 米 | J13: 8 | K13: =IF(J13,"公斤","") -> 公斤 | L13: 麵腸 | M13: 8 | N13: =IF(M13,"公斤","") -> 公斤 | O13: 素肉 | P13: 0.8 | Q13: =IF(P13,"公斤","") -> 公斤 | R13: 蔬菜 | S13: 7 | T13: =IF(S13,"公斤","") -> 公斤 | U13: 蔬菜丸子 | V13: 1.5 | W13: =IF(V13,"公斤","") -> 公斤 | X13: 點心 | Y13: 5 | Z13: =IF(Y13,"公斤","") -> 公斤
A14: 45339 | I14: 糙米 | J14: 2 | K14: =IF(J14,"公斤","") -> 公斤 | L14: 芹菜 | M14: 2 | N14: =IF(M14,"公斤","") -> 公斤 | O14: 冬粉 | P14: 1 | Q14: =IF(P14,"公斤","") -> 公斤 | R14: 薑 | S14: 0.05 | T14: =IF(S14,"公斤","") -> 公斤 | U14: 白蘿蔔 | V14: 4 | W14: =IF(V14,"公斤","") -> 公斤 | Z14: =IF(Y14,"公斤","")
K15: =IF(J15,"公斤","") | L15: 胡蘿蔔 | M15: 1 | N15: =IF(M15,"公斤","") -> 公斤 | O15: 時蔬 | P15: 4 | Q15: =IF(P15,"公斤","") -> 公斤 | T15: =IF(S15,"公斤","") | U15: 薑 | V15: 0.05 | W15: =IF(V15,"公斤","") -> 公斤 | Z15: =IF(Y15,"公斤","")
A16: 星期六 | K16: =IF(J16,"公斤","") | L16: 馬鈴薯 | M16: 2.5 | N16: =IF(M16,"公斤","") -> 公斤 | O16: 乾木耳 | P16: 0.01 | Q16: =IF(P16,"公斤","") -> 公斤 | T16: =IF(S16,"公斤","") | W16: =IF(V16,"公斤","") | Z16: =IF(Y16,"公斤","")
A17: 補課 | K17: =IF(J17,"公斤","") | L17: 咖哩粉 | N17: =IF(M17,"公斤","") | O17: 薑 | P17: 0.05 | Q17: =IF(P17,"公斤","") -> 公斤 | T17: =IF(S17,"公斤","") | W17: =IF(V17,"公斤","") | Z17: =IF(Y17,"公斤","")
K18: =IF(J18,"公斤","") | N18: =IF(M18,"公斤","") | Q18: =IF(P18,"公斤","") | T18: =IF(S18,"公斤","") | W18: =IF(V18,"公斤","") | Z18: =IF(Y18,"公斤","")
A19: b1 | B19: 5 | C19: 2.3 | D19: 1.6 | E19: 3 | F19: 0 | G19: 0 | H19: 698 | I19: 白米飯 | K19: =IF(J19,"公斤","") | L19: 回鍋豆干 | N19: =IF(M19,"公斤","") | O19: 西滷白菜 | Q19: =IF(P19,"公斤","") | R19: 時蔬 | T19: =IF(S19,"公斤","") | U19: 牛蒡湯 | W19: =IF(V19,"公斤","") | X19: 點心 | AB19: =A19 -> b1 | AC19: =I20&" "&I21&" "&I22&" "&I23&" "&I24&" "&I25 -> 米 | AD19: =L20&" "&L21&" "&L22&" "&L23&" "&L24&" "&L25 -> 豆干 時蔬 胡蘿蔔 薑 甜麵醬 | AE19: =O20&" "&O21&" "&O22&" "&O23&" "&O24&" "&O25 -> 雞蛋 結球白菜 胡蘿蔔 薑 | AF19: =R20&" "&R21&" "&R22&" "&R23&" "&R24&" "&R25 -> 蔬菜 薑 | AG19: =U20&" "&U21&" "&U22&" "&U23&" "&U24&" "&U25 -> 牛蒡 豆腐 薑 枸杞 | AH19: =X20&" "&X21&" "&X22&" "&X23&" "&X24&" "&X25 -> 點心 | AI19: =AA20&" "&AA21&" "&AA22&" "&AA23&" "&AA24&" "&AA25 | AJ19: =#REF!&" "&#REF!&" "&#REF!&" "&#REF!&" "&#REF!&" "&#REF! -> #REF!
I20: 米 | J20: 10 | K20: =IF(J20,"公斤","") -> 公斤 | L20: 豆干 | M20: 10 | N20: =IF(M20,"公斤","") -> 公斤 | O20: 雞蛋 | P20: 3.5 | Q20: =IF(P20,"公斤","") -> 公斤 | R20: 蔬菜 | S20: 7 | T20: =IF(S20,"公斤","") -> 公斤 | U20: 牛蒡 | V20: 2 | W20: =IF(V20,"公斤","") -> 公斤 | X20: 點心 | Y20: 5 | Z20: 公斤
A21: 45341 | K21: =IF(J21,"公斤","") | L21: 時蔬 | M21: 1 | N21: =IF(M21,"公斤","") -> 公斤 | O21: 結球白菜 | P21: 5 | Q21: =IF(P21,"公斤","") -> 公斤 | R21: 薑 | S21: 0.05 | T21: =IF(S21,"公斤","") -> 公斤 | U21: 豆腐 | V21: 2 | W21: =IF(V21,"公斤","") -> 公斤
K22: =IF(J22,"公斤","") | L22: 胡蘿蔔 | M22: 0.5 | N22: =IF(M22,"公斤","") -> 公斤 | O22: 胡蘿蔔 | P22: 0.5 | Q22: =IF(P22,"公斤","") -> 公斤 | T22: =IF(S22,"公斤","") | U22: 薑 | V22: 0.05 | W22: =IF(V22,"公斤","") -> 公斤
A23: 星期一 | K23: =IF(J23,"公斤","") | L23: 薑 | M23: 0.05 | N23: =IF(M23,"公斤","") -> 公斤 | O23: 薑 | P23: 0.05 | Q23: =IF(P23,"公斤","") -> 公斤 | T23: =IF(S23,"公斤","") | U23: 枸杞 | W23: =IF(V23,"公斤","")
K24: =IF(J24,"公斤","") | L24: 甜麵醬 | N24: =IF(M24,"公斤","") | Q24: =IF(P24,"公斤","") | T24: =IF(S24,"公斤","") | W24: =IF(V24,"公斤","")
K25: =IF(J25,"公斤","") | N25: =IF(M25,"公斤","") | Q25: =IF(P25,"公斤","") | T25: =IF(S25,"公斤","") | W25: =IF(V25,"公斤","")
A26: b2 | B26: 5 | C26: 2.8 | D26: 1.8 | E26: 3 | F26: 0 | G26: 0 | H26: 740 | I26: 糙米飯 | K26: =IF(J26,"公斤","") | L26: 紅麴素排 | N26: =IF(M26,"公斤","") | O26: 玉米三色 | Q26: =IF(P26,"公斤","") | R26: 時蔬 | T26: =IF(S26,"公斤","") | U26: 味噌海芽湯 | W26: =IF(V26,"公斤","") | X26: 點心 | AB26: =A26 -> b2 | AC26: =I27&" "&I28&" "&I29&" "&I30&" "&I31&" "&I32 -> 米 糙米 | AD26: =L27&" "&L28&" "&L29&" "&L30&" "&L31&" "&L32 -> 素排 | AE26: =O27&" "&O28&" "&O29&" "&O30&" "&O31&" "&O32 -> 甜椒(青皮) 冷凍玉米粒 馬鈴薯 胡蘿蔔 素培根 薑 | AF26: =R27&" "&R28&" "&R29&" "&R30&" "&R31&" "&R32 -> 蔬菜 薑 | AG26: =U27&" "&U28&" "&U29&" "&U30&" "&U31&" "&U32 -> 乾裙帶菜 時蔬 味噌 薑 | AH26: =X27&" "&X28&" "&X29&" "&X30&" "&X31&" "&X32 -> 點心 | AI26: =AA27&" "&AA28&" "&AA29&" "&AA30&" "&AA31&" "&AA32 | AJ26: =#REF!&" "&#REF!&" "&#REF!&" "&#REF!&" "&#REF!&" "&#REF! -> #REF!
I27: 米 | J27: 8 | K27: =IF(J27,"公斤","") -> 公斤 | L27: 素排 | M27: 6 | N27: =IF(M27,"公斤","") -> 公斤 | O27: 甜椒(青皮) | P27: 3 | Q27: =IF(P27,"公斤","") -> 公斤 | R27: 蔬菜 | S27: 7 | T27: =IF(S27,"公斤","") -> 公斤 | U27: 乾裙帶菜 | V27: 0.05 | W27: =IF(V27,"公斤","") -> 公斤 | X27: 點心 | Y27: 5 | Z27: 公斤
A28: 45342 | I28: 糙米 | J28: 2 | K28: =IF(J28,"公斤","") -> 公斤 | N28: =IF(M28,"公斤","") | O28: 冷凍玉米粒 | P28: 2 | Q28: =IF(P28,"公斤","") -> 公斤 | R28: 薑 | S28: 0.05 | T28: =IF(S28,"公斤","") -> 公斤 | U28: 時蔬 | V28: 4 | W28: =IF(V28,"公斤","") -> 公斤
K29: =IF(J29,"公斤","") | N29: =IF(M29,"公斤","") | O29: 馬鈴薯 | P29: 2 | Q29: =IF(P29,"公斤","") -> 公斤 | T29: =IF(S29,"公斤","") | U29: 味噌 | V29: 0.6 | W29: =IF(V29,"公斤","") -> 公斤
A30: 星期二 | K30: =IF(J30,"公斤","") | N30: =IF(M30,"公斤","") | O30: 胡蘿蔔 | P30: 2 | Q30: =IF(P30,"公斤","") -> 公斤 | T30: =IF(S30,"公斤","") | U30: 薑 | V30: 0.05 | W30: =IF(V30,"公斤","") -> 公斤
K31: =IF(J31,"公斤","") | N31: =IF(M31,"公斤","") | O31: 素培根 | P31: 0.5 | Q31: =IF(P31,"公斤","") -> 公斤 | T31: =IF(S31,"公斤","") | W31: =IF(V31,"公斤","")
K32: =IF(J32,"公斤","") | N32: =IF(M32,"公斤","") | O32: 薑 | P32: 0.05 | Q32: =IF(P32,"公斤","") -> 公斤 | T32: =IF(S32,"公斤","") | W32: =IF(V32,"公斤","")
A33: b3 | B33: 5 | C33: 2.8 | D33: 2 | E33: 3 | F33: 0 | G33: 0 | H33: 745 | I33: 拌麵特餐 | K33: =IF(J33,"公斤","") | L33: 香菇若燥 | N33: =IF(M33,"公斤","") | O33: 拌麵配料 | Q33: =IF(P33,"公斤","") | R33: 時蔬 | T33: =IF(S33,"公斤","") | U33: 素肉羹湯 | W33: =IF(V33,"公斤","") | X33: 點心 | Z33: =IF(Y33,"公斤","") | AB33: =A33 -> b3 | AC33: =I34&" "&I35&" "&I36&" "&I37&" "&I38&" "&I39 -> 麵條 | AD33: =L34&" "&L35&" "&L36&" "&L37&" "&L38&" "&L39 -> 豆包 冬瓜 乾香菇 薑 素肉燥 | AE33: =O34&" "&O35&" "&O36&" "&O37&" "&O38&" "&O39 -> 甘藍 胡蘿蔔 薑 | AF33: =R34&" "&R35&" "&R36&" "&R37&" "&R38&" "&R39 -> 蔬菜 薑 | AG33: =U34&" "&U35&" "&U36&" "&U37&" "&U38&" "&U39 -> 雞蛋 脆筍 時蔬 素肉羹 乾木耳 | AH33: =X34&" "&X35&" "&X36&" "&X37&" "&X38&" "&X39 -> 點心 | AI33: =AA34&" "&AA35&" "&AA36&" "&AA37&" "&AA38&" "&AA39 | AJ33: =#REF!&" "&#REF!&" "&#REF!&" "&#REF!&" "&#REF!&" "&#REF! -> #REF!
I34: 麵條 | J34: 15 | K34: =IF(J34,"公斤","") -> 公斤 | L34: 豆包 | M34: 6 | N34: =IF(M34,"公斤","") -> 公斤 | O34: 甘藍 | P34: 5 | Q34: =IF(P34,"公斤","") -> 公斤 | R34: 蔬菜 | S34: 7 | T34: =IF(S34,"公斤","") -> 公斤 | U34: 雞蛋 | V34: 1 | W34: =IF(V34,"公斤","") -> 公斤 | X34: 點心 | Y34: 5 | Z34: =IF(Y34,"公斤","") -> 公斤
A35: 45343 | K35: =IF(J35,"公斤","") | L35: 冬瓜 | M35: 4 | N35: =IF(M35,"公斤","") -> 公斤 | O35: 胡蘿蔔 | P35: 0.5 | Q35: =IF(P35,"公斤","") -> 公斤 | R35: 薑 | S35: 0.05 | T35: =IF(S35,"公斤","") -> 公斤 | U35: 脆筍 | V35: 1 | W35: =IF(V35,"公斤","") -> 公斤 | Z35: =IF(Y35,"公斤","")
K36: =IF(J36,"公斤","") | L36: 乾香菇 | M36: 0.05 | N36: =IF(M36,"公斤","") -> 公斤 | O36: 薑 | P36: 0.05 | Q36: =IF(P36,"公斤","") -> 公斤 | T36: =IF(S36,"公斤","") | U36: 時蔬 | V36: 2 | W36: =IF(V36,"公斤","") -> 公斤 | Z36: =IF(Y36,"公斤","")
A37: 星期三 | K37: =IF(J37,"公斤","") | L37: 薑 | M37: 0.05 | N37: =IF(M37,"公斤","") -> 公斤 | Q37: =IF(P37,"公斤","") | T37: =IF(S37,"公斤","") | U37: 素肉羹 | V37: 1.5 | W37: =IF(V37,"公斤","") -> 公斤 | Z37: =IF(Y37,"公斤","")
K38: =IF(J38,"公斤","") | L38: 素肉燥 | N38: =IF(M38,"公斤","") | Q38: =IF(P38,"公斤","") | T38: =IF(S38,"公斤","") | U38: 乾木耳 | V38: 0.02 | W38: =IF(V38,"公斤","") -> 公斤 | Z38: =IF(Y38,"公斤","")
K39: =IF(J39,"公斤","") | N39: =IF(M39,"公斤","") | Q39: =IF(P39,"公斤","") | T39: =IF(S39,"公斤","") | W39: =IF(V39,"公斤","") | Z39: =IF(Y39,"公斤","")
A40: b4 | B40: 5.7 | C40: 2.6 | D40: 1.7 | E40: 3 | F40: 0 | G40: 0 | H40: 772 | I40: 糙米飯 | K40: =IF(J40,"公斤","") | L40: 沙茶百頁 | N40: =IF(M40,"公斤","") | O40: 豆包花椰 | Q40: =IF(P40,"公斤","") | R40: 時蔬 | T40: =IF(S40,"公斤","") | U40: 銀耳西米露 | W40: =IF(V40,"公斤","") | X40: 點心 | Z40: =IF(Y40,"公斤","") | AB40: =A40 -> b4 | AC40: =I41&" "&I42&" "&I43&" "&I44&" "&I45&" "&I46 -> 米 糙米 | AD40: =L41&" "&L42&" "&L43&" "&L44&" "&L45&" "&L46 -> 百頁豆腐 時蔬 胡蘿蔔 薑 素沙茶醬 | AE40: =O41&" "&O42&" "&O43&" "&O44&" "&O45&" "&O46 -> 豆包 冷凍花椰菜 薑 | AF40: =R41&" "&R42&" "&R43&" "&R44&" "&R45&" "&R46 -> 蔬菜 薑 | AG40: =U41&" "&U42&" "&U43&" "&U44&" "&U45&" "&U46 -> 乾銀耳 西谷米 紅砂糖 枸杞 | AH40: =X41&" "&X42&" "&X43&" "&X44&" "&X45&" "&X46 -> 點心 | AI40: =AA41&" "&AA42&" "&AA43&" "&AA44&" "&AA45&" "&AA46 | AJ40: =#REF!&" "&#REF!&" "&#REF!&" "&#REF!&" "&#REF!&" "&#REF! -> #REF!
I41: 米 | J41: 8 | K41: =IF(J41,"公斤","") -> 公斤 | L41: 百頁豆腐 | M41: 9 | N41: =IF(M41,"公斤","") -> 公斤 | O41: 豆包 | P41: 4 | Q41: =IF(P41,"公斤","") -> 公斤 | R41: 蔬菜 | S41: 7 | T41: =IF(S41,"公斤","") -> 公斤 | U41: 乾銀耳 | V41: 0.1 | W41: =IF(V41,"公斤","") -> 公斤 | X41: 點心 | Y41: 5 | Z41: =IF(Y41,"公斤","") -> 公斤
A42: 45344 | I42: 糙米 | J42: 2 | K42: =IF(J42,"公斤","") -> 公斤 | L42: 時蔬 | M42: 3 | N42: =IF(M42,"公斤","") -> 公斤 | O42: 冷凍花椰菜 | P42: 6 | Q42: =IF(P42,"公斤","") -> 公斤 | R42: 薑 | S42: 0.05 | T42: =IF(S42,"公斤","") -> 公斤 | U42: 西谷米 | V42: 1 | W42: =IF(V42,"公斤","") -> 公斤 | Z42: =IF(Y42,"公斤","")
K43: =IF(J43,"公斤","") | L43: 胡蘿蔔 | M43: 0.5 | N43: =IF(M43,"公斤","") -> 公斤 | O43: 薑 | P43: 0.05 | Q43: =IF(P43,"公斤","") -> 公斤 | T43: =IF(S43,"公斤","") | U43: 紅砂糖 | V43: 1 | W43: =IF(V43,"公斤","") -> 公斤 | Z43: =IF(Y43,"公斤","")
A44: 星期四 | K44: =IF(J44,"公斤","") | L44: 薑 | M44: 0.05 | N44: =IF(M44,"公斤","") -> 公斤 | Q44: =IF(P44,"公斤","") | T44: =IF(S44,"公斤","") | U44: 枸杞 | W44: =IF(V44,"公斤","") | Z44: =IF(Y44,"公斤","")
K45: =IF(J45,"公斤","") | L45: 素沙茶醬 | N45: =IF(M45,"公斤","") | Q45: =IF(P45,"公斤","") | T45: =IF(S45,"公斤","") | W45: =IF(V45,"公斤","") | Z45: =IF(Y45,"公斤","")
K46: =IF(J46,"公斤","") | N46: =IF(M46,"公斤","") | Q46: =IF(P46,"公斤","") | T46: =IF(S46,"公斤","") | W46: =IF(V46,"公斤","") | Z46: =IF(Y46,"公斤","")
A47: b5 | B47: 5.7 | C47: 3.1 | D47: 1.4 | E47: 3 | F47: 0 | G47: 0 | H47: 802 | I47: 小米飯 | K47: =IF(J47,"公斤","") | L47: 京醬麵腸 | N47: =IF(M47,"公斤","") | O47: 塔香豆腐 | Q47: =IF(P47,"公斤","") | R47: 時蔬 | T47: =IF(S47,"公斤","") | U47: 冬瓜湯 | W47: =IF(V47,"公斤","") | X47: 點心 | Z47: =IF(Y47,"公斤","") | AA47: 有雞豆奶 | AB47: =A47 -> b5 | AC47: =I48&" "&I49&" "&I50&" "&I51&" "&I52&" "&I53 -> 米 小米 糙米 | AD47: =L48&" "&L49&" "&L50&" "&L51&" "&L52&" "&L53 -> 麵腸 豆薯 薑 甜麵醬 | AE47: =O48&" "&O49&" "&O50&" "&O51&" "&O52&" "&O53 -> 豆腐 杏鮑菇 胡蘿蔔 九層塔 薑 | AF47: =R48&" "&R49&" "&R50&" "&R51&" "&R52&" "&R53 -> 蔬菜 薑 | AG47: =U48&" "&U49&" "&U50&" "&U51&" "&U52&" "&U53 -> 冬瓜 素羊肉 薑 | AH47: =X48&" "&X49&" "&X50&" "&X51&" "&X52&" "&X53 -> 點心 | AI47: =AA48&" "&AA49&" "&AA50&" "&AA51&" "&AA52&" "&AA53 | AJ47: =#REF!&" "&#REF!&" "&#REF!&" "&#REF!&" "&#REF!&" "&#REF! -> #REF!
I48: 米 | J48: 8 | K48: =IF(J48,"公斤","") -> 公斤 | L48: 麵腸 | M48: 8 | N48: =IF(M48,"公斤","") -> 公斤 | O48: 豆腐 | P48: 6.5 | Q48: =IF(P48,"公斤","") -> 公斤 | R48: 蔬菜 | S48: 7 | T48: =IF(S48,"公斤","") -> 公斤 | U48: 冬瓜 | V48: 4 | W48: =IF(V48,"公斤","") -> 公斤 | X48: 點心 | Y48: 5 | Z48: =IF(Y48,"公斤","") -> 公斤
A49: 45345 | I49: 小米 | J49: 0.4 | K49: =IF(J49,"公斤","") -> 公斤 | L49: 豆薯 | M49: 2.5 | N49: =IF(M49,"公斤","") -> 公斤 | O49: 杏鮑菇 | P49: 1 | Q49: =IF(P49,"公斤","") -> 公斤 | R49: 薑 | S49: 0.05 | T49: =IF(S49,"公斤","") -> 公斤 | U49: 素羊肉 | V49: 1 | W49: =IF(V49,"公斤","") -> 公斤 | Z49: =IF(Y49,"公斤","")
I50: 糙米 | J50: 2 | K50: =IF(J50,"公斤","") -> 公斤 | L50: 薑 | M50: 0.05 | N50: =IF(M50,"公斤","") -> 公斤 | O50: 胡蘿蔔 | P50: 0.5 | Q50: =IF(P50,"公斤","") -> 公斤 | T50: =IF(S50,"公斤","") | U50: 薑 | V50: 0.05 | W50: =IF(V50,"公斤","") -> 公斤 | Z50: =IF(Y50,"公斤","")
A51: 星期五 | K51: =IF(J51,"公斤","") | L51: 甜麵醬 | N51: =IF(M51,"公斤","") | O51: 九層塔 | P51: 0.1 | Q51: =IF(P51,"公斤","") -> 公斤 | T51: =IF(S51,"公斤","") | W51: =IF(V51,"公斤","") | Z51: =IF(Y51,"公斤","")
K52: =IF(J52,"公斤","") | N52: =IF(M52,"公斤","") | O52: 薑 | P52: 0.05 | Q52: =IF(P52,"公斤","") -> 公斤 | T52: =IF(S52,"公斤","") | W52: =IF(V52,"公斤","") | Z52: =IF(Y52,"公斤","")
K53: =IF(J53,"公斤","") | N53: =IF(M53,"公斤","") | Q53: =IF(P53,"公斤","") | T53: =IF(S53,"公斤","") | W53: =IF(V53,"公斤","") | Z53: =IF(Y53,"公斤","")
A54: c1 | B54: 5.2 | C54: 2.4 | D54: 2 | E54: 3 | F54: 0 | G54: 0 | H54: 729 | I54: 白米飯 | K54: =IF(J54,"公斤","") | L54: 醬醋豆干 | N54: =IF(M54,"公斤","") | O54: 蛋香玉菜 | Q54: =IF(P54,"公斤","") | R54: 時蔬 | T54: =IF(S54,"公斤","") | U54: 羅宋湯 | W54: =IF(V54,"公斤","") | X54: 點心 | Z54: =IF(Y54,"公斤","") | AB54: =A54 -> c1 | AC54: =I55&" "&I56&" "&I57&" "&I58&" "&I59&" "&I60 -> 米 | AD54: =L55&" "&L56&" "&L57&" "&L58&" "&L59&" "&L60 -> 豆干 白蘿蔔 胡蘿蔔 薑 月桂葉 滷包 | AE54: =O55&" "&O56&" "&O57&" "&O58&" "&O59&" "&O60 -> 雞蛋 甘藍 薑 | AF54: =R55&" "&R56&" "&R57&" "&R58&" "&R59&" "&R60 -> 蔬菜 薑 | AG54: =U55&" "&U56&" "&U57&" "&U58&" "&U59&" "&U60 -> 大番茄 馬鈴薯 凍豆腐 薑 | AH54: =X55&" "&X56&" "&X57&" "&X58&" "&X59&" "&X60 -> 點心 | AI54: =AA55&" "&AA56&" "&AA57&" "&AA58&" "&AA59&" "&AA60 | AJ54: =#REF!&" "&#REF!&" "&#REF!&" "&#REF!&" "&#REF!&" "&#REF! -> #REF!
I55: 米 | J55: 10 | K55: =IF(J55,"公斤","") -> 公斤 | L55: 豆干 | M55: 10 | N55: =IF(M55,"公斤","") -> 公斤 | O55: 雞蛋 | P55: 2.7 | Q55: =IF(P55,"公斤","") -> 公斤 | R55: 蔬菜 | S55: 7 | T55: =IF(S55,"公斤","") -> 公斤 | U55: 大番茄 | V55: 2 | W55: =IF(V55,"公斤","") -> 公斤 | X55: 點心 | Y55: 5 | Z55: =IF(Y55,"公斤","") -> 公斤
A56: 45348 | K56: =IF(J56,"公斤","") | L56: 白蘿蔔 | M56: 2 | N56: =IF(M56,"公斤","") -> 公斤 | O56: 甘藍 | P56: 8 | Q56: =IF(P56,"公斤","") -> 公斤 | R56: 薑 | S56: 0.05 | T56: =IF(S56,"公斤","") -> 公斤 | U56: 馬鈴薯 | V56: 2 | W56: =IF(V56,"公斤","") -> 公斤 | Z56: =IF(Y56,"公斤","")
K57: =IF(J57,"公斤","") | L57: 胡蘿蔔 | M57: 0.5 | N57: =IF(M57,"公斤","") -> 公斤 | O57: 薑 | P57: 0.05 | Q57: =IF(P57,"公斤","") -> 公斤 | T57: =IF(S57,"公斤","") | U57: 凍豆腐 | V57: 4 | W57: =IF(V57,"公斤","") -> 公斤 | Z57: =IF(Y57,"公斤","")
A58: 星期一 | K58: =IF(J58,"公斤","") | L58: 薑 | M58: 0.05 | N58: =IF(M58,"公斤","") -> 公斤 | Q58: =IF(P58,"公斤","") | T58: =IF(S58,"公斤","") | U58: 薑 | V58: 0.05 | W58: =IF(V58,"公斤","") -> 公斤 | Z58: =IF(Y58,"公斤","")
K59: =IF(J59,"公斤","") | L59: 月桂葉 | N59: =IF(M59,"公斤","") | Q59: =IF(P59,"公斤","") | T59: =IF(S59,"公斤","") | W59: =IF(V59,"公斤","") | Z59: =IF(Y59,"公斤","")
K60: =IF(J60,"公斤","") | L60: 滷包 | N60: =IF(M60,"公斤","") | Q60: =IF(P60,"公斤","") | T60: =IF(S60,"公斤","") | W60: =IF(V60,"公斤","") | Z60: =IF(Y60,"公斤","")
A61: c2 | B61: 5.1 | C61: 2.8 | D61: 1.6 | E61: 3 | F61: 0 | G61: 0 | H61: 742 | I61: 糙米飯 | K61: =IF(J61,"公斤","") | L61: 栗子麵腸 | N61: =IF(M61,"公斤","") | O61: 鮮燴時蔬 | Q61: =IF(P61,"公斤","") | R61: 時蔬 | T61: =IF(S61,"公斤","") | U61: 時蔬湯 | W61: =IF(V61,"公斤","") | X61: 點心 | Z61: =IF(Y61,"公斤","") | AB61: =A61 -> c2 | AC61: =I62&" "&I63&" "&I64&" "&I65&" "&I66&" "&I67 -> 米 糙米 | AD61: =L62&" "&L63&" "&L64&" "&L65&" "&L66&" "&L67 -> 麵腸 時瓜 栗子(生) 薑 | AE61: =O62&" "&O63&" "&O64&" "&O65&" "&O66&" "&O67 -> 冷凍玉米筍 鵪鶉水煮蛋 時蔬 豆干 薑 | AF61: =R62&" "&R63&" "&R64&" "&R65&" "&R66&" "&R67 -> 蔬菜 薑 | AG61: =U62&" "&U63&" "&U64&" "&U65&" "&U66&" "&U67 -> 時蔬 素羊肉 薑 | AH61: =X62&" "&X63&" "&X64&" "&X65&" "&X66&" "&X67 -> 點心 | AI61: =AA62&" "&AA63&" "&AA64&" "&AA65&" "&AA66&" "&AA67 | AJ61: =#REF!&" "&#REF!&" "&#REF!&" "&#REF!&" "&#REF!&" "&#REF! -> #REF!
I62: 米 | J62: 8 | K62: =IF(J62,"公斤","") -> 公斤 | L62: 麵腸 | M62: 8 | N62: =IF(M62,"公斤","") -> 公斤 | O62: 冷凍玉米筍 | P62: 1 | Q62: =IF(P62,"公斤","") -> 公斤 | R62: 蔬菜 | S62: 7 | T62: =IF(S62,"公斤","") -> 公斤 | U62: 時蔬 | V62: 2 | W62: =IF(V62,"公斤","") -> 公斤 | X62: 點心 | Y62: 5 | Z62: =IF(Y62,"公斤","") -> 公斤
A63: 45349 | I63: 糙米 | J63: 2 | K63: =IF(J63,"公斤","") -> 公斤 | L63: 時瓜 | M63: 2 | N63: =IF(M63,"公斤","") -> 公斤 | O63: 鵪鶉水煮蛋 | P63: 1.5 | Q63: =IF(P63,"公斤","") -> 公斤 | R63: 薑 | S63: 0.05 | T63: =IF(S63,"公斤","") -> 公斤 | U63: 素羊肉 | V63: 1 | W63: =IF(V63,"公斤","") -> 公斤 | Z63: =IF(Y63,"公斤","")
K64: =IF(J64,"公斤","") | L64: 栗子(生) | M64: 0.1 | N64: =IF(M64,"公斤","") -> 公斤 | O64: 時蔬 | P64: 3 | Q64: =IF(P64,"公斤","") -> 公斤 | T64: =IF(S64,"公斤","") | U64: 薑 | V64: 0.05 | W64: =IF(V64,"公斤","") -> 公斤 | Z64: =IF(Y64,"公斤","")
A65: 星期二 | K65: =IF(J65,"公斤","") | L65: 薑 | M65: 0.05 | N65: =IF(M65,"公斤","") -> 公斤 | O65: 豆干 | P65: 2 | Q65: =IF(P65,"公斤","") -> 公斤 | T65: =IF(S65,"公斤","") | W65: =IF(V65,"公斤","") | Z65: =IF(Y65,"公斤","")
K66: =IF(J66,"公斤","") | N66: =IF(M66,"公斤","") | O66: 薑 | P66: 0.05 | Q66: =IF(P66,"公斤","") -> 公斤 | T66: =IF(S66,"公斤","") | W66: =IF(V66,"公斤","") | Z66: =IF(Y66,"公斤","")
K67: =IF(J67,"公斤","") | N67: =IF(M67,"公斤","") | Q67: =IF(P67,"公斤","") | T67: =IF(S67,"公斤","") | W67: =IF(V67,"公斤","") | Z67: =IF(Y67,"公斤","")
A68: c4 | B68: 6.1 | C68: 2.9 | D68: 1.3 | E68: 3 | F68: 0 | G68: 0 | H68: 812 | I68: 糙米飯 | K68: =IF(J68,"公斤","") | L68: 紅麴素排 | N68: =IF(M68,"公斤","") | O68: 藜麥毛豆 | Q68: =IF(P68,"公斤","") | R68: 時蔬 | T68: =IF(S68,"公斤","") | U68: 綠豆薏仁甜湯 | W68: =IF(V68,"公斤","") | X68: 點心 | Z68: =IF(Y68,"公斤","") | AB68: =A68 -> c4 | AC68: =I69&" "&I70&" "&I71&" "&I72&" "&I73&" "&I74 -> 米 糙米 | AD68: =L69&" "&L70&" "&L71&" "&L72&" "&L73&" "&L74 -> 素排 | AE68: =O69&" "&O70&" "&O71&" "&O72&" "&O73&" "&O74 -> 冷凍毛豆仁 時瓜 豆干 甜椒 紅藜 薑 | AF68: =R69&" "&R70&" "&R71&" "&R72&" "&R73&" "&R74 -> 蔬菜 薑 | AG68: =U69&" "&U70&" "&U71&" "&U72&" "&U73&" "&U74 -> 小薏仁 紅砂糖 綠豆 | AH68: =X69&" "&X70&" "&X71&" "&X72&" "&X73&" "&X74 -> 點心 | AI68: =AA69&" "&AA70&" "&AA71&" "&AA72&" "&AA73&" "&AA74 | AJ68: =#REF!&" "&#REF!&" "&#REF!&" "&#REF!&" "&#REF!&" "&#REF! -> #REF!
I69: 米 | J69: 8 | K69: =IF(J69,"公斤","") -> 公斤 | L69: 素排 | M69: 6 | N69: =IF(M69,"公斤","") -> 公斤 | O69: 冷凍毛豆仁 | P69: 2 | Q69: =IF(P69,"公斤","") -> 公斤 | R69: 蔬菜 | S69: 7 | T69: =IF(S69,"公斤","") -> 公斤 | U69: 小薏仁 | V69: 0.5 | W69: =IF(V69,"公斤","") -> 公斤 | X69: 點心 | Y69: 5 | Z69: =IF(Y69,"公斤","") -> 公斤
A70: 45351 | I70: 糙米 | J70: 2 | K70: =IF(J70,"公斤","") -> 公斤 | N70: =IF(M70,"公斤","") | O70: 時瓜 | P70: 4 | Q70: =IF(P70,"公斤","") -> 公斤 | R70: 薑 | S70: 0.05 | T70: =IF(S70,"公斤","") -> 公斤 | U70: 紅砂糖 | V70: 1 | W70: =IF(V70,"公斤","") -> 公斤 | Z70: =IF(Y70,"公斤","")
K71: =IF(J71,"公斤","") | N71: =IF(M71,"公斤","") | O71: 豆干 | P71: 1 | Q71: =IF(P71,"公斤","") -> 公斤 | T71: =IF(S71,"公斤","") | U71: 綠豆 | V71: 2 | W71: =IF(V71,"公斤","") -> 公斤 | Z71: =IF(Y71,"公斤","")
A72: 星期四 | K72: =IF(J72,"公斤","") | N72: =IF(M72,"公斤","") | O72: 甜椒 | P72: 2 | Q72: =IF(P72,"公斤","") -> 公斤 | T72: =IF(S72,"公斤","") | W72: =IF(V72,"公斤","") | Z72: =IF(Y72,"公斤","")
K73: =IF(J73,"公斤","") | N73: =IF(M73,"公斤","") | O73: 紅藜 | P73: 0.15 | Q73: =IF(P73,"公斤","") -> 公斤 | T73: =IF(S73,"公斤","") | W73: =IF(V73,"公斤","") | Z73: =IF(Y73,"公斤","")
K74: =IF(J74,"公斤","") | N74: =IF(M74,"公斤","") | O74: 薑 | P74: 0.05 | Q74: =IF(P74,"公斤","") -> 公斤 | T74: =IF(S74,"公斤","") | W74: =IF(V74,"公斤","") | Z74: =IF(Y74,"公斤","")
A75: 過敏警語:「本月產品含有蛋、芝麻、含麩之穀物、花生、大豆、魚類、亞硫酸鹽類及其相關製品，不適合其過敏體質者食用」
A76: 說明:2月份菜單編排說明如下:一、
A77: 一、星期三、四為有機蔬菜，(新城國小、秀林國小、富士國小、崇德國小、秀林國中)。

Sheet 偏鄉計劃學校(素)國小月總表
A1: 112學年度下學期國民小學2月份素食菜單(偏鄉計劃學校)-------華王御膳
A2: 日期 | B2: 循環 | C2: 主食 | D2: 主食明細 | E2: 主菜 | F2: 主菜明細 | G2: 副菜一 | H2: 副菜一明細 | I2: 蔬菜 | J2: 蔬菜明細 | K2: 湯品 | L2: 湯品明細 | M2: 附餐點心 | N2: 附餐點心 | O2: 穀/份 | P2: 豆/份 | Q2: 蔬/份 | R2: 油/份 | S2: 乳/份 | T2: 果/份 | U2: 熱量
A3: 45338 | B3: ='偏鄉計劃學校(素)國小'!A5 -> a4 | C3: ='偏鄉計劃學校(素)國小'!I5 -> 白米飯 | D3: ='偏鄉計劃學校(素)國小'!AC5 -> 米 | E3: ='偏鄉計劃學校(素)國小'!L5 -> 紅燒豆包 | F3: ='偏鄉計劃學校(素)國小'!AD5 -> 豆包 滷包 | G3: ='偏鄉計劃學校(素)國小'!O5 -> 麻婆豆腐 | H3: ='偏鄉計劃學校(素)國小'!AE5 -> 豆腐 三色豆 時瓜 薑 豆瓣醬 | I3: ='偏鄉計劃學校(素)國小'!R5 -> 時蔬 | J3: ='偏鄉計劃學校(素)國小'!AF5 -> 蔬菜 薑 | K3: ='偏鄉計劃學校(素)國小'!U5 -> 時蔬湯 | L3: ='偏鄉計劃學校(素)國小'!AG5 -> 時蔬 素羊肉 薑 | M3: ='偏鄉計劃學校(素)國小'!AH5 -> 點心 | N3: ='偏鄉計劃學校(素)國小'!AI5 | O3: ='偏鄉計劃學校(素)國小'!B5 -> 5 | P3: ='偏鄉計劃學校(素)國小'!C5 -> 2.8 | Q3: ='偏鄉計劃學校(素)國小'!D5 -> 1.5 | R3: ='偏鄉計劃學校(素)國小'!E5 -> 3 | S3: ='偏鄉計劃學校(素)國小'!F5 -> 0 | T3: ='偏鄉計劃學校(素)國小'!G5 -> 0 | U3: ='偏鄉計劃學校(素)國小'!H5 -> 753
A4: 45339 | B4: ='偏鄉計劃學校(素)國小'!A12 -> a5 | C4: ='偏鄉計劃學校(素)國小'!I12 -> 糙米飯 | D4: ='偏鄉計劃學校(素)國小'!AC12 -> 米 糙米 | E4: ='偏鄉計劃學校(素)國小'!L12 -> 咖哩麵腸 | F4: ='偏鄉計劃學校(素)國小'!AD12 -> 麵腸 芹菜 胡蘿蔔 馬鈴薯 咖哩粉 | G4: ='偏鄉計劃學校(素)國小'!O12 -> 螞蟻上樹 | H4: ='偏鄉計劃學校(素)國小'!AE12 -> 素肉 冬粉 時蔬 乾木耳 薑 | I4: ='偏鄉計劃學校(素)國小'!R12 -> 時蔬 | J4: ='偏鄉計劃學校(素)國小'!AF12 -> 蔬菜 薑 | K4: ='偏鄉計劃學校(素)國小'!U12 -> 蘿蔔蔬菜丸子湯 | L4: ='偏鄉計劃學校(素)國小'!AG12 -> 蔬菜丸子 白蘿蔔 薑 | M4: ='偏鄉計劃學校(素)國小'!AH12 -> 點心 | N4: ='偏鄉計劃學校(素)國小'!AI12 | O4: ='偏鄉計劃學校(素)國小'!B12 -> 5.5 | P4: ='偏鄉計劃學校(素)國小'!C12 -> 2.7 | Q4: ='偏鄉計劃學校(素)國小'!D12 -> 1.8 | R4: ='偏鄉計劃學校(素)國小'!E12 -> 3 | S4: ='偏鄉計劃學校(素)國小'!F12 -> 0 | T4: ='偏鄉計劃學校(素)國小'!G12 -> 0 | U4: ='偏鄉計劃學校(素)國小'!H12 -> 768
A5: 45341 | B5: ='偏鄉計劃學校(素)國小'!A19 -> b1 | C5: ='偏鄉計劃學校(素)國小'!I19 -> 白米飯 | D5: ='偏鄉計劃學校(素)國小'!AC19 -> 米 | E5: ='偏鄉計劃學校(素)國小'!L19 -> 回鍋豆干 | F5: ='偏鄉計劃學校(素)國小'!AD19 -> 豆干 時蔬 胡蘿蔔 薑 甜麵醬 | G5: ='偏鄉計劃學校(素)國小'!O19 -> 西滷白菜 | H5: ='偏鄉計劃學校(素)國小'!AE19 -> 雞蛋 結球白菜 胡蘿蔔 薑 | I5: ='偏鄉計劃學校(素)國小'!R19 -> 時蔬 | J5: ='偏鄉計劃學校(素)國小'!AF19 -> 蔬菜 薑 | K5: ='偏鄉計劃學校(素)國小'!U19 -> 牛蒡湯 | L5: ='偏鄉計劃學校(素)國小'!AG19 -> 牛蒡 豆腐 薑 枸杞 | M5: ='偏鄉計劃學校(素)國小'!AH19 -> 點心 | N5: ='偏鄉計劃學校(素)國小'!AI19 | O5: ='偏鄉計劃學校(素)國小'!B19 -> 5 | P5: ='偏鄉計劃學校(素)國小'!C19 -> 2.3 | Q5: ='偏鄉計劃學校(素)國小'!D19 -> 1.6 | R5: ='偏鄉計劃學校(素)國小'!E19 -> 3 | S5: ='偏鄉計劃學校(素)國小'!F19 -> 0 | T5: ='偏鄉計劃學校(素)國小'!G19 -> 0 | U5: ='偏鄉計劃學校(素)國小'!H19 -> 698
A6: 45342 | B6: ='偏鄉計劃學校(素)國小'!A26 -> b2 | C6: ='偏鄉計劃學校(素)國小'!I26 -> 糙米飯 | D6: ='偏鄉計劃學校(素)國小'!AC26 -> 米 糙米 | E6: ='偏鄉計劃學校(素)國小'!L26 -> 紅麴素排 | F6: ='偏鄉計劃學校(素)國小'!AD26 -> 素排 | G6: ='偏鄉計劃學校(素)國小'!O26 -> 玉米三色 | H6: ='偏鄉計劃學校(素)國小'!AE26 -> 甜椒(青皮) 冷凍玉米粒 馬鈴薯 胡蘿蔔 素培根 薑 | I6: ='偏鄉計劃學校(素)國小'!R26 -> 時蔬 | J6: ='偏鄉計劃學校(素)國小'!AF26 -> 蔬菜 薑 | K6: ='偏鄉計劃學校(素)國小'!U26 -> 味噌海芽湯 | L6: ='偏鄉計劃學校(素)國小'!AG26 -> 乾裙帶菜 時蔬 味噌 薑 | M6: ='偏鄉計劃學校(素)國小'!AH26 -> 點心 | N6: ='偏鄉計劃學校(素)國小'!AI26 | O6: ='偏鄉計劃學校(素)國小'!B26 -> 5 | P6: ='偏鄉計劃學校(素)國小'!C26 -> 2.8 | Q6: ='偏鄉計劃學校(素)國小'!D26 -> 1.8 | R6: ='偏鄉計劃學校(素)國小'!E26 -> 3 | S6: ='偏鄉計劃學校(素)國小'!F26 -> 0 | T6: ='偏鄉計劃學校(素)國小'!G26 -> 0 | U6: ='偏鄉計劃學校(素)國小'!H26 -> 740
A7: 45343 | B7: ='偏鄉計劃學校(素)國小'!A33 -> b3 | C7: ='偏鄉計劃學校(素)國小'!I33 -> 拌麵特餐 | D7: ='偏鄉計劃學校(素)國小'!AC33 -> 麵條 | E7: ='偏鄉計劃學校(素)國小'!L33 -> 香菇若燥 | F7: ='偏鄉計劃學校(素)國小'!AD33 -> 豆包 冬瓜 乾香菇 薑 素肉燥 | G7: ='偏鄉計劃學校(素)國小'!O33 -> 拌麵配料 | H7: ='偏鄉計劃學校(素)國小'!AE33 -> 甘藍 胡蘿蔔 薑 | I7: ='偏鄉計劃學校(素)國小'!R33 -> 時蔬 | J7: ='偏鄉計劃學校(素)國小'!AF33 -> 蔬菜 薑 | K7: ='偏鄉計劃學校(素)國小'!U33 -> 素肉羹湯 | L7: ='偏鄉計劃學校(素)國小'!AG33 -> 雞蛋 脆筍 時蔬 素肉羹 乾木耳 | M7: ='偏鄉計劃學校(素)國小'!AH33 -> 點心 | N7: ='偏鄉計劃學校(素)國小'!AI33 | O7: ='偏鄉計劃學校(素)國小'!B33 -> 5 | P7: ='偏鄉計劃學校(素)國小'!C33 -> 2.8 | Q7: ='偏鄉計劃學校(素)國小'!D33 -> 2 | R7: ='偏鄉計劃學校(素)國小'!E33 -> 3 | S7: ='偏鄉計劃學校(素)國小'!F33 -> 0 | T7: ='偏鄉計劃學校(素)國小'!G33 -> 0 | U7: ='偏鄉計劃學校(素)國小'!H33 -> 745
A8: 45344 | B8: ='偏鄉計劃學校(素)國小'!A40 -> b4 | C8: ='偏鄉計劃學校(素)國小'!I40 -> 糙米飯 | D8: ='偏鄉計劃學校(素)國小'!AC40 -> 米 糙米 | E8: ='偏鄉計劃學校(素)國小'!L40 -> 沙茶百頁 | F8: ='偏鄉計劃學校(素)國小'!AD40 -> 百頁豆腐 時蔬 胡蘿蔔 薑 素沙茶醬 | G8: ='偏鄉計劃學校(素)國小'!O40 -> 豆包花椰 | H8: ='偏鄉計劃學校(素)國小'!AE40 -> 豆包 冷凍花椰菜 薑 | I8: ='偏鄉計劃學校(素)國小'!R40 -> 時蔬 | J8: ='偏鄉計劃學校(素)國小'!AF40 -> 蔬菜 薑 | K8: ='偏鄉計劃學校(素)國小'!U40 -> 銀耳西米露 | L8: ='偏鄉計劃學校(素)國小'!AG40 -> 乾銀耳 西谷米 紅砂糖 枸杞 | M8: ='偏鄉計劃學校(素)國小'!AH40 -> 點心 | N8: ='偏鄉計劃學校(素)國小'!AI40 | O8: ='偏鄉計劃學校(素)國小'!B40 -> 5.7 | P8: ='偏鄉計劃學校(素)國小'!C40 -> 2.6 | Q8: ='偏鄉計劃學校(素)國小'!D40 -> 1.7 | R8: ='偏鄉計劃學校(素)國小'!E40 -> 3 | S8: ='偏鄉計劃學校(素)國小'!F40 -> 0 | T8: ='偏鄉計劃學校(素)國小'!G40 -> 0 | U8: ='偏鄉計劃學校(素)國小'!H40 -> 772
A9: 45345 | B9: ='偏鄉計劃學校(素)國小'!A47 -> b5 | C9: ='偏鄉計劃學校(素)國小'!I47 -> 小米飯 | D9: ='偏鄉計劃學校(素)國小'!AC47 -> 米 小米 糙米 | E9: ='偏鄉計劃學校(素)國小'!L47 -> 京醬麵腸 | F9: ='偏鄉計劃學校(素)國小'!AD47 -> 麵腸 豆薯 薑 甜麵醬 | G9: ='偏鄉計劃學校(素)國小'!O47 -> 塔香豆腐 | H9: ='偏鄉計劃學校(素)國小'!AE47 -> 豆腐 杏鮑菇 胡蘿蔔 九層塔 薑 | I9: ='偏鄉計劃學校(素)國小'!R47 -> 時蔬 | J9: ='偏鄉計劃學校(素)國小'!AF47 -> 蔬菜 薑 | K9: ='偏鄉計劃學校(素)國小'!U47 -> 冬瓜湯 | L9: ='偏鄉計劃學校(素)國小'!AG47 -> 冬瓜 素羊肉 薑 | M9: ='偏鄉計劃學校(素)國小'!AH47 -> 點心 | N9: ='偏鄉計劃學校(素)國小'!AI47 | O9: ='偏鄉計劃學校(素)國小'!B47 -> 5.7 | P9: ='偏鄉計劃學校(素)國小'!C47 -> 3.1 | Q9: ='偏鄉計劃學校(素)國小'!D47 -> 1.4 | R9: ='偏鄉計劃學校(素)國小'!E47 -> 3 | S9: ='偏鄉計劃學校(素)國小'!F47 -> 0 | T9: ='偏鄉計劃學校(素)國小'!G47 -> 0 | U9: ='偏鄉計劃學校(素)國小'!H47 -> 802
A10: 45348 | B10: ='偏鄉計劃學校(素)國小'!A54 -> c1 | C10: ='偏鄉計劃學校(素)國小'!I54 -> 白米飯 | D10: ='偏鄉計劃學校(素)國小'!AC54 -> 米 | E10: ='偏鄉計劃學校(素)國小'!L54 -> 醬醋豆干 | F10: ='偏鄉計劃學校(素)國小'!AD54 -> 豆干 白蘿蔔 胡蘿蔔 薑 月桂葉 滷包 | G10: ='偏鄉計劃學校(素)國小'!O54 -> 蛋香玉菜 | H10: ='偏鄉計劃學校(素)國小'!AE54 -> 雞蛋 甘藍 薑 | I10: ='偏鄉計劃學校(素)國小'!R54 -> 時蔬 | J10: ='偏鄉計劃學校(素)國小'!AF54 -> 蔬菜 薑 | K10: ='偏鄉計劃學校(素)國小'!U54 -> 羅宋湯 | L10: ='偏鄉計劃學校(素)國小'!AG54 -> 大番茄 馬鈴薯 凍豆腐 薑 | M10: ='偏鄉計劃學校(素)國小'!AH54 -> 點心 | N10: ='偏鄉計劃學校(素)國小'!AI54 | O10: ='偏鄉計劃學校(素)國小'!B54 -> 5.2 | P10: ='偏鄉計劃學校(素)國小'!C54 -> 2.4 | Q10: ='偏鄉計劃學校(素)國小'!D54 -> 2 | R10: ='偏鄉計劃學校(素)國小'!E54 -> 3 | S10: ='偏鄉計劃學校(素)國小'!F54 -> 0 | T10: ='偏鄉計劃學校(素)國小'!G54 -> 0 | U10: ='偏鄉計劃學校(素)國小'!H54 -> 729
A11: 45349 | B11: ='偏鄉計劃學校(素)國小'!A61 -> c2 | C11: ='偏鄉計劃學校(素)國小'!I61 -> 糙米飯 | D11: ='偏鄉計劃學校(素)國小'!AC61 -> 米 糙米 | E11: ='偏鄉計劃學校(素)國小'!L61 -> 栗子麵腸 | F11: ='偏鄉計劃學校(素)國小'!AD61 -> 麵腸 時瓜 栗子(生) 薑 | G11: ='偏鄉計劃學校(素)國小'!O61 -> 鮮燴時蔬 | H11: ='偏鄉計劃學校(素)國小'!AE61 -> 冷凍玉米筍 鵪鶉水煮蛋 時蔬 豆干 薑 | I11: ='偏鄉計劃學校(素)國小'!R61 -> 時蔬 | J11: ='偏鄉計劃學校(素)國小'!AF61 -> 蔬菜 薑 | K11: ='偏鄉計劃學校(素)國小'!U61 -> 時蔬湯 | L11: ='偏鄉計劃學校(素)國小'!AG61 -> 時蔬 素羊肉 薑 | M11: ='偏鄉計劃學校(素)國小'!AH61 -> 點心 | N11: ='偏鄉計劃學校(素)國小'!AI61 | O11: ='偏鄉計劃學校(素)國小'!B61 -> 5.1 | P11: ='偏鄉計劃學校(素)國小'!C61 -> 2.8 | Q11: ='偏鄉計劃學校(素)國小'!D61 -> 1.6 | R11: ='偏鄉計劃學校(素)國小'!E61 -> 3 | S11: ='偏鄉計劃學校(素)國小'!F61 -> 0 | T11: ='偏鄉計劃學校(素)國小'!G61 -> 0 | U11: ='偏鄉計劃學校(素)國小'!H61 -> 742
A12: 45351 | B12: ='偏鄉計劃學校(素)國小'!A68 -> c4 | C12: ='偏鄉計劃學校(素)國小'!I68 -> 糙米飯 | D12: ='偏鄉計劃學校(素)國小'!AC68 -> 米 糙米 | E12: ='偏鄉計劃學校(素)國小'!L68 -> 紅麴素排 | F12: ='偏鄉計劃學校(素)國小'!AD68 -> 素排 | G12: ='偏鄉計劃學校(素)國小'!O68 -> 藜麥毛豆 | H12: ='偏鄉計劃學校(素)國小'!AE68 -> 冷凍毛豆仁 時瓜 豆干 甜椒 紅藜 薑 | I12: ='偏鄉計劃學校(素)國小'!R68 -> 時蔬 | J12: ='偏鄉計劃學校(素)國小'!AF68 -> 蔬菜 薑 | K12: ='偏鄉計劃學校(素)國小'!U68 -> 綠豆薏仁甜湯 | L12: ='偏鄉計劃學校(素)國小'!AG68 -> 小薏仁 紅砂糖 綠豆 | M12: ='偏鄉計劃學校(素)國小'!AH68 -> 點心 | N12: ='偏鄉計劃學校(素)國小'!AI68 | O12: ='偏鄉計劃學校(素)國小'!B68 -> 6.1 | P12: ='偏鄉計劃學校(素)國小'!C68 -> 2.9 | Q12: ='偏鄉計劃學校(素)國小'!D68 -> 1.3 | R12: ='偏鄉計劃學校(素)國小'!E68 -> 3 | S12: ='偏鄉計劃學校(素)國小'!F68 -> 0 | T12: ='偏鄉計劃學校(素)國小'!G68 -> 0 | U12: ='偏鄉計劃學校(素)國小'!H68 -> 812
B14: 過敏警語:「本月產品含有蛋、芝麻、含麩之穀物、花生、大豆、魚類、亞硫酸鹽類及其相關製品，不適合其過敏體質者食用」
