Workbook

Sheet 國中
D1: 112 | E1: 學年度 | F1: 國民 | G1: 中學 | H1: 2 | I1: 月葷食菜單-7案 | M1: 津吉-本店使用台灣豬肉
A2: 日期 | B2: 星期 | C2: 主食 | D2: 主食明細 | E2: 主菜 | F2: 主菜明細 | G2: 副菜一 | H2: 副菜一明細 | I2: 副菜二 | J2: 副菜二明細 | K2: 蔬菜 | L2: 蔬菜明細 | M2: 湯品 | N2: 湯品明細 | O2: 附餐一 | P2: 附餐二 | Q2: 穀/份 | R2: 豆/份 | S2: 蔬/份 | T2: 油/份 | U2: 乳/分 | V2: 果/份 | W2: 熱量
A3: 45338 | B3: =IF(A3="","",RIGHT(TEXT(WEEKDAY(A3),"[$-404]aaaa;@"),1)) -> 五 | C3: =C17 -> 白米飯 | D3: =C18&B19 -> 米 | E3: =E17 -> 金黃魚排 | F3: =E18 -> 魚排 | G3: =G17 -> 珍菇豆腐 | H3: =G18&G19&G20&G21&G22 -> 豆腐豬絞肉金針菇乾香菇大蒜 | I3: =I17 -> 田園花椰 | J3: =I18&I19&I20&I21&I22 -> 花椰菜胡蘿蔔大蒜 | K3: 時蔬 | L3: 蔬菜大蒜 | M3: =M17 -> 蛋花芽湯 | N3: =M18&M19&M20&M21&M22 -> 乾裙帶菜雞蛋薑 | O3: =O17 -> 水果 | P3: 有機豆漿 | Q3: 5 | R3: 2.5 | S3: 1.7 | T3: 2.8 | V3: 1 | W3: =Q3*70+R3*75+S3*25+T3*45+U3*120+V3*60 -> 766
A4: =IF(A3="","",IF(MONTH(A3)<>MONTH(A3+1),"",A3+1)) -> 45339 | B4: =IF(A4="","",RIGHT(TEXT(WEEKDAY(A4),"[$-404]aaaa;@"),1)) -> 六 | C4: =C23 -> 糙米飯 | D4: =C24&C25 -> 米糙米 | E4: =E23 -> 梅干絞肉 | F4: =E24&E25&E26 -> 豬絞肉梅干菜大蒜 | G4: =G23 -> 豆皮芽菜 | H4: =G24&G25&G26 -> 豆皮綠豆芽胡蘿蔔 | I4: =I23 -> 甜辣黑輪 | J4: =I24&I25&I26 -> 黑輪甜辣醬 | K4: 時蔬 | L4: 蔬菜大蒜 | M4: =M23 -> 枸杞銀耳 | N4: =M24&M25&M26 -> 乾銀耳枸杞紅砂糖 | O4: =O23 -> 果汁 | Q4: 5 | R4: 2.5 | S4: 1.8 | T4: 2.9 | W4: =Q4*70+R4*75+S4*25+T4*45+U4*120+V4*60 -> 713
A5: =IF(A4="","",IF(MONTH(A4)<>MONTH(A4+1),"",A4+2)) -> 45341 | B5: =IF(A5="","",RIGHT(TEXT(WEEKDAY(A5),"[$-404]aaaa;@"),1)) -> 一 | C5: =C29 -> 白米飯 | D5: =C30&B31 -> 米 | E5: =E29 -> 調味里雞 | F5: =E30 -> 香雞排 | G5: =G29 -> 麻婆豆腐 | H5: =G30&G31&G32&G33&G34 -> 豬絞肉豆腐胡蘿蔔大蒜豆瓣醬 | I5: =I29 -> 滷野菜天 | J5: =I30&I31&I32&I33&I34 -> 野菜天滷包 | K5: 時蔬 | L5: 蔬菜大蒜 | M5: =M29 -> 味噌芽湯 | N5: =M30&M31&M32&M33&M34 -> 乾裙帶菜味噌薑柴魚片 | O5: =O29 -> 果汁 | Q5: 5 | R5: 2.5 | S5: 1.6 | T5: 2.9 | W5: =Q5*70+R5*75+S5*25+T5*45+U5*120+V5*60 -> 708
A6: =IF(A5="","",IF(MONTH(A5)<>MONTH(A5+1),"",A5+1)) -> 45342 | B6: =IF(A6="","",RIGHT(TEXT(WEEKDAY(A6),"[$-404]aaaa;@"),1)) -> 二 | C6: =C35 -> 糙米飯 | D6: =C36&C37 -> 米糙米 | E6: =E35 -> 沙茶參鮮 | F6: =E36&E37&E38&E39&E40 -> 阿根廷魷虱目魚丸結球白菜沙茶醬大蒜 | G6: =G35 -> 肉絲豆芽 | H6: =G36&G37&G38&G39&G40 -> 豬後腿肉綠豆芽胡蘿蔔大蒜 | I6: =I35 -> 椒鹽薯餅 | J6: =I36&I37&I38&I39&I40 -> 薯餅胡椒鹽 | K6: 時蔬 | L6: 蔬菜大蒜 | M6: =M35 -> 好彩頭湯 | N6: =M36&M37&M38&M39&M40 -> 白蘿蔔胡蘿蔔薑豬骨 | O6: =O35 -> 水果 | P6: 有機豆漿 | Q6: 5 | R6: 2.5 | S6: 2 | T6: 2.7 | V6: 1 | W6: =Q6*70+R6*75+S6*25+T6*45+U6*120+V6*60 -> 769
A7: =IF(A6="","",IF(MONTH(A6)<>MONTH(A6+1),"",A6+1)) -> 45343 | B7: =IF(A7="","",RIGHT(TEXT(WEEKDAY(A7),"[$-404]aaaa;@"),1)) -> 三 | C7: =C41 -> 西式特餐 | D7: =C42&C43 -> 義大利麵 | E7: =E41 -> 西式肉醬 | F7: =E42&E43&E44&E45&E46 -> 豬絞肉馬鈴薯洋蔥蕃茄糊大蒜 | G7: =G41 -> 培根甘藍 | H7: =G42&G43&G44&G45&G46 -> 培根甘藍胡蘿蔔大蒜 | I7: =I41 -> 麥香雞塊 | J7: =I42&I43&I44&I45&I46 -> 雞塊 | K7: 時蔬 | L7: 蔬菜大蒜 | M7: =M41 -> 玉米濃湯 | N7: =M42&M43&M44&M45&M46 -> 雞蛋玉米粒罐頭玉米醬罐頭濃湯粉 | O7: =O41 -> 小餐包 | Q7: 4 | R7: 2.5 | S7: 2 | T7: 2.9 | W7: =Q7*70+R7*75+S7*25+T7*45+U7*120+V7*60 -> 648
A8: =IF(A7="","",IF(MONTH(A7)<>MONTH(A7+1),"",A7+1)) -> 45344 | B8: =IF(A8="","",RIGHT(TEXT(WEEKDAY(A8),"[$-404]aaaa;@"),1)) -> 四 | C8: =C47 -> 糙米飯 | D8: =C48&B49 -> 米 | E8: =E47 -> 醬瓜燒雞 | F8: =E48&E49&E50&E51&E52 -> 肉雞白蘿蔔胡蘿蔔醬瓜薑 | G8: =G47 -> 蛋香冬粉 | H8: =G48&G49&G50&G51&G52 -> 雞蛋冬粉時蔬乾木耳大蒜 | I8: =I47 -> 醬燒油腐 | J8: =I48&I49&I50&I51&I52 -> 油豆腐滷包大蒜 | K8: 時蔬 | L8: 蔬菜大蒜 | M8: =M47 -> 綠豆湯 | N8: =M48&M49&M50&M51&M52 -> 綠豆紅砂糖 | O8: =O47 -> TAP豆漿 | Q8: 5 | R8: 2.5 | S8: 1.7 | T8: 3 | W8: =Q8*70+R8*75+S8*25+T8*45+U8*120+V8*60 -> 715
A9: =IF(A8="","",IF(MONTH(A8)<>MONTH(A8+1),"",A8+1)) -> 45345 | B9: =IF(A9="","",RIGHT(TEXT(WEEKDAY(A9),"[$-404]aaaa;@"),1)) -> 五 | C9: =C53 -> 芝麻飯 | D9: =C54&C55 -> 米芝麻(熟) | E9: =E53 -> 泡菜肉片 | F9: =E54&E55&E56&E57 -> 豬後腿肉韓式泡菜胡蘿蔔大蒜 | G9: =G53 -> 昆布輪煮 | H9: =G54&G55&G56&G57 -> 黑輪乾海帶大蒜 | I9: =I53 -> 五香豆干 | J9: =I54&I55&I56&I57 -> 豆干滷包大蒜 | K9: 時蔬 | L9: 蔬菜大蒜 | M9: =M53 -> 鮮蔬湯 | N9: =M54&M55&M56&M57 -> 時蔬胡蘿蔔薑豬骨 | O9: =O53 -> 乳品 | Q9: 5 | R9: 2.5 | S9: 1.6 | T9: 2.9 | U9: 1 | W9: =Q9*70+R9*75+S9*25+T9*45+U9*120+V9*60 -> 828
A10: =IF(A9="","",IF(MONTH(A9)<>MONTH(A9+1),"",A9+3)) -> 45348 | B10: =IF(A10="","",RIGHT(TEXT(WEEKDAY(A10),"[$-404]aaaa;@"),1)) -> 一 | C10: =C59 -> 白米飯 | D10: =C60&B61 -> 米 | E10: =E59 -> 醬香雞翅 | F10: =E60&E61 -> 三節翅大蒜 | G10: =G59 -> 茄汁豆腐 | H10: =G60&G61&G62&G63&G64 -> 豬絞肉豆腐洋蔥大蒜番茄糊 | I10: =I59 -> 蛋香雙色 | J10: =I60&I61&I62&I63&I64 -> 雞蛋白蘿蔔胡蘿蔔大蒜 | K10: 時蔬 | L10: 蔬菜大蒜 | M10: =M59 -> 珍菇芽湯 | N10: =M60&M61&M62&M63&M64 -> 乾裙帶菜金針菇薑柴魚片 | O10: =O59 -> 果汁 | Q10: 5 | R10: 2.5 | S10: 1.6 | T10: 2.9 | W10: =Q10*70+R10*75+S10*25+T10*45+U10*120+V10*60 -> 708
A11: =IF(A10="","",IF(MONTH(A10)<>MONTH(A10+1),"",A10+1)) -> 45349 | B11: =IF(A11="","",RIGHT(TEXT(WEEKDAY(A11),"[$-404]aaaa;@"),1)) -> 二 | C11: =C65 -> 糙米飯 | D11: =C66&C67 -> 米糙米 | E11: =E65 -> 筍干滷肉 | F11: =E66&E67&E68&E69 -> 豬後腿肉麻竹筍干豆輪大蒜 | G11: =G65 -> 培根芽菜 | H11: =G66&G67&G68&G69 -> 培根綠豆芽胡蘿蔔大蒜 | I11: =I65 -> 滷野菜天 | J11: =I66&I67&I68&I69 -> 野菜天滷包大蒜 | K11: 時蔬 | L11: 蔬菜大蒜 | M11: =M65 -> 蕪菁湯 | N11: =M66&M67&M68&M69 -> 結頭菜胡蘿蔔薑豬骨 | O11: =O65 -> 乳品 | P11: 有機豆漿 | Q11: 5.1 | R11: 2.5 | S11: 1.8 | T11: 2.9 | V11: 1 | W11: =Q11*70+R11*75+S11*25+T11*45+U11*120+V11*60 -> 780
A12: =IF(A11="","",IF(MONTH(A11)<>MONTH(A11+1),"",A11+2)) -> 45351 | B12: =IF(A12="","",RIGHT(TEXT(WEEKDAY(A12),"[$-404]aaaa;@"),1)) -> 四 | C12: =C71 -> 糙米飯 | D12: =C72&C73 -> 米糙米 | E12: =E71 -> 豆瓣燒雞 | F12: =E72&E73&E74&E75 -> 肉雞海帶結大蒜豆瓣醬 | G12: =G71 -> 黑白雙滷 | H12: =G72&G73&G74&G75 -> 黑輪白蘿蔔胡蘿蔔大蒜 | I12: =I71 -> 蜜汁豆干 | J12: =I72&I73&I74&I75 -> 豆干滷包大蒜 | K12: 時蔬 | L12: 蔬菜大蒜 | M12: =M71 -> 燒仙草 | N12: =M72&M73&M74&M75 -> 仙草凍紅砂糖西谷米 | O12: =O71 -> TAP豆漿 | Q12: 5 | R12: 2.5 | S12: 2 | T12: 2.9 | W12: =Q12*70+R12*75+S12*25+T12*45+U12*120+V12*60 -> 718
A13: 過敏警語：「本月產品含有蛋、芝麻、含麩之穀物、花生、大豆、魚類、亞硫酸鹽類及其相關製品，不適合其過敏體質者食用」
A14: 月菜單編排說明:一、每周三五吃有機蔬菜。二每週一次附餐二有機豆漿
A15: 食材明細（食材重量以100人份計量，營養分析以個人計量,其中肉雞包含23%骨頭之採購量，每周供應特餐一次，當日得混搭供應，國中4菜1湯1附餐，國小3菜1湯1附餐）
A16: 循環 | B16: 日期 | C16: 主食 | D16: 重/公斤 | E16: 主菜 | F16: 重/公斤 | G16: 副菜一 | H16: 重/公斤 | I16: 副菜二 | J16: 重/公斤 | K16: 蔬菜 | L16: 重/公斤 | M16: 湯品 | N16: 重/公斤 | O16: 附餐一 | P16: 附餐二
A17: a5 | B17: =B3 -> 五 | C17: 白米飯 | E17: 金黃魚排 | G17: 珍菇豆腐 | I17: 田園花椰 | K17: 時蔬 | M17: 蛋花芽湯 | O17: 水果 | P17: 有機豆漿
B18: =A3 -> 45338 | C18: 米 | D18: 10 | E18: 魚排 | F18: 6.5 | G18: 豆腐 | H18: 5 | I18: 花椰菜 | J18: 8 | K18: 蔬菜 | L18: 7 | M18: 乾裙帶菜 | N18: 0.2
G19: 豬絞肉 | H19: 1 | I19: 胡蘿蔔 | J19: 1 | K19: 大蒜 | L19: 0.05 | M19: 雞蛋 | N19: 0.6
G20: 金針菇 | H20: 1 | I20: 大蒜 | J20: 0.05 | M20: 薑 | N20: 0.05
G21: 乾香菇 | H21: 0.01
G22: 大蒜 | H22: 0.5
A23: a4 | B23: =B4 -> 六 | C23: 糙米飯 | E23: 梅干絞肉 | G23: 豆皮芽菜 | I23: 甜辣黑輪 | K23: 時蔬 | M23: 枸杞銀耳 | O23: 果汁
B24: =A4 -> 45339 | C24: 米 | D24: 7 | E24: 豬絞肉 | F24: 7 | G24: 豆皮 | H24: 0.3 | I24: 黑輪 | J24: 4 | K24: 蔬菜 | L24: 7 | M24: 乾銀耳 | N24: 0.2
C25: 糙米 | D25: 3 | E25: 梅干菜 | F25: 3 | G25: 綠豆芽 | H25: 6 | I25: 甜辣醬 | K25: 大蒜 | L25: 0.05 | M25: 枸杞 | N25: 0.01
E26: 大蒜 | F26: 0.05 | G26: 胡蘿蔔 | H26: 0.5 | M26: 紅砂糖 | N26: 1
G27: 大蒜 | H27: 0.05
A29: b1 | B29: =B5 -> 一 | C29: 白米飯 | E29: 調味里雞 | G29: 麻婆豆腐 | I29: 滷野菜天 | K29: 時蔬 | M29: 味噌芽湯 | O29: 果汁
B30: =A5 -> 45341 | C30: 米 | D30: 10 | E30: 香雞排 | F30: 6 | G30: 豬絞肉 | H30: 1 | I30: 野菜天 | J30: 4 | K30: 蔬菜 | L30: 7 | M30: 乾裙帶菜 | N30: 0.2
G31: 豆腐 | H31: 5 | I31: 滷包 | K31: 大蒜 | L31: 0.05 | M31: 味噌 | N31: 0.1
G32: 胡蘿蔔 | H32: 0.5 | M32: 薑 | N32: 0.05
G33: 大蒜 | H33: 0.05 | M33: 柴魚片
G34: 豆瓣醬
A35: b2 | B35: =B6 -> 二 | C35: 糙米飯 | E35: 沙茶參鮮 | G35: 肉絲豆芽 | I35: 椒鹽薯餅 | K35: 時蔬 | M35: 好彩頭湯 | O35: 水果 | P35: 有機豆漿
B36: =A6 -> 45342 | C36: 米 | D36: 7 | E36: 阿根廷魷 | F36: 4 | G36: 豬後腿肉 | H36: 1 | I36: 薯餅 | J36: 4 | K36: 蔬菜 | L36: 7 | M36: 白蘿蔔 | N36: 3
C37: 糙米 | D37: 3 | E37: 虱目魚丸 | F37: 3 | G37: 綠豆芽 | H37: 6 | I37: 胡椒鹽 | K37: 大蒜 | L37: 0.05 | M37: 胡蘿蔔 | N37: 1
E38: 結球白菜 | F38: 4 | G38: 胡蘿蔔 | H38: 0.5 | M38: 薑 | N38: 0.05
E39: 沙茶醬 | F39: 0.01 | G39: 大蒜 | H39: 0.05 | M39: 豬骨 | N39: 1
E40: 大蒜 | F40: 0.05
A41: b3 | B41: =B7 -> 三 | C41: 西式特餐 | E41: 西式肉醬 | G41: 培根甘藍 | I41: 麥香雞塊 | K41: 時蔬 | M41: 玉米濃湯 | O41: 小餐包
...

Sheet 國小
D1: 112 | E1: 學年度 | F1: 國民 | G1: 小學 | H1: 2 | K1: 月葷食菜單-7案 | N1: 津吉-本店使用台灣豬肉
A2: 日期 | B2: 星期 | C2: 主食 | D2: 主食明細 | E2: 主菜 | F2: 主菜明細 | G2: 副菜一 | H2: 副菜一明細 | I2: 蔬菜 | J2: 蔬菜明細 | K2: 湯品 | L2: 湯品明細 | M2: 附餐一 | N2: 附餐二 | O2: 穀/份 | P2: 豆/份 | Q2: 蔬/份 | R2: 油/份 | S2: 乳/分 | T2: 果/份 | U2: 熱量
A3: 45338 | B3: =IF(A3="","",RIGHT(TEXT(WEEKDAY(A3),"[$-404]aaaa;@"),1)) -> 五 | C3: =C17 -> 白米飯 | D3: =C18&B19 -> 米 | E3: =E17 -> 金黃魚排 | F3: =E18 -> 魚排 | G3: =G17 -> 珍菇豆腐 | H3: =G18&G19&G20&G21&G22 -> 豆腐豬絞肉金針菇乾香菇大蒜 | I3: 時蔬 | J3: 蔬菜大蒜 | K3: =K17 -> 蛋花芽湯 | L3: =K18&K19&K20&K21&K22 -> 乾裙帶菜雞蛋薑 | M3: =M17 -> 水果 | N3: 有機豆漿 | O3: 5 | P3: 2.5 | Q3: 1.7 | R3: 2.8 | T3: 1 | U3: =O3*70+P3*75+Q3*25+R3*45+S3*120+T3*60 -> 766
A4: =IF(A3="","",IF(MONTH(A3)<>MONTH(A3+1),"",A3+1)) -> 45339 | B4: =IF(A4="","",RIGHT(TEXT(WEEKDAY(A4),"[$-404]aaaa;@"),1)) -> 六 | C4: =C23 -> 糙米飯 | D4: =C24&C25 -> 米糙米 | E4: =E23 -> 梅干絞肉 | F4: =E24&E25&E26 -> 豬絞肉梅干菜大蒜 | G4: =G23 -> 豆皮芽菜 | H4: =G24&G25&G26 -> 豆皮綠豆芽胡蘿蔔 | I4: 時蔬 | J4: 蔬菜大蒜 | K4: =K23 -> 枸杞銀耳 | L4: =K24&K25&K26 -> 乾銀耳枸杞紅砂糖 | M4: =M23 -> 果汁 | O4: 5 | P4: 2.5 | Q4: 1.8 | R4: 2.9 | U4: =O4*70+P4*75+Q4*25+R4*45+S4*120+T4*60 -> 713
A5: =IF(A4="","",IF(MONTH(A4)<>MONTH(A4+1),"",A4+2)) -> 45341 | B5: =IF(A5="","",RIGHT(TEXT(WEEKDAY(A5),"[$-404]aaaa;@"),1)) -> 一 | C5: =C29 -> 白米飯 | D5: =C30&B31 -> 米 | E5: =E29 -> 調味里雞 | F5: =E30 -> 香雞排 | G5: =G29 -> 麻婆豆腐 | H5: =G30&G31&G32&G33&G34 -> 豬絞肉豆腐胡蘿蔔大蒜豆瓣醬 | I5: 時蔬 | J5: 蔬菜大蒜 | K5: =K29 -> 味噌芽湯 | L5: =K30&K31&K32&K33&K34 -> 乾裙帶菜味噌薑柴魚片 | M5: =M29 -> 果汁 | O5: 5 | P5: 2.5 | Q5: 1.6 | R5: 2.9 | U5: =O5*70+P5*75+Q5*25+R5*45+S5*120+T5*60 -> 708
A6: =IF(A5="","",IF(MONTH(A5)<>MONTH(A5+1),"",A5+1)) -> 45342 | B6: =IF(A6="","",RIGHT(TEXT(WEEKDAY(A6),"[$-404]aaaa;@"),1)) -> 二 | C6: =C35 -> 糙米飯 | D6: =C36&C37 -> 米糙米 | E6: =E35 -> 沙茶參鮮 | F6: =E36&E37&E38&E39&E40 -> 阿根廷魷虱目魚丸結球白菜沙茶醬大蒜 | G6: =G35 -> 肉絲豆芽 | H6: =G36&G37&G38&G39&G40 -> 豬後腿肉綠豆芽胡蘿蔔大蒜 | I6: 時蔬 | J6: 蔬菜大蒜 | K6: =K35 -> 好彩頭湯 | L6: =K36&K37&K38&K39&K40 -> 白蘿蔔胡蘿蔔薑豬骨 | M6: =M35 -> 水果 | N6: 有機豆漿 | O6: 5 | P6: 2.5 | Q6: 2 | R6: 2.7 | T6: 1 | U6: =O6*70+P6*75+Q6*25+R6*45+S6*120+T6*60 -> 769
A7: =IF(A6="","",IF(MONTH(A6)<>MONTH(A6+1),"",A6+1)) -> 45343 | B7: =IF(A7="","",RIGHT(TEXT(WEEKDAY(A7),"[$-404]aaaa;@"),1)) -> 三 | C7: =C41 -> 西式特餐 | D7: =C42&C43 -> 義大利麵 | E7: =E41 -> 西式肉醬 | F7: =E42&E43&E44&E45&E46 -> 豬絞肉馬鈴薯洋蔥蕃茄糊大蒜 | G7: =G41 -> 培根甘藍 | H7: =G42&G43&G44&G45&G46 -> 培根甘藍胡蘿蔔大蒜 | I7: 時蔬 | J7: 蔬菜大蒜 | K7: =K41 -> 玉米濃湯 | L7: =K42&K43&K44&K45&K46 -> 雞蛋玉米粒罐頭玉米醬罐頭濃湯粉 | M7: =M41 -> 小餐包 | O7: 4 | P7: 2.5 | Q7: 2 | R7: 2.9 | U7: =O7*70+P7*75+Q7*25+R7*45+S7*120+T7*60 -> 648
A8: =IF(A7="","",IF(MONTH(A7)<>MONTH(A7+1),"",A7+1)) -> 45344 | B8: =IF(A8="","",RIGHT(TEXT(WEEKDAY(A8),"[$-404]aaaa;@"),1)) -> 四 | C8: =C47 -> 糙米飯 | D8: =C48&B49 -> 米 | E8: =E47 -> 醬瓜燒雞 | F8: =E48&E49&E50&E51&E52 -> 肉雞白蘿蔔胡蘿蔔醬瓜薑 | G8: =G47 -> 蛋香冬粉 | H8: =G48&G49&G50&G51&G52 -> 雞蛋冬粉時蔬乾木耳大蒜 | I8: 時蔬 | J8: 蔬菜大蒜 | K8: =K47 -> 綠豆湯 | L8: =K48&K49&K50&K51&K52 -> 綠豆紅砂糖 | M8: =M47 -> TAP豆漿 | O8: 5 | P8: 2.5 | Q8: 1.7 | R8: 3 | U8: =O8*70+P8*75+Q8*25+R8*45+S8*120+T8*60 -> 715
A9: =IF(A8="","",IF(MONTH(A8)<>MONTH(A8+1),"",A8+1)) -> 45345 | B9: =IF(A9="","",RIGHT(TEXT(WEEKDAY(A9),"[$-404]aaaa;@"),1)) -> 五 | C9: =C53 -> 芝麻飯 | D9: =C54&C55 -> 米芝麻(熟) | E9: =E53 -> 泡菜肉片 | F9: =E54&E55&E56&E57 -> 豬後腿肉韓式泡菜胡蘿蔔大蒜 | G9: =G53 -> 昆布輪煮 | H9: =G54&G55&G56&G57 -> 黑輪乾海帶大蒜 | I9: 時蔬 | J9: 蔬菜大蒜 | K9: =K53 -> 鮮蔬湯 | L9: =K54&K55&K56&K57 -> 時蔬胡蘿蔔豬骨薑 | M9: =M53 -> 乳品 | O9: 5 | P9: 2.5 | Q9: 1.6 | R9: 2.9 | S9: 1 | U9: =O9*70+P9*75+Q9*25+R9*45+S9*120+T9*60 -> 828
A10: =IF(A9="","",IF(MONTH(A9)<>MONTH(A9+1),"",A9+3)) -> 45348 | B10: =IF(A10="","",RIGHT(TEXT(WEEKDAY(A10),"[$-404]aaaa;@"),1)) -> 一 | C10: =C59 -> 白米飯 | D10: =C60&B61 -> 米 | E10: =E59 -> 醬香雞翅 | F10: =E60&E61 -> 三節翅大蒜 | G10: =G59 -> 茄汁豆腐 | H10: =G60&G61&G62&G63&G64 -> 豬絞肉豆腐洋蔥大蒜番茄糊 | I10: 時蔬 | J10: 蔬菜大蒜 | K10: =K59 -> 珍菇芽湯 | L10: =K60&K61&K62&K63&K64 -> 乾裙帶菜金針菇薑柴魚片 | M10: =M59 -> 果汁 | O10: 5 | P10: 2.5 | Q10: 1.6 | R10: 2.9 | U10: =O10*70+P10*75+Q10*25+R10*45+S10*120+T10*60 -> 708
A11: =IF(A10="","",IF(MONTH(A10)<>MONTH(A10+1),"",A10+1)) -> 45349 | B11: =IF(A11="","",RIGHT(TEXT(WEEKDAY(A11),"[$-404]aaaa;@"),1)) -> 二 | C11: =C65 -> 糙米飯 | D11: =C66&C67 -> 米糙米 | E11: =E65 -> 筍干滷肉 | F11: =E66&E67&E68&E69 -> 豬後腿肉麻竹筍干豆輪大蒜 | G11: =G65 -> 培根芽菜 | H11: =G66&G67&G68&G69 -> 培根綠豆芽胡蘿蔔大蒜 | I11: 時蔬 | J11: 蔬菜大蒜 | K11: =K65 -> 蕪菁湯 | L11: =K66&K67&K68&K69 -> 結頭菜胡蘿蔔薑豬骨 | M11: =M65 -> 乳品/水果 | N11: 有機豆漿 | O11: 5.1 | P11: 2.5 | Q11: 1.8 | R11: 2.9 | T11: 1 | U11: =O11*70+P11*75+Q11*25+R11*45+S11*120+T11*60 -> 780
A12: =IF(A11="","",IF(MONTH(A11)<>MONTH(A11+1),"",A11+2)) -> 45351 | B12: =IF(A12="","",RIGHT(TEXT(WEEKDAY(A12),"[$-404]aaaa;@"),1)) -> 四 | C12: =C71 -> 糙米飯 | D12: =C72&C73 -> 米糙米 | E12: =E71 -> 豆瓣燒雞 | F12: =E72&E73&E74&E75 -> 肉雞海帶結大蒜豆瓣醬 | G12: =G71 -> 黑白雙滷 | H12: =G72&G73&G74&G75 -> 黑輪白蘿蔔胡蘿蔔大蒜 | I12: 時蔬 | J12: 蔬菜大蒜 | K12: =K71 -> 燒仙草 | L12: =K72&K73&K74&K75 -> 仙草凍紅砂糖西谷米 | M12: =M71 -> TAP豆漿 | O12: 5 | P12: 2.5 | Q12: 2 | R12: 2.9 | U12: =O12*70+P12*75+Q12*25+R12*45+S12*120+T12*60 -> 718
A13: 過敏警語：「本月產品含有蛋、芝麻、含麩之穀物、花生、大豆、魚類、亞硫酸鹽類及其相關製品，不適合其過敏體質者食用」
A14: 月菜單編排說明:一、每周三五吃有機蔬菜。二每週一次附餐二有機豆漿
A15: 食材明細（食材重量以100人份計量，營養分析以個人計量,其中肉雞包含23%骨頭之採購量，每周供應特餐一次，當日得混搭供應，國中4菜1湯1附餐，國小3菜1湯1附餐）
A16: 循環 | B16: 日期 | C16: 主食 | D16: 重/公斤 | E16: 主菜 | F16: 重/公斤 | G16: 副菜一 | H16: 重/公斤 | I16: 蔬菜 | J16: 重/公斤 | K16: 湯品 | L16: 重/公斤 | M16: 附餐一 | N16: 附餐二
A17: a5 | B17: =B3 -> 五 | C17: 白米飯 | E17: 金黃魚排 | G17: 珍菇豆腐 | I17: 時蔬 | K17: 蛋花芽湯 | M17: 水果 | N17: 有機豆漿
B18: =A3 -> 45338 | C18: 米 | D18: 10 | E18: 魚排 | F18: 6.5 | G18: 豆腐 | H18: 5 | I18: 蔬菜 | J18: 7 | K18: 乾裙帶菜 | L18: 0.2
G19: 豬絞肉 | H19: 1 | I19: 大蒜 | J19: 0.05 | K19: 雞蛋 | L19: 0.6
G20: 金針菇 | H20: 1 | K20: 薑 | L20: 0.05
G21: 乾香菇 | H21: 0.01
G22: 大蒜 | H22: 0.5
A23: a4 | B23: =B4 -> 六 | C23: 糙米飯 | E23: 梅干絞肉 | G23: 豆皮芽菜 | I23: 時蔬 | K23: 枸杞銀耳 | M23: 果汁
B24: =A4 -> 45339 | C24: 米 | D24: 7 | E24: 豬絞肉 | F24: 7 | G24: 豆皮 | H24: 0.3 | I24: 蔬菜 | J24: 7 | K24: 乾銀耳 | L24: 0.2
C25: 糙米 | D25: 3 | E25: 梅干菜 | F25: 3 | G25: 綠豆芽 | H25: 6 | I25: 大蒜 | J25: 0.05 | K25: 枸杞 | L25: 0.01
E26: 大蒜 | F26: 0.05 | G26: 胡蘿蔔 | H26: 0.5 | K26: 紅砂糖 | L26: 1
G27: 大蒜 | H27: 0.05
A29: b1 | B29: =B5 -> 一 | C29: 白米飯 | E29: 調味里雞 | G29: 麻婆豆腐 | I29: 時蔬 | K29: 味噌芽湯 | M29: 果汁
B30: =A5 -> 45341 | C30: 米 | D30: 10 | E30: 香雞排 | F30: 6 | G30: 豬絞肉 | H30: 1 | I30: 蔬菜 | J30: 7 | K30: 乾裙帶菜 | L30: 0.2
G31: 豆腐 | H31: 5 | I31: 大蒜 | J31: 0.05 | K31: 味噌 | L31: 0.1
G32: 胡蘿蔔 | H32: 0.5 | K32: 薑 | L32: 0.05
G33: 大蒜 | H33: 0.05 | K33: 柴魚片
G34: 豆瓣醬
A35: b2 | B35: =B6 -> 二 | C35: 糙米飯 | E35: 沙茶參鮮 | G35: 肉絲豆芽 | I35: 時蔬 | K35: 好彩頭湯 | M35: 水果 | N35: 有機豆漿
B36: =A6 -> 45342 | C36: 米 | D36: 7 | E36: 阿根廷魷 | F36: 4 | G36: 豬後腿肉 | H36: 1 | I36: 蔬菜 | J36: 7 | K36: 白蘿蔔 | L36: 3
C37: 糙米 | D37: 3 | E37: 虱目魚丸 | F37: 3 | G37: 綠豆芽 | H37: 6 | I37: 大蒜 | J37: 0.05 | K37: 胡蘿蔔 | L37: 1
E38: 結球白菜 | F38: 4 | G38: 胡蘿蔔 | H38: 0.5 | K38: 薑 | L38: 0.05
E39: 沙茶醬 | F39: 0.01 | G39: 大蒜 | H39: 0.05 | K39: 豬骨 | L39: 1
E40: 大蒜 | F40: 0.05
A41: b3 | B41: =B7 -> 三 | C41: 西式特餐 | E41: 西式肉醬 | G41: 培根甘藍 | I41: 時蔬 | K41: 玉米濃湯 | M41: 小餐包
...

Sheet 國中素
D1: 112 | E1: 學年度 | F1: 國民 | G1: 中學 | H1: 2 | I1: 月素食菜單-7案 | K1: 津吉
A2: 日期 | B2: 星期 | C2: 主食 | D2: 主食明細 | E2: 主菜 | F2: 主菜明細 | G2: 副菜一 | H2: 副菜一明細 | I2: 副菜二 | J2: 副菜二明細 | K2: 蔬菜 | L2: 蔬菜明細 | M2: 湯品 | N2: 湯品明細 | O2: 附餐一 | P2: 附餐二 | Q2: 穀/份 | R2: 豆/份 | S2: 蔬/份 | T2: 油/份 | U2: 乳/分 | V2: 果/份 | W2: 熱量
A3: 45338 | B3: =IF(A3="","",RIGHT(TEXT(WEEKDAY(A3),"[$-404]aaaa;@"),1)) -> 五 | C3: =C17 -> 白米飯 | D3: =C18&B19 -> 米 | E3: =E17 -> 金黃豆包 | F3: =E18 -> 豆包 | G3: =G17 -> 珍菇豆腐 | H3: =G18&G19&G20&G21&G22 -> 豆腐素肉金針菇乾香菇薑 | I3: =I17 -> 田園花椰 | J3: =I18&I19&I20&I21&I22 -> 花椰菜胡蘿蔔薑 | K3: 時蔬 | L3: 蔬菜薑 | M3: =M17 -> 蛋花芽湯 | N3: =M18&M19&M20&M21&M22 -> 乾裙帶菜雞蛋薑 | O3: =O17 -> 水果 | P3: 有機豆漿 | Q3: 5 | R3: 2.5 | S3: 1.7 | T3: 2.8 | V3: 1 | W3: =Q3*70+R3*75+S3*25+T3*45+U3*120+V3*60 -> 766
A4: =IF(A3="","",IF(MONTH(A3)<>MONTH(A3+1),"",A3+1)) -> 45339 | B4: =IF(A4="","",RIGHT(TEXT(WEEKDAY(A4),"[$-404]aaaa;@"),1)) -> 六 | C4: =C23 -> 糙米飯 | D4: =C24&C25 -> 米糙米 | E4: =E23 -> 梅干麵筋 | F4: =E24&E25&E26 -> 麵筋梅干菜薑 | G4: =G23 -> 豆皮芽菜 | H4: =G24&G25&G26 -> 豆皮綠豆芽胡蘿蔔 | I4: =I23 -> 甜辣油腐 | J4: =I24&I25&I26 -> 油豆腐甜辣醬 | K4: 時蔬 | L4: 蔬菜薑 | M4: =M23 -> 枸杞銀耳 | N4: =M24&M25&M26 -> 乾銀耳枸杞紅砂糖 | O4: =O23 -> 果汁 | Q4: 5 | R4: 2.5 | S4: 1.8 | T4: 2.9 | W4: =Q4*70+R4*75+S4*25+T4*45+U4*120+V4*60 -> 713
A5: =IF(A4="","",IF(MONTH(A4)<>MONTH(A4+1),"",A4+2)) -> 45341 | B5: =IF(A5="","",RIGHT(TEXT(WEEKDAY(A5),"[$-404]aaaa;@"),1)) -> 一 | C5: =C29 -> 白米飯 | D5: =C30&B31 -> 米 | E5: =E29 -> 毛豆炒蛋 | F5: =E30 -> 毛豆 | G5: =G29 -> 麻婆豆腐 | H5: =G30&G31&G32&G33&G34 -> 素肉豆腐胡蘿蔔薑豆瓣醬 | I5: =I29 -> 相滷麵腸 | J5: =I30&I31&I32&I33&I34 -> 麵腸滷包 | K5: 時蔬 | L5: 蔬菜薑 | M5: =M29 -> 味噌芽湯 | N5: =M30&M31&M32&M33&M34 -> 乾裙帶菜味噌薑 | O5: =O29 -> 果汁 | Q5: 5 | R5: 2.5 | S5: 1.6 | T5: 2.9 | W5: =Q5*70+R5*75+S5*25+T5*45+U5*120+V5*60 -> 708
A6: =IF(A5="","",IF(MONTH(A5)<>MONTH(A5+1),"",A5+1)) -> 45342 | B6: =IF(A6="","",RIGHT(TEXT(WEEKDAY(A6),"[$-404]aaaa;@"),1)) -> 二 | C6: =C35 -> 糙米飯 | D6: =C36&C37 -> 米糙米 | E6: =E35 -> 沙茶百頁 | F6: =E36&E37&E38&E39&E40 -> 百頁結球白菜素沙茶醬薑 | G6: =G35 -> 豆芽素炒 | H6: =G36&G37&G38&G39&G40 -> 豆皮綠豆芽胡蘿蔔薑 | I6: =I35 -> 椒鹽薯餅 | J6: =I36&I37&I38&I39&I40 -> 薯餅胡椒鹽 | K6: 時蔬 | L6: 蔬菜薑 | M6: =M35 -> 好彩頭湯 | N6: =M36&M37&M38&M39&M40 -> 白蘿蔔胡蘿蔔薑 | O6: =O35 -> 水果 | P6: 有機豆漿 | Q6: 5 | R6: 2.5 | S6: 2 | T6: 2.7 | V6: 1 | W6: =Q6*70+R6*75+S6*25+T6*45+U6*120+V6*60 -> 769
A7: =IF(A6="","",IF(MONTH(A6)<>MONTH(A6+1),"",A6+1)) -> 45343 | B7: =IF(A7="","",RIGHT(TEXT(WEEKDAY(A7),"[$-404]aaaa;@"),1)) -> 三 | C7: =C41 -> 西式特餐 | D7: =C42&C43 -> 義大利麵 | E7: =E41 -> 西式若醬 | F7: =E42&E43&E44&E45&E46 -> 素肉馬鈴薯蕃茄糊薑 | G7: =G41 -> 素炒甘藍 | H7: =G42&G43&G44&G45&G46 -> 豆包甘藍胡蘿蔔薑 | I7: =I41 -> 素火腿 | J7: =I42&I43&I44&I45&I46 -> 素火腿胡椒鹽 | K7: 時蔬 | L7: 蔬菜薑 | M7: =M41 -> 玉米濃湯 | N7: =M42&M43&M44&M45&M46 -> 雞蛋玉米粒罐頭玉米醬罐頭濃湯粉 | O7: =O41 -> 小餐包 | Q7: 4 | R7: 2.5 | S7: 2 | T7: 2.9 | W7: =Q7*70+R7*75+S7*25+T7*45+U7*120+V7*60 -> 648
A8: =IF(A7="","",IF(MONTH(A7)<>MONTH(A7+1),"",A7+1)) -> 45344 | B8: =IF(A8="","",RIGHT(TEXT(WEEKDAY(A8),"[$-404]aaaa;@"),1)) -> 四 | C8: =C47 -> 糙米飯 | D8: =C48&B49 -> 米 | E8: =E47 -> 醬瓜麵筋 | F8: =E48&E49&E50&E51&E52 -> 麵筋白蘿蔔胡蘿蔔醬瓜薑 | G8: =G47 -> 蛋香冬粉 | H8: =G48&G49&G50&G51&G52 -> 雞蛋冬粉時蔬乾木耳薑 | I8: =I47 -> 醬燒油腐 | J8: =I48&I49&I50&I51&I52 -> 油豆腐滷包薑 | K8: 時蔬 | L8: 蔬菜薑 | M8: =M47 -> 綠豆湯 | N8: =M48&M49&M50&M51&M52 -> 綠豆紅砂糖 | O8: =O47 -> TAP豆漿 | Q8: 5 | R8: 2.5 | S8: 1.7 | T8: 3 | W8: =Q8*70+R8*75+S8*25+T8*45+U8*120+V8*60 -> 715
A9: =IF(A8="","",IF(MONTH(A8)<>MONTH(A8+1),"",A8+1)) -> 45345 | B9: =IF(A9="","",RIGHT(TEXT(WEEKDAY(A9),"[$-404]aaaa;@"),1)) -> 五 | C9: =C53 -> 芝麻飯 | D9: =C54&C55 -> 米芝麻(熟) | E9: =E53 -> 泡菜凍腐 | F9: =E54&E55&E56&E57 -> 凍豆腐韓式泡菜胡蘿蔔薑 | G9: =G53 -> 昆布輪煮 | H9: =G54&G55&G56&G57 -> 麵輪乾海帶薑 | I9: =I53 -> 五香豆干 | J9: =I54&I55&I56&I57 -> 豆干滷包薑 | K9: 時蔬 | L9: 蔬菜薑 | M9: =M53 -> 鮮蔬湯 | N9: =M54&M55&M56&M57 -> 時蔬胡蘿蔔薑 | O9: =O53 -> 乳品 | Q9: 5 | R9: 2.5 | S9: 1.6 | T9: 2.9 | U9: 1 | W9: =Q9*70+R9*75+S9*25+T9*45+U9*120+V9*60 -> 828
A10: =IF(A9="","",IF(MONTH(A9)<>MONTH(A9+1),"",A9+3)) -> 45348 | B10: =IF(A10="","",RIGHT(TEXT(WEEKDAY(A10),"[$-404]aaaa;@"),1)) -> 一 | C10: =C59 -> 白米飯 | D10: =C60&B61 -> 米 | E10: =E59 -> 素火腿 | F10: =E60&E61 -> 素火腿薑 | G10: =G59 -> 茄汁豆腐 | H10: =G60&G61&G62&G63&G64 -> 毛豆豆腐胡蘿蔔薑番茄糊 | I10: =I59 -> 蛋香雙色 | J10: =I60&I61&I62&I63&I64 -> 雞蛋白蘿蔔胡蘿蔔薑 | K10: 時蔬 | L10: 蔬菜薑 | M10: =M59 -> 珍菇芽湯 | N10: =M60&M61&M62&M63&M64 -> 乾裙帶菜金針菇薑 | O10: =O59 -> 果汁 | Q10: 5 | R10: 2.5 | S10: 1.6 | T10: 2.9 | W10: =Q10*70+R10*75+S10*25+T10*45+U10*120+V10*60 -> 708
A11: =IF(A10="","",IF(MONTH(A10)<>MONTH(A10+1),"",A10+1)) -> 45349 | B11: =IF(A11="","",RIGHT(TEXT(WEEKDAY(A11),"[$-404]aaaa;@"),1)) -> 二 | C11: =C65 -> 糙米飯 | D11: =C66&C67 -> 米糙米 | E11: =E65 -> 筍干滷肉 | F11: =E66&E67&E68&E69 -> 豆輪麻竹筍干薑 | G11: =G65 -> 素炒芽菜 | H11: =G66&G67&G68&G69 -> 豆皮綠豆芽胡蘿蔔薑 | I11: =I65 -> 椒鹽薯餅 | J11: =I66&I67&I68&I69 -> 薯餅胡椒鹽 | K11: 時蔬 | L11: 蔬菜薑 | M11: =M65 -> 蕪菁湯 | N11: =M66&M67&M68&M69 -> 結頭菜胡蘿蔔薑 | O11: =O65 -> 水果 | P11: 有機豆漿 | Q11: 5.1 | R11: 2.5 | S11: 1.8 | T11: 2.9 | V11: 1 | W11: =Q11*70+R11*75+S11*25+T11*45+U11*120+V11*60 -> 780
A12: =IF(A11="","",IF(MONTH(A11)<>MONTH(A11+1),"",A11+2)) -> 45351 | B12: =IF(A12="","",RIGHT(TEXT(WEEKDAY(A12),"[$-404]aaaa;@"),1)) -> 四 | C12: =C71 -> 糙米飯 | D12: =C72&C73 -> 米糙米 | E12: =E71 -> 豆瓣燒雞 | F12: =E72&E73&E74&E75 -> 百頁海帶結薑豆瓣醬 | G12: =G71 -> 黑白雙滷 | H12: =G72&G73&G74&G75 -> 麵輪白蘿蔔胡蘿蔔薑 | I12: =I71 -> 蜜汁豆干 | J12: =I72&I73&I74&I75 -> 豆干滷包薑 | K12: 時蔬 | L12: 蔬菜薑 | M12: =M71 -> 燒仙草 | N12: =M72&M73&M74&M75 -> 仙草凍紅砂糖西谷米 | O12: =O71 -> TAP豆漿 | Q12: 5 | R12: 2.5 | S12: 2 | T12: 2.9 | W12: =Q12*70+R12*75+S12*25+T12*45+U12*120+V12*60 -> 718
A13: 過敏警語：「本月產品含有蛋、芝麻、含麩之穀物、花生、大豆、亞硫酸鹽類及其相關製品，不適合其過敏體質者食用」
A14: 月菜單編排說明:一、每周三五吃有機蔬菜。二每週一次附餐二有機豆漿
A15: 食材明細（食材重量以100人份計量，營養分析以個人計量,其中百頁包含23%骨頭之採購量，每周供應特餐一次，當日得混搭供應，國中4菜1湯1附餐，國小3菜1湯1附餐）
A16: 循環 | B16: 日期 | C16: 主食 | D16: 重/公斤 | E16: 主菜 | F16: 重/公斤 | G16: 副菜一 | H16: 重/公斤 | I16: 副菜二 | J16: 重/公斤 | K16: 蔬菜 | L16: 重/公斤 | M16: 湯品 | N16: 重/公斤 | O16: 附餐一 | P16: 附餐二
A17: a5 | B17: =B3 -> 五 | C17: 白米飯 | E17: 金黃豆包 | G17: 珍菇豆腐 | I17: 田園花椰 | K17: 時蔬 | M17: 蛋花芽湯 | O17: 水果 | P17: 有機豆漿
B18: =A3 -> 45338 | C18: 米 | D18: 10 | E18: 豆包 | F18: 6.5 | G18: 豆腐 | H18: 5 | I18: 花椰菜 | J18: 8 | K18: 蔬菜 | L18: 7 | M18: 乾裙帶菜 | N18: 0.2
G19: 素肉 | H19: 1 | I19: 胡蘿蔔 | J19: 1 | K19: 薑 | L19: 0.05 | M19: 雞蛋 | N19: 0.6
G20: 金針菇 | H20: 1 | I20: 薑 | J20: 0.05 | M20: 薑 | N20: 0.05
G21: 乾香菇 | H21: 0.01
G22: 薑 | H22: 0.5
A23: a4 | B23: =B4 -> 六 | C23: 糙米飯 | E23: 梅干麵筋 | G23: 豆皮芽菜 | I23: 甜辣油腐 | K23: 時蔬 | M23: 枸杞銀耳 | O23: 果汁
B24: =A4 -> 45339 | C24: 米 | D24: 7 | E24: 麵筋 | F24: 1 | G24: 豆皮 | H24: 0.3 | I24: 油豆腐 | J24: 4 | K24: 蔬菜 | L24: 7 | M24: 乾銀耳 | N24: 0.2
C25: 糙米 | D25: 3 | E25: 梅干菜 | F25: 3 | G25: 綠豆芽 | H25: 6 | I25: 甜辣醬 | K25: 薑 | L25: 0.05 | M25: 枸杞 | N25: 0.01
E26: 薑 | F26: 0.05 | G26: 胡蘿蔔 | H26: 0.5 | M26: 紅砂糖 | N26: 1
G27: 薑 | H27: 0.05
A29: b1 | B29: =B5 -> 一 | C29: 白米飯 | E29: 毛豆炒蛋 | G29: 麻婆豆腐 | I29: 相滷麵腸 | K29: 時蔬 | M29: 味噌芽湯 | O29: 果汁
B30: =A5 -> 45341 | C30: 米 | D30: 10 | E30: 毛豆 | F30: 3 | G30: 素肉 | H30: 0.1 | I30: 麵腸 | J30: 4 | K30: 蔬菜 | L30: 7 | M30: 乾裙帶菜 | N30: 0.2
E31: 雞蛋 | F31: 3 | G31: 豆腐 | H31: 5 | I31: 滷包 | K31: 薑 | L31: 0.05 | M31: 味噌 | N31: 0.1
E32: 薑 | F32: 0.05 | G32: 胡蘿蔔 | H32: 0.5 | M32: 薑 | N32: 0.05
G33: 薑 | H33: 0.05
G34: 豆瓣醬
A35: b2 | B35: =B6 -> 二 | C35: 糙米飯 | E35: 沙茶百頁 | G35: 豆芽素炒 | I35: 椒鹽薯餅 | K35: 時蔬 | M35: 好彩頭湯 | O35: 水果 | P35: 有機豆漿
B36: =A6 -> 45342 | C36: 米 | D36: 7 | E36: 百頁 | F36: 6 | G36: 豆皮 | H36: 1 | I36: 薯餅 | J36: 4 | K36: 蔬菜 | L36: 7 | M36: 白蘿蔔 | N36: 3
C37: 糙米 | D37: 3 | E37: 結球白菜 | F37: 4 | G37: 綠豆芽 | H37: 6 | I37: 胡椒鹽 | K37: 薑 | L37: 0.05 | M37: 胡蘿蔔 | N37: 1
E38: 素沙茶醬 | F38: 0.01 | G38: 胡蘿蔔 | H38: 0.5 | M38: 薑 | N38: 0.05
E39: 薑 | F39: 0.05 | G39: 薑 | H39: 0.05
A41: b3 | B41: =B7 -> 三 | C41: 西式特餐 | E41: 西式若醬 | G41: 素炒甘藍 | I41: 素火腿 | K41: 時蔬 | M41: 玉米濃湯 | O41: 小餐包
B42: =A7 -> 45343 | C42: 義大利麵 | D42: 5 | E42: 素肉 | F42: 1 | G42: 豆包 | H42: 1 | I42: 素火腿 | J42: 4 | K42: 蔬菜 | L42: 7 | M42: 雞蛋 | N42: 0.6
...

Sheet 國小素
D1: 112 | E1: 學年度 | F1: 國民 | G1: 小學 | H1: 2 | I1: 津吉 | K1: 月素食菜單-7案
A2: 日期 | B2: 星期 | C2: 主食 | D2: 主食明細 | E2: 主菜 | F2: 主菜明細 | G2: 副菜一 | H2: 副菜一明細 | I2: 蔬菜 | J2: 蔬菜明細 | K2: 湯品 | L2: 湯品明細 | M2: 附餐一 | N2: 附餐二 | O2: 穀/份 | P2: 豆/份 | Q2: 蔬/份 | R2: 油/份 | S2: 乳/分 | T2: 果/份 | U2: 熱量
A3: 45338 | B3: =IF(A3="","",RIGHT(TEXT(WEEKDAY(A3),"[$-404]aaaa;@"),1)) -> 五 | C3: =C17 -> 白米飯 | D3: =C18&B19 -> 米 | E3: =E17 -> 金黃豆包 | F3: =E18 -> 豆包 | G3: =G17 -> 珍菇豆腐 | H3: =G18&G19&G20&G21&G22 -> 豆腐素肉金針菇乾香菇薑 | I3: 時蔬 | J3: 蔬菜薑 | K3: =K17 -> 蛋花芽湯 | L3: =K18&K19&K20&K21&K22 -> 乾裙帶菜雞蛋薑 | M3: =M17 -> 水果 | N3: 有機豆漿 | O3: 5 | P3: 2.5 | Q3: 1.7 | R3: 2.8 | T3: 1 | U3: =O3*70+P3*75+Q3*25+R3*45+S3*120+T3*60 -> 766
A4: =IF(A3="","",IF(MONTH(A3)<>MONTH(A3+1),"",A3+1)) -> 45339 | B4: =IF(A4="","",RIGHT(TEXT(WEEKDAY(A4),"[$-404]aaaa;@"),1)) -> 六 | C4: =C23 -> 糙米飯 | D4: =C24&C25 -> 米糙米 | E4: =E23 -> 梅干麵筋 | F4: =E24&E25&E26 -> 麵筋梅干菜薑 | G4: =G23 -> 豆皮芽菜 | H4: =G24&G25&G26 -> 豆皮綠豆芽胡蘿蔔 | I4: 時蔬 | J4: 蔬菜薑 | K4: =K23 -> 枸杞銀耳 | L4: =K24&K25&K26 -> 乾銀耳枸杞紅砂糖 | M4: =M23 -> 果汁 | O4: 5 | P4: 2.5 | Q4: 1.8 | R4: 2.9 | U4: =O4*70+P4*75+Q4*25+R4*45+S4*120+T4*60 -> 713
A5: =IF(A4="","",IF(MONTH(A4)<>MONTH(A4+1),"",A4+2)) -> 45341 | B5: =IF(A5="","",RIGHT(TEXT(WEEKDAY(A5),"[$-404]aaaa;@"),1)) -> 一 | C5: =C29 -> 白米飯 | D5: =C30&B31 -> 米 | E5: =E29 -> 毛豆炒蛋 | F5: =E30 -> 毛豆 | G5: =G29 -> 麻婆豆腐 | H5: =G30&G31&G32&G33&G34 -> 素肉豆腐胡蘿蔔薑豆瓣醬 | I5: 時蔬 | J5: 蔬菜薑 | K5: =K29 -> 味噌芽湯 | L5: =K30&K31&K32&K33&K34 -> 乾裙帶菜味噌薑 | M5: =M29 -> 果汁 | O5: 5 | P5: 2.5 | Q5: 1.6 | R5: 2.9 | U5: =O5*70+P5*75+Q5*25+R5*45+S5*120+T5*60 -> 708
A6: =IF(A5="","",IF(MONTH(A5)<>MONTH(A5+1),"",A5+1)) -> 45342 | B6: =IF(A6="","",RIGHT(TEXT(WEEKDAY(A6),"[$-404]aaaa;@"),1)) -> 二 | C6: =C35 -> 糙米飯 | D6: =C36&C37 -> 米糙米 | E6: =E35 -> 沙茶百頁 | F6: =E36&E37&E38&E39&E40 -> 百頁結球白菜素沙茶醬薑 | G6: =G35 -> 豆芽素炒 | H6: =G36&G37&G38&G39&G40 -> 豆皮綠豆芽胡蘿蔔薑 | I6: 時蔬 | J6: 蔬菜薑 | K6: =K35 -> 好彩頭湯 | L6: =K36&K37&K38&K39&K40 -> 白蘿蔔胡蘿蔔薑 | M6: =M35 -> 水果 | N6: 有機豆漿 | O6: 5 | P6: 2.5 | Q6: 2 | R6: 2.7 | T6: 1 | U6: =O6*70+P6*75+Q6*25+R6*45+S6*120+T6*60 -> 769
A7: =IF(A6="","",IF(MONTH(A6)<>MONTH(A6+1),"",A6+1)) -> 45343 | B7: =IF(A7="","",RIGHT(TEXT(WEEKDAY(A7),"[$-404]aaaa;@"),1)) -> 三 | C7: =C41 -> 西式特餐 | D7: =C42&C43 -> 義大利麵 | E7: =E41 -> 西式若醬 | F7: =E42&E43&E44&E45&E46 -> 素肉馬鈴薯蕃茄糊薑 | G7: =G41 -> 素炒甘藍 | H7: =G42&G43&G44&G45&G46 -> 豆包甘藍胡蘿蔔薑 | I7: 時蔬 | J7: 蔬菜薑 | K7: =K41 -> 玉米濃湯 | L7: =K42&K43&K44&K45&K46 -> 雞蛋玉米粒罐頭玉米醬罐頭濃湯粉 | M7: =M41 -> 小餐包 | O7: 4 | P7: 2.5 | Q7: 2 | R7: 2.9 | U7: =O7*70+P7*75+Q7*25+R7*45+S7*120+T7*60 -> 648
A8: =IF(A7="","",IF(MONTH(A7)<>MONTH(A7+1),"",A7+1)) -> 45344 | B8: =IF(A8="","",RIGHT(TEXT(WEEKDAY(A8),"[$-404]aaaa;@"),1)) -> 四 | C8: =C47 -> 糙米飯 | D8: =C48&B49 -> 米 | E8: =E47 -> 醬瓜麵筋 | F8: =E48&E49&E50&E51&E52 -> 麵筋白蘿蔔胡蘿蔔醬瓜薑 | G8: =G47 -> 蛋香冬粉 | H8: =G48&G49&G50&G51&G52 -> 雞蛋冬粉時蔬乾木耳薑 | I8: 時蔬 | J8: 蔬菜薑 | K8: =K47 -> 綠豆湯 | L8: =K48&K49&K50&K51&K52 -> 綠豆紅砂糖 | M8: =M47 -> TAP豆漿 | O8: 5 | P8: 2.5 | Q8: 1.7 | R8: 3 | U8: =O8*70+P8*75+Q8*25+R8*45+S8*120+T8*60 -> 715
A9: =IF(A8="","",IF(MONTH(A8)<>MONTH(A8+1),"",A8+1)) -> 45345 | B9: =IF(A9="","",RIGHT(TEXT(WEEKDAY(A9),"[$-404]aaaa;@"),1)) -> 五 | C9: =C53 -> 芝麻飯 | D9: =C54&C55 -> 米芝麻(熟) | E9: =E53 -> 泡菜凍腐 | F9: =E54&E55&E56&E57 -> 凍豆腐韓式泡菜胡蘿蔔薑 | G9: =G53 -> 昆布輪煮 | H9: =G54&G55&G56&G57 -> 麵輪乾海帶薑 | I9: 時蔬 | J9: 蔬菜薑 | K9: =K53 -> 鮮蔬湯 | L9: =K54&K55&K56&K57 -> 時蔬胡蘿蔔薑 | M9: =M53 -> 乳品 | O9: 5 | P9: 2.5 | Q9: 1.6 | R9: 2.9 | S9: 1 | U9: =O9*70+P9*75+Q9*25+R9*45+S9*120+T9*60 -> 828
A10: =IF(A9="","",IF(MONTH(A9)<>MONTH(A9+1),"",A9+3)) -> 45348 | B10: =IF(A10="","",RIGHT(TEXT(WEEKDAY(A10),"[$-404]aaaa;@"),1)) -> 一 | C10: =C59 -> 白米飯 | D10: =C60&B61 -> 米 | E10: =E59 -> 素火腿 | F10: =E60&E61 -> 素火腿薑 | G10: =G59 -> 茄汁豆腐 | H10: =G60&G61&G62&G63&G64 -> 毛豆豆腐胡蘿蔔薑番茄糊 | I10: 時蔬 | J10: 蔬菜薑 | K10: =K59 -> 珍菇芽湯 | L10: =K60&K61&K62&K63&K64 -> 乾裙帶菜金針菇薑 | M10: =M59 -> 果汁 | O10: 5 | P10: 2.5 | Q10: 1.6 | R10: 2.9 | U10: =O10*70+P10*75+Q10*25+R10*45+S10*120+T10*60 -> 708
A11: =IF(A10="","",IF(MONTH(A10)<>MONTH(A10+1),"",A10+1)) -> 45349 | B11: =IF(A11="","",RIGHT(TEXT(WEEKDAY(A11),"[$-404]aaaa;@"),1)) -> 二 | C11: =C65 -> 糙米飯 | D11: =C66&C67 -> 米糙米 | E11: =E65 -> 筍干滷肉 | F11: =E66&E67&E68&E69 -> 豆輪麻竹筍干薑 | G11: =G65 -> 素炒芽菜 | H11: =G66&G67&G68&G69 -> 豆皮綠豆芽胡蘿蔔薑 | I11: 時蔬 | J11: 蔬菜薑 | K11: =K65 -> 蕪菁湯 | L11: =K66&K67&K68&K69 -> 結頭菜胡蘿蔔薑 | M11: =M65 -> 乳品/水果 | N11: 有機豆漿 | O11: 5.1 | P11: 2.5 | Q11: 1.8 | R11: 2.9 | T11: 1 | U11: =O11*70+P11*75+Q11*25+R11*45+S11*120+T11*60 -> 780
A12: =IF(A11="","",IF(MONTH(A11)<>MONTH(A11+1),"",A11+2)) -> 45351 | B12: =IF(A12="","",RIGHT(TEXT(WEEKDAY(A12),"[$-404]aaaa;@"),1)) -> 四 | C12: =C71 -> 糙米飯 | D12: =C72&C73 -> 米糙米 | E12: =E71 -> 豆瓣燒雞 | F12: =E72&E73&E74&E75 -> 百頁海帶結薑豆瓣醬 | G12: =G71 -> 黑白雙滷 | H12: =G72&G73&G74&G75 -> 麵輪白蘿蔔胡蘿蔔薑 | I12: 時蔬 | J12: 蔬菜薑 | K12: =K71 -> 燒仙草 | L12: =K72&K73&K74&K75 -> 仙草凍紅砂糖西谷米 | M12: =M71 -> TAP豆漿 | O12: 5 | P12: 2.5 | Q12: 2 | R12: 2.9 | U12: =O12*70+P12*75+Q12*25+R12*45+S12*120+T12*60 -> 718
A13: 過敏警語：「本月產品含有蛋、芝麻、含麩之穀物、花生、大豆、亞硫酸鹽類及其相關製品，不適合其過敏體質者食用」
A14: 月菜單編排說明:一、每周三五吃有機蔬菜。二每週一次附餐二有機豆漿
A15: 食材明細（食材重量以100人份計量，營養分析以個人計量,其中百頁包含23%骨頭之採購量，每周供應特餐一次，當日得混搭供應，國中4菜1湯1附餐，國小3菜1湯1附餐）
A16: 循環 | B16: 日期 | C16: 主食 | D16: 重/公斤 | E16: 主菜 | F16: 重/公斤 | G16: 副菜一 | H16: 重/公斤 | I16: 蔬菜 | J16: 重/公斤 | K16: 湯品 | L16: 重/公斤 | M16: 附餐一 | N16: 附餐二
A17: a5 | B17: =B3 -> 五 | C17: 白米飯 | E17: 金黃豆包 | G17: 珍菇豆腐 | I17: 時蔬 | K17: 蛋花芽湯 | M17: 水果 | N17: 有機豆漿
B18: =A3 -> 45338 | C18: 米 | D18: 10 | E18: 豆包 | F18: 6.5 | G18: 豆腐 | H18: 5 | I18: 蔬菜 | J18: 7 | K18: 乾裙帶菜 | L18: 0.2
G19: 素肉 | H19: 1 | I19: 薑 | J19: 0.05 | K19: 雞蛋 | L19: 0.6
G20: 金針菇 | H20: 1 | K20: 薑 | L20: 0.05
G21: 乾香菇 | H21: 0.01
G22: 薑 | H22: 0.5
A23: a4 | B23: =B4 -> 六 | C23: 糙米飯 | E23: 梅干麵筋 | G23: 豆皮芽菜 | I23: 時蔬 | K23: 枸杞銀耳 | M23: 果汁
B24: =A4 -> 45339 | C24: 米 | D24: 7 | E24: 麵筋 | F24: 1 | G24: 豆皮 | H24: 0.3 | I24: 蔬菜 | J24: 7 | K24: 乾銀耳 | L24: 0.2
C25: 糙米 | D25: 3 | E25: 梅干菜 | F25: 3 | G25: 綠豆芽 | H25: 6 | I25: 薑 | J25: 0.05 | K25: 枸杞 | L25: 0.01
E26: 薑 | F26: 0.05 | G26: 胡蘿蔔 | H26: 0.5 | K26: 紅砂糖 | L26: 1
G27: 薑 | H27: 0.05
A29: b1 | B29: =B5 -> 一 | C29: 白米飯 | E29: 毛豆炒蛋 | G29: 麻婆豆腐 | I29: 時蔬 | K29: 味噌芽湯 | M29: 果汁
B30: =A5 -> 45341 | C30: 米 | D30: 10 | E30: 毛豆 | F30: 3 | G30: 素肉 | H30: 0.1 | I30: 蔬菜 | J30: 7 | K30: 乾裙帶菜 | L30: 0.2
E31: 雞蛋 | F31: 3 | G31: 豆腐 | H31: 5 | I31: 薑 | J31: 0.05 | K31: 味噌 | L31: 0.1
E32: 薑 | F32: 0.05 | G32: 胡蘿蔔 | H32: 0.5 | K32: 薑 | L32: 0.05
G33: 薑 | H33: 0.05
G34: 豆瓣醬
A35: b2 | B35: =B6 -> 二 | C35: 糙米飯 | E35: 沙茶百頁 | G35: 豆芽素炒 | I35: 時蔬 | K35: 好彩頭湯 | M35: 水果 | N35: 有機豆漿
B36: =A6 -> 45342 | C36: 米 | D36: 7 | E36: 百頁 | F36: 6 | G36: 豆皮 | H36: 1 | I36: 蔬菜 | J36: 7 | K36: 白蘿蔔 | L36: 3
C37: 糙米 | D37: 3 | E37: 結球白菜 | F37: 4 | G37: 綠豆芽 | H37: 6 | I37: 薑 | J37: 0.05 | K37: 胡蘿蔔 | L37: 1
E38: 素沙茶醬 | F38: 0.01 | G38: 胡蘿蔔 | H38: 0.5 | K38: 薑 | L38: 0.05
E39: 薑 | F39: 0.05 | G39: 薑 | H39: 0.05
A41: b3 | B41: =B7 -> 三 | C41: 西式特餐 | E41: 西式若醬 | G41: 素炒甘藍 | I41: 時蔬 | K41: 玉米濃湯 | M41: 小餐包
B42: =A7 -> 45343 | C42: 義大利麵 | D42: 5 | E42: 素肉 | F42: 1 | G42: 豆包 | H42: 1 | I42: 蔬菜 | J42: 7 | K42: 雞蛋 | L42: 0.6
...

Sheet 點心附餐
A1: 點心順序 | C1: 鑄強國小
A2: 日期 | B2: 星期 | C2: =國中!O16 -> 附餐一 | D2: =國中!P16 -> 附餐二
A3: =國中!$A3 -> 45338 | B3: =國中!B3 -> 五 | C3: =國小!M17 -> 水果 | D3: =國中!P17 -> 有機豆漿
A4: =國中!$A4 -> 45339 | B4: =國中!B4 -> 六 | C4: =國中!O23 -> 果汁
A5: =國中!$A5 -> 45341 | B5: =國中!B5 -> 一 | C5: =國中!O29 -> 果汁
A6: =國中!$A6 -> 45342 | B6: =國中!B6 -> 二 | C6: =國中!O35 -> 水果 | D6: =國中!P35 -> 有機豆漿
A7: =國中!$A7 -> 45343 | B7: =國中!B7 -> 三 | C7: =國中!O41 -> 小餐包
A8: =國中!$A8 -> 45344 | B8: =國中!B8 -> 四 | C8: =國中!O47 -> TAP豆漿
A9: =國中!$A9 -> 45345 | B9: =國中!B9 -> 五 | C9: =國中!O53 -> 乳品
A10: =國中!$A10 -> 45348 | B10: =國中!B10 -> 一 | C10: =國中!O59 -> 果汁
A11: =國中!$A11 -> 45349 | B11: =國中!B11 -> 二 | C11: =國中!O65 -> 乳品 | D11: =國中!P65 -> 有機豆漿
A12: =國中!$A12 -> 45351 | B12: =國中!B12 -> 四 | C12: =國中!O71 -> TAP豆漿

Sheet 中心溫度
C1: 美崙國中 | D1: 午餐廚房
C2: 烹調中心(產品)溫度標準值： | D2: (1)素菜類：75℃以上，(2)葷菜類：85℃以上
A3: 日期 | B3: 菜餚名稱 | C3: 溫度(℃) | D3: 菜餚名稱 | E3: 溫度(℃) | F3: 廚師 | G3: 確認者
A4: =國中!$A$3 -> 45338 | B4: =國中!E3 -> 金黃魚排 | D4: =國中!G3 -> 珍菇豆腐
A5: =IF(A4="","",IF(MONTH(A4)<>MONTH(A4+1),"",A4+1)) -> 45339 | B5: =國中!E4 -> 梅干絞肉 | D5: =國中!G4 -> 豆皮芽菜
A6: =IF(A5="","",IF(MONTH(A5)<>MONTH(A5+1),"",A5+1)) -> 45340 | B6: =國中!E5 -> 調味里雞 | D6: =國中!G5 -> 麻婆豆腐
A7: =IF(A6="","",IF(MONTH(A6)<>MONTH(A6+1),"",A6+1)) -> 45341 | B7: =國中!E6 -> 沙茶參鮮 | D7: =國中!G6 -> 肉絲豆芽
A8: =IF(A7="","",IF(MONTH(A7)<>MONTH(A7+1),"",A7+1)) -> 45342 | B8: =國中!E7 -> 西式肉醬 | D8: =國中!G7 -> 培根甘藍
A9: =IF(A8="","",IF(MONTH(A8)<>MONTH(A8+1),"",A8+3)) -> 45345 | B9: =國中!E8 -> 醬瓜燒雞 | D9: =國中!G8 -> 蛋香冬粉
A10: =IF(A9="","",IF(MONTH(A9)<>MONTH(A9+1),"",A9+1)) -> 45346 | B10: =國中!E9 -> 泡菜肉片 | D10: =國中!G9 -> 昆布輪煮
A11: =IF(A10="","",IF(MONTH(A10)<>MONTH(A10+1),"",A10+1)) -> 45347 | B11: =國中!E10 -> 醬香雞翅 | D11: =國中!G10 -> 茄汁豆腐
A12: =IF(A11="","",IF(MONTH(A11)<>MONTH(A11+1),"",A11+1)) -> 45348 | B12: =國中!E11 -> 筍干滷肉 | D12: =國中!G11 -> 培根芽菜
A13: =IF(A12="","",IF(MONTH(A12)<>MONTH(A12+1),"",A12+1)) -> 45349 | B13: =國中!E12 -> 豆瓣燒雞 | D13: =國中!G12 -> 黑白雙滷
