Workbook

Sheet 國中
A1: 112 | D1: 112 | E1: 學年度 | F1: 國民 | G1: 中學 | H1: 10 | I1: 月葷食菜單-7案 | K1: 津吉-本店使用台灣豬肉
A2: 日期 | B2: 星期 | C2: 主食 | D2: 主食明細 | E2: 主菜 | F2: 主菜明細 | G2: 副菜一 | H2: 副菜一明細 | I2: 副菜二 | J2: 副菜二明細 | K2: 蔬菜 | L2: 蔬菜明細 | M2: 湯品 | N2: 湯品明細 | O2: 附餐一 | P2: 附餐二 | Q2: 穀/份 | R2: 豆/份 | S2: 蔬/份 | T2: 油/份 | U2: 乳/分 | V2: 果/份 | W2: 熱量
A3: 45201 | B3: =IF(A3="","",RIGHT(TEXT(WEEKDAY(A3),"[$-404]aaaa;@"),1)) -> 一 | C3: =B27 -> 白米飯 | D3: =B28&B29 -> 米 | E3: =E27 -> 香炸魚排 | F3: =PHONETIC(E28:E32) -> 魚排 | G3: =G27 -> 牛蒡豆腐 | H3: =PHONETIC(G28:G32) -> 豆腐牛蒡絲豬絞肉大蒜 | I3: =I27 -> 開陽花椰 | J3: =PHONETIC(I28:I32) -> 花椰菜胡蘿蔔蝦皮大蒜 | K3: 時蔬 | L3: 蔬菜大蒜 | M3: =M27 -> 蛋花芽湯 | N3: =PHONETIC(M28:M31) -> 乾裙帶菜薑雞蛋 | O3: =O27 -> 果汁 | Q3: 5.3 | R3: 2.5 | S3: 1.9 | T3: 2.8 | W3: =Q3*70+R3*75+S3*25+T3*45+U3*120+V3*60 -> 732
A4: =IF(A3="","",IF(MONTH(A3)<>MONTH(A3+1),"",A3+1)) -> 45202 | B4: =IF(A4="","",RIGHT(TEXT(WEEKDAY(A4),"[$-404]aaaa;@"),1)) -> 二 | C4: =B33 -> 糙米飯 | D4: =B34&B35 -> 米糙米 | E4: =E33 -> 家常雞排 | F4: =PHONETIC(E34:E38) -> 香雞排 | G4: =G33 -> 白菜凍腐 | H4: =PHONETIC(G34:G38) -> 凍豆腐結球白菜乾香菇胡蘿蔔大蒜 | I4: =I33 -> 碎脯蛋香 | J4: =PHONETIC(I34:I38) -> 雞蛋蘿蔔乾白蘿蔔洋蔥大蒜 | K4: 時蔬 | L4: 蔬菜大蒜 | M4: =M33 -> 茄香蔬湯 | N4: =PHONETIC(M34:M37) -> 番茄糊時蔬豬骨 | O4: =O33 -> TAP豆漿 | Q4: 6 | R4: 2.5 | S4: 1.8 | T4: 2.9 | V4: 1 | W4: =Q4*70+R4*75+S4*25+T4*45+U4*120+V4*60 -> 843
A5: =IF(A4="","",IF(MONTH(A4)<>MONTH(A4+1),"",A4+1)) -> 45203 | B5: =IF(A5="","",RIGHT(TEXT(WEEKDAY(A5),"[$-404]aaaa;@"),1)) -> 三 | C5: =B39 -> 米粉特餐 | D5: =B40&B41 -> 米粉 | E5: =E39 -> 米粉配料 | F5: =PHONETIC(E40:E44) -> 豬絞肉時蔬胡蘿蔔油蔥酥大蒜 | G5: =G39 -> 原味薯餅 | H5: =PHONETIC(G40:G44) -> 薯餅 | I5: =I39 -> 蜜汁豆干 | J5: =PHONETIC(I40:I44) -> 豆干大蒜 | K5: 時蔬 | L5: 蔬菜大蒜 | M5: =M39 -> 三絲羹湯 | N5: =PHONETIC(M40:M43) -> 雞蛋脆筍白蘿蔔乾木耳 | O5: =O39 -> 小餐包 | Q5: 5.2 | R5: 2.5 | S5: 2 | T5: 2.9 | U5: 1 | W5: =Q5*70+R5*75+S5*25+T5*45+U5*120+V5*60 -> 852
A6: =IF(A5="","",IF(MONTH(A5)<>MONTH(A5+1),"",A5+1)) -> 45204 | B6: =IF(A6="","",RIGHT(TEXT(WEEKDAY(A6),"[$-404]aaaa;@"),1)) -> 四 | C6: =B45 -> 糙米飯 | D6: =B46&B47 -> 米糙米 | E6: =E45 -> 筍干燒雞 | F6: =PHONETIC(E46:E50) -> 肉雞麻竹筍干大蒜 | G6: =G45 -> 豆皮海帶 | H6: =PHONETIC(G46:G50) -> 豆皮乾海帶大蒜 | I6: =I45 -> 野菜天 | J6: =PHONETIC(I46:I50) -> 野菜天 | K6: 時蔬 | L6: 蔬菜大蒜 | M6: =M45 -> 綠豆湯 | N6: =PHONETIC(M46:M49) -> 綠豆紅砂糖 | O6: =O45 -> 堅果 | Q6: 5.6 | R6: 2.5 | S6: 1.7 | T6: 2.8 | W6: =Q6*70+R6*75+S6*25+T6*45+U6*120+V6*60 -> 748
A7: =IF(A6="","",IF(MONTH(A6)<>MONTH(A6+1),"",A6+1)) -> 45205 | B7: =IF(A7="","",RIGHT(TEXT(WEEKDAY(A7),"[$-404]aaaa;@"),1)) -> 五 | C7: =B51 -> 紅藜飯 | D7: =B52&B53 -> 米紅藜 | E7: =E51 -> 沙茶三鮮 | F7: =PHONETIC(E52:E56) -> 阿根廷魷虱目魚丸白蘿蔔大蒜 | G7: =G51 -> 木須佐蛋 | H7: =PHONETIC(G52:G56) -> 雞蛋洋蔥乾木耳胡蘿蔔大蒜 | I7: =I51 -> 培根豆芽 | J7: =PHONETIC(I52:I56) -> 培根綠豆芽胡蘿蔔大蒜 | K7: 時蔬 | L7: 蔬菜大蒜 | M7: =M51 -> 金針湯 | N7: =PHONETIC(M52:M56) -> 金針菜乾榨菜薑豬骨 | O7: =O51 -> 水果 | P7: 有機豆漿 | Q7: 5 | R7: 2.5 | S7: 1.8 | T7: 2.9 | U7: 1 | W7: =Q7*70+R7*75+S7*25+T7*45+U7*120+V7*60 -> 833
A8: =IF(A7="","",IF(MONTH(A7)<>MONTH(A7+1),"",A7+5)) -> 45210 | B8: =IF(A8="","",RIGHT(TEXT(WEEKDAY(A8),"[$-404]aaaa;@"),1)) -> 三 | C8: =B57 -> 西式特餐 | D8: =B58&B59 -> 義大利麵 | E8: =E57 -> 金黃魚塊 | F8: =PHONETIC(E58:E62) -> 虱目魚塊 | G8: =G57 -> 茄汁肉醬 | H8: =PHONETIC(G58:G62) -> 豬絞肉馬鈴薯洋蔥大蒜 | I8: =I57 -> 起司花椰 | J8: =PHONETIC(I58:I62) -> 花椰菜胡蘿蔔起司粉大蒜 | K8: 時蔬 | L8: 蔬菜大蒜 | M8: =M57 -> 玉米濃湯 | N8: =PHONETIC(M58:M62) -> 雞蛋玉米粒罐頭玉米醬罐頭玉米濃湯粉 | O8: =O57 -> 小餐包 | Q8: 5 | R8: 2.5 | S8: 1.6 | T8: 2.9 | W8: =Q8*70+R8*75+S8*25+T8*45+U8*120+V8*60 -> 708
A9: =IF(A8="","",IF(MONTH(A8)<>MONTH(A8+1),"",A8+1)) -> 45211 | B9: =IF(A9="","",RIGHT(TEXT(WEEKDAY(A9),"[$-404]aaaa;@"),1)) -> 四 | C9: =B63 -> 糙米飯 | D9: =B64&B65 -> 米糙米 | E9: =E63 -> 醬燒雞翅 | F9: =PHONETIC(E64:E68) -> 三節翅滷包 | G9: =G63 -> 鮮菇豆腐 | H9: =PHONETIC(G64:G68) -> 豆腐杏鮑菇乾香菇大蒜 | I9: =I63 -> 絞肉瓜粒 | J9: =PHONETIC(I64:I67) -> 豬絞肉時瓜乾木耳大蒜 | K9: 時蔬 | L9: 蔬菜大蒜 | M9: =M63 -> 檸檬愛玉 | N9: =PHONETIC(M64:M67) -> 愛玉紅砂糖檸檬汁 | O9: =O63 -> 果汁 | Q9: 5 | R9: 2.5 | S9: 2 | T9: 2.7 | V9: 1 | W9: =Q9*70+R9*75+S9*25+T9*45+U9*120+V9*60 -> 769
A10: =IF(A9="","",IF(MONTH(A9)<>MONTH(A9+1),"",A9+1)) -> 45212 | B10: =IF(A10="","",RIGHT(TEXT(WEEKDAY(A10),"[$-404]aaaa;@"),1)) -> 五 | C10: =B69 -> 小米飯 | D10: =B70&B71 -> 米小米 | E10: =E69 -> 海結滷肉 | F10: =PHONETIC(E70:E74) -> 豬後腿肉乾海帶麵輪大蒜 | G10: =G69 -> 銀蘿蛋香 | H10: =PHONETIC(G70:G74) -> 雞蛋白蘿蔔胡蘿蔔大蒜 | I10: =I69 -> 五香豆干 | J10: =PHONETIC(I70:I73) -> 豆干大蒜 | K10: 時蔬 | L10: 蔬菜大蒜 | M10: =M69 -> 番茄蔬湯 | N10: =PHONETIC(M70:M74) -> 時蔬番茄糊薑豬骨 | O10: =O69 -> 水果 | P10: 有機豆漿 | Q10: 5.2 | R10: 2.5 | S10: 2 | T10: 2.9 | W10: =Q10*70+R10*75+S10*25+T10*45+U10*120+V10*60 -> 732
A11: =IF(A10="","",IF(MONTH(A10)<>MONTH(A10+1),"",A10+3)) -> 45215 | B11: =IF(A11="","",RIGHT(TEXT(WEEKDAY(A11),"[$-404]aaaa;@"),1)) -> 一 | C11: =B75 -> 白米飯 | D11: =B76&B77 -> 米 | E11: =E75 -> 黑椒肉絲 | F11: =PHONETIC(E76:E80) -> 豬後腿肉馬鈴薯洋蔥大蒜 | G11: =G75 -> 蔬香冬粉 | H11: =PHONETIC(G76:G80) -> 雞蛋冬粉胡蘿蔔乾木耳大蒜 | I11: =I75 -> 滷野菜天 | J11: =PHONETIC(I76:I79) -> 野菜天 | K11: 時蔬 | L11: 蔬菜大蒜 | M11: =M75 -> 味噌芽湯 | N11: =PHONETIC(M76:M79) -> 乾裙帶菜味噌薑柴魚片 | O11: =O75 -> 果汁 | Q11: 5 | R11: 2.5 | S11: 1.7 | T11: 3 | W11: =Q11*70+R11*75+S11*25+T11*45+U11*120+V11*60 -> 715
A12: =IF(A11="","",IF(MONTH(A11)<>MONTH(A11+1),"",A11+1)) -> 45216 | B12: =IF(A12="","",RIGHT(TEXT(WEEKDAY(A12),"[$-404]aaaa;@"),1)) -> 二 | C12: =B81 -> 糙米飯 | D12: =B82&B83 -> 米糙米 | E12: =E81 -> 椒鹽魚排 | F12: =PHONETIC(E82:E86) -> 魚排胡椒鹽 | G12: =G81 -> 茄汁豆腐 | H12: =PHONETIC(G82:G86) -> 豆腐洋蔥番茄糊番茄醬大蒜 | I12: =I81 -> 開陽白菜 | J12: =PHONETIC(I82:I86) -> 結球白菜胡蘿蔔乾香菇大蒜蝦皮 | K12: 時蔬 | L12: 蔬菜大蒜 | M12: =M81 -> 時蔬湯 | N12: =PHONETIC(M82:M86) -> 時蔬胡蘿蔔薑豬骨 | O12: =O81 -> 保久乳 | Q12: 5 | R12: 2.5 | S12: 1.6 | T12: 2.9 | U12: 1 | W12: =Q12*70+R12*75+S12*25+T12*45+U12*120+V12*60 -> 828
A13: =IF(A12="","",IF(MONTH(A12)<>MONTH(A12+1),"",A12+1)) -> 45217 | B13: =IF(A13="","",RIGHT(TEXT(WEEKDAY(A13),"[$-404]aaaa;@"),1)) -> 三 | C13: =B87 -> 泰式特餐 | D13: =B88&B89 -> 米糙米 | E13: =E87 -> 打拋豬 | F13: =PHONETIC(E88:E92) -> 豬絞肉洋蔥打拋醬大蒜 | G13: =G87 -> 風味甘藍 | H13: =PHONETIC(G88:G92) -> 甘藍胡蘿蔔叻沙醬大蒜 | I13: =I87 -> 南洋雞堡 | J13: =PHONETIC(I88:I92) -> 雞堡 | K13: 時蔬 | L13: 蔬菜大蒜 | M13: =M87 -> 冬蔭功湯 | N13: =PHONETIC(M88:M91) -> 金針菇番茄糊豬骨南薑 | O13: =O87 -> 小餐包 | Q13: 4 | R13: 2.5 | S13: 1.6 | T13: 2.9 | W13: =Q13*70+R13*75+S13*25+T13*45+U13*120+V13*60 -> 638
A14: =IF(A13="","",IF(MONTH(A13)<>MONTH(A13+1),"",A13+1)) -> 45218 | B14: =IF(A14="","",RIGHT(TEXT(WEEKDAY(A14),"[$-404]aaaa;@"),1)) -> 四 | C14: =B93 -> 糙米飯 | D14: =B94&B95 -> 米糙米 | E14: =E93 -> 豆瓣雞丁 | F14: =PHONETIC(E94:E98) -> 肉雞乾海帶豆瓣醬大蒜 | G14: =G93 -> 香滷凍腐 | H14: =PHONETIC(G94:G98) -> 凍豆腐麻竹筍干大蒜 | I14: =I93 -> 絞肉時蔬 | J14: =PHONETIC(I94:I98) -> 豬絞肉時蔬胡蘿蔔大蒜 | K14: 時蔬 | L14: 蔬菜大蒜 | M14: =M93 -> 枸杞銀耳 | N14: =PHONETIC(M94:M98) -> 乾銀耳枸杞紅砂糖 | O14: =O93 -> 海苔 | Q14: 5.4 | R14: 2.5 | S14: 1.8 | T14: 2.9 | V14: 1 | W14: =Q14*70+R14*75+S14*25+T14*45+U14*120+V14*60 -> 801
A15: =IF(A14="","",IF(MONTH(A14)<>MONTH(A14+1),"",A14+1)) -> 45219 | B15: =IF(A15="","",RIGHT(TEXT(WEEKDAY(A15),"[$-404]aaaa;@"),1)) -> 五 | C15: =B99 -> 紫米飯 | D15: =B100&B101 -> 米黑糯米 | E15: =E99 -> 鹹香肉片 | F15: =PHONETIC(E100:E104) -> 豬後腿肉甘藍胡蘿蔔醃鹹豬肉粉 | G15: =G99 -> 甘藍佐蛋 | H15: =PHONETIC(G100:G104) -> 雞蛋甘藍乾木耳大蒜 | I15: =I99 -> 五香豆干 | J15: =PHONETIC(I100:I104) -> 豆干胡蘿蔔大蒜 | K15: 時蔬 | L15: 蔬菜大蒜 | M15: =M99 -> 金針湯 | N15: =PHONETIC(M100:M104) -> 金針菜乾榨菜薑豬骨 | O15: =O99 -> 水果 | P15: 有機豆漿 | Q15: 5 | R15: 2.5 | S15: 2 | T15: 2.9 | W15: =Q15*70+R15*75+S15*25+T15*45+U15*120+V15*60 -> 718
A16: =IF(A15="","",IF(MONTH(A15)<>MONTH(A15+1),"",A15+3)) -> 45222 | B16: =IF(A16="","",RIGHT(TEXT(WEEKDAY(A16),"[$-404]aaaa;@"),1)) -> 一 | C16: =B105 -> 白米飯 | D16: =B106&B107 -> 米 | E16: =E105 -> 梅干絞肉 | F16: =PHONETIC(E106:E110) -> 豬絞肉梅乾菜麵筋大蒜 | G16: =G105 -> 豆皮銀絲 | H16: =PHONETIC(G106:G110) -> 豆皮白蘿蔔乾木耳大蒜 | I16: =I105 -> 原味薯餅 | J16: =PHONETIC(I106:I110) -> 薯餅 | K16: 時蔬 | L16: 蔬菜大蒜 | M16: =M105 -> 蛋花湯 | N16: =PHONETIC(M106:M110) -> 雞蛋乾裙帶菜薑 | O16: =O105 -> 果汁 | Q16: 5 | R16: 2.5 | S16: 2 | T16: 2.9 | W16: =Q16*70+R16*75+S16*25+T16*45+U16*120+V16*60 -> 718
A17: =IF(A16="","",IF(MONTH(A16)<>MONTH(A16+1),"",A16+1)) -> 45223 | B17: =IF(A17="","",RIGHT(TEXT(WEEKDAY(A17),"[$-404]aaaa;@"),1)) -> 二 | C17: =B111 -> 糙米飯 | D17: =B112&B113 -> 米糙米 | E17: =E111 -> 香味雞翅 | F17: =PHONETIC(E112:E116) -> 三節翅滷包 | G17: =G111 -> 絞肉白菜 | H17: =PHONETIC(G112:G116) -> 豬絞肉結球白菜乾香菇胡蘿蔔大蒜 | I17: =I111 -> 滷香竹腸 | J17: =PHONETIC(I112:I116) -> 香竹腸大蒜 | K17: 時蔬 | L17: 蔬菜大蒜 | M17: =M111 -> 時瓜湯 | N17: =PHONETIC(M112:M116) -> 時瓜枸杞薑豬骨 | O17: =O111 -> 優酪乳 | Q17: 5 | R17: 2.5 | S17: 1.7 | T17: 2.8 | U17: 1 | W17: =Q17*70+R17*75+S17*25+T17*45+U17*120+V17*60 -> 826
A18: =IF(A17="","",IF(MONTH(A17)<>MONTH(A17+1),"",A17+1)) -> 45224 | B18: =IF(A18="","",RIGHT(TEXT(WEEKDAY(A18),"[$-404]aaaa;@"),1)) -> 三 | C18: =B117 -> 刈包特餐 | D18: =B118&B119 -> 刈包 | E18: =E117 -> 酸菜肉片 | F18: =PHONETIC(E118:E122) -> 豬後腿肉酸菜薑 | G18: =G117 -> 玉筍豆腐 | H18: =PHONETIC(G118:G122) -> 豆腐冷凍玉米筍豆瓣醬大蒜 | I18: =I117 -> 麥香雞塊 | J18: =PHONETIC(I118:I122) -> 雞塊 | K18: 時蔬 | L18: 蔬菜大蒜 | M18: =M117 -> 糙米粥 | N18: =PHONETIC(M118:M122) -> 雞蛋時蔬乾香菇糙米胡蘿蔔 | O18: =O117 -> 小餐包 | Q18: 4.2 | R18: 2.5 | S18: 1.5 | T18: 2.8 | W18: =Q18*70+R18*75+S18*25+T18*45+U18*120+V18*60 -> 645
A19: =IF(A18="","",IF(MONTH(A18)<>MONTH(A18+1),"",A18+1)) -> 45225 | B19: =IF(A19="","",RIGHT(TEXT(WEEKDAY(A19),"[$-404]aaaa;@"),1)) -> 四 | C19: =B123 -> 糙米飯 | D19: =B124&B125 -> 米糙米 | E19: =E123 -> 咖哩雞丁 | F19: =PHONETIC(E124:E128) -> 肉雞馬鈴薯洋蔥咖哩粉 | G19: =G123 -> 培根豆芽 | H19: =PHONETIC(G124:G128) -> 綠豆芽胡蘿蔔培根大蒜 | I19: =I123 -> 秘汁豆干 | J19: =PHONETIC(I124:I128) -> 豆干醬油二砂糖大蒜 | K19: 時蔬 | L19: 蔬菜大蒜 | M19: =M123 -> 仙草甜湯 | N19: =PHONETIC(M124:M128) -> 仙草凍紅砂糖 | O19: =O123 -> 小饅頭 | Q19: 5.6 | R19: 2.5 | S19: 2.2 | T19: 2.9 | V19: 1 | W19: =Q19*70+R19*75+S19*25+T19*45+U19*120+V19*60 -> 825
A20: =IF(A19="","",IF(MONTH(A19)<>MONTH(A19+1),"",A19+1)) -> 45226 | B20: =IF(A20="","",RIGHT(TEXT(WEEKDAY(A20),"[$-404]aaaa;@"),1)) -> 五 | C20: =B129 -> 燕麥飯 | D20: =B130&B131 -> 米燕麥 | E20: =E129 -> 三鮮豉香 | F20: =PHONETIC(E130:E133) -> 魚丁虱目魚丸白蘿蔔豆豉 | G20: =G129 -> 螞蟻上樹 | H20: =PHONETIC(G130:G134) -> 豬絞肉冬粉時蔬乾木耳大蒜 | I20: =I129 -> 照燒凍腐 | J20: =PHONETIC(I130:I134) -> 凍豆腐時瓜醬油紅砂糖 | K20: 時蔬 | L20: 蔬菜大蒜 | M20: =M129 -> 味噌蔬湯 | N20: =PHONETIC(M130:M134) -> 時蔬味噌薑柴魚片 | O20: =O129 -> 水果 | P20: 有機豆漿 | Q20: 5.5 | R20: 2.5 | S20: 1.8 | T20: 2.9 | W20: =Q20*70+R20*75+S20*25+T20*45+U20*120+V20*60 -> 748
A21: =IF(A20="","",IF(MONTH(A20)<>MONTH(A20+1),"",A20+3)) -> 45229 | B21: =IF(A21="","",RIGHT(TEXT(WEEKDAY(A21),"[$-404]aaaa;@"),1)) -> 一 | C21: =B135 -> 白米飯 | D21: =B136&B137 -> 米 | E21: =E135 -> 家常里雞 | F21: =PHONETIC(E136:E140) -> 香雞排 | G21: =G135 -> 鐵板豆腐 | H21: =PHONETIC(G136:G140) -> 豆腐脆筍乾木耳大蒜 | I21: =I135 -> 金沙花椰 | J21: =PHONETIC(I136:I140) -> 花椰菜蛋黃粉胡蘿蔔大蒜 | K21: 時蔬 | L21: 蔬菜大蒜 | M21: =M135 -> 金針湯 | N21: =PHONETIC(M136:M140) -> 金針菜乾榨菜薑豬骨 | O21: =O135 -> 果汁 | Q21: 5 | R21: 2.5 | S21: 2.2 | T21: 2.9 | W21: =Q21*70+R21*75+S21*25+T21*45+U21*120+V21*60 -> 723
A22: =IF(A21="","",IF(MONTH(A21)<>MONTH(A21+1),"",A21+1)) -> 45230 | B22: =IF(A22="","",RIGHT(TEXT(WEEKDAY(A22),"[$-404]aaaa;@"),1)) -> 二 | C22: =B141 -> 糙米飯 | D22: =B142&B143 -> 米糙米 | E22: =E141 -> 泡菜肉片 | F22: =PHONETIC(E142:E146) -> 豬後腿肉韓式泡菜大蒜 | G22: =G141 -> 家常豆干 | H22: =PHONETIC(G142:G146) -> 豆干甘藍乾木耳胡蘿蔔大蒜 | I22: =I141 -> 滷野菜天 | J22: =PHONETIC(I142:I146) -> 野菜天 | K22: 時蔬 | L22: 蔬菜大蒜 | M22: =M141 -> 時蔬湯 | N22: =PHONETIC(M142:M146) -> 時蔬胡蘿蔔薑豬骨 | O22: =O141 -> 鮮乳 | Q22: 5.6 | R22: 2.5 | S22: 2 | T22: 3.1 | U22: 1 | W22: =Q22*70+R22*75+S22*25+T22*45+U22*120+V22*60 -> 889
A23: 過敏警語：「本月產品含有蛋、芝麻、含麩之穀物、花生、大豆、魚類、亞硫酸鹽類及其相關製品，不適合其過敏體質者食用」
A24: 月菜單編排說明:一、每周三五吃有機蔬菜。二、每週五喝有機豆漿
A25: 食材明細（食材重量以100人份計量，營養分析以個人計量,其中肉雞包含23%骨頭之採購量，每周供應特餐一次，當日得混搭供應，國中4菜1湯1附餐，國小3菜1湯1附餐）
A26: 日期 | B26: 主食 | C26: 重/公斤 | D26: 公斤 | E26: 主菜 | F26: 重/公斤 | G26: 副菜一 | H26: 重/公斤 | I26: 副菜二 | J26: 重/公斤 | K26: 蔬菜 | L26: 重/公斤 | M26: 湯品 | N26: 重/公斤 | O26: 附餐一 | P26: 附餐二
A27: =B3 -> 一 | B27: 白米飯 | D27: =IF(C27,"公斤","") | E27: 香炸魚排 | G27: 牛蒡豆腐 | I27: 開陽花椰 | K27: 時蔬 | M27: 蛋花芽湯 | O27: 果汁
A28: =A3 -> 45201 | B28: 米 | C28: 10 | D28: =IF(C28,"公斤","") -> 公斤 | E28: 魚排 | F28: 6.5 | G28: 豆腐 | H28: 5 | I28: 花椰菜 | J28: 7 | K28: 蔬菜 | L28: 7 | M28: 乾裙帶菜 | N28: 0.2
D29: =IF(C29,"公斤","") | G29: 牛蒡絲 | H29: 2 | I29: 胡蘿蔔 | J29: 0.5 | K29: 大蒜 | L29: 0.05 | M29: 薑 | N29: 0.05
D30: =IF(C30,"公斤","") | G30: 豬絞肉 | H30: 1 | I30: 蝦皮 | J30: 0.01 | M30: 雞蛋 | N30: 0.6
D31: =IF(C31,"公斤","") | G31: 大蒜 | H31: 0.05 | I31: 大蒜 | J31: 0.05
D32: =IF(C32,"公斤","")
A33: =B4 -> 二 | B33: 糙米飯 | E33: 家常雞排 | G33: 白菜凍腐 | I33: 碎脯蛋香 | K33: 時蔬 | M33: 茄香蔬湯 | O33: TAP豆漿
A34: =A4 -> 45202 | B34: 米 | C34: 7 | D34: =IF(C33,"公斤","") | E34: 香雞排 | F34: 6 | G34: 凍豆腐 | H34: 3 | I34: 雞蛋 | J34: 1.8 | K34: 蔬菜 | L34: 7 | M34: 番茄糊 | N34: 2
B35: 糙米 | C35: 3 | D35: =IF(C34,"公斤","") -> 公斤 | G35: 結球白菜 | H35: 3 | I35: 蘿蔔乾 | J35: 2 | K35: 大蒜 | L35: 0.05 | M35: 時蔬 | N35: 2
G36: 乾香菇 | H36: 0.01 | I36: 白蘿蔔 | J36: 3 | M36: 豬骨 | N36: 1
G37: 胡蘿蔔 | H37: 1 | I37: 洋蔥 | J37: 1
G38: 大蒜 | H38: 0.05 | I38: 大蒜 | J38: 0.05
A39: =B5 -> 三 | B39: 米粉特餐 | E39: 米粉配料 | G39: 原味薯餅 | I39: 蜜汁豆干 | K39: 時蔬 | M39: 三絲羹湯 | O39: 小餐包
A40: =A5 -> 45203 | B40: 米粉 | C40: 4 | E40: 豬絞肉 | F40: 6 | G40: 薯餅 | H40: 4 | I40: 豆干 | J40: 5 | K40: 蔬菜 | L40: 7 | M40: 雞蛋 | N40: 1.1
E41: 時蔬 | F41: 4 | K41: 大蒜 | L41: 0.05 | M41: 脆筍 | N41: 2
E42: 胡蘿蔔 | F42: 1 | I42: 大蒜 | J42: 0.05 | M42: 白蘿蔔 | N42: 2
D43: =IF(C43,"公斤","") | E43: 油蔥酥 | F43: 0.01 | M43: 乾木耳 | N43: 0.01
D44: =IF(C44,"公斤","") | E44: 大蒜 | F44: 0.05
A45: =B6 -> 四 | B45: 糙米飯 | E45: 筍干燒雞 | G45: 豆皮海帶 | I45: 野菜天 | K45: 時蔬 | M45: 綠豆湯 | O45: 堅果
A46: =A6 -> 45204 | B46: 米 | C46: 7 | E46: 肉雞 | F46: 9 | G46: 豆皮 | H46: 0.2 | I46: 野菜天 | J46: 4 | K46: 蔬菜 | L46: 7 | M46: 綠豆 | N46: 2
B47: 糙米 | C47: 3 | E47: 麻竹筍干 | F47: 3 | G47: 乾海帶 | H47: 1 | K47: 大蒜 | L47: 0.05 | M47: 紅砂糖 | N47: 1
E48: 大蒜 | F48: 0.05 | G48: 大蒜 | H48: 0.05
A51: =B7 -> 五 | B51: 紅藜飯 | D51: =IF(C51,"公斤","") | E51: 沙茶三鮮 | G51: 木須佐蛋 | I51: 培根豆芽 | K51: 時蔬 | M51: 金針湯 | O51: 水果 | P51: 有機豆漿
A52: =A7 -> 45205 | B52: 米 | C52: 10 | D52: =IF(C52,"公斤","") -> 公斤 | E52: 阿根廷魷 | F52: 4 | G52: 雞蛋 | H52: 1.8 | I52: 培根 | J52: 0.5 | K52: 蔬菜 | L52: 7 | M52: 金針菜乾 | N52: 0.1
B53: 紅藜 | C53: 0.1 | D53: =IF(C53,"公斤","") -> 公斤 | E53: 虱目魚丸 | F53: 4 | G53: 洋蔥 | H53: 2 | I53: 綠豆芽 | J53: 5 | K53: 大蒜 | L53: 0.05 | M53: 榨菜 | N53: 1
D54: =IF(C54,"公斤","") | E54: 白蘿蔔 | F54: 4 | G54: 乾木耳 | H54: 0.1 | I54: 胡蘿蔔 | J54: 1 | M54: 薑 | N54: 0.05
E55: 大蒜 | F55: 0.05 | G55: 胡蘿蔔 | H55: 2 | I55: 大蒜 | J55: 0.05 | M55: 豬骨 | N55: 1
G56: 大蒜 | H56: 0.05
A57: =B8 -> 三 | B57: 西式特餐 | E57: 金黃魚塊 | G57: 茄汁肉醬 | I57: 起司花椰 | K57: 時蔬 | M57: 玉米濃湯 | O57: 小餐包
A58: =A8 -> 45210 | B58: 義大利麵 | C58: 4 | D58: =IF(C58,"公斤","") -> 公斤 | E58: 虱目魚塊 | F58: 4 | G58: 豬絞肉 | H58: 3.5 | I58: 花椰菜 | J58: 7 | K58: 蔬菜 | L58: 7 | M58: 雞蛋 | N58: 0.6
D59: =IF(C59,"公斤","") | G59: 馬鈴薯 | H59: 4 | I59: 胡蘿蔔 | J59: 0.5 | K59: 大蒜 | L59: 0.05 | M59: 玉米粒罐頭 | N59: 3
D60: =IF(C60,"公斤","") | G60: 洋蔥 | H60: 1 | I60: 起司粉 | J60: 0.05 | M60: 玉米醬罐頭 | N60: 1
D61: =IF(C61,"公斤","") | G61: 大蒜 | H61: 0.05 | I61: 大蒜 | J61: 0.05 | M61: 玉米濃湯粉 | N61: 0.1
D62: =IF(C62,"公斤","")
A63: =B9 -> 四 | B63: 糙米飯 | D63: =IF(C63,"公斤","") | E63: 醬燒雞翅 | G63: 鮮菇豆腐 | I63: 絞肉瓜粒 | K63: 時蔬 | M63: 檸檬愛玉 | O63: 果汁
A64: =A9 -> 45211 | B64: 米 | C64: 7 | D64: =IF(C64,"公斤","") -> 公斤 | E64: 三節翅 | F64: 9 | G64: 豆腐 | H64: 5 | I64: 豬絞肉 | J64: 1 | K64: 蔬菜 | L64: 7 | M64: 愛玉 | N64: 6
B65: 糙米 | C65: 3 | D65: =IF(C65,"公斤","") -> 公斤 | G65: 杏鮑菇 | H65: 2 | I65: 時瓜 | J65: 7 | K65: 大蒜 | L65: 0.05 | M65: 紅砂糖 | N65: 1
G66: 乾香菇 | H66: 0.01 | I66: 乾木耳 | J66: 0.01 | M66: 檸檬汁 | N66: 0.01
D67: =IF(C67,"公斤","") | E67: 滷包 | G67: 大蒜 | H67: 0.05 | I67: 大蒜 | J67: 0.05
D68: =IF(C68,"公斤","")
A69: =B10 -> 五 | B69: 小米飯 | E69: 海結滷肉 | G69: 銀蘿蛋香 | I69: 五香豆干 | K69: 時蔬 | M69: 番茄蔬湯 | O69: 水果 | P69: 有機豆漿
A70: =A10 -> 45212 | B70: 米 | C70: 10 | D70: =IF(C70,"公斤","") -> 公斤 | E70: 豬後腿肉 | F70: 6 | G70: 雞蛋 | H70: 1.8 | I70: 豆干 | J70: 5 | K70: 蔬菜 | L70: 7 | M70: 時蔬 | N70: 2
B71: 小米 | C71: 0.4 | D71: =IF(C71,"公斤","") -> 公斤 | E71: 乾海帶 | F71: 1 | G71: 白蘿蔔 | H71: 5 | K71: 大蒜 | L71: 0.05 | M71: 番茄糊 | N71: 1
E72: 麵輪 | F72: 0.1 | G72: 胡蘿蔔 | H72: 1 | I72: 大蒜 | J72: 0.05 | M72: 薑 | N72: 0.05
E73: 大蒜 | F73: 0.05 | M73: 豬骨 | N73: 1
G74: 大蒜 | H74: 0.05
A75: =B11 -> 一 | B75: 白米飯 | D75: =IF(C75,"公斤","") | E75: 黑椒肉絲 | G75: 蔬香冬粉 | I75: 滷野菜天 | K75: 時蔬 | M75: 味噌芽湯 | O75: 果汁
A76: =A11 -> 45215 | B76: 米 | C76: 10 | D76: =IF(C76,"公斤","") -> 公斤 | E76: 豬後腿肉 | F76: 6 | G76: 雞蛋 | H76: 1.1 | I76: 野菜天 | J76: 4 | K76: 蔬菜 | L76: 7 | M76: 乾裙帶菜 | N76: 0.2
D77: =IF(C77,"公斤","") | E77: 馬鈴薯 | F77: 2 | G77: 冬粉 | H77: 1 | K77: 大蒜 | L77: 0.05 | M77: 味噌 | N77: 0.1
E78: 洋蔥 | F78: 0.3 | G78: 胡蘿蔔 | H78: 1 | M78: 薑 | N78: 0.05
E79: 大蒜 | F79: 0.05 | G79: 乾木耳 | H79: 0.01 | M79: 柴魚片 | N79: 0.01
D80: =IF(C80,"公斤","") | G80: 大蒜 | H80: 0.05
A81: =B12 -> 二 | B81: 糙米飯 | D81: =IF(C81,"公斤","") | E81: 椒鹽魚排 | G81: 茄汁豆腐 | I81: 開陽白菜 | K81: 時蔬 | M81: 時蔬湯 | O81: 保久乳
A82: =A12 -> 45216 | B82: 米 | C82: 7 | D82: =IF(C82,"公斤","") -> 公斤 | E82: 魚排 | F82: 6.5 | G82: 豆腐 | H82: 4 | I82: 結球白菜 | J82: 7 | K82: 蔬菜 | L82: 7 | M82: 時蔬 | N82: 3
B83: 糙米 | C83: 3 | E83: 胡椒鹽 | G83: 洋蔥 | H83: 1 | I83: 胡蘿蔔 | J83: 0.5 | K83: 大蒜 | L83: 0.05 | M83: 胡蘿蔔 | N83: 1
G84: 番茄糊 | H84: 2 | I84: 乾香菇 | J84: 0.01 | M84: 薑 | N84: 0.05
G85: 番茄醬 | I85: 大蒜 | J85: 0.05 | M85: 豬骨 | N85: 1
G86: 大蒜 | H86: 0.05 | I86: 蝦皮
A87: =B13 -> 三 | B87: 泰式特餐 | E87: 打拋豬 | G87: 風味甘藍 | I87: 南洋雞堡 | K87: 時蔬 | M87: 冬蔭功湯 | O87: 小餐包
A88: =A13 -> 45217 | B88: 米 | C88: 8 | E88: 豬絞肉 | F88: 6 | G88: 甘藍 | H88: 7 | I88: 雞堡 | J88: 4 | K88: 蔬菜 | L88: 7 | M88: 金針菇 | N88: 1.5
B89: 糙米 | C89: 3 | D89: =IF(C83,"公斤","") -> 公斤 | E89: 洋蔥 | F89: 2 | G89: 胡蘿蔔 | H89: 0.5 | K89: 大蒜 | L89: 0.05 | M89: 番茄糊 | N89: 2
E90: 打拋醬 | F90: 0.1 | G90: 叻沙醬 | H90: 0.5 | M90: 豬骨 | N90: 1
D91: =IF(C91,"公斤","") | E91: 大蒜 | F91: 0.05 | G91: 大蒜 | H91: 0.05 | M91: 南薑
D92: =IF(C87,"公斤","") | M92: 香茅
A93: =B14 -> 四 | B93: 糙米飯 | D93: =IF(C93,"公斤","") | E93: 豆瓣雞丁 | G93: 香滷凍腐 | I93: 絞肉時蔬 | K93: 時蔬 | M93: 枸杞銀耳 | O93: 海苔
A94: =A14 -> 45218 | B94: 米 | C94: 7 | D94: =IF(C94,"公斤","") -> 公斤 | E94: 肉雞 | F94: 9 | G94: 凍豆腐 | H94: 2.7 | I94: 豬絞肉 | J94: 1 | K94: 蔬菜 | L94: 7 | M94: 乾銀耳 | N94: 0.2
B95: 糙米 | C95: 3 | D95: =IF(C95,"公斤","") -> 公斤 | E95: 乾海帶 | F95: 0.5 | G95: 麻竹筍干 | H95: 3 | I95: 時蔬 | J95: 6 | K95: 大蒜 | L95: 0.05 | M95: 枸杞 | N95: 0.01
E96: 豆瓣醬 | G96: 大蒜 | H96: 0.05 | I96: 胡蘿蔔 | J96: 0.5 | M96: 紅砂糖 | N96: 1
E97: 大蒜 | F97: 0.05 | I97: 大蒜 | J97: 0.05
A99: =B15 -> 五 | B99: 紫米飯 | D99: =IF(C99,"公斤","") | E99: 鹹香肉片 | G99: 甘藍佐蛋 | I99: 五香豆干 | K99: 時蔬 | M99: 金針湯 | O99: 水果 | P99: 有機豆漿
A100: =A15 -> 45219 | B100: 米 | C100: 10 | E100: 豬後腿肉 | F100: 6 | G100: 雞蛋 | H100: 1.2 | I100: 豆干 | J100: 4.5 | K100: 蔬菜 | L100: 7 | M100: 金針菜乾 | N100: 0.2
B101: 黑糯米 | C101: 0.4 | D101: =IF(C101,"公斤","") -> 公斤 | E101: 甘藍 | F101: 4 | G101: 甘藍 | H101: 7 | I101: 胡蘿蔔 | J101: 1 | K101: 大蒜 | L101: 0.05 | M101: 榨菜 | N101: 1
D102: =IF(C102,"公斤","") | E102: 胡蘿蔔 | F102: 0.5 | G102: 乾木耳 | H102: 0.01 | M102: 薑 | N102: 0.05
E103: 醃鹹豬肉粉 | G103: 大蒜 | H103: 0.05 | I103: 大蒜 | J103: 0.05 | M103: 豬骨 | N103: 1
...

Sheet 國小
A1: 112 | D1: 112 | E1: 學年度 | F1: 國民 | G1: 小學 | H1: 10 | I1: 月葷食菜單-7案 | L1: 津吉-本店使用台灣豬肉
A2: 日期 | B2: 星期 | C2: 主食 | D2: 主食明細 | E2: 主菜 | F2: 主菜明細 | G2: 副菜一 | H2: 副菜一明細 | I2: 蔬菜 | J2: 蔬菜明細 | K2: 湯品 | L2: 湯品明細 | M2: 附餐一 | N2: 附餐二 | O2: 穀/份 | P2: 豆/份 | Q2: 蔬/份 | R2: 油/份 | S2: 乳/分 | T2: 果/份 | U2: 熱量
A3: 45201 | B3: =IF(A3="","",RIGHT(TEXT(WEEKDAY(A3),"[$-404]aaaa;@"),1)) -> 一 | C3: =B27 -> 白米飯 | D3: =B28&B29 -> 米 | E3: =E27 -> 香炸魚排 | F3: =PHONETIC(E28:E32) -> 魚排 | G3: =G27 -> 牛蒡豆腐 | H3: =PHONETIC(G28:G32) -> 豆腐牛蒡絲豬絞肉大蒜 | I3: 時蔬 | J3: 蔬菜大蒜 | K3: =K27 -> 蛋花芽湯 | L3: =PHONETIC(K28:K31) -> 乾裙帶菜薑雞蛋 | M3: =M27 -> 果汁 | O3: 5.3 | P3: 2.5 | Q3: 1.9 | R3: 2.8 | U3: =O3*70+P3*75+Q3*25+R3*45+S3*120+T3*60 -> 732
A4: =IF(A3="","",IF(MONTH(A3)<>MONTH(A3+1),"",A3+1)) -> 45202 | B4: =IF(A4="","",RIGHT(TEXT(WEEKDAY(A4),"[$-404]aaaa;@"),1)) -> 二 | C4: =B33 -> 糙米飯 | D4: =B34&B35 -> 米糙米 | E4: =E33 -> 家常雞排 | F4: =PHONETIC(E34:E38) -> 香雞排 | G4: =G33 -> 白菜凍腐 | H4: =PHONETIC(G34:G38) -> 凍豆腐結球白菜乾香菇胡蘿蔔大蒜 | I4: 時蔬 | J4: 蔬菜大蒜 | K4: =K33 -> 茄香蔬湯 | L4: =PHONETIC(K34:K37) -> 番茄糊時蔬豬骨 | M4: =M33 -> TAP豆漿 | O4: 6 | P4: 2.5 | Q4: 1.8 | R4: 2.9 | T4: 1 | U4: =O4*70+P4*75+Q4*25+R4*45+S4*120+T4*60 -> 843
A5: =IF(A4="","",IF(MONTH(A4)<>MONTH(A4+1),"",A4+1)) -> 45203 | B5: =IF(A5="","",RIGHT(TEXT(WEEKDAY(A5),"[$-404]aaaa;@"),1)) -> 三 | C5: =B39 -> 米粉特餐 | D5: =B40&B41 -> 米粉 | E5: =E39 -> 米粉配料 | F5: =PHONETIC(E40:E44) -> 豬絞肉時蔬胡蘿蔔油蔥酥大蒜 | G5: =G39 -> 原味薯餅 | H5: =PHONETIC(G40:G44) -> 薯餅 | I5: 時蔬 | J5: 蔬菜大蒜 | K5: =K39 -> 三絲羹湯 | L5: =PHONETIC(K40:K43) -> 雞蛋脆筍白蘿蔔乾木耳 | M5: =M39 -> 小餐包 | O5: 5.2 | P5: 2.5 | Q5: 2 | R5: 2.9 | S5: 1 | U5: =O5*70+P5*75+Q5*25+R5*45+S5*120+T5*60 -> 852
A6: =IF(A5="","",IF(MONTH(A5)<>MONTH(A5+1),"",A5+1)) -> 45204 | B6: =IF(A6="","",RIGHT(TEXT(WEEKDAY(A6),"[$-404]aaaa;@"),1)) -> 四 | C6: =B45 -> 糙米飯 | D6: =B46&B47 -> 米糙米 | E6: =E45 -> 筍干燒雞 | F6: =PHONETIC(E46:E50) -> 肉雞麻竹筍干大蒜 | G6: =G45 -> 豆皮海帶 | H6: =PHONETIC(G46:G50) -> 豆皮乾海帶大蒜 | I6: 時蔬 | J6: 蔬菜大蒜 | K6: =K45 -> 綠豆湯 | L6: =PHONETIC(K46:K49) -> 綠豆紅砂糖 | M6: =M45 -> 堅果 | O6: 5.6 | P6: 2.5 | Q6: 1.7 | R6: 2.8 | U6: =O6*70+P6*75+Q6*25+R6*45+S6*120+T6*60 -> 748
A7: =IF(A6="","",IF(MONTH(A6)<>MONTH(A6+1),"",A6+1)) -> 45205 | B7: =IF(A7="","",RIGHT(TEXT(WEEKDAY(A7),"[$-404]aaaa;@"),1)) -> 五 | C7: =B51 -> 紅藜飯 | D7: =B52&B53 -> 米紅藜 | E7: =E51 -> 沙茶三鮮 | F7: =PHONETIC(E52:E56) -> 阿根廷魷虱目魚丸白蘿蔔大蒜 | G7: =G51 -> 木須佐蛋 | H7: =PHONETIC(G52:G56) -> 雞蛋洋蔥乾木耳胡蘿蔔大蒜 | I7: 時蔬 | J7: 蔬菜大蒜 | K7: =K51 -> 金針湯 | L7: =PHONETIC(K52:K56) -> 金針菜乾榨菜薑豬骨 | M7: =M51 -> 水果 | N7: 有機豆漿 | O7: 5 | P7: 2.5 | Q7: 1.8 | R7: 2.9 | S7: 1 | U7: =O7*70+P7*75+Q7*25+R7*45+S7*120+T7*60 -> 833
A8: =IF(A7="","",IF(MONTH(A7)<>MONTH(A7+1),"",A7+5)) -> 45210 | B8: =IF(A8="","",RIGHT(TEXT(WEEKDAY(A8),"[$-404]aaaa;@"),1)) -> 三 | C8: =B57 -> 西式特餐 | D8: =B58&B59 -> 義大利麵 | E8: =E57 -> 金黃魚塊 | F8: =PHONETIC(E58:E62) -> 虱目魚塊 | G8: =G57 -> 茄汁肉醬 | H8: =PHONETIC(G58:G62) -> 豬絞肉馬鈴薯洋蔥大蒜 | I8: 時蔬 | J8: 蔬菜大蒜 | K8: =K57 -> 玉米濃湯 | L8: =PHONETIC(K58:K62) -> 雞蛋玉米粒罐頭玉米醬罐頭玉米濃湯粉 | M8: =M57 -> 小餐包 | O8: 5 | P8: 2.5 | Q8: 1.6 | R8: 2.9 | U8: =O8*70+P8*75+Q8*25+R8*45+S8*120+T8*60 -> 708
A9: =IF(A8="","",IF(MONTH(A8)<>MONTH(A8+1),"",A8+1)) -> 45211 | B9: =IF(A9="","",RIGHT(TEXT(WEEKDAY(A9),"[$-404]aaaa;@"),1)) -> 四 | C9: =B63 -> 糙米飯 | D9: =B64&B65 -> 米糙米 | E9: =E63 -> 醬燒雞翅 | F9: =PHONETIC(E64:E68) -> 三節翅滷包 | G9: =G63 -> 鮮菇豆腐 | H9: =PHONETIC(G64:G68) -> 豆腐杏鮑菇乾香菇大蒜 | I9: 時蔬 | J9: 蔬菜大蒜 | K9: =K63 -> 檸檬愛玉 | L9: =PHONETIC(K64:K67) -> 愛玉紅砂糖檸檬汁 | M9: =M63 -> 果汁 | O9: 5 | P9: 2.5 | Q9: 2 | R9: 2.7 | T9: 1 | U9: =O9*70+P9*75+Q9*25+R9*45+S9*120+T9*60 -> 769
A10: =IF(A9="","",IF(MONTH(A9)<>MONTH(A9+1),"",A9+1)) -> 45212 | B10: =IF(A10="","",RIGHT(TEXT(WEEKDAY(A10),"[$-404]aaaa;@"),1)) -> 五 | C10: =B69 -> 小米飯 | D10: =B70&B71 -> 米小米 | E10: =E69 -> 海結滷肉 | F10: =PHONETIC(E70:E74) -> 豬後腿肉乾海帶麵輪大蒜 | G10: =G69 -> 銀蘿蛋香 | H10: =PHONETIC(G70:G74) -> 雞蛋白蘿蔔胡蘿蔔大蒜 | I10: 時蔬 | J10: 蔬菜大蒜 | K10: =K69 -> 番茄蔬湯 | L10: =PHONETIC(K70:K74) -> 時蔬番茄糊薑豬骨 | M10: =M69 -> 水果 | N10: 有機豆漿 | O10: 5.2 | P10: 2.5 | Q10: 2 | R10: 2.9 | U10: =O10*70+P10*75+Q10*25+R10*45+S10*120+T10*60 -> 732
A11: =IF(A10="","",IF(MONTH(A10)<>MONTH(A10+1),"",A10+3)) -> 45215 | B11: =IF(A11="","",RIGHT(TEXT(WEEKDAY(A11),"[$-404]aaaa;@"),1)) -> 一 | C11: =B75 -> 白米飯 | D11: =B76&B77 -> 米 | E11: =E75 -> 黑椒肉絲 | F11: =PHONETIC(E76:E80) -> 豬後腿肉馬鈴薯洋蔥大蒜 | G11: =G75 -> 蔬香冬粉 | H11: =PHONETIC(G76:G80) -> 雞蛋冬粉胡蘿蔔乾木耳大蒜 | I11: 時蔬 | J11: 蔬菜大蒜 | K11: =K75 -> 味噌芽湯 | L11: =PHONETIC(K76:K79) -> 乾裙帶菜味噌薑柴魚片 | M11: =M75 -> 果汁 | O11: 5 | P11: 2.5 | Q11: 1.7 | R11: 3 | U11: =O11*70+P11*75+Q11*25+R11*45+S11*120+T11*60 -> 715
A12: =IF(A11="","",IF(MONTH(A11)<>MONTH(A11+1),"",A11+1)) -> 45216 | B12: =IF(A12="","",RIGHT(TEXT(WEEKDAY(A12),"[$-404]aaaa;@"),1)) -> 二 | C12: =B81 -> 糙米飯 | D12: =B82&B83 -> 米糙米 | E12: =E81 -> 椒鹽魚排 | F12: =PHONETIC(E82:E86) -> 魚排胡椒鹽 | G12: =G81 -> 茄汁豆腐 | H12: =PHONETIC(G82:G86) -> 豆腐洋蔥番茄糊番茄醬大蒜 | I12: 時蔬 | J12: 蔬菜大蒜 | K12: =K81 -> 時蔬湯 | L12: =PHONETIC(K82:K86) -> 時蔬胡蘿蔔薑豬骨 | M12: =M81 -> 保久乳/堅果 | O12: 5 | P12: 2.5 | Q12: 1.6 | R12: 2.9 | S12: 1 | U12: =O12*70+P12*75+Q12*25+R12*45+S12*120+T12*60 -> 828
A13: =IF(A12="","",IF(MONTH(A12)<>MONTH(A12+1),"",A12+1)) -> 45217 | B13: =IF(A13="","",RIGHT(TEXT(WEEKDAY(A13),"[$-404]aaaa;@"),1)) -> 三 | C13: =B87 -> 泰式特餐 | D13: =B88&B89 -> 米糙米 | E13: =E87 -> 打拋豬 | F13: =PHONETIC(E88:E92) -> 豬絞肉洋蔥打拋醬大蒜 | G13: =G87 -> 風味甘藍 | H13: =PHONETIC(G88:G92) -> 甘藍胡蘿蔔叻沙醬大蒜 | I13: 時蔬 | J13: 蔬菜大蒜 | K13: =K87 -> 冬蔭功湯 | L13: =PHONETIC(K88:K91) -> 金針菇番茄糊豬骨南薑 | M13: =M87 -> 小餐包 | O13: 4 | P13: 2.5 | Q13: 1.6 | R13: 2.9 | U13: =O13*70+P13*75+Q13*25+R13*45+S13*120+T13*60 -> 638
A14: =IF(A13="","",IF(MONTH(A13)<>MONTH(A13+1),"",A13+1)) -> 45218 | B14: =IF(A14="","",RIGHT(TEXT(WEEKDAY(A14),"[$-404]aaaa;@"),1)) -> 四 | C14: =B93 -> 糙米飯 | D14: =B94&B95 -> 米糙米 | E14: =E93 -> 豆瓣雞丁 | F14: =PHONETIC(E94:E98) -> 肉雞乾海帶豆瓣醬大蒜 | G14: =G93 -> 香滷凍腐 | H14: =PHONETIC(G94:G98) -> 凍豆腐麻竹筍干大蒜 | I14: 時蔬 | J14: 蔬菜大蒜 | K14: =K93 -> 枸杞銀耳 | L14: =PHONETIC(K94:K98) -> 乾銀耳枸杞紅砂糖 | M14: =M93 -> 海苔 | O14: 5.4 | P14: 2.5 | Q14: 1.8 | R14: 2.9 | T14: 1 | U14: =O14*70+P14*75+Q14*25+R14*45+S14*120+T14*60 -> 801
A15: =IF(A14="","",IF(MONTH(A14)<>MONTH(A14+1),"",A14+1)) -> 45219 | B15: =IF(A15="","",RIGHT(TEXT(WEEKDAY(A15),"[$-404]aaaa;@"),1)) -> 五 | C15: =B99 -> 紫米飯 | D15: =B100&B101 -> 米黑糯米 | E15: =E99 -> 鹹香肉片 | F15: =PHONETIC(E100:E104) -> 豬後腿肉甘藍胡蘿蔔醃鹹豬肉粉 | G15: =G99 -> 甘藍佐蛋 | H15: =PHONETIC(G100:G104) -> 雞蛋甘藍乾木耳大蒜 | I15: 時蔬 | J15: 蔬菜大蒜 | K15: =K99 -> 金針湯 | L15: =PHONETIC(K100:K104) -> 金針菜乾榨菜薑豬骨 | M15: =M99 -> 水果 | N15: 有機豆漿 | O15: 5 | P15: 2.5 | Q15: 2 | R15: 2.9 | U15: =O15*70+P15*75+Q15*25+R15*45+S15*120+T15*60 -> 718
A16: =IF(A15="","",IF(MONTH(A15)<>MONTH(A15+1),"",A15+3)) -> 45222 | B16: =IF(A16="","",RIGHT(TEXT(WEEKDAY(A16),"[$-404]aaaa;@"),1)) -> 一 | C16: =B105 -> 白米飯 | D16: =B106&B107 -> 米 | E16: =E105 -> 梅干絞肉 | F16: =PHONETIC(E106:E110) -> 豬絞肉梅乾菜麵筋大蒜 | G16: =G105 -> 豆皮銀絲 | H16: =PHONETIC(G106:G110) -> 豆皮白蘿蔔乾木耳大蒜 | I16: 時蔬 | J16: 蔬菜大蒜 | K16: =K105 -> 蛋花湯 | L16: =PHONETIC(K106:K110) -> 雞蛋乾裙帶菜薑 | M16: =M105 -> 果汁 | O16: 5 | P16: 2.5 | Q16: 2 | R16: 2.9 | U16: =O16*70+P16*75+Q16*25+R16*45+S16*120+T16*60 -> 718
A17: =IF(A16="","",IF(MONTH(A16)<>MONTH(A16+1),"",A16+1)) -> 45223 | B17: =IF(A17="","",RIGHT(TEXT(WEEKDAY(A17),"[$-404]aaaa;@"),1)) -> 二 | C17: =B111 -> 糙米飯 | D17: =B112&B113 -> 米糙米 | E17: =E111 -> 香味雞翅 | F17: =PHONETIC(E112:E116) -> 三節翅滷包 | G17: =G111 -> 絞肉白菜 | H17: =PHONETIC(G112:G116) -> 豬絞肉結球白菜乾香菇胡蘿蔔大蒜 | I17: 時蔬 | J17: 蔬菜大蒜 | K17: =K111 -> 時瓜湯 | L17: =PHONETIC(K112:K116) -> 時瓜枸杞薑豬骨 | M17: =M111 -> 優酪乳/保久乳 | O17: 5 | P17: 2.5 | Q17: 1.7 | R17: 2.8 | S17: 1 | U17: =O17*70+P17*75+Q17*25+R17*45+S17*120+T17*60 -> 826
A18: =IF(A17="","",IF(MONTH(A17)<>MONTH(A17+1),"",A17+1)) -> 45224 | B18: =IF(A18="","",RIGHT(TEXT(WEEKDAY(A18),"[$-404]aaaa;@"),1)) -> 三 | C18: =B117 -> 刈包特餐 | D18: =B118&B119 -> 刈包 | E18: =E117 -> 酸菜肉片 | F18: =PHONETIC(E118:E122) -> 豬後腿肉酸菜薑 | G18: =G117 -> 玉筍豆腐 | H18: =PHONETIC(G118:G122) -> 豆腐冷凍玉米筍豆瓣醬大蒜 | I18: 時蔬 | J18: 蔬菜大蒜 | K18: =K117 -> 糙米粥 | L18: =PHONETIC(K118:K122) -> 雞蛋時蔬乾香菇糙米胡蘿蔔 | M18: =M117 -> 小餐包 | O18: 4.2 | P18: 2.5 | Q18: 1.5 | R18: 2.8 | U18: =O18*70+P18*75+Q18*25+R18*45+S18*120+T18*60 -> 645
A19: =IF(A18="","",IF(MONTH(A18)<>MONTH(A18+1),"",A18+1)) -> 45225 | B19: =IF(A19="","",RIGHT(TEXT(WEEKDAY(A19),"[$-404]aaaa;@"),1)) -> 四 | C19: =B123 -> 糙米飯 | D19: =B124&B125 -> 米糙米 | E19: =E123 -> 咖哩雞丁 | F19: =PHONETIC(E124:E128) -> 肉雞馬鈴薯洋蔥咖哩粉 | G19: =G123 -> 培根豆芽 | H19: =PHONETIC(G124:G128) -> 綠豆芽胡蘿蔔培根大蒜 | I19: 時蔬 | J19: 蔬菜大蒜 | K19: =K123 -> 仙草甜湯 | L19: =PHONETIC(K124:K128) -> 仙草凍紅砂糖 | M19: =M123 -> 小饅頭 | O19: 5.6 | P19: 2.5 | Q19: 2.2 | R19: 2.9 | T19: 1 | U19: =O19*70+P19*75+Q19*25+R19*45+S19*120+T19*60 -> 825
A20: =IF(A19="","",IF(MONTH(A19)<>MONTH(A19+1),"",A19+1)) -> 45226 | B20: =IF(A20="","",RIGHT(TEXT(WEEKDAY(A20),"[$-404]aaaa;@"),1)) -> 五 | C20: =B129 -> 燕麥飯 | D20: =B130&B131 -> 米燕麥 | E20: =E129 -> 三鮮豉香 | F20: =PHONETIC(E130:E133) -> 魚丁虱目魚丸白蘿蔔豆豉 | G20: =G129 -> 螞蟻上樹 | H20: =PHONETIC(G130:G134) -> 豬絞肉冬粉時蔬乾木耳大蒜 | I20: 時蔬 | J20: 蔬菜大蒜 | K20: =K129 -> 味噌蔬湯 | L20: =PHONETIC(K130:K134) -> 時蔬味噌薑柴魚片 | M20: =M129 -> 水果 | N20: 有機豆漿 | O20: 5.5 | P20: 2.5 | Q20: 1.8 | R20: 2.9 | U20: =O20*70+P20*75+Q20*25+R20*45+S20*120+T20*60 -> 748
A21: =IF(A20="","",IF(MONTH(A20)<>MONTH(A20+1),"",A20+3)) -> 45229 | B21: =IF(A21="","",RIGHT(TEXT(WEEKDAY(A21),"[$-404]aaaa;@"),1)) -> 一 | C21: =B135 -> 白米飯 | D21: =B136&B137 -> 米 | E21: =E135 -> 家常里雞 | F21: =PHONETIC(E136:E140) -> 香雞排 | G21: =G135 -> 鐵板豆腐 | H21: =PHONETIC(G136:G140) -> 豆腐脆筍乾木耳大蒜 | I21: 時蔬 | J21: 蔬菜大蒜 | K21: =K135 -> 金針湯 | L21: =PHONETIC(K136:K140) -> 金針菜乾榨菜薑豬骨 | M21: =M135 -> 果汁 | O21: 5 | P21: 2.5 | Q21: 2.2 | R21: 2.9 | U21: =O21*70+P21*75+Q21*25+R21*45+S21*120+T21*60 -> 723
A22: =IF(A21="","",IF(MONTH(A21)<>MONTH(A21+1),"",A21+1)) -> 45230 | B22: =IF(A22="","",RIGHT(TEXT(WEEKDAY(A22),"[$-404]aaaa;@"),1)) -> 二 | C22: =B141 -> 糙米飯 | D22: =B142&B143 -> 米糙米 | E22: =E141 -> 泡菜肉片 | F22: =PHONETIC(E142:E146) -> 豬後腿肉韓式泡菜大蒜 | G22: =G141 -> 家常豆干 | H22: =PHONETIC(G142:G146) -> 豆干甘藍乾木耳胡蘿蔔大蒜 | I22: 時蔬 | J22: 蔬菜大蒜 | K22: =K141 -> 時蔬湯 | L22: =PHONETIC(K142:K146) -> 時蔬胡蘿蔔薑豬骨 | M22: =M141 -> 鮮乳/保久乳 | O22: 5.6 | P22: 2.5 | Q22: 2 | R22: 3.1 | S22: 1 | U22: =O22*70+P22*75+Q22*25+R22*45+S22*120+T22*60 -> 889
A23: 過敏警語：「本月產品含有蛋、芝麻、含麩之穀物、花生、大豆、魚類、亞硫酸鹽類及其相關製品，不適合其過敏體質者食用」
A24: 月菜單編排說明:一、每周三五吃有機蔬菜。二、每週五喝有機豆漿
A25: 食材明細（食材重量以100人份計量，營養分析以個人計量,其中肉雞包含23%骨頭之採購量，每周供應特餐一次，當日得混搭供應，國中4菜1湯1附餐，國小3菜1湯1附餐）
A26: 日期 | B26: 主食 | C26: 重/公斤 | D26: 公斤 | E26: 主菜 | F26: 重/公斤 | G26: 副菜一 | H26: 重/公斤 | I26: 蔬菜 | J26: 重/公斤 | K26: 湯品 | L26: 重/公斤 | M26: 附餐一 | N26: 附餐二
A27: =B3 -> 一 | B27: 白米飯 | D27: =IF(C27,"公斤","") | E27: 香炸魚排 | G27: 牛蒡豆腐 | I27: 時蔬 | K27: 蛋花芽湯 | M27: 果汁
A28: =A3 -> 45201 | B28: 米 | C28: 10 | D28: =IF(C28,"公斤","") -> 公斤 | E28: 魚排 | F28: 6.5 | G28: 豆腐 | H28: 5 | I28: 蔬菜 | J28: 7 | K28: 乾裙帶菜 | L28: 0.2
D29: =IF(C29,"公斤","") | G29: 牛蒡絲 | H29: 2 | I29: 大蒜 | J29: 0.05 | K29: 薑 | L29: 0.05
D30: =IF(C30,"公斤","") | G30: 豬絞肉 | H30: 1 | K30: 雞蛋 | L30: 0.6
D31: =IF(C31,"公斤","") | G31: 大蒜 | H31: 0.05
D32: =IF(C32,"公斤","")
A33: =B4 -> 二 | B33: 糙米飯 | E33: 家常雞排 | G33: 白菜凍腐 | I33: 時蔬 | K33: 茄香蔬湯 | M33: TAP豆漿
A34: =A4 -> 45202 | B34: 米 | C34: 7 | D34: =IF(C33,"公斤","") | E34: 香雞排 | F34: 6 | G34: 凍豆腐 | H34: 3 | I34: 蔬菜 | J34: 7 | K34: 番茄糊 | L34: 2
B35: 糙米 | C35: 3 | D35: =IF(C34,"公斤","") -> 公斤 | G35: 結球白菜 | H35: 3 | I35: 大蒜 | J35: 0.05 | K35: 時蔬 | L35: 2
G36: 乾香菇 | H36: 0.01 | K36: 豬骨 | L36: 1
G37: 胡蘿蔔 | H37: 1
G38: 大蒜 | H38: 0.05
A39: =B5 -> 三 | B39: 米粉特餐 | E39: 米粉配料 | G39: 原味薯餅 | I39: 時蔬 | K39: 三絲羹湯 | M39: 小餐包
A40: =A5 -> 45203 | B40: 米粉 | C40: 4 | E40: 豬絞肉 | F40: 6 | G40: 薯餅 | H40: 4 | I40: 蔬菜 | J40: 7 | K40: 雞蛋 | L40: 1.1
E41: 時蔬 | F41: 4 | I41: 大蒜 | J41: 0.05 | K41: 脆筍 | L41: 2
E42: 胡蘿蔔 | F42: 1 | K42: 白蘿蔔 | L42: 2
D43: =IF(C43,"公斤","") | E43: 油蔥酥 | F43: 0.01 | K43: 乾木耳 | L43: 0.01
D44: =IF(C44,"公斤","") | E44: 大蒜 | F44: 0.05
A45: =B6 -> 四 | B45: 糙米飯 | E45: 筍干燒雞 | G45: 豆皮海帶 | I45: 時蔬 | K45: 綠豆湯 | M45: 堅果
A46: =A6 -> 45204 | B46: 米 | C46: 7 | E46: 肉雞 | F46: 9 | G46: 豆皮 | H46: 0.2 | I46: 蔬菜 | J46: 7 | K46: 綠豆 | L46: 2
B47: 糙米 | C47: 3 | E47: 麻竹筍干 | F47: 3 | G47: 乾海帶 | H47: 1 | I47: 大蒜 | J47: 0.05 | K47: 紅砂糖 | L47: 1
E48: 大蒜 | F48: 0.05 | G48: 大蒜 | H48: 0.05
A51: =B7 -> 五 | B51: 紅藜飯 | D51: =IF(C51,"公斤","") | E51: 沙茶三鮮 | G51: 木須佐蛋 | I51: 時蔬 | K51: 金針湯 | M51: 水果 | N51: 有機豆漿
A52: =A7 -> 45205 | B52: 米 | C52: 10 | D52: =IF(C52,"公斤","") -> 公斤 | E52: 阿根廷魷 | F52: 4 | G52: 雞蛋 | H52: 1.8 | I52: 蔬菜 | J52: 7 | K52: 金針菜乾 | L52: 0.1
B53: 紅藜 | C53: 0.1 | D53: =IF(C53,"公斤","") -> 公斤 | E53: 虱目魚丸 | F53: 4 | G53: 洋蔥 | H53: 2 | I53: 大蒜 | J53: 0.05 | K53: 榨菜 | L53: 1
D54: =IF(C54,"公斤","") | E54: 白蘿蔔 | F54: 4 | G54: 乾木耳 | H54: 0.1 | K54: 薑 | L54: 0.05
E55: 大蒜 | F55: 0.05 | G55: 胡蘿蔔 | H55: 2 | K55: 豬骨 | L55: 1
G56: 大蒜 | H56: 0.05
A57: =B8 -> 三 | B57: 西式特餐 | E57: 金黃魚塊 | G57: 茄汁肉醬 | I57: 時蔬 | K57: 玉米濃湯 | M57: 小餐包
A58: =A8 -> 45210 | B58: 義大利麵 | C58: 4 | D58: =IF(C58,"公斤","") -> 公斤 | E58: 虱目魚塊 | F58: 4 | G58: 豬絞肉 | H58: 3.5 | I58: 蔬菜 | J58: 7 | K58: 雞蛋 | L58: 0.6
D59: =IF(C59,"公斤","") | G59: 馬鈴薯 | H59: 4 | I59: 大蒜 | J59: 0.05 | K59: 玉米粒罐頭 | L59: 3
D60: =IF(C60,"公斤","") | G60: 洋蔥 | H60: 1 | K60: 玉米醬罐頭 | L60: 1
D61: =IF(C61,"公斤","") | G61: 大蒜 | H61: 0.05 | K61: 玉米濃湯粉 | L61: 0.1
D62: =IF(C62,"公斤","")
A63: =B9 -> 四 | B63: 糙米飯 | D63: =IF(C63,"公斤","") | E63: 醬燒雞翅 | G63: 鮮菇豆腐 | I63: 時蔬 | K63: 檸檬愛玉 | M63: 果汁
A64: =A9 -> 45211 | B64: 米 | C64: 7 | D64: =IF(C64,"公斤","") -> 公斤 | E64: 三節翅 | F64: 9 | G64: 豆腐 | H64: 5 | I64: 蔬菜 | J64: 7 | K64: 愛玉 | L64: 6
B65: 糙米 | C65: 3 | D65: =IF(C65,"公斤","") -> 公斤 | G65: 杏鮑菇 | H65: 2 | I65: 大蒜 | J65: 0.05 | K65: 紅砂糖 | L65: 1
G66: 乾香菇 | H66: 0.01 | K66: 檸檬汁 | L66: 0.01
D67: =IF(C67,"公斤","") | E67: 滷包 | G67: 大蒜 | H67: 0.05
D68: =IF(C68,"公斤","")
A69: =B10 -> 五 | B69: 小米飯 | E69: 海結滷肉 | G69: 銀蘿蛋香 | I69: 時蔬 | K69: 番茄蔬湯 | M69: 水果 | N69: 有機豆漿
A70: =A10 -> 45212 | B70: 米 | C70: 10 | D70: =IF(C70,"公斤","") -> 公斤 | E70: 豬後腿肉 | F70: 6 | G70: 雞蛋 | H70: 1.8 | I70: 蔬菜 | J70: 7 | K70: 時蔬 | L70: 2
B71: 小米 | C71: 0.4 | D71: =IF(C71,"公斤","") -> 公斤 | E71: 乾海帶 | F71: 1 | G71: 白蘿蔔 | H71: 5 | I71: 大蒜 | J71: 0.05 | K71: 番茄糊 | L71: 1
E72: 麵輪 | F72: 0.1 | G72: 胡蘿蔔 | H72: 1 | K72: 薑 | L72: 0.05
E73: 大蒜 | F73: 0.05 | K73: 豬骨 | L73: 1
G74: 大蒜 | H74: 0.05
A75: =B11 -> 一 | B75: 白米飯 | D75: =IF(C75,"公斤","") | E75: 黑椒肉絲 | G75: 蔬香冬粉 | I75: 時蔬 | K75: 味噌芽湯 | M75: 果汁
A76: =A11 -> 45215 | B76: 米 | C76: 10 | D76: =IF(C76,"公斤","") -> 公斤 | E76: 豬後腿肉 | F76: 6 | G76: 雞蛋 | H76: 1.1 | I76: 蔬菜 | J76: 7 | K76: 乾裙帶菜 | L76: 0.2
D77: =IF(C77,"公斤","") | E77: 馬鈴薯 | F77: 2 | G77: 冬粉 | H77: 1 | I77: 大蒜 | J77: 0.05 | K77: 味噌 | L77: 0.1
E78: 洋蔥 | F78: 0.3 | G78: 胡蘿蔔 | H78: 1 | K78: 薑 | L78: 0.05
E79: 大蒜 | F79: 0.05 | G79: 乾木耳 | H79: 0.01 | K79: 柴魚片 | L79: 0.01
D80: =IF(C80,"公斤","") | G80: 大蒜 | H80: 0.05
A81: =B12 -> 二 | B81: 糙米飯 | D81: =IF(C81,"公斤","") | E81: 椒鹽魚排 | G81: 茄汁豆腐 | I81: 時蔬 | K81: 時蔬湯 | M81: 保久乳/堅果
A82: =A12 -> 45216 | B82: 米 | C82: 7 | D82: =IF(C82,"公斤","") -> 公斤 | E82: 魚排 | F82: 6.5 | G82: 豆腐 | H82: 4 | I82: 蔬菜 | J82: 7 | K82: 時蔬 | L82: 3
B83: 糙米 | C83: 3 | E83: 胡椒鹽 | G83: 洋蔥 | H83: 1 | I83: 大蒜 | J83: 0.05 | K83: 胡蘿蔔 | L83: 1
G84: 番茄糊 | H84: 2 | K84: 薑 | L84: 0.05
G85: 番茄醬 | K85: 豬骨 | L85: 1
G86: 大蒜 | H86: 0.05
A87: =B13 -> 三 | B87: 泰式特餐 | E87: 打拋豬 | G87: 風味甘藍 | I87: 時蔬 | K87: 冬蔭功湯 | M87: 小餐包
A88: =A13 -> 45217 | B88: 米 | C88: 8 | E88: 豬絞肉 | F88: 6 | G88: 甘藍 | H88: 7 | I88: 蔬菜 | J88: 7 | K88: 金針菇 | L88: 1.5
B89: 糙米 | C89: 3 | D89: =IF(C83,"公斤","") -> 公斤 | E89: 洋蔥 | F89: 2 | G89: 胡蘿蔔 | H89: 0.5 | I89: 大蒜 | J89: 0.05 | K89: 番茄糊 | L89: 2
E90: 打拋醬 | F90: 0.1 | G90: 叻沙醬 | H90: 0.5 | K90: 豬骨 | L90: 1
D91: =IF(C91,"公斤","") | E91: 大蒜 | F91: 0.05 | G91: 大蒜 | H91: 0.05 | K91: 南薑
D92: =IF(C87,"公斤","") | K92: 香茅
A93: =B14 -> 四 | B93: 糙米飯 | D93: =IF(C93,"公斤","") | E93: 豆瓣雞丁 | G93: 香滷凍腐 | I93: 時蔬 | K93: 枸杞銀耳 | M93: 海苔
A94: =A14 -> 45218 | B94: 米 | C94: 7 | D94: =IF(C94,"公斤","") -> 公斤 | E94: 肉雞 | F94: 9 | G94: 凍豆腐 | H94: 2.7 | I94: 蔬菜 | J94: 7 | K94: 乾銀耳 | L94: 0.2
B95: 糙米 | C95: 3 | D95: =IF(C95,"公斤","") -> 公斤 | E95: 乾海帶 | F95: 0.5 | G95: 麻竹筍干 | H95: 3 | I95: 大蒜 | J95: 0.05 | K95: 枸杞 | L95: 0.01
E96: 豆瓣醬 | G96: 大蒜 | H96: 0.05 | K96: 紅砂糖 | L96: 1
E97: 大蒜 | F97: 0.05
A99: =B15 -> 五 | B99: 紫米飯 | D99: =IF(C99,"公斤","") | E99: 鹹香肉片 | G99: 甘藍佐蛋 | I99: 時蔬 | K99: 金針湯 | M99: 水果 | N99: 有機豆漿
A100: =A15 -> 45219 | B100: 米 | C100: 10 | E100: 豬後腿肉 | F100: 6 | G100: 雞蛋 | H100: 1.2 | I100: 蔬菜 | J100: 7 | K100: 金針菜乾 | L100: 0.2
B101: 黑糯米 | C101: 0.4 | D101: =IF(C101,"公斤","") -> 公斤 | E101: 甘藍 | F101: 4 | G101: 甘藍 | H101: 7 | I101: 大蒜 | J101: 0.05 | K101: 榨菜 | L101: 1
D102: =IF(C102,"公斤","") | E102: 胡蘿蔔 | F102: 0.5 | G102: 乾木耳 | H102: 0.01 | K102: 薑 | L102: 0.05
E103: 醃鹹豬肉粉 | G103: 大蒜 | H103: 0.05 | K103: 豬骨 | L103: 1
...

Sheet 偏鄉國小
A1: 112 | D1: 112 | E1: 學年度 | F1: 國民 | G1: 小學 | H1: 10 | I1: 月葷食菜單-7案 | L1: 津吉-本店使用台灣豬肉
A2: 日期 | B2: 星期 | C2: 主食 | D2: 主食明細 | E2: 主菜 | F2: 主菜明細 | G2: 副菜一 | H2: 副菜一明細 | I2: 蔬菜 | J2: 蔬菜明細 | K2: 湯品 | L2: 湯品明細 | M2: 附餐一 | N2: 附餐二 | O2: 穀/份 | P2: 豆/份 | Q2: 蔬/份 | R2: 油/份 | S2: 乳/分 | T2: 果/份 | U2: 熱量
A3: 45201 | B3: =IF(A3="","",RIGHT(TEXT(WEEKDAY(A3),"[$-404]aaaa;@"),1)) -> 一 | C3: =B27 -> 白米飯 | D3: =B28&B29 -> 米 | E3: =E27 -> 香炸魚排 | F3: =PHONETIC(E28:E32) -> 魚排 | G3: =G27 -> 牛蒡豆腐 | H3: =PHONETIC(G28:G32) -> 豆腐牛蒡絲豬絞肉大蒜 | I3: 時蔬 | J3: 蔬菜大蒜 | K3: =K27 -> 蛋花芽湯 | L3: =PHONETIC(K28:K31) -> 乾裙帶菜薑雞蛋 | M3: =M27 -> 果汁 | O3: 5.3 | P3: 2.5 | Q3: 1.9 | R3: 2.8 | U3: =O3*70+P3*75+Q3*25+R3*45+S3*120+T3*60 -> 732
A4: =IF(A3="","",IF(MONTH(A3)<>MONTH(A3+1),"",A3+1)) -> 45202 | B4: =IF(A4="","",RIGHT(TEXT(WEEKDAY(A4),"[$-404]aaaa;@"),1)) -> 二 | C4: =B33 -> 糙米飯 | D4: =B34&B35 -> 米糙米 | E4: =E33 -> 家常雞排 | F4: =PHONETIC(E34:E38) -> 香雞排 | G4: =G33 -> 白菜凍腐 | H4: =PHONETIC(G34:G38) -> 凍豆腐結球白菜乾香菇胡蘿蔔大蒜 | I4: 時蔬 | J4: 蔬菜大蒜 | K4: =K33 -> 茄香蔬湯 | L4: =PHONETIC(K34:K37) -> 番茄糊時蔬豬骨 | M4: =M33 -> TAP豆漿 | O4: 6 | P4: 2.5 | Q4: 1.8 | R4: 2.9 | T4: 1 | U4: =O4*70+P4*75+Q4*25+R4*45+S4*120+T4*60 -> 843
A5: =IF(A4="","",IF(MONTH(A4)<>MONTH(A4+1),"",A4+1)) -> 45203 | B5: =IF(A5="","",RIGHT(TEXT(WEEKDAY(A5),"[$-404]aaaa;@"),1)) -> 三 | C5: =B39 -> 米粉特餐 | D5: =B40&B41 -> 米粉 | E5: =E39 -> 米粉配料 | F5: =PHONETIC(E40:E44) -> 豬絞肉時蔬胡蘿蔔油蔥酥大蒜 | G5: =G39 -> 原味薯餅 | H5: =PHONETIC(G40:G44) -> 薯餅 | I5: 時蔬 | J5: 蔬菜大蒜 | K5: =K39 -> 三絲羹湯 | L5: =PHONETIC(K40:K43) -> 雞蛋脆筍白蘿蔔乾木耳 | M5: =M39 -> 小餐包 | O5: 5.2 | P5: 2.5 | Q5: 2 | R5: 2.9 | S5: 1 | U5: =O5*70+P5*75+Q5*25+R5*45+S5*120+T5*60 -> 852
A6: =IF(A5="","",IF(MONTH(A5)<>MONTH(A5+1),"",A5+1)) -> 45204 | B6: =IF(A6="","",RIGHT(TEXT(WEEKDAY(A6),"[$-404]aaaa;@"),1)) -> 四 | C6: =B45 -> 糙米飯 | D6: =B46&B47 -> 米糙米 | E6: =E45 -> 筍干燒雞 | F6: =PHONETIC(E46:E50) -> 肉雞麻竹筍干大蒜 | G6: =G45 -> 豆皮海帶 | H6: =PHONETIC(G46:G50) -> 豆皮乾海帶大蒜 | I6: 時蔬 | J6: 蔬菜大蒜 | K6: =K45 -> 綠豆湯 | L6: =PHONETIC(K46:K49) -> 綠豆紅砂糖 | M6: =M45 -> 堅果 | O6: 5.6 | P6: 2.5 | Q6: 1.7 | R6: 2.8 | U6: =O6*70+P6*75+Q6*25+R6*45+S6*120+T6*60 -> 748
A7: =IF(A6="","",IF(MONTH(A6)<>MONTH(A6+1),"",A6+1)) -> 45205 | B7: =IF(A7="","",RIGHT(TEXT(WEEKDAY(A7),"[$-404]aaaa;@"),1)) -> 五 | C7: =B51 -> 紅藜飯 | D7: =B52&B53 -> 米紅藜 | E7: =E51 -> 沙茶三鮮 | F7: =PHONETIC(E52:E56) -> 阿根廷魷虱目魚丸白蘿蔔大蒜 | G7: =G51 -> 木須佐蛋 | H7: =PHONETIC(G52:G56) -> 雞蛋洋蔥乾木耳胡蘿蔔大蒜 | I7: 時蔬 | J7: 蔬菜大蒜 | K7: =K51 -> 金針湯 | L7: =PHONETIC(K52:K56) -> 金針菜乾榨菜薑豬骨 | M7: =M51 -> 水果 | N7: 有機豆漿 | O7: 5 | P7: 2.5 | Q7: 1.8 | R7: 2.9 | S7: 1 | U7: =O7*70+P7*75+Q7*25+R7*45+S7*120+T7*60 -> 833
A8: =IF(A7="","",IF(MONTH(A7)<>MONTH(A7+1),"",A7+5)) -> 45210 | B8: =IF(A8="","",RIGHT(TEXT(WEEKDAY(A8),"[$-404]aaaa;@"),1)) -> 三 | C8: =B57 -> 西式特餐 | D8: =B58&B59 -> 義大利麵 | E8: =E57 -> 金黃魚塊 | F8: =PHONETIC(E58:E62) -> 虱目魚塊 | G8: =G57 -> 茄汁肉醬 | H8: =PHONETIC(G58:G62) -> 豬絞肉馬鈴薯洋蔥大蒜 | I8: 時蔬 | J8: 蔬菜大蒜 | K8: =K57 -> 玉米濃湯 | L8: =PHONETIC(K58:K62) -> 雞蛋玉米粒罐頭玉米醬罐頭玉米濃湯粉 | M8: =M57 -> 小餐包 | O8: 5 | P8: 2.5 | Q8: 1.6 | R8: 2.9 | U8: =O8*70+P8*75+Q8*25+R8*45+S8*120+T8*60 -> 708
A9: =IF(A8="","",IF(MONTH(A8)<>MONTH(A8+1),"",A8+1)) -> 45211 | B9: =IF(A9="","",RIGHT(TEXT(WEEKDAY(A9),"[$-404]aaaa;@"),1)) -> 四 | C9: =B63 -> 糙米飯 | D9: =B64&B65 -> 米糙米 | E9: =E63 -> 醬燒雞翅 | F9: =PHONETIC(E64:E68) -> 三節翅滷包 | G9: =G63 -> 鮮菇豆腐 | H9: =PHONETIC(G64:G68) -> 豆腐杏鮑菇乾香菇大蒜 | I9: 時蔬 | J9: 蔬菜大蒜 | K9: =K63 -> 檸檬愛玉 | L9: =PHONETIC(K64:K67) -> 愛玉紅砂糖檸檬汁 | M9: =M63 -> 果汁 | O9: 5 | P9: 2.5 | Q9: 2 | R9: 2.7 | T9: 1 | U9: =O9*70+P9*75+Q9*25+R9*45+S9*120+T9*60 -> 769
A10: =IF(A9="","",IF(MONTH(A9)<>MONTH(A9+1),"",A9+1)) -> 45212 | B10: =IF(A10="","",RIGHT(TEXT(WEEKDAY(A10),"[$-404]aaaa;@"),1)) -> 五 | C10: =B69 -> 小米飯 | D10: =B70&B71 -> 米小米 | E10: =E69 -> 海結滷肉 | F10: =PHONETIC(E70:E74) -> 豬後腿肉乾海帶麵輪大蒜 | G10: =G69 -> 銀蘿蛋香 | H10: =PHONETIC(G70:G74) -> 雞蛋白蘿蔔胡蘿蔔大蒜 | I10: 時蔬 | J10: 蔬菜大蒜 | K10: =K69 -> 番茄蔬湯 | L10: =PHONETIC(K70:K74) -> 時蔬番茄糊薑豬骨 | M10: =M69 -> 水果 | N10: 有機豆漿 | O10: 5.2 | P10: 2.5 | Q10: 2 | R10: 2.9 | U10: =O10*70+P10*75+Q10*25+R10*45+S10*120+T10*60 -> 732
A11: =IF(A10="","",IF(MONTH(A10)<>MONTH(A10+1),"",A10+3)) -> 45215 | B11: =IF(A11="","",RIGHT(TEXT(WEEKDAY(A11),"[$-404]aaaa;@"),1)) -> 一 | C11: =B75 -> 白米飯 | D11: =B76&B77 -> 米 | E11: =E75 -> 黑椒肉絲 | F11: =PHONETIC(E76:E80) -> 豬後腿肉馬鈴薯洋蔥大蒜 | G11: =G75 -> 蔬香冬粉 | H11: =PHONETIC(G76:G80) -> 雞蛋冬粉胡蘿蔔乾木耳大蒜 | I11: 時蔬 | J11: 蔬菜大蒜 | K11: =K75 -> 味噌芽湯 | L11: =PHONETIC(K76:K79) -> 乾裙帶菜味噌薑柴魚片 | M11: =M75 -> 果汁 | O11: 5 | P11: 2.5 | Q11: 1.7 | R11: 3 | U11: =O11*70+P11*75+Q11*25+R11*45+S11*120+T11*60 -> 715
A12: =IF(A11="","",IF(MONTH(A11)<>MONTH(A11+1),"",A11+1)) -> 45216 | B12: =IF(A12="","",RIGHT(TEXT(WEEKDAY(A12),"[$-404]aaaa;@"),1)) -> 二 | C12: =B81 -> 糙米飯 | D12: =B82&B83 -> 米糙米 | E12: =E81 -> 椒鹽魚排 | F12: =PHONETIC(E82:E86) -> 魚排胡椒鹽 | G12: =G81 -> 茄汁豆腐 | H12: =PHONETIC(G82:G86) -> 豆腐洋蔥番茄糊番茄醬大蒜 | I12: 時蔬 | J12: 蔬菜大蒜 | K12: =K81 -> 時蔬湯 | L12: =PHONETIC(K82:K86) -> 時蔬胡蘿蔔薑豬骨 | M12: =M81 -> 保久乳 | O12: 5 | P12: 2.5 | Q12: 1.6 | R12: 2.9 | S12: 1 | U12: =O12*70+P12*75+Q12*25+R12*45+S12*120+T12*60 -> 828
A13: =IF(A12="","",IF(MONTH(A12)<>MONTH(A12+1),"",A12+1)) -> 45217 | B13: =IF(A13="","",RIGHT(TEXT(WEEKDAY(A13),"[$-404]aaaa;@"),1)) -> 三 | C13: =B87 -> 泰式特餐 | D13: =B88&B89 -> 米糙米 | E13: =E87 -> 打拋豬 | F13: =PHONETIC(E88:E92) -> 豬絞肉洋蔥打拋醬大蒜 | G13: =G87 -> 風味甘藍 | H13: =PHONETIC(G88:G92) -> 甘藍胡蘿蔔叻沙醬大蒜 | I13: 時蔬 | J13: 蔬菜大蒜 | K13: =K87 -> 冬蔭功湯 | L13: =PHONETIC(K88:K91) -> 金針菇番茄糊豬骨南薑 | M13: =M87 -> 小餐包 | O13: 4 | P13: 2.5 | Q13: 1.6 | R13: 2.9 | U13: =O13*70+P13*75+Q13*25+R13*45+S13*120+T13*60 -> 638
A14: =IF(A13="","",IF(MONTH(A13)<>MONTH(A13+1),"",A13+1)) -> 45218 | B14: =IF(A14="","",RIGHT(TEXT(WEEKDAY(A14),"[$-404]aaaa;@"),1)) -> 四 | C14: =B93 -> 糙米飯 | D14: =B94&B95 -> 米糙米 | E14: =E93 -> 豆瓣雞丁 | F14: =PHONETIC(E94:E98) -> 肉雞乾海帶豆瓣醬大蒜 | G14: =G93 -> 香滷凍腐 | H14: =PHONETIC(G94:G98) -> 凍豆腐麻竹筍干大蒜 | I14: 時蔬 | J14: 蔬菜大蒜 | K14: =K93 -> 枸杞銀耳 | L14: =PHONETIC(K94:K98) -> 乾銀耳枸杞紅砂糖 | M14: =M93 -> 蜂蜜蛋糕 | O14: 5.4 | P14: 2.5 | Q14: 1.8 | R14: 2.9 | T14: 1 | U14: =O14*70+P14*75+Q14*25+R14*45+S14*120+T14*60 -> 801
A15: =IF(A14="","",IF(MONTH(A14)<>MONTH(A14+1),"",A14+1)) -> 45219 | B15: =IF(A15="","",RIGHT(TEXT(WEEKDAY(A15),"[$-404]aaaa;@"),1)) -> 五 | C15: =B99 -> 紫米飯 | D15: =B100&B101 -> 米黑糯米 | E15: =E99 -> 鹹香肉片 | F15: =PHONETIC(E100:E104) -> 豬後腿肉甘藍胡蘿蔔醃鹹豬肉粉 | G15: =G99 -> 甘藍佐蛋 | H15: =PHONETIC(G100:G104) -> 雞蛋甘藍乾木耳大蒜 | I15: 時蔬 | J15: 蔬菜大蒜 | K15: =K99 -> 金針湯 | L15: =PHONETIC(K100:K104) -> 金針菜乾榨菜薑豬骨 | M15: =M99 -> 水果 | N15: 有機豆漿 | O15: 5 | P15: 2.5 | Q15: 2 | R15: 2.9 | U15: =O15*70+P15*75+Q15*25+R15*45+S15*120+T15*60 -> 718
A16: =IF(A15="","",IF(MONTH(A15)<>MONTH(A15+1),"",A15+3)) -> 45222 | B16: =IF(A16="","",RIGHT(TEXT(WEEKDAY(A16),"[$-404]aaaa;@"),1)) -> 一 | C16: =B105 -> 白米飯 | D16: =B106&B107 -> 米 | E16: =E105 -> 梅干絞肉 | F16: =PHONETIC(E106:E110) -> 豬絞肉梅乾菜麵筋大蒜 | G16: =G105 -> 豆皮銀絲 | H16: =PHONETIC(G106:G110) -> 豆皮白蘿蔔乾木耳大蒜 | I16: 時蔬 | J16: 蔬菜大蒜 | K16: =K105 -> 蛋花湯 | L16: =PHONETIC(K106:K110) -> 雞蛋乾裙帶菜薑 | M16: =M105 -> 果汁 | O16: 5 | P16: 2.5 | Q16: 2 | R16: 2.9 | U16: =O16*70+P16*75+Q16*25+R16*45+S16*120+T16*60 -> 718
A17: =IF(A16="","",IF(MONTH(A16)<>MONTH(A16+1),"",A16+1)) -> 45223 | B17: =IF(A17="","",RIGHT(TEXT(WEEKDAY(A17),"[$-404]aaaa;@"),1)) -> 二 | C17: =B111 -> 糙米飯 | D17: =B112&B113 -> 米糙米 | E17: =E111 -> 香味雞翅 | F17: =PHONETIC(E112:E116) -> 三節翅滷包 | G17: =G111 -> 絞肉白菜 | H17: =PHONETIC(G112:G116) -> 豬絞肉結球白菜乾香菇胡蘿蔔大蒜 | I17: 時蔬 | J17: 蔬菜大蒜 | K17: =K111 -> 時瓜湯 | L17: =PHONETIC(K112:K116) -> 時瓜枸杞薑豬骨 | M17: =M111 -> 保久乳 | O17: 5 | P17: 2.5 | Q17: 1.7 | R17: 2.8 | S17: 1 | U17: =O17*70+P17*75+Q17*25+R17*45+S17*120+T17*60 -> 826
A18: =IF(A17="","",IF(MONTH(A17)<>MONTH(A17+1),"",A17+1)) -> 45224 | B18: =IF(A18="","",RIGHT(TEXT(WEEKDAY(A18),"[$-404]aaaa;@"),1)) -> 三 | C18: =B117 -> 刈包特餐 | D18: =B118&B119 -> 刈包 | E18: =E117 -> 酸菜肉片 | F18: =PHONETIC(E118:E122) -> 豬後腿肉酸菜薑 | G18: =G117 -> 玉筍豆腐 | H18: =PHONETIC(G118:G122) -> 豆腐冷凍玉米筍豆瓣醬大蒜 | I18: 時蔬 | J18: 蔬菜大蒜 | K18: =K117 -> 糙米粥 | L18: =PHONETIC(K118:K122) -> 雞蛋時蔬乾香菇糙米胡蘿蔔 | M18: =M117 -> 小餐包 | O18: 4.2 | P18: 2.5 | Q18: 1.5 | R18: 2.8 | U18: =O18*70+P18*75+Q18*25+R18*45+S18*120+T18*60 -> 645
A19: =IF(A18="","",IF(MONTH(A18)<>MONTH(A18+1),"",A18+1)) -> 45225 | B19: =IF(A19="","",RIGHT(TEXT(WEEKDAY(A19),"[$-404]aaaa;@"),1)) -> 四 | C19: =B123 -> 糙米飯 | D19: =B124&B125 -> 米糙米 | E19: =E123 -> 咖哩雞丁 | F19: =PHONETIC(E124:E128) -> 肉雞馬鈴薯洋蔥咖哩粉 | G19: =G123 -> 培根豆芽 | H19: =PHONETIC(G124:G128) -> 綠豆芽胡蘿蔔培根大蒜 | I19: 時蔬 | J19: 蔬菜大蒜 | K19: =K123 -> 仙草甜湯 | L19: =PHONETIC(K124:K128) -> 仙草凍紅砂糖 | M19: =M123 -> 小饅頭 | O19: 5.6 | P19: 2.5 | Q19: 2.2 | R19: 2.9 | T19: 1 | U19: =O19*70+P19*75+Q19*25+R19*45+S19*120+T19*60 -> 825
A20: =IF(A19="","",IF(MONTH(A19)<>MONTH(A19+1),"",A19+1)) -> 45226 | B20: =IF(A20="","",RIGHT(TEXT(WEEKDAY(A20),"[$-404]aaaa;@"),1)) -> 五 | C20: =B129 -> 燕麥飯 | D20: =B130&B131 -> 米燕麥 | E20: =E129 -> 三鮮豉香 | F20: =PHONETIC(E130:E133) -> 魚丁虱目魚丸白蘿蔔豆豉 | G20: =G129 -> 螞蟻上樹 | H20: =PHONETIC(G130:G134) -> 豬絞肉冬粉時蔬乾木耳大蒜 | I20: 時蔬 | J20: 蔬菜大蒜 | K20: =K129 -> 味噌蔬湯 | L20: =PHONETIC(K130:K134) -> 時蔬味噌薑柴魚片 | M20: =M129 -> 水果 | N20: 有機豆漿 | O20: 5.5 | P20: 2.5 | Q20: 1.8 | R20: 2.9 | U20: =O20*70+P20*75+Q20*25+R20*45+S20*120+T20*60 -> 748
A21: =IF(A20="","",IF(MONTH(A20)<>MONTH(A20+1),"",A20+3)) -> 45229 | B21: =IF(A21="","",RIGHT(TEXT(WEEKDAY(A21),"[$-404]aaaa;@"),1)) -> 一 | C21: =B135 -> 白米飯 | D21: =B136&B137 -> 米 | E21: =E135 -> 家常里雞 | F21: =PHONETIC(E136:E140) -> 香雞排 | G21: =G135 -> 鐵板豆腐 | H21: =PHONETIC(G136:G140) -> 豆腐脆筍乾木耳大蒜 | I21: 時蔬 | J21: 蔬菜大蒜 | K21: =K135 -> 金針湯 | L21: =PHONETIC(K136:K140) -> 金針菜乾榨菜薑豬骨 | M21: =M135 -> 果汁 | O21: 5 | P21: 2.5 | Q21: 2.2 | R21: 2.9 | U21: =O21*70+P21*75+Q21*25+R21*45+S21*120+T21*60 -> 723
A22: =IF(A21="","",IF(MONTH(A21)<>MONTH(A21+1),"",A21+1)) -> 45230 | B22: =IF(A22="","",RIGHT(TEXT(WEEKDAY(A22),"[$-404]aaaa;@"),1)) -> 二 | C22: =B141 -> 糙米飯 | D22: =B142&B143 -> 米糙米 | E22: =E141 -> 泡菜肉片 | F22: =PHONETIC(E142:E146) -> 豬後腿肉韓式泡菜大蒜 | G22: =G141 -> 家常豆干 | H22: =PHONETIC(G142:G146) -> 豆干甘藍乾木耳胡蘿蔔大蒜 | I22: 時蔬 | J22: 蔬菜大蒜 | K22: =K141 -> 時蔬湯 | L22: =PHONETIC(K142:K146) -> 時蔬胡蘿蔔薑豬骨 | M22: =M141 -> 保久乳 | O22: 5.6 | P22: 2.5 | Q22: 2 | R22: 3.1 | S22: 1 | U22: =O22*70+P22*75+Q22*25+R22*45+S22*120+T22*60 -> 889
A23: 過敏警語：「本月產品含有蛋、芝麻、含麩之穀物、花生、大豆、魚類、亞硫酸鹽類及其相關製品，不適合其過敏體質者食用」
A24: 月菜單編排說明:一、每周三五吃有機蔬菜。二、每週五喝有機豆漿
A25: 食材明細（食材重量以100人份計量，營養分析以個人計量,其中肉雞包含23%骨頭之採購量，每周供應特餐一次，當日得混搭供應，國中4菜1湯1附餐，國小3菜1湯1附餐）
A26: 日期 | B26: 主食 | C26: 重/公斤 | D26: 公斤 | E26: 主菜 | F26: 重/公斤 | G26: 副菜一 | H26: 重/公斤 | I26: 蔬菜 | J26: 重/公斤 | K26: 湯品 | L26: 重/公斤 | M26: 附餐一 | N26: 附餐二
A27: =B3 -> 一 | B27: 白米飯 | D27: =IF(C27,"公斤","") | E27: 香炸魚排 | G27: 牛蒡豆腐 | I27: 時蔬 | K27: 蛋花芽湯 | M27: 果汁
A28: =A3 -> 45201 | B28: 米 | C28: 10 | D28: =IF(C28,"公斤","") -> 公斤 | E28: 魚排 | F28: 6.5 | G28: 豆腐 | H28: 5 | I28: 蔬菜 | J28: 7 | K28: 乾裙帶菜 | L28: 0.2
D29: =IF(C29,"公斤","") | G29: 牛蒡絲 | H29: 2 | I29: 大蒜 | J29: 0.05 | K29: 薑 | L29: 0.05
D30: =IF(C30,"公斤","") | G30: 豬絞肉 | H30: 1 | K30: 雞蛋 | L30: 0.6
D31: =IF(C31,"公斤","") | G31: 大蒜 | H31: 0.05
D32: =IF(C32,"公斤","")
A33: =B4 -> 二 | B33: 糙米飯 | E33: 家常雞排 | G33: 白菜凍腐 | I33: 時蔬 | K33: 茄香蔬湯 | M33: TAP豆漿
A34: =A4 -> 45202 | B34: 米 | C34: 7 | D34: =IF(C33,"公斤","") | E34: 香雞排 | F34: 6 | G34: 凍豆腐 | H34: 3 | I34: 蔬菜 | J34: 7 | K34: 番茄糊 | L34: 2
B35: 糙米 | C35: 3 | D35: =IF(C34,"公斤","") -> 公斤 | G35: 結球白菜 | H35: 3 | I35: 大蒜 | J35: 0.05 | K35: 時蔬 | L35: 2
G36: 乾香菇 | H36: 0.01 | K36: 豬骨 | L36: 1
G37: 胡蘿蔔 | H37: 1
G38: 大蒜 | H38: 0.05
A39: =B5 -> 三 | B39: 米粉特餐 | E39: 米粉配料 | G39: 原味薯餅 | I39: 時蔬 | K39: 三絲羹湯 | M39: 小餐包
A40: =A5 -> 45203 | B40: 米粉 | C40: 4 | E40: 豬絞肉 | F40: 6 | G40: 薯餅 | H40: 4 | I40: 蔬菜 | J40: 7 | K40: 雞蛋 | L40: 1.1
E41: 時蔬 | F41: 4 | I41: 大蒜 | J41: 0.05 | K41: 脆筍 | L41: 2
E42: 胡蘿蔔 | F42: 1 | K42: 白蘿蔔 | L42: 2
D43: =IF(C43,"公斤","") | E43: 油蔥酥 | F43: 0.01 | K43: 乾木耳 | L43: 0.01
D44: =IF(C44,"公斤","") | E44: 大蒜 | F44: 0.05
A45: =B6 -> 四 | B45: 糙米飯 | E45: 筍干燒雞 | G45: 豆皮海帶 | I45: 時蔬 | K45: 綠豆湯 | M45: 堅果
A46: =A6 -> 45204 | B46: 米 | C46: 7 | E46: 肉雞 | F46: 9 | G46: 豆皮 | H46: 0.2 | I46: 蔬菜 | J46: 7 | K46: 綠豆 | L46: 2
B47: 糙米 | C47: 3 | E47: 麻竹筍干 | F47: 3 | G47: 乾海帶 | H47: 1 | I47: 大蒜 | J47: 0.05 | K47: 紅砂糖 | L47: 1
E48: 大蒜 | F48: 0.05 | G48: 大蒜 | H48: 0.05
A51: =B7 -> 五 | B51: 紅藜飯 | D51: =IF(C51,"公斤","") | E51: 沙茶三鮮 | G51: 木須佐蛋 | I51: 時蔬 | K51: 金針湯 | M51: 水果 | N51: 有機豆漿
A52: =A7 -> 45205 | B52: 米 | C52: 10 | D52: =IF(C52,"公斤","") -> 公斤 | E52: 阿根廷魷 | F52: 4 | G52: 雞蛋 | H52: 1.8 | I52: 蔬菜 | J52: 7 | K52: 金針菜乾 | L52: 0.1
B53: 紅藜 | C53: 0.1 | D53: =IF(C53,"公斤","") -> 公斤 | E53: 虱目魚丸 | F53: 4 | G53: 洋蔥 | H53: 2 | I53: 大蒜 | J53: 0.05 | K53: 榨菜 | L53: 1
D54: =IF(C54,"公斤","") | E54: 白蘿蔔 | F54: 4 | G54: 乾木耳 | H54: 0.1 | K54: 薑 | L54: 0.05
E55: 大蒜 | F55: 0.05 | G55: 胡蘿蔔 | H55: 2 | K55: 豬骨 | L55: 1
G56: 大蒜 | H56: 0.05
A57: =B8 -> 三 | B57: 西式特餐 | E57: 金黃魚塊 | G57: 茄汁肉醬 | I57: 時蔬 | K57: 玉米濃湯 | M57: 小餐包
A58: =A8 -> 45210 | B58: 義大利麵 | C58: 4 | D58: =IF(C58,"公斤","") -> 公斤 | E58: 虱目魚塊 | F58: 4 | G58: 豬絞肉 | H58: 3.5 | I58: 蔬菜 | J58: 7 | K58: 雞蛋 | L58: 0.6
D59: =IF(C59,"公斤","") | G59: 馬鈴薯 | H59: 4 | I59: 大蒜 | J59: 0.05 | K59: 玉米粒罐頭 | L59: 3
D60: =IF(C60,"公斤","") | G60: 洋蔥 | H60: 1 | K60: 玉米醬罐頭 | L60: 1
D61: =IF(C61,"公斤","") | G61: 大蒜 | H61: 0.05 | K61: 玉米濃湯粉 | L61: 0.1
D62: =IF(C62,"公斤","")
A63: =B9 -> 四 | B63: 糙米飯 | D63: =IF(C63,"公斤","") | E63: 醬燒雞翅 | G63: 鮮菇豆腐 | I63: 時蔬 | K63: 檸檬愛玉 | M63: 果汁
A64: =A9 -> 45211 | B64: 米 | C64: 7 | D64: =IF(C64,"公斤","") -> 公斤 | E64: 三節翅 | F64: 9 | G64: 豆腐 | H64: 5 | I64: 蔬菜 | J64: 7 | K64: 愛玉 | L64: 6
B65: 糙米 | C65: 3 | D65: =IF(C65,"公斤","") -> 公斤 | G65: 杏鮑菇 | H65: 2 | I65: 大蒜 | J65: 0.05 | K65: 紅砂糖 | L65: 1
G66: 乾香菇 | H66: 0.01 | K66: 檸檬汁 | L66: 0.01
D67: =IF(C67,"公斤","") | E67: 滷包 | G67: 大蒜 | H67: 0.05
D68: =IF(C68,"公斤","")
A69: =B10 -> 五 | B69: 小米飯 | E69: 海結滷肉 | G69: 銀蘿蛋香 | I69: 時蔬 | K69: 番茄蔬湯 | M69: 水果 | N69: 有機豆漿
A70: =A10 -> 45212 | B70: 米 | C70: 10 | D70: =IF(C70,"公斤","") -> 公斤 | E70: 豬後腿肉 | F70: 6 | G70: 雞蛋 | H70: 1.8 | I70: 蔬菜 | J70: 7 | K70: 時蔬 | L70: 2
B71: 小米 | C71: 0.4 | D71: =IF(C71,"公斤","") -> 公斤 | E71: 乾海帶 | F71: 1 | G71: 白蘿蔔 | H71: 5 | I71: 大蒜 | J71: 0.05 | K71: 番茄糊 | L71: 1
E72: 麵輪 | F72: 0.1 | G72: 胡蘿蔔 | H72: 1 | K72: 薑 | L72: 0.05
E73: 大蒜 | F73: 0.05 | K73: 豬骨 | L73: 1
G74: 大蒜 | H74: 0.05
A75: =B11 -> 一 | B75: 白米飯 | D75: =IF(C75,"公斤","") | E75: 黑椒肉絲 | G75: 蔬香冬粉 | I75: 時蔬 | K75: 味噌芽湯 | M75: 果汁
A76: =A11 -> 45215 | B76: 米 | C76: 10 | D76: =IF(C76,"公斤","") -> 公斤 | E76: 豬後腿肉 | F76: 6 | G76: 雞蛋 | H76: 1.1 | I76: 蔬菜 | J76: 7 | K76: 乾裙帶菜 | L76: 0.2
D77: =IF(C77,"公斤","") | E77: 馬鈴薯 | F77: 2 | G77: 冬粉 | H77: 1 | I77: 大蒜 | J77: 0.05 | K77: 味噌 | L77: 0.1
E78: 洋蔥 | F78: 0.3 | G78: 胡蘿蔔 | H78: 1 | K78: 薑 | L78: 0.05
E79: 大蒜 | F79: 0.05 | G79: 乾木耳 | H79: 0.01 | K79: 柴魚片 | L79: 0.01
D80: =IF(C80,"公斤","") | G80: 大蒜 | H80: 0.05
A81: =B12 -> 二 | B81: 糙米飯 | D81: =IF(C81,"公斤","") | E81: 椒鹽魚排 | G81: 茄汁豆腐 | I81: 時蔬 | K81: 時蔬湯 | M81: 保久乳
A82: =A12 -> 45216 | B82: 米 | C82: 7 | D82: =IF(C82,"公斤","") -> 公斤 | E82: 魚排 | F82: 6.5 | G82: 豆腐 | H82: 4 | I82: 蔬菜 | J82: 7 | K82: 時蔬 | L82: 3
B83: 糙米 | C83: 3 | E83: 胡椒鹽 | G83: 洋蔥 | H83: 1 | I83: 大蒜 | J83: 0.05 | K83: 胡蘿蔔 | L83: 1
G84: 番茄糊 | H84: 2 | K84: 薑 | L84: 0.05
G85: 番茄醬 | K85: 豬骨 | L85: 1
G86: 大蒜 | H86: 0.05
A87: =B13 -> 三 | B87: 泰式特餐 | E87: 打拋豬 | G87: 風味甘藍 | I87: 時蔬 | K87: 冬蔭功湯 | M87: 小餐包
A88: =A13 -> 45217 | B88: 米 | C88: 8 | E88: 豬絞肉 | F88: 6 | G88: 甘藍 | H88: 7 | I88: 蔬菜 | J88: 7 | K88: 金針菇 | L88: 1.5
B89: 糙米 | C89: 3 | D89: =IF(C83,"公斤","") -> 公斤 | E89: 洋蔥 | F89: 2 | G89: 胡蘿蔔 | H89: 0.5 | I89: 大蒜 | J89: 0.05 | K89: 番茄糊 | L89: 2
E90: 打拋醬 | F90: 0.1 | G90: 叻沙醬 | H90: 0.5 | K90: 豬骨 | L90: 1
D91: =IF(C91,"公斤","") | E91: 大蒜 | F91: 0.05 | G91: 大蒜 | H91: 0.05 | K91: 南薑
D92: =IF(C87,"公斤","") | K92: 香茅
A93: =B14 -> 四 | B93: 糙米飯 | D93: =IF(C93,"公斤","") | E93: 豆瓣雞丁 | G93: 香滷凍腐 | I93: 時蔬 | K93: 枸杞銀耳 | M93: 蜂蜜蛋糕
A94: =A14 -> 45218 | B94: 米 | C94: 7 | D94: =IF(C94,"公斤","") -> 公斤 | E94: 肉雞 | F94: 9 | G94: 凍豆腐 | H94: 2.7 | I94: 蔬菜 | J94: 7 | K94: 乾銀耳 | L94: 0.2
B95: 糙米 | C95: 3 | D95: =IF(C95,"公斤","") -> 公斤 | E95: 乾海帶 | F95: 0.5 | G95: 麻竹筍干 | H95: 3 | I95: 大蒜 | J95: 0.05 | K95: 枸杞 | L95: 0.01
E96: 豆瓣醬 | G96: 大蒜 | H96: 0.05 | K96: 紅砂糖 | L96: 1
E97: 大蒜 | F97: 0.05
A99: =B15 -> 五 | B99: 紫米飯 | D99: =IF(C99,"公斤","") | E99: 鹹香肉片 | G99: 甘藍佐蛋 | I99: 時蔬 | K99: 金針湯 | M99: 水果 | N99: 有機豆漿
A100: =A15 -> 45219 | B100: 米 | C100: 10 | E100: 豬後腿肉 | F100: 6 | G100: 雞蛋 | H100: 1.2 | I100: 蔬菜 | J100: 7 | K100: 金針菜乾 | L100: 0.2
B101: 黑糯米 | C101: 0.4 | D101: =IF(C101,"公斤","") -> 公斤 | E101: 甘藍 | F101: 4 | G101: 甘藍 | H101: 7 | I101: 大蒜 | J101: 0.05 | K101: 榨菜 | L101: 1
D102: =IF(C102,"公斤","") | E102: 胡蘿蔔 | F102: 0.5 | G102: 乾木耳 | H102: 0.01 | K102: 薑 | L102: 0.05
E103: 醃鹹豬肉粉 | G103: 大蒜 | H103: 0.05 | K103: 豬骨 | L103: 1
...

Sheet 國中素
A1: 112 | D1: 112 | E1: 學年度 | F1: 國民 | G1: 中學 | H1: 10 | I1: 月素食菜單-7案 | K1: 津吉
A2: 日期 | B2: 星期 | C2: 主食 | D2: 主食明細 | E2: 主菜 | F2: 主菜明細 | G2: 副菜一 | H2: 副菜一明細 | I2: 副菜二 | J2: 副菜二明細 | K2: 蔬菜 | L2: 蔬菜明細 | M2: 湯品 | N2: 湯品明細 | O2: 附餐一 | P2: 附餐二 | Q2: 穀/份 | R2: 豆/份 | S2: 蔬/份 | T2: 油/份 | U2: 乳/分 | V2: 果/份 | W2: 熱量
A3: 45201 | B3: =IF(A3="","",RIGHT(TEXT(WEEKDAY(A3),"[$-404]aaaa;@"),1)) -> 一 | C3: =B27 -> 白米飯 | D3: =B28&B29 -> 米 | E3: =E27 -> 香炸素火腿 | F3: =PHONETIC(E28:E32) -> 素火腿 | G3: =G27 -> 牛蒡豆腐 | H3: =PHONETIC(G28:G32) -> 豆腐牛蒡絲素肉薑 | I3: =I27 -> 清炒花椰 | J3: =PHONETIC(I28:I32) -> 花椰菜胡蘿蔔薑 | K3: 時蔬 | L3: 蔬菜薑 | M3: =M27 -> 蛋花芽湯 | N3: =PHONETIC(M28:M31) -> 乾裙帶菜薑雞蛋 | O3: =O27 -> 果汁 | Q3: 5.3 | R3: 2.5 | S3: 1.9 | T3: 2.8 | W3: =Q3*70+R3*75+S3*25+T3*45+U3*120+V3*60 -> 732
A4: =IF(A3="","",IF(MONTH(A3)<>MONTH(A3+1),"",A3+1)) -> 45202 | B4: =IF(A4="","",RIGHT(TEXT(WEEKDAY(A4),"[$-404]aaaa;@"),1)) -> 二 | C4: =B33 -> 糙米飯 | D4: =B34&B35 -> 米糙米 | E4: =E33 -> 家常麵腸 | F4: =PHONETIC(E34:E38) -> 麵腸乾海帶薑 | G4: =G33 -> 白菜凍腐 | H4: =PHONETIC(G34:G38) -> 凍豆腐結球白菜乾香菇胡蘿蔔薑 | I4: =I33 -> 碎脯蛋香 | J4: =PHONETIC(I34:I38) -> 雞蛋蘿蔔乾白蘿蔔薑 | K4: 時蔬 | L4: 蔬菜薑 | M4: =M33 -> 茄香蔬湯 | N4: =PHONETIC(M34:M37) -> 番茄糊時蔬 | O4: =O33 -> TAP豆漿 | Q4: 6 | R4: 2.5 | S4: 1.8 | T4: 2.9 | V4: 1 | W4: =Q4*70+R4*75+S4*25+T4*45+U4*120+V4*60 -> 843
A5: =IF(A4="","",IF(MONTH(A4)<>MONTH(A4+1),"",A4+1)) -> 45203 | B5: =IF(A5="","",RIGHT(TEXT(WEEKDAY(A5),"[$-404]aaaa;@"),1)) -> 三 | C5: =B39 -> 米粉特餐 | D5: =B40&B41 -> 米粉 | E5: =E39 -> 米粉配料 | F5: =PHONETIC(E40:E44) -> 素肉時蔬胡蘿蔔薑 | G5: =G39 -> 原味薯餅 | H5: =PHONETIC(G40:G44) -> 薯餅 | I5: =I39 -> 蜜汁豆干 | J5: =PHONETIC(I40:I44) -> 豆干薑 | K5: 時蔬 | L5: 蔬菜薑 | M5: =M39 -> 三絲羹湯 | N5: =PHONETIC(M40:M43) -> 雞蛋脆筍白蘿蔔乾木耳 | O5: =O39 -> 小餐包 | Q5: 5.2 | R5: 2.5 | S5: 2 | T5: 2.9 | U5: 1 | W5: =Q5*70+R5*75+S5*25+T5*45+U5*120+V5*60 -> 852
A6: =IF(A5="","",IF(MONTH(A5)<>MONTH(A5+1),"",A5+1)) -> 45204 | B6: =IF(A6="","",RIGHT(TEXT(WEEKDAY(A6),"[$-404]aaaa;@"),1)) -> 四 | C6: =B45 -> 糙米飯 | D6: =B46&B47 -> 米糙米 | E6: =E45 -> 筍干百頁 | F6: =PHONETIC(E46:E50) -> 百頁麻竹筍干薑 | G6: =G45 -> 豆皮海帶 | H6: =PHONETIC(G46:G50) -> 豆皮乾海帶薑 | I6: =I45 -> 野菜天 | J6: =PHONETIC(I46:I50) -> 野菜天 | K6: 時蔬 | L6: 蔬菜薑 | M6: =M45 -> 綠豆湯 | N6: =PHONETIC(M46:M49) -> 綠豆紅砂糖 | O6: =O45 -> 堅果 | Q6: 5.6 | R6: 2.5 | S6: 1.7 | T6: 2.8 | W6: =Q6*70+R6*75+S6*25+T6*45+U6*120+V6*60 -> 748
A7: =IF(A6="","",IF(MONTH(A6)<>MONTH(A6+1),"",A6+1)) -> 45205 | B7: =IF(A7="","",RIGHT(TEXT(WEEKDAY(A7),"[$-404]aaaa;@"),1)) -> 五 | C7: =B51 -> 紅藜飯 | D7: =B52&B53 -> 米紅藜 | E7: =E51 -> 沙茶油腐 | F7: =PHONETIC(E52:E56) -> 四角油豆腐白蘿蔔薑 | G7: =G51 -> 木須佐蛋 | H7: =PHONETIC(G52:G56) -> 雞蛋時蔬乾木耳胡蘿蔔薑 | I7: =I51 -> 素香豆芽 | J7: =PHONETIC(I52:I56) -> 素培根綠豆芽胡蘿蔔薑 | K7: 時蔬 | L7: 蔬菜薑 | M7: =M51 -> 金針湯 | N7: =PHONETIC(M52:M56) -> 金針菜乾榨菜薑 | O7: =O51 -> 水果 | P7: 有機豆漿 | Q7: 5 | R7: 2.5 | S7: 1.8 | T7: 2.9 | U7: 1 | W7: =Q7*70+R7*75+S7*25+T7*45+U7*120+V7*60 -> 833
A8: =IF(A7="","",IF(MONTH(A7)<>MONTH(A7+1),"",A7+5)) -> 45210 | B8: =IF(A8="","",RIGHT(TEXT(WEEKDAY(A8),"[$-404]aaaa;@"),1)) -> 三 | C8: =B57 -> 西式特餐 | D8: =B58&B59 -> 義大利麵 | E8: =E57 -> 素火腿 | F8: =PHONETIC(E58:E62) -> 素火腿 | G8: =G57 -> 茄汁肉醬 | H8: =PHONETIC(G58:G62) -> 素肉馬鈴薯薑 | I8: =I57 -> 起司花椰 | J8: =PHONETIC(I58:I62) -> 花椰菜胡蘿蔔起司粉薑 | K8: 時蔬 | L8: 蔬菜薑 | M8: =M57 -> 玉米濃湯 | N8: =PHONETIC(M58:M62) -> 雞蛋玉米粒罐頭玉米醬罐頭玉米濃湯粉 | O8: =O57 -> 小餐包 | Q8: 5 | R8: 2.5 | S8: 1.6 | T8: 2.9 | W8: =Q8*70+R8*75+S8*25+T8*45+U8*120+V8*60 -> 708
A9: =IF(A8="","",IF(MONTH(A8)<>MONTH(A8+1),"",A8+1)) -> 45211 | B9: =IF(A9="","",RIGHT(TEXT(WEEKDAY(A9),"[$-404]aaaa;@"),1)) -> 四 | C9: =B63 -> 糙米飯 | D9: =B64&B65 -> 米糙米 | E9: =E63 -> 魯蒸煎炒蛋 | F9: =PHONETIC(E64:E68) -> 雞蛋滷包 | G9: =G63 -> 鮮菇豆腐 | H9: =PHONETIC(G64:G68) -> 豆腐杏鮑菇乾香菇薑 | I9: =I63 -> 素肉瓜粒 | J9: =PHONETIC(I64:I67) -> 素肉時瓜乾木耳薑 | K9: 時蔬 | L9: 蔬菜薑 | M9: =M63 -> 檸檬愛玉 | N9: =PHONETIC(M64:M67) -> 愛玉紅砂糖檸檬汁 | O9: =O63 -> 果汁 | Q9: 5 | R9: 2.5 | S9: 2 | T9: 2.7 | V9: 1 | W9: =Q9*70+R9*75+S9*25+T9*45+U9*120+V9*60 -> 769
A10: =IF(A9="","",IF(MONTH(A9)<>MONTH(A9+1),"",A9+1)) -> 45212 | B10: =IF(A10="","",RIGHT(TEXT(WEEKDAY(A10),"[$-404]aaaa;@"),1)) -> 五 | C10: =B69 -> 小米飯 | D10: =B70&B71 -> 米小米 | E10: =E69 -> 海結麵輪 | F10: =PHONETIC(E70:E74) -> 麵輪乾海帶薑 | G10: =G69 -> 銀蘿蛋香 | H10: =PHONETIC(G70:G74) -> 雞蛋白蘿蔔胡蘿蔔薑 | I10: =I69 -> 五香豆干 | J10: =PHONETIC(I70:I73) -> 豆干薑 | K10: 時蔬 | L10: 蔬菜薑 | M10: =M69 -> 番茄蔬湯 | N10: =PHONETIC(M70:M74) -> 時蔬番茄糊薑 | O10: =O69 -> 水果 | P10: 有機豆漿 | Q10: 5.2 | R10: 2.5 | S10: 2 | T10: 2.9 | W10: =Q10*70+R10*75+S10*25+T10*45+U10*120+V10*60 -> 732
A11: =IF(A10="","",IF(MONTH(A10)<>MONTH(A10+1),"",A10+3)) -> 45215 | B11: =IF(A11="","",RIGHT(TEXT(WEEKDAY(A11),"[$-404]aaaa;@"),1)) -> 一 | C11: =B75 -> 白米飯 | D11: =B76&B77 -> 米 | E11: =E75 -> 黑椒油腐 | F11: =PHONETIC(E76:E80) -> 四角油豆腐馬鈴薯薑 | G11: =G75 -> 蔬香冬粉 | H11: =PHONETIC(G76:G80) -> 雞蛋冬粉胡蘿蔔乾木耳薑 | I11: =I75 -> 滷野菜天 | J11: =PHONETIC(I76:I79) -> 野菜天 | K11: 時蔬 | L11: 蔬菜薑 | M11: =M75 -> 味噌芽湯 | N11: =PHONETIC(M76:M79) -> 乾裙帶菜味噌薑 | O11: =O75 -> 果汁 | Q11: 5 | R11: 2.5 | S11: 1.7 | T11: 3 | W11: =Q11*70+R11*75+S11*25+T11*45+U11*120+V11*60 -> 715
A12: =IF(A11="","",IF(MONTH(A11)<>MONTH(A11+1),"",A11+1)) -> 45216 | B12: =IF(A12="","",RIGHT(TEXT(WEEKDAY(A12),"[$-404]aaaa;@"),1)) -> 二 | C12: =B81 -> 糙米飯 | D12: =B82&B83 -> 米糙米 | E12: =E81 -> 椒鹽素火腿 | F12: =PHONETIC(E82:E86) -> 素火腿胡椒鹽 | G12: =G81 -> 茄汁豆腐 | H12: =PHONETIC(G82:G86) -> 豆腐番茄糊番茄醬薑 | I12: =I81 -> 毛豆白菜 | J12: =PHONETIC(I82:I86) -> 結球白菜毛豆乾香菇薑 | K12: 時蔬 | L12: 蔬菜薑 | M12: =M81 -> 時蔬湯 | N12: =PHONETIC(M82:M86) -> 時蔬胡蘿蔔薑 | O12: =O81 -> 保久乳 | Q12: 5 | R12: 2.5 | S12: 1.6 | T12: 2.9 | U12: 1 | W12: =Q12*70+R12*75+S12*25+T12*45+U12*120+V12*60 -> 828
A13: =IF(A12="","",IF(MONTH(A12)<>MONTH(A12+1),"",A12+1)) -> 45217 | B13: =IF(A13="","",RIGHT(TEXT(WEEKDAY(A13),"[$-404]aaaa;@"),1)) -> 三 | C13: =B87 -> 泰式特餐 | D13: =B88&B89 -> 米糙米 | E13: =E87 -> 打拋諸 | F13: =PHONETIC(E88:E92) -> 素肉打拋醬薑 | G13: =G87 -> 豆皮甘藍 | H13: =PHONETIC(G88:G92) -> 甘藍胡蘿蔔豆皮薑 | I13: =I87 -> 南洋豆包 | J13: =PHONETIC(I88:I92) -> 豆包 | K13: 時蔬 | L13: 蔬菜薑 | M13: =M87 -> 冬蔭功湯 | N13: =PHONETIC(M88:M91) -> 金針菇番茄糊南薑香茅 | O13: =O87 -> 小餐包 | Q13: 4 | R13: 2.5 | S13: 1.6 | T13: 2.9 | W13: =Q13*70+R13*75+S13*25+T13*45+U13*120+V13*60 -> 638
A14: =IF(A13="","",IF(MONTH(A13)<>MONTH(A13+1),"",A13+1)) -> 45218 | B14: =IF(A14="","",RIGHT(TEXT(WEEKDAY(A14),"[$-404]aaaa;@"),1)) -> 四 | C14: =B93 -> 糙米飯 | D14: =B94&B95 -> 米糙米 | E14: =E93 -> 豆瓣麵腸 | F14: =PHONETIC(E94:E98) -> 麵腸乾海帶豆瓣醬薑 | G14: =G93 -> 香滷凍腐 | H14: =PHONETIC(G94:G98) -> 凍豆腐麻竹筍干薑 | I14: =I93 -> 素肉時蔬 | J14: =PHONETIC(I94:I98) -> 素肉時蔬胡蘿蔔薑 | K14: 時蔬 | L14: 蔬菜薑 | M14: =M93 -> 枸杞銀耳 | N14: =PHONETIC(M94:M98) -> 乾銀耳枸杞紅砂糖 | O14: =O93 -> 海苔 | Q14: 5.4 | R14: 2.5 | S14: 1.8 | T14: 2.9 | V14: 1 | W14: =Q14*70+R14*75+S14*25+T14*45+U14*120+V14*60 -> 801
A15: =IF(A14="","",IF(MONTH(A14)<>MONTH(A14+1),"",A14+1)) -> 45219 | B15: =IF(A15="","",RIGHT(TEXT(WEEKDAY(A15),"[$-404]aaaa;@"),1)) -> 五 | C15: =B99 -> 紫米飯 | D15: =B100&B101 -> 米黑糯米 | E15: =E99 -> 鹹香百頁 | F15: =PHONETIC(E100:E104) -> 百頁甘藍胡蘿蔔 | G15: =G99 -> 甘藍佐蛋 | H15: =PHONETIC(G100:G104) -> 雞蛋甘藍乾木耳薑 | I15: =I99 -> 五香豆干 | J15: =PHONETIC(I100:I104) -> 豆干胡蘿蔔薑 | K15: 時蔬 | L15: 蔬菜薑 | M15: =M99 -> 金針湯 | N15: =PHONETIC(M100:M104) -> 金針菜乾榨菜薑 | O15: =O99 -> 水果 | P15: 有機豆漿 | Q15: 5 | R15: 2.5 | S15: 2 | T15: 2.9 | W15: =Q15*70+R15*75+S15*25+T15*45+U15*120+V15*60 -> 718
A16: =IF(A15="","",IF(MONTH(A15)<>MONTH(A15+1),"",A15+3)) -> 45222 | B16: =IF(A16="","",RIGHT(TEXT(WEEKDAY(A16),"[$-404]aaaa;@"),1)) -> 一 | C16: =B105 -> 白米飯 | D16: =B106&B107 -> 米 | E16: =E105 -> 梅干麵筋 | F16: =PHONETIC(E106:E110) -> 梅乾菜麵筋薑 | G16: =G105 -> 豆皮銀絲 | H16: =PHONETIC(G106:G110) -> 豆皮白蘿蔔乾木耳薑 | I16: =I105 -> 原味薯餅 | J16: =PHONETIC(I106:I110) -> 薯餅 | K16: 時蔬 | L16: 蔬菜薑 | M16: =M105 -> 蛋花湯 | N16: =PHONETIC(M106:M110) -> 雞蛋乾裙帶菜薑 | O16: =O105 -> 果汁 | Q16: 5 | R16: 2.5 | S16: 2 | T16: 2.9 | W16: =Q16*70+R16*75+S16*25+T16*45+U16*120+V16*60 -> 718
A17: =IF(A16="","",IF(MONTH(A16)<>MONTH(A16+1),"",A16+1)) -> 45223 | B17: =IF(A17="","",RIGHT(TEXT(WEEKDAY(A17),"[$-404]aaaa;@"),1)) -> 二 | C17: =B111 -> 糙米飯 | D17: =B112&B113 -> 米糙米 | E17: =E111 -> 素火腿 | F17: =PHONETIC(E112:E116) -> 素火腿滷包 | G17: =G111 -> 毛豆白菜 | H17: =PHONETIC(G112:G116) -> 毛豆結球白菜乾香菇胡蘿蔔薑 | I17: =I111 -> 滷香竹腸 | J17: =PHONETIC(I112:I116) -> 香竹腸薑 | K17: 時蔬 | L17: 蔬菜薑 | M17: =M111 -> 時瓜湯 | N17: =PHONETIC(M112:M116) -> 時瓜枸杞薑 | O17: =O111 -> 優酪乳 | Q17: 5 | R17: 2.5 | S17: 1.7 | T17: 2.8 | U17: 1 | W17: =Q17*70+R17*75+S17*25+T17*45+U17*120+V17*60 -> 826
A18: =IF(A17="","",IF(MONTH(A17)<>MONTH(A17+1),"",A17+1)) -> 45224 | B18: =IF(A18="","",RIGHT(TEXT(WEEKDAY(A18),"[$-404]aaaa;@"),1)) -> 三 | C18: =B117 -> 刈包特餐 | D18: =B118&B119 -> 刈包 | E18: =E117 -> 酸菜麵腸 | F18: =PHONETIC(E118:E122) -> 麵腸酸菜薑 | G18: =G117 -> 玉筍豆腐 | H18: =PHONETIC(G118:G122) -> 豆腐冷凍玉米筍豆瓣醬薑 | I18: =I117 -> 麥香薯餅 | J18: =PHONETIC(I118:I122) -> 薯餅 | K18: 時蔬 | L18: 蔬菜薑 | M18: =M117 -> 糙米粥 | N18: =PHONETIC(M118:M122) -> 雞蛋時蔬乾香菇糙米胡蘿蔔 | O18: =O117 -> 小餐包 | Q18: 4.2 | R18: 2.5 | S18: 1.5 | T18: 2.8 | W18: =Q18*70+R18*75+S18*25+T18*45+U18*120+V18*60 -> 645
A19: =IF(A18="","",IF(MONTH(A18)<>MONTH(A18+1),"",A18+1)) -> 45225 | B19: =IF(A19="","",RIGHT(TEXT(WEEKDAY(A19),"[$-404]aaaa;@"),1)) -> 四 | C19: =B123 -> 糙米飯 | D19: =B124&B125 -> 米糙米 | E19: =E123 -> 咖哩百頁 | F19: =PHONETIC(E124:E128) -> 百頁馬鈴薯咖哩粉 | G19: =G123 -> 素香豆芽 | H19: =PHONETIC(G124:G128) -> 綠豆芽胡蘿蔔素培根薑 | I19: =I123 -> 秘汁豆干 | J19: =PHONETIC(I124:I128) -> 豆干醬油二砂糖薑 | K19: 時蔬 | L19: 蔬菜薑 | M19: =M123 -> 仙草甜湯 | N19: =PHONETIC(M124:M128) -> 仙草凍紅砂糖 | O19: =O123 -> 小饅頭 | Q19: 5.6 | R19: 2.5 | S19: 2.2 | T19: 2.9 | V19: 1 | W19: =Q19*70+R19*75+S19*25+T19*45+U19*120+V19*60 -> 825
A20: =IF(A19="","",IF(MONTH(A19)<>MONTH(A19+1),"",A19+1)) -> 45226 | B20: =IF(A20="","",RIGHT(TEXT(WEEKDAY(A20),"[$-404]aaaa;@"),1)) -> 五 | C20: =B129 -> 燕麥飯 | D20: =B130&B131 -> 米燕麥 | E20: =E129 -> 油腐豉香 | F20: =PHONETIC(E130:E133) -> 四角油豆腐白蘿蔔豆豉 | G20: =G129 -> 螞蟻上樹 | H20: =PHONETIC(G130:G134) -> 素肉冬粉時蔬乾木耳薑 | I20: =I129 -> 照燒凍腐 | J20: =PHONETIC(I130:I134) -> 凍豆腐時瓜醬油紅砂糖 | K20: 時蔬 | L20: 蔬菜薑 | M20: =M129 -> 味噌蔬湯 | N20: =PHONETIC(M130:M134) -> 時蔬味噌薑 | O20: =O129 -> 水果 | P20: 有機豆漿 | Q20: 5.5 | R20: 2.5 | S20: 1.8 | T20: 2.9 | W20: =Q20*70+R20*75+S20*25+T20*45+U20*120+V20*60 -> 748
A21: =IF(A20="","",IF(MONTH(A20)<>MONTH(A20+1),"",A20+3)) -> 45229 | B21: =IF(A21="","",RIGHT(TEXT(WEEKDAY(A21),"[$-404]aaaa;@"),1)) -> 一 | C21: =B135 -> 白米飯 | D21: =B136&B137 -> 米 | E21: =E135 -> 家常百頁 | F21: =PHONETIC(E136:E140) -> 百頁 | G21: =G135 -> 鐵板豆腐 | H21: =PHONETIC(G136:G140) -> 豆腐脆筍乾木耳薑 | I21: =I135 -> 金沙花椰 | J21: =PHONETIC(I136:I140) -> 花椰菜蛋黃粉胡蘿蔔薑 | K21: 時蔬 | L21: 蔬菜薑 | M21: =M135 -> 金針湯 | N21: =PHONETIC(M136:M140) -> 金針菜乾榨菜薑 | O21: =O135 -> 果汁 | Q21: 5 | R21: 2.5 | S21: 2.2 | T21: 2.9 | W21: =Q21*70+R21*75+S21*25+T21*45+U21*120+V21*60 -> 723
A22: =IF(A21="","",IF(MONTH(A21)<>MONTH(A21+1),"",A21+1)) -> 45230 | B22: =IF(A22="","",RIGHT(TEXT(WEEKDAY(A22),"[$-404]aaaa;@"),1)) -> 二 | C22: =B141 -> 糙米飯 | D22: =B142&B143 -> 米糙米 | E22: =E141 -> 泡菜麵腸 | F22: =PHONETIC(E142:E146) -> 麵腸韓式泡菜薑 | G22: =G141 -> 家常豆干 | H22: =PHONETIC(G142:G146) -> 豆干甘藍乾木耳胡蘿蔔薑 | I22: =I141 -> 滷野菜天 | J22: =PHONETIC(I142:I146) -> 野菜天 | K22: 時蔬 | L22: 蔬菜薑 | M22: =M141 -> 時蔬湯 | N22: =PHONETIC(M142:M146) -> 時蔬胡蘿蔔薑 | O22: =O141 -> 鮮乳 | Q22: 5.6 | R22: 2.5 | S22: 2 | T22: 3.1 | U22: 1 | W22: =Q22*70+R22*75+S22*25+T22*45+U22*120+V22*60 -> 889
A23: 過敏警語：「本月產品含有蛋、芝麻、含麩之穀物、花生、大豆、亞硫酸鹽類及其相關製品，不適合其過敏體質者食用」
A24: 月菜單編排說明:一、每周三五吃有機蔬菜。二、每週五喝有機豆漿
A25: 食材明細（食材重量以100人份計量，營養分析以個人計量,其中麵腸包含23%骨頭之採購量，每周供應特餐一次，當日得混搭供應，國中4菜1湯1附餐，國小3菜1湯1附餐）
A26: 日期 | B26: 主食 | C26: 重/公斤 | D26: 公斤 | E26: 主菜 | F26: 重/公斤 | G26: 副菜一 | H26: 重/公斤 | I26: 副菜二 | J26: 重/公斤 | K26: 蔬菜 | L26: 重/公斤 | M26: 湯品 | N26: 重/公斤 | O26: 附餐一 | P26: 附餐二
A27: =B3 -> 一 | B27: 白米飯 | D27: =IF(C27,"公斤","") | E27: 香炸素火腿 | G27: 牛蒡豆腐 | I27: 清炒花椰 | K27: 時蔬 | M27: 蛋花芽湯 | O27: 果汁
A28: =A3 -> 45201 | B28: 米 | C28: 10 | D28: =IF(C28,"公斤","") -> 公斤 | E28: 素火腿 | F28: 6.5 | G28: 豆腐 | H28: 5 | I28: 花椰菜 | J28: 7 | K28: 蔬菜 | L28: 7 | M28: 乾裙帶菜 | N28: 0.2
D29: =IF(C29,"公斤","") | G29: 牛蒡絲 | H29: 2 | I29: 胡蘿蔔 | J29: 0.5 | K29: 薑 | L29: 0.05 | M29: 薑 | N29: 0.05
D30: =IF(C30,"公斤","") | G30: 素肉 | H30: 0.1 | M30: 雞蛋 | N30: 0.6
D31: =IF(C31,"公斤","") | G31: 薑 | H31: 0.05 | I31: 薑 | J31: 0.05
D32: =IF(C32,"公斤","")
A33: =B4 -> 二 | B33: 糙米飯 | E33: 家常麵腸 | G33: 白菜凍腐 | I33: 碎脯蛋香 | K33: 時蔬 | M33: 茄香蔬湯 | O33: TAP豆漿
A34: =A4 -> 45202 | B34: 米 | C34: 7 | D34: =IF(C33,"公斤","") | E34: 麵腸 | F34: 9 | G34: 凍豆腐 | H34: 3 | I34: 雞蛋 | J34: 1.8 | K34: 蔬菜 | L34: 7 | M34: 番茄糊 | N34: 2
B35: 糙米 | C35: 3 | D35: =IF(C34,"公斤","") -> 公斤 | E35: 乾海帶 | F35: 1 | G35: 結球白菜 | H35: 3 | I35: 蘿蔔乾 | J35: 2 | K35: 薑 | L35: 0.05 | M35: 時蔬 | N35: 2
E36: 薑 | F36: 0.05 | G36: 乾香菇 | H36: 0.01 | I36: 白蘿蔔 | J36: 3
G37: 胡蘿蔔 | H37: 1
G38: 薑 | H38: 0.05 | I38: 薑 | J38: 0.05
A39: =B5 -> 三 | B39: 米粉特餐 | E39: 米粉配料 | G39: 原味薯餅 | I39: 蜜汁豆干 | K39: 時蔬 | M39: 三絲羹湯 | O39: 小餐包
A40: =A5 -> 45203 | B40: 米粉 | C40: 4 | E40: 素肉 | F40: 1 | G40: 薯餅 | H40: 4 | I40: 豆干 | J40: 5 | K40: 蔬菜 | L40: 7 | M40: 雞蛋 | N40: 1.1
E41: 時蔬 | F41: 4 | K41: 薑 | L41: 0.05 | M41: 脆筍 | N41: 2
E42: 胡蘿蔔 | F42: 1 | I42: 薑 | J42: 0.05 | M42: 白蘿蔔 | N42: 2
D43: =IF(C43,"公斤","") | M43: 乾木耳 | N43: 0.01
D44: =IF(C44,"公斤","") | E44: 薑 | F44: 0.05
A45: =B6 -> 四 | B45: 糙米飯 | E45: 筍干百頁 | G45: 豆皮海帶 | I45: 野菜天 | K45: 時蔬 | M45: 綠豆湯 | O45: 堅果
A46: =A6 -> 45204 | B46: 米 | C46: 7 | E46: 百頁 | F46: 9 | G46: 豆皮 | H46: 0.2 | I46: 野菜天 | J46: 4 | K46: 蔬菜 | L46: 7 | M46: 綠豆 | N46: 2
B47: 糙米 | C47: 3 | E47: 麻竹筍干 | F47: 3 | G47: 乾海帶 | H47: 1 | K47: 薑 | L47: 0.05 | M47: 紅砂糖 | N47: 1
E48: 薑 | F48: 0.05 | G48: 薑 | H48: 0.05
A51: =B7 -> 五 | B51: 紅藜飯 | D51: =IF(C51,"公斤","") | E51: 沙茶油腐 | G51: 木須佐蛋 | I51: 素香豆芽 | K51: 時蔬 | M51: 金針湯 | O51: 水果 | P51: 有機豆漿
A52: =A7 -> 45205 | B52: 米 | C52: 10 | D52: =IF(C52,"公斤","") -> 公斤 | E52: 四角油豆腐 | F52: 8 | G52: 雞蛋 | H52: 1.8 | I52: 素培根 | J52: 0.5 | K52: 蔬菜 | L52: 7 | M52: 金針菜乾 | N52: 0.1
B53: 紅藜 | C53: 0.1 | D53: =IF(C53,"公斤","") -> 公斤 | G53: 時蔬 | H53: 2 | I53: 綠豆芽 | J53: 5 | K53: 薑 | L53: 0.05 | M53: 榨菜 | N53: 1
D54: =IF(C54,"公斤","") | E54: 白蘿蔔 | F54: 4 | G54: 乾木耳 | H54: 0.1 | I54: 胡蘿蔔 | J54: 1 | M54: 薑 | N54: 0.05
E55: 薑 | F55: 0.05 | G55: 胡蘿蔔 | H55: 2 | I55: 薑 | J55: 0.05
G56: 薑 | H56: 0.05
A57: =B8 -> 三 | B57: 西式特餐 | E57: 素火腿 | G57: 茄汁肉醬 | I57: 起司花椰 | K57: 時蔬 | M57: 玉米濃湯 | O57: 小餐包
A58: =A8 -> 45210 | B58: 義大利麵 | C58: 4 | D58: =IF(C58,"公斤","") -> 公斤 | E58: 素火腿 | F58: 6 | G58: 素肉 | H58: 1 | I58: 花椰菜 | J58: 7 | K58: 蔬菜 | L58: 7 | M58: 雞蛋 | N58: 0.6
D59: =IF(C59,"公斤","") | G59: 馬鈴薯 | H59: 4 | I59: 胡蘿蔔 | J59: 0.5 | K59: 薑 | L59: 0.05 | M59: 玉米粒罐頭 | N59: 3
D60: =IF(C60,"公斤","") | I60: 起司粉 | J60: 0.05 | M60: 玉米醬罐頭 | N60: 1
D61: =IF(C61,"公斤","") | G61: 薑 | H61: 0.05 | I61: 薑 | J61: 0.05 | M61: 玉米濃湯粉 | N61: 0.1
D62: =IF(C62,"公斤","")
A63: =B9 -> 四 | B63: 糙米飯 | D63: =IF(C63,"公斤","") | E63: 魯蒸煎炒蛋 | G63: 鮮菇豆腐 | I63: 素肉瓜粒 | K63: 時蔬 | M63: 檸檬愛玉 | O63: 果汁
A64: =A9 -> 45211 | B64: 米 | C64: 7 | D64: =IF(C64,"公斤","") -> 公斤 | E64: 雞蛋 | F64: 5.5 | G64: 豆腐 | H64: 5 | I64: 素肉 | J64: 1 | K64: 蔬菜 | L64: 7 | M64: 愛玉 | N64: 6
B65: 糙米 | C65: 3 | D65: =IF(C65,"公斤","") -> 公斤 | G65: 杏鮑菇 | H65: 2 | I65: 時瓜 | J65: 7 | K65: 薑 | L65: 0.05 | M65: 紅砂糖 | N65: 1
G66: 乾香菇 | H66: 0.01 | I66: 乾木耳 | J66: 0.01 | M66: 檸檬汁 | N66: 0.01
D67: =IF(C67,"公斤","") | E67: 滷包 | G67: 薑 | H67: 0.05 | I67: 薑 | J67: 0.05
D68: =IF(C68,"公斤","")
A69: =B10 -> 五 | B69: 小米飯 | E69: 海結麵輪 | G69: 銀蘿蛋香 | I69: 五香豆干 | K69: 時蔬 | M69: 番茄蔬湯 | O69: 水果 | P69: 有機豆漿
A70: =A10 -> 45212 | B70: 米 | C70: 10 | D70: =IF(C70,"公斤","") -> 公斤 | E70: 麵輪 | F70: 1 | G70: 雞蛋 | H70: 1.8 | I70: 豆干 | J70: 5 | K70: 蔬菜 | L70: 7 | M70: 時蔬 | N70: 2
B71: 小米 | C71: 0.4 | D71: =IF(C71,"公斤","") -> 公斤 | E71: 乾海帶 | F71: 1 | G71: 白蘿蔔 | H71: 5 | K71: 薑 | L71: 0.05 | M71: 番茄糊 | N71: 1
G72: 胡蘿蔔 | H72: 1 | I72: 薑 | J72: 0.05 | M72: 薑 | N72: 0.05
E73: 薑 | F73: 0.05
G74: 薑 | H74: 0.05
A75: =B11 -> 一 | B75: 白米飯 | D75: =IF(C75,"公斤","") | E75: 黑椒油腐 | G75: 蔬香冬粉 | I75: 滷野菜天 | K75: 時蔬 | M75: 味噌芽湯 | O75: 果汁
A76: =A11 -> 45215 | B76: 米 | C76: 10 | D76: =IF(C76,"公斤","") -> 公斤 | E76: 四角油豆腐 | F76: 6 | G76: 雞蛋 | H76: 1.1 | I76: 野菜天 | J76: 4 | K76: 蔬菜 | L76: 7 | M76: 乾裙帶菜 | N76: 0.2
D77: =IF(C77,"公斤","") | E77: 馬鈴薯 | F77: 2 | G77: 冬粉 | H77: 1 | K77: 薑 | L77: 0.05 | M77: 味噌 | N77: 0.1
G78: 胡蘿蔔 | H78: 1 | M78: 薑 | N78: 0.05
E79: 薑 | F79: 0.05 | G79: 乾木耳 | H79: 0.01
D80: =IF(C80,"公斤","") | G80: 薑 | H80: 0.05
A81: =B12 -> 二 | B81: 糙米飯 | D81: =IF(C81,"公斤","") | E81: 椒鹽素火腿 | G81: 茄汁豆腐 | I81: 毛豆白菜 | K81: 時蔬 | M81: 時蔬湯 | O81: 保久乳
A82: =A12 -> 45216 | B82: 米 | C82: 7 | D82: =IF(C82,"公斤","") -> 公斤 | E82: 素火腿 | F82: 6.5 | G82: 豆腐 | H82: 4 | I82: 結球白菜 | J82: 7 | K82: 蔬菜 | L82: 7 | M82: 時蔬 | N82: 3
B83: 糙米 | C83: 3 | E83: 胡椒鹽 | I83: 毛豆 | J83: 1 | K83: 薑 | L83: 0.05 | M83: 胡蘿蔔 | N83: 1
G84: 番茄糊 | H84: 2 | I84: 乾香菇 | J84: 0.01 | M84: 薑 | N84: 0.05
G85: 番茄醬 | I85: 薑 | J85: 0.05
G86: 薑 | H86: 0.05
A87: =B13 -> 三 | B87: 泰式特餐 | E87: 打拋諸 | G87: 豆皮甘藍 | I87: 南洋豆包 | K87: 時蔬 | M87: 冬蔭功湯 | O87: 小餐包
A88: =A13 -> 45217 | B88: 米 | C88: 8 | E88: 素肉 | F88: 1 | G88: 甘藍 | H88: 7 | I88: 豆包 | J88: 4 | K88: 蔬菜 | L88: 7 | M88: 金針菇 | N88: 1.5
B89: 糙米 | C89: 3 | D89: =IF(C83,"公斤","") -> 公斤 | G89: 胡蘿蔔 | H89: 0.5 | K89: 薑 | L89: 0.05 | M89: 番茄糊 | N89: 2
E90: 打拋醬 | F90: 0.1 | G90: 豆皮 | H90: 0.1 | M90: 南薑
D91: =IF(C91,"公斤","") | E91: 薑 | F91: 0.05 | G91: 薑 | H91: 0.05 | M91: 香茅
D92: =IF(C87,"公斤","")
A93: =B14 -> 四 | B93: 糙米飯 | D93: =IF(C93,"公斤","") | E93: 豆瓣麵腸 | G93: 香滷凍腐 | I93: 素肉時蔬 | K93: 時蔬 | M93: 枸杞銀耳 | O93: 海苔
A94: =A14 -> 45218 | B94: 米 | C94: 7 | D94: =IF(C94,"公斤","") -> 公斤 | E94: 麵腸 | F94: 9 | G94: 凍豆腐 | H94: 2.7 | I94: 素肉 | J94: 0.3 | K94: 蔬菜 | L94: 7 | M94: 乾銀耳 | N94: 0.2
B95: 糙米 | C95: 3 | D95: =IF(C95,"公斤","") -> 公斤 | E95: 乾海帶 | F95: 0.5 | G95: 麻竹筍干 | H95: 3 | I95: 時蔬 | J95: 6 | K95: 薑 | L95: 0.05 | M95: 枸杞 | N95: 0.01
E96: 豆瓣醬 | G96: 薑 | H96: 0.05 | I96: 胡蘿蔔 | J96: 0.5 | M96: 紅砂糖 | N96: 1
E97: 薑 | F97: 0.05 | I97: 薑 | J97: 0.05
A99: =B15 -> 五 | B99: 紫米飯 | D99: =IF(C99,"公斤","") | E99: 鹹香百頁 | G99: 甘藍佐蛋 | I99: 五香豆干 | K99: 時蔬 | M99: 金針湯 | O99: 水果 | P99: 有機豆漿
A100: =A15 -> 45219 | B100: 米 | C100: 10 | E100: 百頁 | F100: 6 | G100: 雞蛋 | H100: 1.2 | I100: 豆干 | J100: 4.5 | K100: 蔬菜 | L100: 7 | M100: 金針菜乾 | N100: 0.2
B101: 黑糯米 | C101: 0.4 | D101: =IF(C101,"公斤","") -> 公斤 | E101: 甘藍 | F101: 4 | G101: 甘藍 | H101: 7 | I101: 胡蘿蔔 | J101: 1 | K101: 薑 | L101: 0.05 | M101: 榨菜 | N101: 1
D102: =IF(C102,"公斤","") | E102: 胡蘿蔔 | F102: 0.5 | G102: 乾木耳 | H102: 0.01 | M102: 薑 | N102: 0.05
G103: 薑 | H103: 0.05 | I103: 薑 | J103: 0.05
...

Sheet 國小素
A1: 112 | D1: 112 | E1: 學年度 | F1: 國民 | G1: 小學 | H1: 10 | I1: 月素食菜單-7案 | L1: 津吉
A2: 日期 | B2: 星期 | C2: 主食 | D2: 主食明細 | E2: 主菜 | F2: 主菜明細 | G2: 副菜一 | H2: 副菜一明細 | I2: 蔬菜 | J2: 蔬菜明細 | K2: 湯品 | L2: 湯品明細 | M2: 附餐一 | N2: 附餐二 | O2: 穀/份 | P2: 豆/份 | Q2: 蔬/份 | R2: 油/份 | S2: 乳/分 | T2: 果/份 | U2: 熱量
A3: 45201 | B3: =IF(A3="","",RIGHT(TEXT(WEEKDAY(A3),"[$-404]aaaa;@"),1)) -> 一 | C3: =B27 -> 白米飯 | D3: =B28&B29 -> 米 | E3: =E27 -> 素火腿 | F3: =PHONETIC(E28:E32) -> 素火腿 | G3: =G27 -> 牛蒡豆腐 | H3: =PHONETIC(G28:G32) -> 豆腐牛蒡絲素肉薑 | I3: 時蔬 | J3: 蔬菜薑 | K3: =K27 -> 蛋花芽湯 | L3: =PHONETIC(K28:K31) -> 乾裙帶菜薑雞蛋 | M3: =M27 -> 果汁 | O3: 5.3 | P3: 2.5 | Q3: 1.9 | R3: 2.8 | U3: =O3*70+P3*75+Q3*25+R3*45+S3*120+T3*60 -> 732
A4: =IF(A3="","",IF(MONTH(A3)<>MONTH(A3+1),"",A3+1)) -> 45202 | B4: =IF(A4="","",RIGHT(TEXT(WEEKDAY(A4),"[$-404]aaaa;@"),1)) -> 二 | C4: =B33 -> 糙米飯 | D4: =B34&B35 -> 米糙米 | E4: =E33 -> 家常麵腸 | F4: =PHONETIC(E34:E38) -> 麵腸乾海帶薑 | G4: =G33 -> 白菜凍腐 | H4: =PHONETIC(G34:G38) -> 凍豆腐結球白菜乾香菇胡蘿蔔薑 | I4: 時蔬 | J4: 蔬菜薑 | K4: =K33 -> 茄香蔬湯 | L4: =PHONETIC(K34:K37) -> 番茄糊時蔬 | M4: =M33 -> TAP豆漿 | O4: 6 | P4: 2.5 | Q4: 1.8 | R4: 2.9 | T4: 1 | U4: =O4*70+P4*75+Q4*25+R4*45+S4*120+T4*60 -> 843
A5: =IF(A4="","",IF(MONTH(A4)<>MONTH(A4+1),"",A4+1)) -> 45203 | B5: =IF(A5="","",RIGHT(TEXT(WEEKDAY(A5),"[$-404]aaaa;@"),1)) -> 三 | C5: =B39 -> 米粉特餐 | D5: =B40&B41 -> 米粉 | E5: =E39 -> 米粉配料 | F5: =PHONETIC(E40:E44) -> 素肉時蔬胡蘿蔔薑 | G5: =G39 -> 原味薯餅 | H5: =PHONETIC(G40:G44) -> 薯餅 | I5: 時蔬 | J5: 蔬菜薑 | K5: =K39 -> 三絲羹湯 | L5: =PHONETIC(K40:K43) -> 雞蛋脆筍白蘿蔔乾木耳 | M5: =M39 -> 小餐包 | O5: 5.2 | P5: 2.5 | Q5: 2 | R5: 2.9 | S5: 1 | U5: =O5*70+P5*75+Q5*25+R5*45+S5*120+T5*60 -> 852
A6: =IF(A5="","",IF(MONTH(A5)<>MONTH(A5+1),"",A5+1)) -> 45204 | B6: =IF(A6="","",RIGHT(TEXT(WEEKDAY(A6),"[$-404]aaaa;@"),1)) -> 四 | C6: =B45 -> 糙米飯 | D6: =B46&B47 -> 米糙米 | E6: =E45 -> 筍干百頁 | F6: =PHONETIC(E46:E50) -> 百頁麻竹筍干薑 | G6: =G45 -> 豆皮海帶 | H6: =PHONETIC(G46:G50) -> 豆皮乾海帶薑 | I6: 時蔬 | J6: 蔬菜薑 | K6: =K45 -> 綠豆湯 | L6: =PHONETIC(K46:K49) -> 綠豆紅砂糖 | M6: =M45 -> 堅果 | O6: 5.6 | P6: 2.5 | Q6: 1.7 | R6: 2.8 | U6: =O6*70+P6*75+Q6*25+R6*45+S6*120+T6*60 -> 748
A7: =IF(A6="","",IF(MONTH(A6)<>MONTH(A6+1),"",A6+1)) -> 45205 | B7: =IF(A7="","",RIGHT(TEXT(WEEKDAY(A7),"[$-404]aaaa;@"),1)) -> 五 | C7: =B51 -> 紅藜飯 | D7: =B52&B53 -> 米紅藜 | E7: =E51 -> 沙茶油腐 | F7: =PHONETIC(E52:E56) -> 四角油豆腐白蘿蔔薑 | G7: =G51 -> 木須佐蛋 | H7: =PHONETIC(G52:G56) -> 雞蛋時蔬乾木耳胡蘿蔔薑 | I7: 時蔬 | J7: 蔬菜薑 | K7: =K51 -> 金針湯 | L7: =PHONETIC(K52:K56) -> 金針菜乾榨菜薑 | M7: =M51 -> 水果 | N7: 有機豆漿 | O7: 5 | P7: 2.5 | Q7: 1.8 | R7: 2.9 | S7: 1 | U7: =O7*70+P7*75+Q7*25+R7*45+S7*120+T7*60 -> 833
A8: =IF(A7="","",IF(MONTH(A7)<>MONTH(A7+1),"",A7+5)) -> 45210 | B8: =IF(A8="","",RIGHT(TEXT(WEEKDAY(A8),"[$-404]aaaa;@"),1)) -> 三 | C8: =B57 -> 西式特餐 | D8: =B58&B59 -> 義大利麵 | E8: =E57 -> 素火腿 | F8: =PHONETIC(E58:E62) -> 素火腿 | G8: =G57 -> 茄汁肉醬 | H8: =PHONETIC(G58:G62) -> 素肉馬鈴薯薑 | I8: 時蔬 | J8: 蔬菜薑 | K8: =K57 -> 玉米濃湯 | L8: =PHONETIC(K58:K62) -> 雞蛋玉米粒罐頭玉米醬罐頭玉米濃湯粉 | M8: =M57 -> 小餐包 | O8: 5 | P8: 2.5 | Q8: 1.6 | R8: 2.9 | U8: =O8*70+P8*75+Q8*25+R8*45+S8*120+T8*60 -> 708
A9: =IF(A8="","",IF(MONTH(A8)<>MONTH(A8+1),"",A8+1)) -> 45211 | B9: =IF(A9="","",RIGHT(TEXT(WEEKDAY(A9),"[$-404]aaaa;@"),1)) -> 四 | C9: =B63 -> 糙米飯 | D9: =B64&B65 -> 米糙米 | E9: =E63 -> 魯蒸煎炒蛋 | F9: =PHONETIC(E64:E68) -> 雞蛋滷包 | G9: =G63 -> 鮮菇豆腐 | H9: =PHONETIC(G64:G68) -> 豆腐杏鮑菇乾香菇薑 | I9: 時蔬 | J9: 蔬菜薑 | K9: =K63 -> 檸檬愛玉 | L9: =PHONETIC(K64:K67) -> 愛玉紅砂糖檸檬汁 | M9: =M63 -> 果汁 | O9: 5 | P9: 2.5 | Q9: 2 | R9: 2.7 | T9: 1 | U9: =O9*70+P9*75+Q9*25+R9*45+S9*120+T9*60 -> 769
A10: =IF(A9="","",IF(MONTH(A9)<>MONTH(A9+1),"",A9+1)) -> 45212 | B10: =IF(A10="","",RIGHT(TEXT(WEEKDAY(A10),"[$-404]aaaa;@"),1)) -> 五 | C10: =B69 -> 小米飯 | D10: =B70&B71 -> 米小米 | E10: =E69 -> 海結麵輪 | F10: =PHONETIC(E70:E74) -> 麵輪乾海帶薑 | G10: =G69 -> 銀蘿蛋香 | H10: =PHONETIC(G70:G74) -> 雞蛋白蘿蔔胡蘿蔔薑 | I10: 時蔬 | J10: 蔬菜薑 | K10: =K69 -> 番茄蔬湯 | L10: =PHONETIC(K70:K74) -> 時蔬番茄糊薑 | M10: =M69 -> 水果 | N10: 有機豆漿 | O10: 5.2 | P10: 2.5 | Q10: 2 | R10: 2.9 | U10: =O10*70+P10*75+Q10*25+R10*45+S10*120+T10*60 -> 732
A11: =IF(A10="","",IF(MONTH(A10)<>MONTH(A10+1),"",A10+3)) -> 45215 | B11: =IF(A11="","",RIGHT(TEXT(WEEKDAY(A11),"[$-404]aaaa;@"),1)) -> 一 | C11: =B75 -> 白米飯 | D11: =B76&B77 -> 米 | E11: =E75 -> 黑椒油腐 | F11: =PHONETIC(E76:E80) -> 四角油豆腐馬鈴薯薑 | G11: =G75 -> 蔬香冬粉 | H11: =PHONETIC(G76:G80) -> 雞蛋冬粉胡蘿蔔乾木耳薑 | I11: 時蔬 | J11: 蔬菜薑 | K11: =K75 -> 味噌芽湯 | L11: =PHONETIC(K76:K79) -> 乾裙帶菜味噌薑 | M11: =M75 -> 果汁 | O11: 5 | P11: 2.5 | Q11: 1.7 | R11: 3 | U11: =O11*70+P11*75+Q11*25+R11*45+S11*120+T11*60 -> 715
A12: =IF(A11="","",IF(MONTH(A11)<>MONTH(A11+1),"",A11+1)) -> 45216 | B12: =IF(A12="","",RIGHT(TEXT(WEEKDAY(A12),"[$-404]aaaa;@"),1)) -> 二 | C12: =B81 -> 糙米飯 | D12: =B82&B83 -> 米糙米 | E12: =E81 -> 椒鹽素火腿 | F12: =PHONETIC(E82:E86) -> 素火腿胡椒鹽 | G12: =G81 -> 茄汁豆腐 | H12: =PHONETIC(G82:G86) -> 豆腐番茄糊番茄醬薑 | I12: 時蔬 | J12: 蔬菜薑 | K12: =K81 -> 時蔬湯 | L12: =PHONETIC(K82:K86) -> 時蔬胡蘿蔔薑 | M12: =M81 -> 保久乳/堅果 | O12: 5 | P12: 2.5 | Q12: 1.6 | R12: 2.9 | S12: 1 | U12: =O12*70+P12*75+Q12*25+R12*45+S12*120+T12*60 -> 828
A13: =IF(A12="","",IF(MONTH(A12)<>MONTH(A12+1),"",A12+1)) -> 45217 | B13: =IF(A13="","",RIGHT(TEXT(WEEKDAY(A13),"[$-404]aaaa;@"),1)) -> 三 | C13: =B87 -> 泰式特餐 | D13: =B88&B89 -> 米糙米 | E13: =E87 -> 打拋諸 | F13: =PHONETIC(E88:E92) -> 素肉打拋醬薑 | G13: =G87 -> 豆皮甘藍 | H13: =PHONETIC(G88:G92) -> 甘藍胡蘿蔔豆皮薑 | I13: 時蔬 | J13: 蔬菜薑 | K13: =K87 -> 冬蔭功湯 | L13: =PHONETIC(K88:K91) -> 金針菇番茄糊南薑香茅 | M13: =M87 -> 小餐包 | O13: 4 | P13: 2.5 | Q13: 1.6 | R13: 2.9 | U13: =O13*70+P13*75+Q13*25+R13*45+S13*120+T13*60 -> 638
A14: =IF(A13="","",IF(MONTH(A13)<>MONTH(A13+1),"",A13+1)) -> 45218 | B14: =IF(A14="","",RIGHT(TEXT(WEEKDAY(A14),"[$-404]aaaa;@"),1)) -> 四 | C14: =B93 -> 糙米飯 | D14: =B94&B95 -> 米糙米 | E14: =E93 -> 豆瓣麵腸 | F14: =PHONETIC(E94:E98) -> 麵腸乾海帶豆瓣醬薑 | G14: =G93 -> 香滷凍腐 | H14: =PHONETIC(G94:G98) -> 凍豆腐麻竹筍干薑 | I14: 時蔬 | J14: 蔬菜薑 | K14: =K93 -> 枸杞銀耳 | L14: =PHONETIC(K94:K98) -> 乾銀耳枸杞紅砂糖 | M14: =M93 -> 海苔 | O14: 5.4 | P14: 2.5 | Q14: 1.8 | R14: 2.9 | T14: 1 | U14: =O14*70+P14*75+Q14*25+R14*45+S14*120+T14*60 -> 801
A15: =IF(A14="","",IF(MONTH(A14)<>MONTH(A14+1),"",A14+1)) -> 45219 | B15: =IF(A15="","",RIGHT(TEXT(WEEKDAY(A15),"[$-404]aaaa;@"),1)) -> 五 | C15: =B99 -> 紫米飯 | D15: =B100&B101 -> 米黑糯米 | E15: =E99 -> 鹹香百頁 | F15: =PHONETIC(E100:E104) -> 百頁甘藍胡蘿蔔 | G15: =G99 -> 甘藍佐蛋 | H15: =PHONETIC(G100:G104) -> 雞蛋甘藍乾木耳薑 | I15: 時蔬 | J15: 蔬菜薑 | K15: =K99 -> 金針湯 | L15: =PHONETIC(K100:K104) -> 金針菜乾榨菜薑 | M15: =M99 -> 水果 | N15: 有機豆漿 | O15: 5 | P15: 2.5 | Q15: 2 | R15: 2.9 | U15: =O15*70+P15*75+Q15*25+R15*45+S15*120+T15*60 -> 718
A16: =IF(A15="","",IF(MONTH(A15)<>MONTH(A15+1),"",A15+3)) -> 45222 | B16: =IF(A16="","",RIGHT(TEXT(WEEKDAY(A16),"[$-404]aaaa;@"),1)) -> 一 | C16: =B105 -> 白米飯 | D16: =B106&B107 -> 米 | E16: =E105 -> 梅干麵筋 | F16: =PHONETIC(E106:E110) -> 梅乾菜麵筋薑 | G16: =G105 -> 豆皮銀絲 | H16: =PHONETIC(G106:G110) -> 豆皮白蘿蔔乾木耳薑 | I16: 時蔬 | J16: 蔬菜薑 | K16: =K105 -> 蛋花湯 | L16: =PHONETIC(K106:K110) -> 雞蛋乾裙帶菜薑 | M16: =M105 -> 果汁 | O16: 5 | P16: 2.5 | Q16: 2 | R16: 2.9 | U16: =O16*70+P16*75+Q16*25+R16*45+S16*120+T16*60 -> 718
A17: =IF(A16="","",IF(MONTH(A16)<>MONTH(A16+1),"",A16+1)) -> 45223 | B17: =IF(A17="","",RIGHT(TEXT(WEEKDAY(A17),"[$-404]aaaa;@"),1)) -> 二 | C17: =B111 -> 糙米飯 | D17: =B112&B113 -> 米糙米 | E17: =E111 -> 素火腿 | F17: =PHONETIC(E112:E116) -> 素火腿滷包 | G17: =G111 -> 毛豆白菜 | H17: =PHONETIC(G112:G116) -> 毛豆結球白菜乾香菇胡蘿蔔薑 | I17: 時蔬 | J17: 蔬菜薑 | K17: =K111 -> 時瓜湯 | L17: =PHONETIC(K112:K116) -> 時瓜枸杞薑 | M17: =M111 -> 優酪乳/保久乳 | O17: 5 | P17: 2.5 | Q17: 1.7 | R17: 2.8 | S17: 1 | U17: =O17*70+P17*75+Q17*25+R17*45+S17*120+T17*60 -> 826
A18: =IF(A17="","",IF(MONTH(A17)<>MONTH(A17+1),"",A17+1)) -> 45224 | B18: =IF(A18="","",RIGHT(TEXT(WEEKDAY(A18),"[$-404]aaaa;@"),1)) -> 三 | C18: =B117 -> 刈包特餐 | D18: =B118&B119 -> 刈包 | E18: =E117 -> 酸菜麵腸 | F18: =PHONETIC(E118:E122) -> 麵腸酸菜薑 | G18: =G117 -> 玉筍豆腐 | H18: =PHONETIC(G118:G122) -> 豆腐冷凍玉米筍豆瓣醬薑 | I18: 時蔬 | J18: 蔬菜薑 | K18: =K117 -> 糙米粥 | L18: =PHONETIC(K118:K122) -> 雞蛋時蔬乾香菇糙米胡蘿蔔 | M18: =M117 -> 小餐包 | O18: 4.2 | P18: 2.5 | Q18: 1.5 | R18: 2.8 | U18: =O18*70+P18*75+Q18*25+R18*45+S18*120+T18*60 -> 645
A19: =IF(A18="","",IF(MONTH(A18)<>MONTH(A18+1),"",A18+1)) -> 45225 | B19: =IF(A19="","",RIGHT(TEXT(WEEKDAY(A19),"[$-404]aaaa;@"),1)) -> 四 | C19: =B123 -> 糙米飯 | D19: =B124&B125 -> 米糙米 | E19: =E123 -> 咖哩百頁 | F19: =PHONETIC(E124:E128) -> 百頁馬鈴薯咖哩粉 | G19: =G123 -> 素香豆芽 | H19: =PHONETIC(G124:G128) -> 綠豆芽胡蘿蔔素培根薑 | I19: 時蔬 | J19: 蔬菜薑 | K19: =K123 -> 仙草甜湯 | L19: =PHONETIC(K124:K128) -> 仙草凍紅砂糖 | M19: =M123 -> 小饅頭 | O19: 5.6 | P19: 2.5 | Q19: 2.2 | R19: 2.9 | T19: 1 | U19: =O19*70+P19*75+Q19*25+R19*45+S19*120+T19*60 -> 825
A20: =IF(A19="","",IF(MONTH(A19)<>MONTH(A19+1),"",A19+1)) -> 45226 | B20: =IF(A20="","",RIGHT(TEXT(WEEKDAY(A20),"[$-404]aaaa;@"),1)) -> 五 | C20: =B129 -> 燕麥飯 | D20: =B130&B131 -> 米燕麥 | E20: =E129 -> 油腐豉香 | F20: =PHONETIC(E130:E133) -> 四角油豆腐白蘿蔔豆豉 | G20: =G129 -> 螞蟻上樹 | H20: =PHONETIC(G130:G134) -> 素肉冬粉時蔬乾木耳薑 | I20: 時蔬 | J20: 蔬菜薑 | K20: =K129 -> 味噌蔬湯 | L20: =PHONETIC(K130:K134) -> 時蔬味噌薑 | M20: =M129 -> 水果 | N20: 有機豆漿 | O20: 5.5 | P20: 2.5 | Q20: 1.8 | R20: 2.9 | U20: =O20*70+P20*75+Q20*25+R20*45+S20*120+T20*60 -> 748
A21: =IF(A20="","",IF(MONTH(A20)<>MONTH(A20+1),"",A20+3)) -> 45229 | B21: =IF(A21="","",RIGHT(TEXT(WEEKDAY(A21),"[$-404]aaaa;@"),1)) -> 一 | C21: =B135 -> 白米飯 | D21: =B136&B137 -> 米 | E21: =E135 -> 家常百頁 | F21: =PHONETIC(E136:E140) -> 百頁 | G21: =G135 -> 鐵板豆腐 | H21: =PHONETIC(G136:G140) -> 豆腐脆筍乾木耳薑 | I21: 時蔬 | J21: 蔬菜薑 | K21: =K135 -> 金針湯 | L21: =PHONETIC(K136:K140) -> 金針菜乾榨菜薑 | M21: =M135 -> 果汁 | O21: 5 | P21: 2.5 | Q21: 2.2 | R21: 2.9 | U21: =O21*70+P21*75+Q21*25+R21*45+S21*120+T21*60 -> 723
A22: =IF(A21="","",IF(MONTH(A21)<>MONTH(A21+1),"",A21+1)) -> 45230 | B22: =IF(A22="","",RIGHT(TEXT(WEEKDAY(A22),"[$-404]aaaa;@"),1)) -> 二 | C22: =B141 -> 糙米飯 | D22: =B142&B143 -> 米糙米 | E22: =E141 -> 泡菜麵腸 | F22: =PHONETIC(E142:E146) -> 麵腸韓式泡菜薑 | G22: =G141 -> 家常豆干 | H22: =PHONETIC(G142:G146) -> 豆干甘藍乾木耳胡蘿蔔薑 | I22: 時蔬 | J22: 蔬菜薑 | K22: =K141 -> 時蔬湯 | L22: =PHONETIC(K142:K146) -> 時蔬胡蘿蔔薑 | M22: =M141 -> 鮮乳/保久乳 | O22: 5.6 | P22: 2.5 | Q22: 2 | R22: 3.1 | S22: 1 | U22: =O22*70+P22*75+Q22*25+R22*45+S22*120+T22*60 -> 889
A23: 過敏警語：「本月產品含有蛋、芝麻、含麩之穀物、花生、大豆、亞硫酸鹽類及其相關製品，不適合其過敏體質者食用」
A24: 月菜單編排說明:一、每周三五吃有機蔬菜。二、每週五喝有機豆漿
A25: 食材明細（食材重量以100人份計量，營養分析以個人計量,其中麵腸包含23%骨頭之採購量，每周供應特餐一次，當日得混搭供應，國中4菜1湯1附餐，國小3菜1湯1附餐）
A26: 日期 | B26: 主食 | C26: 重/公斤 | D26: 公斤 | E26: 主菜 | F26: 重/公斤 | G26: 副菜一 | H26: 重/公斤 | I26: 蔬菜 | J26: 重/公斤 | K26: 湯品 | L26: 重/公斤 | M26: 附餐一 | N26: 附餐二
A27: =B3 -> 一 | B27: 白米飯 | D27: =IF(C27,"公斤","") | E27: 素火腿 | G27: 牛蒡豆腐 | I27: 時蔬 | K27: 蛋花芽湯 | M27: 果汁
A28: =A3 -> 45201 | B28: 米 | C28: 10 | D28: =IF(C28,"公斤","") -> 公斤 | E28: 素火腿 | F28: 6.5 | G28: 豆腐 | H28: 5 | I28: 蔬菜 | J28: 7 | K28: 乾裙帶菜 | L28: 0.2
D29: =IF(C29,"公斤","") | G29: 牛蒡絲 | H29: 2 | I29: 薑 | J29: 0.05 | K29: 薑 | L29: 0.05
D30: =IF(C30,"公斤","") | G30: 素肉 | H30: 0.1 | K30: 雞蛋 | L30: 0.6
D31: =IF(C31,"公斤","") | G31: 薑 | H31: 0.05
D32: =IF(C32,"公斤","")
A33: =B4 -> 二 | B33: 糙米飯 | E33: 家常麵腸 | G33: 白菜凍腐 | I33: 時蔬 | K33: 茄香蔬湯 | M33: TAP豆漿
A34: =A4 -> 45202 | B34: 米 | C34: 7 | D34: =IF(C33,"公斤","") | E34: 麵腸 | F34: 9 | G34: 凍豆腐 | H34: 3 | I34: 蔬菜 | J34: 7 | K34: 番茄糊 | L34: 2
B35: 糙米 | C35: 3 | D35: =IF(C34,"公斤","") -> 公斤 | E35: 乾海帶 | F35: 1 | G35: 結球白菜 | H35: 3 | I35: 薑 | J35: 0.05 | K35: 時蔬 | L35: 2
E36: 薑 | F36: 0.05 | G36: 乾香菇 | H36: 0.01
G37: 胡蘿蔔 | H37: 1
G38: 薑 | H38: 0.05
A39: =B5 -> 三 | B39: 米粉特餐 | E39: 米粉配料 | G39: 原味薯餅 | I39: 時蔬 | K39: 三絲羹湯 | M39: 小餐包
A40: =A5 -> 45203 | B40: 米粉 | C40: 4 | E40: 素肉 | F40: 1 | G40: 薯餅 | H40: 4 | I40: 蔬菜 | J40: 7 | K40: 雞蛋 | L40: 1.1
E41: 時蔬 | F41: 4 | I41: 薑 | J41: 0.05 | K41: 脆筍 | L41: 2
E42: 胡蘿蔔 | F42: 1 | K42: 白蘿蔔 | L42: 2
D43: =IF(C43,"公斤","") | K43: 乾木耳 | L43: 0.01
D44: =IF(C44,"公斤","") | E44: 薑 | F44: 0.05
A45: =B6 -> 四 | B45: 糙米飯 | E45: 筍干百頁 | G45: 豆皮海帶 | I45: 時蔬 | K45: 綠豆湯 | M45: 堅果
A46: =A6 -> 45204 | B46: 米 | C46: 7 | E46: 百頁 | F46: 9 | G46: 豆皮 | H46: 0.2 | I46: 蔬菜 | J46: 7 | K46: 綠豆 | L46: 2
B47: 糙米 | C47: 3 | E47: 麻竹筍干 | F47: 3 | G47: 乾海帶 | H47: 1 | I47: 薑 | J47: 0.05 | K47: 紅砂糖 | L47: 1
E48: 薑 | F48: 0.05 | G48: 薑 | H48: 0.05
A51: =B7 -> 五 | B51: 紅藜飯 | D51: =IF(C51,"公斤","") | E51: 沙茶油腐 | G51: 木須佐蛋 | I51: 時蔬 | K51: 金針湯 | M51: 水果 | N51: 有機豆漿
A52: =A7 -> 45205 | B52: 米 | C52: 10 | D52: =IF(C52,"公斤","") -> 公斤 | E52: 四角油豆腐 | F52: 8 | G52: 雞蛋 | H52: 1.8 | I52: 蔬菜 | J52: 7 | K52: 金針菜乾 | L52: 0.1
B53: 紅藜 | C53: 0.1 | D53: =IF(C53,"公斤","") -> 公斤 | G53: 時蔬 | H53: 2 | I53: 薑 | J53: 0.05 | K53: 榨菜 | L53: 1
D54: =IF(C54,"公斤","") | E54: 白蘿蔔 | F54: 4 | G54: 乾木耳 | H54: 0.1 | K54: 薑 | L54: 0.05
E55: 薑 | F55: 0.05 | G55: 胡蘿蔔 | H55: 2
G56: 薑 | H56: 0.05
A57: =B8 -> 三 | B57: 西式特餐 | E57: 素火腿 | G57: 茄汁肉醬 | I57: 時蔬 | K57: 玉米濃湯 | M57: 小餐包
A58: =A8 -> 45210 | B58: 義大利麵 | C58: 4 | D58: =IF(C58,"公斤","") -> 公斤 | E58: 素火腿 | F58: 6 | G58: 素肉 | H58: 1 | I58: 蔬菜 | J58: 7 | K58: 雞蛋 | L58: 0.6
D59: =IF(C59,"公斤","") | G59: 馬鈴薯 | H59: 4 | I59: 薑 | J59: 0.05 | K59: 玉米粒罐頭 | L59: 3
D60: =IF(C60,"公斤","") | K60: 玉米醬罐頭 | L60: 1
D61: =IF(C61,"公斤","") | G61: 薑 | H61: 0.05 | K61: 玉米濃湯粉 | L61: 0.1
D62: =IF(C62,"公斤","")
A63: =B9 -> 四 | B63: 糙米飯 | D63: =IF(C63,"公斤","") | E63: 魯蒸煎炒蛋 | G63: 鮮菇豆腐 | I63: 時蔬 | K63: 檸檬愛玉 | M63: 果汁
A64: =A9 -> 45211 | B64: 米 | C64: 7 | D64: =IF(C64,"公斤","") -> 公斤 | E64: 雞蛋 | F64: 5.5 | G64: 豆腐 | H64: 5 | I64: 蔬菜 | J64: 7 | K64: 愛玉 | L64: 6
B65: 糙米 | C65: 3 | D65: =IF(C65,"公斤","") -> 公斤 | G65: 杏鮑菇 | H65: 2 | I65: 薑 | J65: 0.05 | K65: 紅砂糖 | L65: 1
G66: 乾香菇 | H66: 0.01 | K66: 檸檬汁 | L66: 0.01
D67: =IF(C67,"公斤","") | E67: 滷包 | G67: 薑 | H67: 0.05
D68: =IF(C68,"公斤","")
A69: =B10 -> 五 | B69: 小米飯 | E69: 海結麵輪 | G69: 銀蘿蛋香 | I69: 時蔬 | K69: 番茄蔬湯 | M69: 水果 | N69: 有機豆漿
A70: =A10 -> 45212 | B70: 米 | C70: 10 | D70: =IF(C70,"公斤","") -> 公斤 | E70: 麵輪 | F70: 1 | G70: 雞蛋 | H70: 1.8 | I70: 蔬菜 | J70: 7 | K70: 時蔬 | L70: 2
B71: 小米 | C71: 0.4 | D71: =IF(C71,"公斤","") -> 公斤 | E71: 乾海帶 | F71: 1 | G71: 白蘿蔔 | H71: 5 | I71: 薑 | J71: 0.05 | K71: 番茄糊 | L71: 1
G72: 胡蘿蔔 | H72: 1 | K72: 薑 | L72: 0.05
E73: 薑 | F73: 0.05
G74: 薑 | H74: 0.05
A75: =B11 -> 一 | B75: 白米飯 | D75: =IF(C75,"公斤","") | E75: 黑椒油腐 | G75: 蔬香冬粉 | I75: 時蔬 | K75: 味噌芽湯 | M75: 果汁
A76: =A11 -> 45215 | B76: 米 | C76: 10 | D76: =IF(C76,"公斤","") -> 公斤 | E76: 四角油豆腐 | F76: 6 | G76: 雞蛋 | H76: 1.1 | I76: 蔬菜 | J76: 7 | K76: 乾裙帶菜 | L76: 0.2
D77: =IF(C77,"公斤","") | E77: 馬鈴薯 | F77: 2 | G77: 冬粉 | H77: 1 | I77: 薑 | J77: 0.05 | K77: 味噌 | L77: 0.1
G78: 胡蘿蔔 | H78: 1 | K78: 薑 | L78: 0.05
E79: 薑 | F79: 0.05 | G79: 乾木耳 | H79: 0.01
D80: =IF(C80,"公斤","") | G80: 薑 | H80: 0.05
A81: =B12 -> 二 | B81: 糙米飯 | D81: =IF(C81,"公斤","") | E81: 椒鹽素火腿 | G81: 茄汁豆腐 | I81: 時蔬 | K81: 時蔬湯 | M81: 保久乳/堅果
A82: =A12 -> 45216 | B82: 米 | C82: 7 | D82: =IF(C82,"公斤","") -> 公斤 | E82: 素火腿 | F82: 6.5 | G82: 豆腐 | H82: 4 | I82: 蔬菜 | J82: 7 | K82: 時蔬 | L82: 3
B83: 糙米 | C83: 3 | E83: 胡椒鹽 | I83: 薑 | J83: 0.05 | K83: 胡蘿蔔 | L83: 1
G84: 番茄糊 | H84: 2 | K84: 薑 | L84: 0.05
G85: 番茄醬
G86: 薑 | H86: 0.05
A87: =B13 -> 三 | B87: 泰式特餐 | E87: 打拋諸 | G87: 豆皮甘藍 | I87: 時蔬 | K87: 冬蔭功湯 | M87: 小餐包
A88: =A13 -> 45217 | B88: 米 | C88: 8 | E88: 素肉 | F88: 1 | G88: 甘藍 | H88: 7 | I88: 蔬菜 | J88: 7 | K88: 金針菇 | L88: 1.5
B89: 糙米 | C89: 3 | D89: =IF(C83,"公斤","") -> 公斤 | G89: 胡蘿蔔 | H89: 0.5 | I89: 薑 | J89: 0.05 | K89: 番茄糊 | L89: 2
E90: 打拋醬 | F90: 0.1 | G90: 豆皮 | H90: 0.1 | K90: 南薑
D91: =IF(C91,"公斤","") | E91: 薑 | F91: 0.05 | G91: 薑 | H91: 0.05 | K91: 香茅
D92: =IF(C87,"公斤","")
A93: =B14 -> 四 | B93: 糙米飯 | D93: =IF(C93,"公斤","") | E93: 豆瓣麵腸 | G93: 香滷凍腐 | I93: 時蔬 | K93: 枸杞銀耳 | M93: 海苔
A94: =A14 -> 45218 | B94: 米 | C94: 7 | D94: =IF(C94,"公斤","") -> 公斤 | E94: 麵腸 | F94: 9 | G94: 凍豆腐 | H94: 2.7 | I94: 蔬菜 | J94: 7 | K94: 乾銀耳 | L94: 0.2
B95: 糙米 | C95: 3 | D95: =IF(C95,"公斤","") -> 公斤 | E95: 乾海帶 | F95: 0.5 | G95: 麻竹筍干 | H95: 3 | I95: 薑 | J95: 0.05 | K95: 枸杞 | L95: 0.01
E96: 豆瓣醬 | G96: 薑 | H96: 0.05 | K96: 紅砂糖 | L96: 1
E97: 薑 | F97: 0.05
A99: =B15 -> 五 | B99: 紫米飯 | D99: =IF(C99,"公斤","") | E99: 鹹香百頁 | G99: 甘藍佐蛋 | I99: 時蔬 | K99: 金針湯 | M99: 水果 | N99: 有機豆漿
A100: =A15 -> 45219 | B100: 米 | C100: 10 | E100: 百頁 | F100: 6 | G100: 雞蛋 | H100: 1.2 | I100: 蔬菜 | J100: 7 | K100: 金針菜乾 | L100: 0.2
B101: 黑糯米 | C101: 0.4 | D101: =IF(C101,"公斤","") -> 公斤 | E101: 甘藍 | F101: 4 | G101: 甘藍 | H101: 7 | I101: 薑 | J101: 0.05 | K101: 榨菜 | L101: 1
D102: =IF(C102,"公斤","") | E102: 胡蘿蔔 | F102: 0.5 | G102: 乾木耳 | H102: 0.01 | K102: 薑 | L102: 0.05
G103: 薑 | H103: 0.05
...

Sheet 附餐點心
A1: 點心順序 | C1: 美崙國中 | E1: 東華附小 | G1: 信義國小 | I1: 復興國小 | K1: 鑄強國小 | M1: 和平國小
A2: 日期 | B2: 星期 | C2: 附餐一 | D2: 附餐二 | E2: 附餐一 | F2: 附餐二 | G2: 附餐一 | H2: 附餐二 | I2: 附餐一 | J2: 附餐二 | K2: 附餐一 | L2: 附餐二 | M2: 附餐一 | N2: 附餐二
A3: 45201 | B3: =IF(A3="","",RIGHT(TEXT(WEEKDAY(A3),"[$-404]aaaa;@"),1)) -> 一 | C3: 果汁 | E3: 果汁 | G3: 果汁 | I3: 果汁 | K3: 果汁 | M3: 果汁
A4: =IF(A3="","",IF(MONTH(A3)<>MONTH(A3+1),"",A3+1)) -> 45202 | B4: =IF(A4="","",RIGHT(TEXT(WEEKDAY(A4),"[$-404]aaaa;@"),1)) -> 二 | C4: TAP豆漿 | E4: TAP豆漿 | G4: TAP豆漿 | I4: TAP豆漿 | K4: TAP豆漿 | M4: TAP豆漿
A5: =IF(A4="","",IF(MONTH(A4)<>MONTH(A4+1),"",A4+1)) -> 45203 | B5: =IF(A5="","",RIGHT(TEXT(WEEKDAY(A5),"[$-404]aaaa;@"),1)) -> 三 | C5: 小餐包 | E5: 小餐包 | G5: 小餐包 | I5: 小餐包 | K5: 小餐包 | M5: 小餐包
A6: =IF(A5="","",IF(MONTH(A5)<>MONTH(A5+1),"",A5+1)) -> 45204 | B6: =IF(A6="","",RIGHT(TEXT(WEEKDAY(A6),"[$-404]aaaa;@"),1)) -> 四 | C6: 堅果 | E6: 堅果 | G6: 堅果 | I6: 堅果 | K6: 堅果 | M6: 堅果
A7: =IF(A6="","",IF(MONTH(A6)<>MONTH(A6+1),"",A6+1)) -> 45205 | B7: =IF(A7="","",RIGHT(TEXT(WEEKDAY(A7),"[$-404]aaaa;@"),1)) -> 五 | C7: 水果 | D7: 有機豆漿 | E7: 水果 | F7: 有機豆漿 | G7: 水果 | H7: 有機豆漿 | I7: 水果 | J7: 有機豆漿 | K7: 水果 | L7: 有機豆漿 | M7: 水果 | N7: 有機豆漿
A8: =IF(A7="","",IF(MONTH(A7)<>MONTH(A7+1),"",A7+5)) -> 45210 | B8: =IF(A8="","",RIGHT(TEXT(WEEKDAY(A8),"[$-404]aaaa;@"),1)) -> 三 | C8: 小餐包 | E8: 小餐包 | G8: 小餐包 | I8: 小餐包 | K8: 小餐包 | M8: 小餐包
A9: =IF(A8="","",IF(MONTH(A8)<>MONTH(A8+1),"",A8+1)) -> 45211 | B9: =IF(A9="","",RIGHT(TEXT(WEEKDAY(A9),"[$-404]aaaa;@"),1)) -> 四 | C9: 果汁 | E9: 果汁 | G9: 果汁 | I9: 果汁 | K9: 果汁 | M9: 果汁
A10: =IF(A9="","",IF(MONTH(A9)<>MONTH(A9+1),"",A9+1)) -> 45212 | B10: =IF(A10="","",RIGHT(TEXT(WEEKDAY(A10),"[$-404]aaaa;@"),1)) -> 五 | C10: 水果 | D10: 有機豆漿 | E10: 水果 | F10: 有機豆漿 | G10: 水果 | H10: 有機豆漿 | I10: 水果 | J10: 有機豆漿 | K10: 水果 | L10: 有機豆漿 | M10: 水果 | N10: 有機豆漿
A11: =IF(A10="","",IF(MONTH(A10)<>MONTH(A10+1),"",A10+3)) -> 45215 | B11: =IF(A11="","",RIGHT(TEXT(WEEKDAY(A11),"[$-404]aaaa;@"),1)) -> 一 | C11: 果汁 | E11: 果汁 | G11: 果汁 | I11: 果汁 | K11: 果汁 | M11: 果汁
A12: =IF(A11="","",IF(MONTH(A11)<>MONTH(A11+1),"",A11+1)) -> 45216 | B12: =IF(A12="","",RIGHT(TEXT(WEEKDAY(A12),"[$-404]aaaa;@"),1)) -> 二 | C12: 保久乳 | E12: 堅果 | G12: 堅果 | I12: 保久乳 | K12: 保久乳 | M12: 保久乳
A13: =IF(A12="","",IF(MONTH(A12)<>MONTH(A12+1),"",A12+1)) -> 45217 | B13: =IF(A13="","",RIGHT(TEXT(WEEKDAY(A13),"[$-404]aaaa;@"),1)) -> 三 | C13: 小餐包 | E13: 小餐包 | G13: 小餐包 | I13: 小餐包 | K13: 小餐包 | M13: 小餐包
A14: =IF(A13="","",IF(MONTH(A13)<>MONTH(A13+1),"",A13+1)) -> 45218 | B14: =IF(A14="","",RIGHT(TEXT(WEEKDAY(A14),"[$-404]aaaa;@"),1)) -> 四 | C14: 海苔 | E14: 海苔 | G14: 海苔 | I14: 海苔 | K14: 海苔 | M14: 蜂蜜蛋糕
A15: =IF(A14="","",IF(MONTH(A14)<>MONTH(A14+1),"",A14+1)) -> 45219 | B15: =IF(A15="","",RIGHT(TEXT(WEEKDAY(A15),"[$-404]aaaa;@"),1)) -> 五 | C15: 水果 | D15: 有機豆漿 | E15: 水果 | F15: 有機豆漿 | G15: 水果 | H15: 有機豆漿 | I15: 水果 | J15: 有機豆漿 | K15: 水果 | L15: 有機豆漿 | M15: 水果 | N15: 有機豆漿
A16: =IF(A15="","",IF(MONTH(A15)<>MONTH(A15+1),"",A15+3)) -> 45222 | B16: =IF(A16="","",RIGHT(TEXT(WEEKDAY(A16),"[$-404]aaaa;@"),1)) -> 一 | C16: 果汁 | E16: 果汁 | G16: 果汁 | I16: 果汁 | K16: 果汁 | M16: 果汁
A17: =IF(A16="","",IF(MONTH(A16)<>MONTH(A16+1),"",A16+1)) -> 45223 | B17: =IF(A17="","",RIGHT(TEXT(WEEKDAY(A17),"[$-404]aaaa;@"),1)) -> 二 | C17: 優酪乳 | E17: 優酪乳 | G17: 優酪乳 | I17: 保久乳 | K17: 保久乳 | M17: 保久乳
A18: =IF(A17="","",IF(MONTH(A17)<>MONTH(A17+1),"",A17+1)) -> 45224 | B18: =IF(A18="","",RIGHT(TEXT(WEEKDAY(A18),"[$-404]aaaa;@"),1)) -> 三 | C18: 小餐包 | E18: 小餐包 | G18: 小餐包 | I18: 小餐包 | K18: 小餐包 | M18: 小餐包
A19: =IF(A18="","",IF(MONTH(A18)<>MONTH(A18+1),"",A18+1)) -> 45225 | B19: =IF(A19="","",RIGHT(TEXT(WEEKDAY(A19),"[$-404]aaaa;@"),1)) -> 四 | C19: 堅果 | E19: 堅果 | G19: 堅果 | I19: 堅果 | K19: 堅果 | M19: 堅果
A20: =IF(A19="","",IF(MONTH(A19)<>MONTH(A19+1),"",A19+1)) -> 45226 | B20: =IF(A20="","",RIGHT(TEXT(WEEKDAY(A20),"[$-404]aaaa;@"),1)) -> 五 | C20: 水果 | D20: 有機豆漿 | E20: 水果 | F20: 有機豆漿 | G20: 水果 | H20: 有機豆漿 | I20: 水果 | J20: 有機豆漿 | K20: 水果 | L20: 有機豆漿 | M20: 水果 | N20: 有機豆漿
A21: =IF(A20="","",IF(MONTH(A20)<>MONTH(A20+1),"",A20+3)) -> 45229 | B21: =IF(A21="","",RIGHT(TEXT(WEEKDAY(A21),"[$-404]aaaa;@"),1)) -> 一 | C21: 果汁 | E21: 果汁 | G21: 果汁 | I21: 果汁 | K21: 果汁 | M21: 果汁
A22: =IF(A21="","",IF(MONTH(A21)<>MONTH(A21+1),"",A21+1)) -> 45230 | B22: =IF(A22="","",RIGHT(TEXT(WEEKDAY(A22),"[$-404]aaaa;@"),1)) -> 二 | C22: 鮮乳 | E22: 鮮乳 | G22: 鮮乳 | I22: 保久乳 | K22: 保久乳 | M22: 保久乳

Sheet 中心溫度
C1: 國中 | E1: 午餐廚房 | H1: 9
D2: 烹調中心(產品)溫度標準值： | E2: (1)素菜類：75℃以上，(2)葷菜類：85℃以上
A3: 日期 | B3: 菜餚名稱 | C3: 溫度(℃) | D3: 菜餚名稱 | E3: 溫度(℃) | F3: 廚師 | G3: 確認者
A4: 45201 | B4: =國中!E3 -> 香炸魚排 | D4: =國中!G3 -> 牛蒡豆腐
A5: =IF(A4="","",IF(MONTH(A4)<>MONTH(A4+1),"",A4+1)) -> 45202 | B5: =國中!E4 -> 家常雞排 | D5: =國中!G4 -> 白菜凍腐
A6: =IF(A5="","",IF(MONTH(A5)<>MONTH(A5+1),"",A5+1)) -> 45203 | B6: =國中!E5 -> 米粉配料 | D6: =國中!G5 -> 原味薯餅
A7: =IF(A6="","",IF(MONTH(A6)<>MONTH(A6+1),"",A6+1)) -> 45204 | B7: =國中!E6 -> 筍干燒雞 | D7: =國中!G6 -> 豆皮海帶
A8: =IF(A7="","",IF(MONTH(A7)<>MONTH(A7+1),"",A7+1)) -> 45205 | B8: =國中!E7 -> 沙茶三鮮 | D8: =國中!G7 -> 木須佐蛋
A9: =IF(A8="","",IF(MONTH(A8)<>MONTH(A8+1),"",A8+5)) -> 45210 | B9: =國中!E8 -> 金黃魚塊 | D9: =國中!G8 -> 茄汁肉醬
A10: =IF(A9="","",IF(MONTH(A9)<>MONTH(A9+1),"",A9+1)) -> 45211 | B10: =國中!E9 -> 醬燒雞翅 | D10: =國中!G9 -> 鮮菇豆腐
A11: =IF(A10="","",IF(MONTH(A10)<>MONTH(A10+1),"",A10+1)) -> 45212 | B11: =國中!E10 -> 海結滷肉 | D11: =國中!G10 -> 銀蘿蛋香
A12: =IF(A11="","",IF(MONTH(A11)<>MONTH(A11+1),"",A11+3)) -> 45215 | B12: =國中!E11 -> 黑椒肉絲 | D12: =國中!G11 -> 蔬香冬粉
A13: =IF(A12="","",IF(MONTH(A12)<>MONTH(A12+1),"",A12+1)) -> 45216 | B13: =國中!E12 -> 椒鹽魚排 | D13: =國中!G12 -> 茄汁豆腐
A14: =IF(A13="","",IF(MONTH(A13)<>MONTH(A13+1),"",A13+1)) -> 45217 | B14: =國中!E13 -> 打拋豬 | D14: =國中!G13 -> 風味甘藍
A15: =IF(A14="","",IF(MONTH(A14)<>MONTH(A14+1),"",A14+1)) -> 45218 | B15: =國中!E14 -> 豆瓣雞丁 | D15: =國中!G14 -> 香滷凍腐
A16: =IF(A15="","",IF(MONTH(A15)<>MONTH(A15+1),"",A15+1)) -> 45219 | B16: =國中!E15 -> 鹹香肉片 | D16: =國中!G15 -> 甘藍佐蛋
A17: =IF(A16="","",IF(MONTH(A16)<>MONTH(A16+1),"",A16+3)) -> 45222 | B17: =國中!E16 -> 梅干絞肉 | D17: =國中!G16 -> 豆皮銀絲
A18: =IF(A17="","",IF(MONTH(A17)<>MONTH(A17+1),"",A17+1)) -> 45223 | B18: =國中!E17 -> 香味雞翅 | D18: =國中!G17 -> 絞肉白菜
A19: =IF(A18="","",IF(MONTH(A18)<>MONTH(A18+1),"",A18+1)) -> 45224 | B19: =國中!E18 -> 酸菜肉片 | D19: =國中!G18 -> 玉筍豆腐
A20: =IF(A19="","",IF(MONTH(A19)<>MONTH(A19+1),"",A19+1)) -> 45225 | B20: =國中!E19 -> 咖哩雞丁 | D20: =國中!G19 -> 培根豆芽
A21: =IF(A20="","",IF(MONTH(A20)<>MONTH(A20+1),"",A20+1)) -> 45226 | B21: =國中!E20 -> 三鮮豉香 | D21: =國中!G20 -> 螞蟻上樹
A22: =IF(A21="","",IF(MONTH(A21)<>MONTH(A21+1),"",A21+3)) -> 45229 | B22: =國中!E21 -> 家常里雞 | D22: =國中!G21 -> 鐵板豆腐
A23: =IF(A22="","",IF(MONTH(A22)<>MONTH(A22+1),"",A22+1)) -> 45230 | B23: =國中!E22 -> 泡菜肉片 | D23: =國中!G22 -> 家常豆干
