Workbook

Sheet 國中
A1: 112 | D1: 112 | E1: 學年度 | F1: 國民 | G1: 中學 | H1: 10 | I1: 月葷食菜單-7案 | K1: 津吉-本店使用台灣豬肉
A2: 日期 | B2: 星期 | C2: 主食 | D2: 主食明細 | E2: 主菜 | F2: 主菜明細 | G2: 副菜一 | H2: 副菜一明細 | I2: 副菜二 | J2: 副菜二明細 | K2: 蔬菜 | L2: 蔬菜明細 | M2: 湯品 | N2: 湯品明細 | O2: 附餐一 | P2: 附餐二 | Q2: 穀/份 | R2: 豆/份 | S2: 蔬/份 | T2: 油/份 | U2: 乳/分 | V2: 果/份 | W2: 熱量
A3: 45201 | B3: =IF(A3="","",RIGHT(TEXT(WEEKDAY(A3),"[$-404]aaaa;@"),1)) -> 一 | C3: =B27 -> 白米飯 | D3: =B28&B29 -> 米 | E3: =E27 -> 香炸魚排 | F3: =PHONETIC(E28:E32) -> 魚排 | G3: =G27 -> 牛蒡豆腐 | H3: =PHONETIC(G28:G32) -> 豆腐牛蒡絲豬絞肉大蒜 | I3: =I27 -> 開陽花椰 | J3: =PHONETIC(I28:I32) -> 花椰菜胡蘿蔔蝦皮大蒜 | K3: 時蔬 | L3: 蔬菜大蒜 | M3: =M27 -> 蛋花芽湯 | N3: =PHONETIC(M28:M31) -> 乾裙帶菜薑雞蛋 | O3: =O27 -> 果汁 | Q3: 5.3 | R3: 2.5 | S3: 1.9 | T3: 2.8 | W3: =Q3*70+R3*75+S3*25+T3*45+U3*120+V3*60 -> 732
A4: =IF(A3="","",IF(MONTH(A3)<>MONTH(A3+1),"",A3+1)) -> 45202 | B4: =IF(A4="","",RIGHT(TEXT(WEEKDAY(A4),"[$-404]aaaa;@"),1)) -> 二 | C4: =B33 -> 糙米飯 | D4: =B34&B35 -> 米糙米 | E4: =E33 -> 家常雞排 | F4: =PHONETIC(E34:E38) -> 香雞排 | G4: =G33 -> 白菜凍腐 | H4: =PHONETIC(G34:G38) -> 凍豆腐結球白菜乾香菇胡蘿蔔大蒜 | I4: =I33 -> 碎脯蛋香 | J4: =PHONETIC(I34:I38) -> 雞蛋蘿蔔乾白蘿蔔洋蔥大蒜 | K4: 時蔬 | L4: 蔬菜大蒜 | M4: =M33 -> 茄香蔬湯 | N4: =PHONETIC(M34:M37) -> 番茄糊時蔬豬骨 | O4: =O33 -> TAP豆漿 | Q4: 6 | R4: 2.5 | S4: 1.8 | T4: 2.9 | V4: 1 | W4: =Q4*70+R4*75+S4*25+T4*45+U4*120+V4*60 -> 843
A5: =IF(A4="","",IF(MONTH(A4)<>MONTH(A4+1),"",A4+1)) -> 45203 | B5: =IF(A5="","",RIGHT(TEXT(WEEKDAY(A5),"[$-404]aaaa;@"),1)) -> 三 | C5: =B39 -> 米粉特餐 | D5: =B40&B41 -> 米粉 | E5: =E39 -> 米粉配料 | F5: =PHONETIC(E40:E44) -> 豬絞肉時蔬胡蘿蔔油蔥酥大蒜 | G5: =G39 -> 原味薯餅 | H5: =PHONETIC(G40:G44) -> 薯餅 | I5: =I39 -> 蜜汁豆干 | J5: =PHONETIC(I40:I44) -> 豆干大蒜 | K5: 時蔬 | L5: 蔬菜大蒜 | M5: =M39 -> 三絲羹湯 | N5: =PHONETIC(M40:M43) -> 雞蛋脆筍白蘿蔔乾木耳 | O5: =O39 -> 小餐包 | Q5: 5.2 | R5: 2.5 | S5: 2 | T5: 2.9 | U5: 1 | W5: =Q5*70+R5*75+S5*25+T5*45+U5*120+V5*60 -> 852
A6: =IF(A5="","",IF(MONTH(A5)<>MONTH(A5+1),"",A5+1)) -> 45204 | B6: =IF(A6="","",RIGHT(TEXT(WEEKDAY(A6),"[$-404]aaaa;@"),1)) -> 四 | C6: =B45 -> 糙米飯 | D6: =B46&B47 -> 米糙米 | E6: =E45 -> 筍干燒雞 | F6: =PHONETIC(E46:E50) -> 肉雞麻竹筍干大蒜 | G6: =G45 -> 豆皮海帶 | H6: =PHONETIC(G46:G50) -> 豆皮乾海帶大蒜 | I6: =I45 -> 野菜天 | J6: =PHONETIC(I46:I50) -> 野菜天 | K6: 時蔬 | L6: 蔬菜大蒜 | M6: =M45 -> 綠豆湯 | N6: =PHONETIC(M46:M49) -> 綠豆紅砂糖 | O6: =O45 -> 堅果 | Q6: 5.6 | R6: 2.5 | S6: 1.7 | T6: 2.8 | W6: =Q6*70+R6*75+S6*25+T6*45+U6*120+V6*60 -> 748
A7: =IF(A6="","",IF(MONTH(A6)<>MONTH(A6+1),"",A6+1)) -> 45205 | B7: =IF(A7="","",RIGHT(TEXT(WEEKDAY(A7),"[$-404]aaaa;@"),1)) -> 五 | C7: =B51 -> 紅藜飯 | D7: =B52&B53 -> 米紅藜 | E7: =E51 -> 沙茶三鮮 | F7: =PHONETIC(E52:E56) -> 阿根廷魷虱目魚丸白蘿蔔大蒜 | G7: =G51 -> 木須佐蛋 | H7: =PHONETIC(G52:G56) -> 雞蛋洋蔥乾木耳胡蘿蔔大蒜 | I7: =I51 -> 培根豆芽 | J7: =PHONETIC(I52:I56) -> 培根綠豆芽胡蘿蔔大蒜 | K7: 時蔬 | L7: 蔬菜大蒜 | M7: =M51 -> 金針湯 | N7: =PHONETIC(M52:M56) -> 金針菜乾榨菜薑豬骨 | O7: =O51 -> 水果 | P7: 有機豆漿 | Q7: 5 | R7: 2.5 | S7: 1.8 | T7: 2.9 | U7: 1 | W7: =Q7*70+R7*75+S7*25+T7*45+U7*120+V7*60 -> 833
A8: =IF(A7="","",IF(MONTH(A7)<>MONTH(A7+1),"",A7+5)) -> 45210 | B8: =IF(A8="","",RIGHT(TEXT(WEEKDAY(A8),"[$-404]aaaa;@"),1)) -> 三 | C8: =B57 -> 西式特餐 | D8: =B58&B59 -> 義大利麵 | E8: =E57 -> 金黃魚塊 | F8: =PHONETIC(E58:E62) -> 虱目魚塊 | G8: =G57 -> 茄汁肉醬 | H8: =PHONETIC(G58:G62) -> 豬絞肉馬鈴薯洋蔥大蒜 | I8: =I57 -> 起司花椰 | J8: =PHONETIC(I58:I62) -> 花椰菜胡蘿蔔起司粉大蒜 | K8: 時蔬 | L8: 蔬菜大蒜 | M8: =M57 -> 玉米濃湯 | N8: =PHONETIC(M58:M62) -> 雞蛋玉米粒罐頭玉米醬罐頭玉米濃湯粉 | O8: =O57 -> 小餐包 | Q8: 5 | R8: 2.5 | S8: 1.6 | T8: 2.9 | W8: =Q8*70+R8*75+S8*25+T8*45+U8*120+V8*60 -> 708
A9: =IF(A8="","",IF(MONTH(A8)<>MONTH(A8+1),"",A8+1)) -> 45211 | B9: =IF(A9="","",RIGHT(TEXT(WEEKDAY(A9),"[$-404]aaaa;@"),1)) -> 四 | C9: =B63 -> 糙米飯 | D9: =B64&B65 -> 米糙米 | E9: =E63 -> 醬燒雞翅 | F9: =PHONETIC(E64:E68) -> 三節翅滷包 | G9: =G63 -> 鮮菇豆腐 | H9: =PHONETIC(G64:G68) -> 豆腐杏鮑菇乾香菇大蒜 | I9: =I63 -> 絞肉瓜粒 | J9: =PHONETIC(I64:I67) -> 豬絞肉時瓜乾木耳大蒜 | K9: 時蔬 | L9: 蔬菜大蒜 | M9: =M63 -> 檸檬愛玉 | N9: =PHONETIC(M64:M67) -> 愛玉紅砂糖檸檬汁 | O9: =O63 -> 果汁 | Q9: 5 | R9: 2.5 | S9: 2 | T9: 2.7 | V9: 1 | W9: =Q9*70+R9*75+S9*25+T9*45+U9*120+V9*60 -> 769
A10: =IF(A9="","",IF(MONTH(A9)<>MONTH(A9+1),"",A9+1)) -> 45212 | B10: =IF(A10="","",RIGHT(TEXT(WEEKDAY(A10),"[$-404]aaaa;@"),1)) -> 五 | C10: =B69 -> 小米飯 | D10: =B70&B71 -> 米小米 | E10: =E69 -> 海結滷肉 | F10: =PHONETIC(E70:E74) -> 豬後腿肉乾海帶麵輪大蒜 | G10: =G69 -> 銀蘿蛋香 | H10: =PHONETIC(G70:G74) -> 雞蛋白蘿蔔胡蘿蔔大蒜 | I10: =I69 -> 五香豆干 | J10: =PHONETIC(I70:I73) -> 豆干大蒜 | K10: 時蔬 | L10: 蔬菜大蒜 | M10: =M69 -> 番茄蔬湯 | N10: =PHONETIC(M70:M74) -> 時蔬番茄糊薑豬骨 | O10: =O69 -> 水果 | P10: 有機豆漿 | Q10: 5.2 | R10: 2.5 | S10: 2 | T10: 2.9 | W10: =Q10*70+R10*75+S10*25+T10*45+U10*120+V10*60 -> 732
A11: =IF(A10="","",IF(MONTH(A10)<>MONTH(A10+1),"",A10+3)) -> 45215 | B11: =IF(A11="","",RIGHT(TEXT(WEEKDAY(A11),"[$-404]aaaa;@"),1)) -> 一 | C11: =B75 -> 白米飯 | D11: =B76&B77 -> 米 | E11: =E75 -> 黑椒肉絲 | F11: =PHONETIC(E76:E80) -> 豬後腿肉馬鈴薯洋蔥大蒜 | G11: =G75 -> 蔬香冬粉 | H11: =PHONETIC(G76:G80) -> 雞蛋冬粉胡蘿蔔乾木耳大蒜 | I11: =I75 -> 滷野菜天 | J11: =PHONETIC(I76:I79) -> 野菜天 | K11: 時蔬 | L11: 蔬菜大蒜 | M11: =M75 -> 味噌芽湯 | N11: =PHONETIC(M76:M79) -> 乾裙帶菜味噌薑柴魚片 | O11: =O75 -> 果汁 | Q11: 5 | R11: 2.5 | S11: 1.7 | T11: 3 | W11: =Q11*70+R11*75+S11*25+T11*45+U11*120+V11*60 -> 715
A12: =IF(A11="","",IF(MONTH(A11)<>MONTH(A11+1),"",A11+1)) -> 45216 | B12: =IF(A12="","",RIGHT(TEXT(WEEKDAY(A12),"[$-404]aaaa;@"),1)) -> 二 | C12: =B81 -> 糙米飯 | D12: =B82&B83 -> 米糙米 | E12: =E81 -> 椒鹽魚排 | F12: =PHONETIC(E82:E86) -> 魚排胡椒鹽 | G12: =G81 -> 茄汁豆腐 | H12: =PHONETIC(G82:G86) -> 豆腐洋蔥番茄糊番茄醬大蒜 | I12: =I81 -> 開陽白菜 | J12: =PHONETIC(I82:I86) -> 結球白菜胡蘿蔔乾香菇大蒜蝦皮 | K12: 時蔬 | L12: 蔬菜大蒜 | M12: =M81 -> 時蔬湯 | N12: =PHONETIC(M82:M86) -> 時蔬胡蘿蔔薑豬骨 | O12: =O81 -> 保久乳 | Q12: 5 | R12: 2.5 | S12: 1.6 | T12: 2.9 | U12: 1 | W12: =Q12*70+R12*75+S12*25+T12*45+U12*120+V12*60 -> 828
A13: =IF(A12="","",IF(MONTH(A12)<>MONTH(A12+1),"",A12+1)) -> 45217 | B13: =IF(A13="","",RIGHT(TEXT(WEEKDAY(A13),"[$-404]aaaa;@"),1)) -> 三 | C13: =B87 -> 泰式特餐 | D13: =B88&B89 -> 米糙米 | E13: =E87 -> 打拋豬 | F13: =PHONETIC(E88:E92) -> 豬絞肉洋蔥打拋醬大蒜 | G13: =G87 -> 風味甘藍 | H13: =PHONETIC(G88:G92) -> 甘藍胡蘿蔔叻沙醬大蒜 | I13: =I87 -> 南洋雞堡 | J13: =PHONETIC(I88:I92) -> 雞堡 | K13: 時蔬 | L13: 蔬菜大蒜 | M13: =M87 -> 冬蔭功湯 | N13: =PHONETIC(M88:M91) -> 金針菇番茄糊豬骨南薑 | O13: =O87 -> 小餐包 | Q13: 4 | R13: 2.5 | S13: 1.6 | T13: 2.9 | W13: =Q13*70+R13*75+S13*25+T13*45+U13*120+V13*60 -> 638
A14: =IF(A13="","",IF(MONTH(A13)<>MONTH(A13+1),"",A13+1)) -> 45218 | B14: =IF(A14="","",RIGHT(TEXT(WEEKDAY(A14),"[$-404]aaaa;@"),1)) -> 四 | C14: =B93 -> 糙米飯 | D14: =B94&B95 -> 米糙米 | E14: =E93 -> 豆瓣雞丁 | F14: =PHONETIC(E94:E98) -> 肉雞乾海帶豆瓣醬大蒜 | G14: =G93 -> 香滷凍腐 | H14: =PHONETIC(G94:G98) -> 凍豆腐麻竹筍干大蒜 | I14: =I93 -> 絞肉時蔬 | J14: =PHONETIC(I94:I98) -> 豬絞肉時蔬胡蘿蔔大蒜 | K14: 時蔬 | L14: 蔬菜大蒜 | M14: =M93 -> 枸杞銀耳 | N14: =PHONETIC(M94:M98) -> 乾銀耳枸杞紅砂糖 | O14: =O93 -> 海苔 | Q14: 5.4 | R14: 2.5 | S14: 1.8 | T14: 2.9 | V14: 1 | W14: =Q14*70+R14*75+S14*25+T14*45+U14*120+V14*60 -> 801
A15: =IF(A14="","",IF(MONTH(A14)<>MONTH(A14+1),"",A14+1)) -> 45219 | B15: =IF(A15="","",RIGHT(TEXT(WEEKDAY(A15),"[$-404]aaaa;@"),1)) -> 五 | C15: =B99 -> 紫米飯 | D15: =B100&B101 -> 米黑糯米 | E15: =E99 -> 鹹香肉片 | F15: =PHONETIC(E100:E104) -> 豬後腿肉甘藍胡蘿蔔醃鹹豬肉粉 | G15: =G99 -> 甘藍佐蛋 | H15: =PHONETIC(G100:G104) -> 雞蛋甘藍乾木耳大蒜 | I15: =I99 -> 五香豆干 | J15: =PHONETIC(I100:I104) -> 豆干胡蘿蔔大蒜 | K15: 時蔬 | L15: 蔬菜大蒜 | M15: =M99 -> 金針湯 | N15: =PHONETIC(M100:M104) -> 金針菜乾榨菜薑豬骨 | O15: =O99 -> 水果 | P15: 有機豆漿 | Q15: 5 | R15: 2.5 | S15: 2 | T15: 2.9 | W15: =Q15*70+R15*75+S15*25+T15*45+U15*120+V15*60 -> 718
A16: =IF(A15="","",IF(MONTH(A15)<>MONTH(A15+1),"",A15+3)) -> 45222 | B16: =IF(A16="","",RIGHT(TEXT(WEEKDAY(A16),"[$-404]aaaa;@"),1)) -> 一 | C16: =B105 -> 白米飯 | D16: =B106&B107 -> 米 | E16: =E105 -> 梅干絞肉 | F16: =PHONETIC(E106:E110) -> 豬絞肉梅乾菜麵筋大蒜 | G16: =G105 -> 豆皮銀絲 | H16: =PHONETIC(G106:G110) -> 豆皮白蘿蔔乾木耳大蒜 | I16: =I105 -> 原味薯餅 | J16: =PHONETIC(I106:I110) -> 薯餅 | K16: 時蔬 | L16: 蔬菜大蒜 | M16: =M105 -> 蛋花湯 | N16: =PHONETIC(M106:M110) -> 雞蛋乾裙帶菜薑 | O16: =O105 -> 果汁 | Q16: 5 | R16: 2.5 | S16: 2 | T16: 2.9 | W16: =Q16*70+R16*75+S16*25+T16*45+U16*120+V16*60 -> 718
A17: =IF(A16="","",IF(MONTH(A16)<>MONTH(A16+1),"",A16+1)) -> 45223 | B17: =IF(A17="","",RIGHT(TEXT(WEEKDAY(A17),"[$-404]aaaa;@"),1)) -> 二 | C17: =B111 -> 糙米飯 | D17: =B112&B113 -> 米糙米 | E17: =E111 -> 香味雞翅 | F17: =PHONETIC(E112:E116) -> 三節翅滷包 | G17: =G111 -> 絞肉白菜 | H17: =PHONETIC(G112:G116) -> 豬絞肉結球白菜乾香菇胡蘿蔔大蒜 | I17: =I111 -> 滷香竹腸 | J17: =PHONETIC(I112:I116) -> 香竹腸大蒜 | K17: 時蔬 | L17: 蔬菜大蒜 | M17: =M111 -> 時瓜湯 | N17: =PHONETIC(M112:M116) -> 時瓜枸杞薑豬骨 | O17: =O111 -> 優酪乳 | Q17: 5 | R17: 2.5 | S17: 1.7 | T17: 2.8 | U17: 1 | W17: =Q17*70+R17*75+S17*25+T17*45+U17*120+V17*60 -> 826
A18: =IF(A17="","",IF(MONTH(A17)<>MONTH(A17+1),"",A17+1)) -> 45224 | B18: =IF(A18="","",RIGHT(TEXT(WEEKDAY(A18),"[$-404]aaaa;@"),1)) -> 三 | C18: =B117 -> 刈包特餐 | D18: =B118&B119 -> 刈包 | E18: =E117 -> 酸菜肉片 | F18: =PHONETIC(E118:E122) -> 豬後腿肉酸菜薑 | G18: =G117 -> 玉筍豆腐 | H18: =PHONETIC(G118:G122) -> 豆腐冷凍玉米筍豆瓣醬大蒜 | I18: =I117 -> 麥香雞塊 | J18: =PHONETIC(I118:I122) -> 雞塊 | K18: 時蔬 | L18: 蔬菜大蒜 | M18: =M117 -> 糙米粥 | N18: =PHONETIC(M118:M122) -> 雞蛋時蔬乾香菇糙米胡蘿蔔 | O18: =O117 -> 小餐包 | Q18: 4.2 | R18: 2.5 | S18: 1.5 | T18: 2.8 | W18: =Q18*70+R18*75+S18*25+T18*45+U18*120+V18*60 -> 645
A19: =IF(A18="","",IF(MONTH(A18)<>MONTH(A18+1),"",A18+1)) -> 45225 | B19: =IF(A19="","",RIGHT(TEXT(WEEKDAY(A19),"[$-404]aaaa;@"),1)) -> 四 | C19: =B123 -> 糙米飯 | D19: =B124&B125 -> 米糙米 | E19: =E123 -> 咖哩雞丁 | F19: =PHONETIC(E124:E128) -> 肉雞馬鈴薯洋蔥咖哩粉 | G19: =G123 -> 培根豆芽 | H19: =PHONETIC(G124:G128) -> 綠豆芽胡蘿蔔培根大蒜 | I19: =I123 -> 秘汁豆干 | J19: =PHONETIC(I124:I128) -> 豆干醬油二砂糖大蒜 | K19: 時蔬 | L19: 蔬菜大蒜 | M19: =M123 -> 仙草甜湯 | N19: =PHONETIC(M124:M128) -> 仙草凍紅砂糖 | O19: =O123 -> 小饅頭 | Q19: 5.6 | R19: 2.5 | S19: 2.2 | T19: 2.9 | V19: 1 | W19: =Q19*70+R19*75+S19*25+T19*45+U19*120+V19*60 -> 825
A20: =IF(A19="","",IF(MONTH(A19)<>MONTH(A19+1),"",A19+1)) -> 45226 | B20: =IF(A20="","",RIGHT(TEXT(WEEKDAY(A20),"[$-404]aaaa;@"),1)) -> 五 | C20: =B129 -> 燕麥飯 | D20: =B130&B131 -> 米燕麥 | E20: =E129 -> 三鮮豉香 | F20: =PHONETIC(E130:E133) -> 魚丁虱目魚丸白蘿蔔豆豉 | G20: =G129 -> 螞蟻上樹 | H20: =PHONETIC(G130:G134) -> 豬絞肉冬粉時蔬乾木耳大蒜 | I20: =I129 -> 照燒凍腐 | J20: =PHONETIC(I130:I134) -> 凍豆腐時瓜醬油紅砂糖 | K20: 時蔬 | L20: 蔬菜大蒜 | M20: =M129 -> 味噌蔬湯 | N20: =PHONETIC(M130:M134) -> 時蔬味噌薑柴魚片 | O20: =O129 -> 水果 | P20: 有機豆漿 | Q20: 5.5 | R20: 2.5 | S20: 1.8 | T20: 2.9 | W20: =Q20*70+R20*75+S20*25+T20*45+U20*120+V20*60 -> 748
A21: =IF(A20="","",IF(MONTH(A20)<>MONTH(A20+1),"",A20+3)) -> 45229 | B21: =IF(A21="","",RIGHT(TEXT(WEEKDAY(A21),"[$-404]aaaa;@"),1)) -> 一 | C21: =B135 -> 白米飯 | D21: =B136&B137 -> 米 | E21: =E135 -> 家常里雞 | F21: =PHONETIC(E136:E140) -> 香雞排 | G21: =G135 -> 鐵板豆腐 | H21: =PHONETIC(G136:G140) -> 豆腐脆筍乾木耳大蒜 | I21: =I135 -> 金沙花椰 | J21: =PHONETIC(I136:I140) -> 花椰菜蛋黃粉胡蘿蔔大蒜 | K21: 時蔬 | L21: 蔬菜大蒜 | M21: =M135 -> 金針湯 | N21: =PHONETIC(M136:M140) -> 金針菜乾榨菜薑豬骨 | O21: =O135 -> 果汁 | Q21: 5 | R21: 2.5 | S21: 2.2 | T21: 2.9 | W21: =Q21*70+R21*75+S21*25+T21*45+U21*120+V21*60 -> 723
A22: =IF(A21="","",IF(MONTH(A21)<>MONTH(A21+1),"",A21+1)) -> 45230 | B22: =IF(A22="","",RIGHT(TEXT(WEEKDAY(A22),"[$-404]aaaa;@"),1)) -> 二 | C22: =B141 -> 糙米飯 | D22: =B142&B143 -> 米糙米 | E22: =E141 -> 泡菜肉片 | F22: =PHONETIC(E142:E146) -> 豬後腿肉韓式泡菜大蒜 | G22: =G141 -> 家常豆干 | H22: =PHONETIC(G142:G146) -> 豆干甘藍乾木耳胡蘿蔔大蒜 | I22: =I141 -> 滷野菜天 | J22: =PHONETIC(I142:I146) -> 野菜天 | K22: 時蔬 | L22: 蔬菜大蒜 | M22: =M141 -> 時蔬湯 | N22: =PHONETIC(M142:M146) -> 時蔬胡蘿蔔薑豬骨 | O22: =O141 -> 鮮乳 | Q22: 5.6 | R22: 2.5 | S22: 2 | T22: 3.1 | U22: 1 | W22: =Q22*70+R22*75+S22*25+T22*45+U22*120+V22*60 -> 889
A23: 過敏警語：「本月產品含有蛋、芝麻、含麩之穀物、花生、大豆、魚類、亞硫酸鹽類及其相關製品，不適合其過敏體質者食用」
A24: 月菜單編排說明:一、每周三五吃有機蔬菜。二、每週五喝有機豆漿
A25: 食材明細（食材重量以100人份計量，營養分析以個人計量,其中肉雞包含23%骨頭之採購量，每周供應特餐一次，當日得混搭供應，國中4菜1湯1附餐，國小3菜1湯1附餐）
A26: 日期 | B26: 主食 | C26: 重/公斤 | D26: 公斤 | E26: 主菜 | F26: 重/公斤 | G26: 副菜一 | H26: 重/公斤 | I26: 副菜二 | J26: 重/公斤 | K26: 蔬菜 | L26: 重/公斤 | M26: 湯品 | N26: 重/公斤 | O26: 附餐一 | P26: 附餐二
A27: =B3 -> 一 | B27: 白米飯 | D27: =IF(C27,"公斤","") | E27: 香炸魚排 | G27: 牛蒡豆腐 | I27: 開陽花椰 | K27: 時蔬 | M27: 蛋花芽湯 | O27: 果汁
A28: =A3 -> 45201 | B28: 米 | C28: 10 | D28: =IF(C28,"公斤","") -> 公斤 | E28: 魚排 | F28: 6.5 | G28: 豆腐 | H28: 5 | I28: 花椰菜 | J28: 7 | K28: 蔬菜 | L28: 7 | M28: 乾裙帶菜 | N28: 0.2
D29: =IF(C29,"公斤","") | G29: 牛蒡絲 | H29: 2 | I29: 胡蘿蔔 | J29: 0.5 | K29: 大蒜 | L29: 0.05 | M29: 薑 | N29: 0.05
D30: =IF(C30,"公斤","") | G30: 豬絞肉 | H30: 1 | I30: 蝦皮 | J30: 0.01 | M30: 雞蛋 | N30: 0.6
D31: =IF(C31,"公斤","") | G31: 大蒜 | H31: 0.05 | I31: 大蒜 | J31: 0.05
D32: =IF(C32,"公斤","")
A33: =B4 -> 二 | B33: 糙米飯 | E33: 家常雞排 | G33: 白菜凍腐 | I33: 碎脯蛋香 | K33: 時蔬 | M33: 茄香蔬湯 | O33: TAP豆漿
A34: =A4 -> 45202 | B34: 米 | C34: 7 | D34: =IF(C33,"公斤","") | E34: 香雞排 | F34: 6 | G34: 凍豆腐 | H34: 3 | I34: 雞蛋 | J34: 1.8 | K34: 蔬菜 | L34: 7 | M34: 番茄糊 | N34: 2
B35: 糙米 | C35: 3 | D35: =IF(C34,"公斤","") -> 公斤 | G35: 結球白菜 | H35: 3 | I35: 蘿蔔乾 | J35: 2 | K35: 大蒜 | L35: 0.05 | M35: 時蔬 | N35: 2
G36: 乾香菇 | H36: 0.01 | I36: 白蘿蔔 | J36: 3 | M36: 豬骨 | N36: 1
G37: 胡蘿蔔 | H37: 1 | I37: 洋蔥 | J37: 1
G38: 大蒜 | H38: 0.05 | I38: 大蒜 | J38: 0.05
A39: =B5 -> 三 | B39: 米粉特餐 | E39: 米粉配料 | G39: 原味薯餅 | I39: 蜜汁豆干 | K39: 時蔬 | M39: 三絲羹湯 | O39: 小餐包
A40: =A5 -> 45203 | B40: 米粉 | C40: 4 | E40: 豬絞肉 | F40: 6 | G40: 薯餅 | H40: 4 | I40: 豆干 | J40: 5 | K40: 蔬菜 | L40: 7 | M40: 雞蛋 | N40: 1.1
...

Sheet 國小
A1: 112 | D1: 112 | E1: 學年度 | F1: 國民 | G1: 小學 | H1: 10 | I1: 月葷食菜單-7案 | L1: 津吉-本店使用台灣豬肉
A2: 日期 | B2: 星期 | C2: 主食 | D2: 主食明細 | E2: 主菜 | F2: 主菜明細 | G2: 副菜一 | H2: 副菜一明細 | I2: 蔬菜 | J2: 蔬菜明細 | K2: 湯品 | L2: 湯品明細 | M2: 附餐一 | N2: 附餐二 | O2: 穀/份 | P2: 豆/份 | Q2: 蔬/份 | R2: 油/份 | S2: 乳/分 | T2: 果/份 | U2: 熱量
A3: 45201 | B3: =IF(A3="","",RIGHT(TEXT(WEEKDAY(A3),"[$-404]aaaa;@"),1)) -> 一 | C3: =B27 -> 白米飯 | D3: =B28&B29 -> 米 | E3: =E27 -> 香炸魚排 | F3: =PHONETIC(E28:E32) -> 魚排 | G3: =G27 -> 牛蒡豆腐 | H3: =PHONETIC(G28:G32) -> 豆腐牛蒡絲豬絞肉大蒜 | I3: 時蔬 | J3: 蔬菜大蒜 | K3: =K27 -> 蛋花芽湯 | L3: =PHONETIC(K28:K31) -> 乾裙帶菜薑雞蛋 | M3: =M27 -> 果汁 | O3: 5.3 | P3: 2.5 | Q3: 1.9 | R3: 2.8 | U3: =O3*70+P3*75+Q3*25+R3*45+S3*120+T3*60 -> 732
A4: =IF(A3="","",IF(MONTH(A3)<>MONTH(A3+1),"",A3+1)) -> 45202 | B4: =IF(A4="","",RIGHT(TEXT(WEEKDAY(A4),"[$-404]aaaa;@"),1)) -> 二 | C4: =B33 -> 糙米飯 | D4: =B34&B35 -> 米糙米 | E4: =E33 -> 家常雞排 | F4: =PHONETIC(E34:E38) -> 香雞排 | G4: =G33 -> 白菜凍腐 | H4: =PHONETIC(G34:G38) -> 凍豆腐結球白菜乾香菇胡蘿蔔大蒜 | I4: 時蔬 | J4: 蔬菜大蒜 | K4: =K33 -> 茄香蔬湯 | L4: =PHONETIC(K34:K37) -> 番茄糊時蔬豬骨 | M4: =M33 -> TAP豆漿 | O4: 6 | P4: 2.5 | Q4: 1.8 | R4: 2.9 | T4: 1 | U4: =O4*70+P4*75+Q4*25+R4*45+S4*120+T4*60 -> 843
A5: =IF(A4="","",IF(MONTH(A4)<>MONTH(A4+1),"",A4+1)) -> 45203 | B5: =IF(A5="","",RIGHT(TEXT(WEEKDAY(A5),"[$-404]aaaa;@"),1)) -> 三 | C5: =B39 -> 米粉特餐 | D5: =B40&B41 -> 米粉 | E5: =E39 -> 米粉配料 | F5: =PHONETIC(E40:E44) -> 豬絞肉時蔬胡蘿蔔油蔥酥大蒜 | G5: =G39 -> 原味薯餅 | H5: =PHONETIC(G40:G44) -> 薯餅 | I5: 時蔬 | J5: 蔬菜大蒜 | K5: =K39 -> 三絲羹湯 | L5: =PHONETIC(K40:K43) -> 雞蛋脆筍白蘿蔔乾木耳 | M5: =M39 -> 小餐包 | O5: 5.2 | P5: 2.5 | Q5: 2 | R5: 2.9 | S5: 1 | U5: =O5*70+P5*75+Q5*25+R5*45+S5*120+T5*60 -> 852
A6: =IF(A5="","",IF(MONTH(A5)<>MONTH(A5+1),"",A5+1)) -> 45204 | B6: =IF(A6="","",RIGHT(TEXT(WEEKDAY(A6),"[$-404]aaaa;@"),1)) -> 四 | C6: =B45 -> 糙米飯 | D6: =B46&B47 -> 米糙米 | E6: =E45 -> 筍干燒雞 | F6: =PHONETIC(E46:E50) -> 肉雞麻竹筍干大蒜 | G6: =G45 -> 豆皮海帶 | H6: =PHONETIC(G46:G50) -> 豆皮乾海帶大蒜 | I6: 時蔬 | J6: 蔬菜大蒜 | K6: =K45 -> 綠豆湯 | L6: =PHONETIC(K46:K49) -> 綠豆紅砂糖 | M6: =M45 -> 堅果 | O6: 5.6 | P6: 2.5 | Q6: 1.7 | R6: 2.8 | U6: =O6*70+P6*75+Q6*25+R6*45+S6*120+T6*60 -> 748
A7: =IF(A6="","",IF(MONTH(A6)<>MONTH(A6+1),"",A6+1)) -> 45205 | B7: =IF(A7="","",RIGHT(TEXT(WEEKDAY(A7),"[$-404]aaaa;@"),1)) -> 五 | C7: =B51 -> 紅藜飯 | D7: =B52&B53 -> 米紅藜 | E7: =E51 -> 沙茶三鮮 | F7: =PHONETIC(E52:E56) -> 阿根廷魷虱目魚丸白蘿蔔大蒜 | G7: =G51 -> 木須佐蛋 | H7: =PHONETIC(G52:G56) -> 雞蛋洋蔥乾木耳胡蘿蔔大蒜 | I7: 時蔬 | J7: 蔬菜大蒜 | K7: =K51 -> 金針湯 | L7: =PHONETIC(K52:K56) -> 金針菜乾榨菜薑豬骨 | M7: =M51 -> 水果 | N7: 有機豆漿 | O7: 5 | P7: 2.5 | Q7: 1.8 | R7: 2.9 | S7: 1 | U7: =O7*70+P7*75+Q7*25+R7*45+S7*120+T7*60 -> 833
A8: =IF(A7="","",IF(MONTH(A7)<>MONTH(A7+1),"",A7+5)) -> 45210 | B8: =IF(A8="","",RIGHT(TEXT(WEEKDAY(A8),"[$-404]aaaa;@"),1)) -> 三 | C8: =B57 -> 西式特餐 | D8: =B58&B59 -> 義大利麵 | E8: =E57 -> 金黃魚塊 | F8: =PHONETIC(E58:E62) -> 虱目魚塊 | G8: =G57 -> 茄汁肉醬 | H8: =PHONETIC(G58:G62) -> 豬絞肉馬鈴薯洋蔥大蒜 | I8: 時蔬 | J8: 蔬菜大蒜 | K8: =K57 -> 玉米濃湯 | L8: =PHONETIC(K58:K62) -> 雞蛋玉米粒罐頭玉米醬罐頭玉米濃湯粉 | M8: =M57 -> 小餐包 | O8: 5 | P8: 2.5 | Q8: 1.6 | R8: 2.9 | U8: =O8*70+P8*75+Q8*25+R8*45+S8*120+T8*60 -> 708
A9: =IF(A8="","",IF(MONTH(A8)<>MONTH(A8+1),"",A8+1)) -> 45211 | B9: =IF(A9="","",RIGHT(TEXT(WEEKDAY(A9),"[$-404]aaaa;@"),1)) -> 四 | C9: =B63 -> 糙米飯 | D9: =B64&B65 -> 米糙米 | E9: =E63 -> 醬燒雞翅 | F9: =PHONETIC(E64:E68) -> 三節翅滷包 | G9: =G63 -> 鮮菇豆腐 | H9: =PHONETIC(G64:G68) -> 豆腐杏鮑菇乾香菇大蒜 | I9: 時蔬 | J9: 蔬菜大蒜 | K9: =K63 -> 檸檬愛玉 | L9: =PHONETIC(K64:K67) -> 愛玉紅砂糖檸檬汁 | M9: =M63 -> 果汁 | O9: 5 | P9: 2.5 | Q9: 2 | R9: 2.7 | T9: 1 | U9: =O9*70+P9*75+Q9*25+R9*45+S9*120+T9*60 -> 769
A10: =IF(A9="","",IF(MONTH(A9)<>MONTH(A9+1),"",A9+1)) -> 45212 | B10: =IF(A10="","",RIGHT(TEXT(WEEKDAY(A10),"[$-404]aaaa;@"),1)) -> 五 | C10: =B69 -> 小米飯 | D10: =B70&B71 -> 米小米 | E10: =E69 -> 海結滷肉 | F10: =PHONETIC(E70:E74) -> 豬後腿肉乾海帶麵輪大蒜 | G10: =G69 -> 銀蘿蛋香 | H10: =PHONETIC(G70:G74) -> 雞蛋白蘿蔔胡蘿蔔大蒜 | I10: 時蔬 | J10: 蔬菜大蒜 | K10: =K69 -> 番茄蔬湯 | L10: =PHONETIC(K70:K74) -> 時蔬番茄糊薑豬骨 | M10: =M69 -> 水果 | N10: 有機豆漿 | O10: 5.2 | P10: 2.5 | Q10: 2 | R10: 2.9 | U10: =O10*70+P10*75+Q10*25+R10*45+S10*120+T10*60 -> 732
A11: =IF(A10="","",IF(MONTH(A10)<>MONTH(A10+1),"",A10+3)) -> 45215 | B11: =IF(A11="","",RIGHT(TEXT(WEEKDAY(A11),"[$-404]aaaa;@"),1)) -> 一 | C11: =B75 -> 白米飯 | D11: =B76&B77 -> 米 | E11: =E75 -> 黑椒肉絲 | F11: =PHONETIC(E76:E80) -> 豬後腿肉馬鈴薯洋蔥大蒜 | G11: =G75 -> 蔬香冬粉 | H11: =PHONETIC(G76:G80) -> 雞蛋冬粉胡蘿蔔乾木耳大蒜 | I11: 時蔬 | J11: 蔬菜大蒜 | K11: =K75 -> 味噌芽湯 | L11: =PHONETIC(K76:K79) -> 乾裙帶菜味噌薑柴魚片 | M11: =M75 -> 果汁 | O11: 5 | P11: 2.5 | Q11: 1.7 | R11: 3 | U11: =O11*70+P11*75+Q11*25+R11*45+S11*120+T11*60 -> 715
A12: =IF(A11="","",IF(MONTH(A11)<>MONTH(A11+1),"",A11+1)) -> 45216 | B12: =IF(A12="","",RIGHT(TEXT(WEEKDAY(A12),"[$-404]aaaa;@"),1)) -> 二 | C12: =B81 -> 糙米飯 | D12: =B82&B83 -> 米糙米 | E12: =E81 -> 椒鹽魚排 | F12: =PHONETIC(E82:E86) -> 魚排胡椒鹽 | G12: =G81 -> 茄汁豆腐 | H12: =PHONETIC(G82:G86) -> 豆腐洋蔥番茄糊番茄醬大蒜 | I12: 時蔬 | J12: 蔬菜大蒜 | K12: =K81 -> 時蔬湯 | L12: =PHONETIC(K82:K86) -> 時蔬胡蘿蔔薑豬骨 | M12: =M81 -> 保久乳/堅果 | O12: 5 | P12: 2.5 | Q12: 1.6 | R12: 2.9 | S12: 1 | U12: =O12*70+P12*75+Q12*25+R12*45+S12*120+T12*60 -> 828
A13: =IF(A12="","",IF(MONTH(A12)<>MONTH(A12+1),"",A12+1)) -> 45217 | B13: =IF(A13="","",RIGHT(TEXT(WEEKDAY(A13),"[$-404]aaaa;@"),1)) -> 三 | C13: =B87 -> 泰式特餐 | D13: =B88&B89 -> 米糙米 | E13: =E87 -> 打拋豬 | F13: =PHONETIC(E88:E92) -> 豬絞肉洋蔥打拋醬大蒜 | G13: =G87 -> 風味甘藍 | H13: =PHONETIC(G88:G92) -> 甘藍胡蘿蔔叻沙醬大蒜 | I13: 時蔬 | J13: 蔬菜大蒜 | K13: =K87 -> 冬蔭功湯 | L13: =PHONETIC(K88:K91) -> 金針菇番茄糊豬骨南薑 | M13: =M87 -> 小餐包 | O13: 4 | P13: 2.5 | Q13: 1.6 | R13: 2.9 | U13: =O13*70+P13*75+Q13*25+R13*45+S13*120+T13*60 -> 638
A14: =IF(A13="","",IF(MONTH(A13)<>MONTH(A13+1),"",A13+1)) -> 45218 | B14: =IF(A14="","",RIGHT(TEXT(WEEKDAY(A14),"[$-404]aaaa;@"),1)) -> 四 | C14: =B93 -> 糙米飯 | D14: =B94&B95 -> 米糙米 | E14: =E93 -> 豆瓣雞丁 | F14: =PHONETIC(E94:E98) -> 肉雞乾海帶豆瓣醬大蒜 | G14: =G93 -> 香滷凍腐 | H14: =PHONETIC(G94:G98) -> 凍豆腐麻竹筍干大蒜 | I14: 時蔬 | J14: 蔬菜大蒜 | K14: =K93 -> 枸杞銀耳 | L14: =PHONETIC(K94:K98) -> 乾銀耳枸杞紅砂糖 | M14: =M93 -> 海苔 | O14: 5.4 | P14: 2.5 | Q14: 1.8 | R14: 2.9 | T14: 1 | U14: =O14*70+P14*75+Q14*25+R14*45+S14*120+T14*60 -> 801
A15: =IF(A14="","",IF(MONTH(A14)<>MONTH(A14+1),"",A14+1)) -> 45219 | B15: =IF(A15="","",RIGHT(TEXT(WEEKDAY(A15),"[$-404]aaaa;@"),1)) -> 五 | C15: =B99 -> 紫米飯 | D15: =B100&B101 -> 米黑糯米 | E15: =E99 -> 鹹香肉片 | F15: =PHONETIC(E100:E104) -> 豬後腿肉甘藍胡蘿蔔醃鹹豬肉粉 | G15: =G99 -> 甘藍佐蛋 | H15: =PHONETIC(G100:G104) -> 雞蛋甘藍乾木耳大蒜 | I15: 時蔬 | J15: 蔬菜大蒜 | K15: =K99 -> 金針湯 | L15: =PHONETIC(K100:K104) -> 金針菜乾榨菜薑豬骨 | M15: =M99 -> 水果 | N15: 有機豆漿 | O15: 5 | P15: 2.5 | Q15: 2 | R15: 2.9 | U15: =O15*70+P15*75+Q15*25+R15*45+S15*120+T15*60 -> 718
A16: =IF(A15="","",IF(MONTH(A15)<>MONTH(A15+1),"",A15+3)) -> 45222 | B16: =IF(A16="","",RIGHT(TEXT(WEEKDAY(A16),"[$-404]aaaa;@"),1)) -> 一 | C16: =B105 -> 白米飯 | D16: =B106&B107 -> 米 | E16: =E105 -> 梅干絞肉 | F16: =PHONETIC(E106:E110) -> 豬絞肉梅乾菜麵筋大蒜 | G16: =G105 -> 豆皮銀絲 | H16: =PHONETIC(G106:G110) -> 豆皮白蘿蔔乾木耳大蒜 | I16: 時蔬 | J16: 蔬菜大蒜 | K16: =K105 -> 蛋花湯 | L16: =PHONETIC(K106:K110) -> 雞蛋乾裙帶菜薑 | M16: =M105 -> 果汁 | O16: 5 | P16: 2.5 | Q16: 2 | R16: 2.9 | U16: =O16*70+P16*75+Q16*25+R16*45+S16*120+T16*60 -> 718
A17: =IF(A16="","",IF(MONTH(A16)<>MONTH(A16+1),"",A16+1)) -> 45223 | B17: =IF(A17="","",RIGHT(TEXT(WEEKDAY(A17),"[$-404]aaaa;@"),1)) -> 二 | C17: =B111 -> 糙米飯 | D17: =B112&B113 -> 米糙米 | E17: =E111 -> 香味雞翅 | F17: =PHONETIC(E112:E116) -> 三節翅滷包 | G17: =G111 -> 絞肉白菜 | H17: =PHONETIC(G112:G116) -> 豬絞肉結球白菜乾香菇胡蘿蔔大蒜 | I17: 時蔬 | J17: 蔬菜大蒜 | K17: =K111 -> 時瓜湯 | L17: =PHONETIC(K112:K116) -> 時瓜枸杞薑豬骨 | M17: =M111 -> 優酪乳/保久乳 | O17: 5 | P17: 2.5 | Q17: 1.7 | R17: 2.8 | S17: 1 | U17: =O17*70+P17*75+Q17*25+R17*45+S17*120+T17*60 -> 826
A18: =IF(A17="","",IF(MONTH(A17)<>MONTH(A17+1),"",A17+1)) -> 45224 | B18: =IF(A18="","",RIGHT(TEXT(WEEKDAY(A18),"[$-404]aaaa;@"),1)) -> 三 | C18: =B117 -> 刈包特餐 | D18: =B118&B119 -> 刈包 | E18: =E117 -> 酸菜肉片 | F18: =PHONETIC(E118:E122) -> 豬後腿肉酸菜薑 | G18: =G117 -> 玉筍豆腐 | H18: =PHONETIC(G118:G122) -> 豆腐冷凍玉米筍豆瓣醬大蒜 | I18: 時蔬 | J18: 蔬菜大蒜 | K18: =K117 -> 糙米粥 | L18: =PHONETIC(K118:K122) -> 雞蛋時蔬乾香菇糙米胡蘿蔔 | M18: =M117 -> 小餐包 | O18: 4.2 | P18: 2.5 | Q18: 1.5 | R18: 2.8 | U18: =O18*70+P18*75+Q18*25+R18*45+S18*120+T18*60 -> 645
A19: =IF(A18="","",IF(MONTH(A18)<>MONTH(A18+1),"",A18+1)) -> 45225 | B19: =IF(A19="","",RIGHT(TEXT(WEEKDAY(A19),"[$-404]aaaa;@"),1)) -> 四 | C19: =B123 -> 糙米飯 | D19: =B124&B125 -> 米糙米 | E19: =E123 -> 咖哩雞丁 | F19: =PHONETIC(E124:E128) -> 肉雞馬鈴薯洋蔥咖哩粉 | G19: =G123 -> 培根豆芽 | H19: =PHONETIC(G124:G128) -> 綠豆芽胡蘿蔔培根大蒜 | I19: 時蔬 | J19: 蔬菜大蒜 | K19: =K123 -> 仙草甜湯 | L19: =PHONETIC(K124:K128) -> 仙草凍紅砂糖 | M19: =M123 -> 小饅頭 | O19: 5.6 | P19: 2.5 | Q19: 2.2 | R19: 2.9 | T19: 1 | U19: =O19*70+P19*75+Q19*25+R19*45+S19*120+T19*60 -> 825
A20: =IF(A19="","",IF(MONTH(A19)<>MONTH(A19+1),"",A19+1)) -> 45226 | B20: =IF(A20="","",RIGHT(TEXT(WEEKDAY(A20),"[$-404]aaaa;@"),1)) -> 五 | C20: =B129 -> 燕麥飯 | D20: =B130&B131 -> 米燕麥 | E20: =E129 -> 三鮮豉香 | F20: =PHONETIC(E130:E133) -> 魚丁虱目魚丸白蘿蔔豆豉 | G20: =G129 -> 螞蟻上樹 | H20: =PHONETIC(G130:G134) -> 豬絞肉冬粉時蔬乾木耳大蒜 | I20: 時蔬 | J20: 蔬菜大蒜 | K20: =K129 -> 味噌蔬湯 | L20: =PHONETIC(K130:K134) -> 時蔬味噌薑柴魚片 | M20: =M129 -> 水果 | N20: 有機豆漿 | O20: 5.5 | P20: 2.5 | Q20: 1.8 | R20: 2.9 | U20: =O20*70+P20*75+Q20*25+R20*45+S20*120+T20*60 -> 748
A21: =IF(A20="","",IF(MONTH(A20)<>MONTH(A20+1),"",A20+3)) -> 45229 | B21: =IF(A21="","",RIGHT(TEXT(WEEKDAY(A21),"[$-404]aaaa;@"),1)) -> 一 | C21: =B135 -> 白米飯 | D21: =B136&B137 -> 米 | E21: =E135 -> 家常里雞 | F21: =PHONETIC(E136:E140) -> 香雞排 | G21: =G135 -> 鐵板豆腐 | H21: =PHONETIC(G136:G140) -> 豆腐脆筍乾木耳大蒜 | I21: 時蔬 | J21: 蔬菜大蒜 | K21: =K135 -> 金針湯 | L21: =PHONETIC(K136:K140) -> 金針菜乾榨菜薑豬骨 | M21: =M135 -> 果汁 | O21: 5 | P21: 2.5 | Q21: 2.2 | R21: 2.9 | U21: =O21*70+P21*75+Q21*25+R21*45+S21*120+T21*60 -> 723
A22: =IF(A21="","",IF(MONTH(A21)<>MONTH(A21+1),"",A21+1)) -> 45230 | B22: =IF(A22="","",RIGHT(TEXT(WEEKDAY(A22),"[$-404]aaaa;@"),1)) -> 二 | C22: =B141 -> 糙米飯 | D22: =B142&B143 -> 米糙米 | E22: =E141 -> 泡菜肉片 | F22: =PHONETIC(E142:E146) -> 豬後腿肉韓式泡菜大蒜 | G22: =G141 -> 家常豆干 | H22: =PHONETIC(G142:G146) -> 豆干甘藍乾木耳胡蘿蔔大蒜 | I22: 時蔬 | J22: 蔬菜大蒜 | K22: =K141 -> 時蔬湯 | L22: =PHONETIC(K142:K146) -> 時蔬胡蘿蔔薑豬骨 | M22: =M141 -> 鮮乳/保久乳 | O22: 5.6 | P22: 2.5 | Q22: 2 | R22: 3.1 | S22: 1 | U22: =O22*70+P22*75+Q22*25+R22*45+S22*120+T22*60 -> 889
A23: 過敏警語：「本月產品含有蛋、芝麻、含麩之穀物、花生、大豆、魚類、亞硫酸鹽類及其相關製品，不適合其過敏體質者食用」
A24: 月菜單編排說明:一、每周三五吃有機蔬菜。二、每週五喝有機豆漿
A25: 食材明細（食材重量以100人份計量，營養分析以個人計量,其中肉雞包含23%骨頭之採購量，每周供應特餐一次，當日得混搭供應，國中4菜1湯1附餐，國小3菜1湯1附餐）
A26: 日期 | B26: 主食 | C26: 重/公斤 | D26: 公斤 | E26: 主菜 | F26: 重/公斤 | G26: 副菜一 | H26: 重/公斤 | I26: 蔬菜 | J26: 重/公斤 | K26: 湯品 | L26: 重/公斤 | M26: 附餐一 | N26: 附餐二
A27: =B3 -> 一 | B27: 白米飯 | D27: =IF(C27,"公斤","") | E27: 香炸魚排 | G27: 牛蒡豆腐 | I27: 時蔬 | K27: 蛋花芽湯 | M27: 果汁
A28: =A3 -> 45201 | B28: 米 | C28: 10 | D28: =IF(C28,"公斤","") -> 公斤 | E28: 魚排 | F28: 6.5 | G28: 豆腐 | H28: 5 | I28: 蔬菜 | J28: 7 | K28: 乾裙帶菜 | L28: 0.2
D29: =IF(C29,"公斤","") | G29: 牛蒡絲 | H29: 2 | I29: 大蒜 | J29: 0.05 | K29: 薑 | L29: 0.05
D30: =IF(C30,"公斤","") | G30: 豬絞肉 | H30: 1 | K30: 雞蛋 | L30: 0.6
D31: =IF(C31,"公斤","") | G31: 大蒜 | H31: 0.05
D32: =IF(C32,"公斤","")
A33: =B4 -> 二 | B33: 糙米飯 | E33: 家常雞排 | G33: 白菜凍腐 | I33: 時蔬 | K33: 茄香蔬湯 | M33: TAP豆漿
A34: =A4 -> 45202 | B34: 米 | C34: 7 | D34: =IF(C33,"公斤","") | E34: 香雞排 | F34: 6 | G34: 凍豆腐 | H34: 3 | I34: 蔬菜 | J34: 7 | K34: 番茄糊 | L34: 2
B35: 糙米 | C35: 3 | D35: =IF(C34,"公斤","") -> 公斤 | G35: 結球白菜 | H35: 3 | I35: 大蒜 | J35: 0.05 | K35: 時蔬 | L35: 2
G36: 乾香菇 | H36: 0.01 | K36: 豬骨 | L36: 1
G37: 胡蘿蔔 | H37: 1
G38: 大蒜 | H38: 0.05
A39: =B5 -> 三 | B39: 米粉特餐 | E39: 米粉配料 | G39: 原味薯餅 | I39: 時蔬 | K39: 三絲羹湯 | M39: 小餐包
A40: =A5 -> 45203 | B40: 米粉 | C40: 4 | E40: 豬絞肉 | F40: 6 | G40: 薯餅 | H40: 4 | I40: 蔬菜 | J40: 7 | K40: 雞蛋 | L40: 1.1
...

Sheet 偏鄉國小
A1: 112 | D1: 112 | E1: 學年度 | F1: 國民 | G1: 小學 | H1: 10 | I1: 月葷食菜單-7案 | L1: 津吉-本店使用台灣豬肉
A2: 日期 | B2: 星期 | C2: 主食 | D2: 主食明細 | E2: 主菜 | F2: 主菜明細 | G2: 副菜一 | H2: 副菜一明細 | I2: 蔬菜 | J2: 蔬菜明細 | K2: 湯品 | L2: 湯品明細 | M2: 附餐一 | N2: 附餐二 | O2: 穀/份 | P2: 豆/份 | Q2: 蔬/份 | R2: 油/份 | S2: 乳/分 | T2: 果/份 | U2: 熱量
A3: 45201 | B3: =IF(A3="","",RIGHT(TEXT(WEEKDAY(A3),"[$-404]aaaa;@"),1)) -> 一 | C3: =B27 -> 白米飯 | D3: =B28&B29 -> 米 | E3: =E27 -> 香炸魚排 | F3: =PHONETIC(E28:E32) -> 魚排 | G3: =G27 -> 牛蒡豆腐 | H3: =PHONETIC(G28:G32) -> 豆腐牛蒡絲豬絞肉大蒜 | I3: 時蔬 | J3: 蔬菜大蒜 | K3: =K27 -> 蛋花芽湯 | L3: =PHONETIC(K28:K31) -> 乾裙帶菜薑雞蛋 | M3: =M27 -> 果汁 | O3: 5.3 | P3: 2.5 | Q3: 1.9 | R3: 2.8 | U3: =O3*70+P3*75+Q3*25+R3*45+S3*120+T3*60 -> 732
A4: =IF(A3="","",IF(MONTH(A3)<>MONTH(A3+1),"",A3+1)) -> 45202 | B4: =IF(A4="","",RIGHT(TEXT(WEEKDAY(A4),"[$-404]aaaa;@"),1)) -> 二 | C4: =B33 -> 糙米飯 | D4: =B34&B35 -> 米糙米 | E4: =E33 -> 家常雞排 | F4: =PHONETIC(E34:E38) -> 香雞排 | G4: =G33 -> 白菜凍腐 | H4: =PHONETIC(G34:G38) -> 凍豆腐結球白菜乾香菇胡蘿蔔大蒜 | I4: 時蔬 | J4: 蔬菜大蒜 | K4: =K33 -> 茄香蔬湯 | L4: =PHONETIC(K34:K37) -> 番茄糊時蔬豬骨 | M4: =M33 -> TAP豆漿 | O4: 6 | P4: 2.5 | Q4: 1.8 | R4: 2.9 | T4: 1 | U4: =O4*70+P4*75+Q4*25+R4*45+S4*120+T4*60 -> 843
A5: =IF(A4="","",IF(MONTH(A4)<>MONTH(A4+1),"",A4+1)) -> 45203 | B5: =IF(A5="","",RIGHT(TEXT(WEEKDAY(A5),"[$-404]aaaa;@"),1)) -> 三 | C5: =B39 -> 米粉特餐 | D5: =B40&B41 -> 米粉 | E5: =E39 -> 米粉配料 | F5: =PHONETIC(E40:E44) -> 豬絞肉時蔬胡蘿蔔油蔥酥大蒜 | G5: =G39 -> 原味薯餅 | H5: =PHONETIC(G40:G44) -> 薯餅 | I5: 時蔬 | J5: 蔬菜大蒜 | K5: =K39 -> 三絲羹湯 | L5: =PHONETIC(K40:K43) -> 雞蛋脆筍白蘿蔔乾木耳 | M5: =M39 -> 小餐包 | O5: 5.2 | P5: 2.5 | Q5: 2 | R5: 2.9 | S5: 1 | U5: =O5*70+P5*75+Q5*25+R5*45+S5*120+T5*60 -> 852
A6: =IF(A5="","",IF(MONTH(A5)<>MONTH(A5+1),"",A5+1)) -> 45204 | B6: =IF(A6="","",RIGHT(TEXT(WEEKDAY(A6),"[$-404]aaaa;@"),1)) -> 四 | C6: =B45 -> 糙米飯 | D6: =B46&B47 -> 米糙米 | E6: =E45 -> 筍干燒雞 | F6: =PHONETIC(E46:E50) -> 肉雞麻竹筍干大蒜 | G6: =G45 -> 豆皮海帶 | H6: =PHONETIC(G46:G50) -> 豆皮乾海帶大蒜 | I6: 時蔬 | J6: 蔬菜大蒜 | K6: =K45 -> 綠豆湯 | L6: =PHONETIC(K46:K49) -> 綠豆紅砂糖 | M6: =M45 -> 堅果 | O6: 5.6 | P6: 2.5 | Q6: 1.7 | R6: 2.8 | U6: =O6*70+P6*75+Q6*25+R6*45+S6*120+T6*60 -> 748
A7: =IF(A6="","",IF(MONTH(A6)<>MONTH(A6+1),"",A6+1)) -> 45205 | B7: =IF(A7="","",RIGHT(TEXT(WEEKDAY(A7),"[$-404]aaaa;@"),1)) -> 五 | C7: =B51 -> 紅藜飯 | D7: =B52&B53 -> 米紅藜 | E7: =E51 -> 沙茶三鮮 | F7: =PHONETIC(E52:E56) -> 阿根廷魷虱目魚丸白蘿蔔大蒜 | G7: =G51 -> 木須佐蛋 | H7: =PHONETIC(G52:G56) -> 雞蛋洋蔥乾木耳胡蘿蔔大蒜 | I7: 時蔬 | J7: 蔬菜大蒜 | K7: =K51 -> 金針湯 | L7: =PHONETIC(K52:K56) -> 金針菜乾榨菜薑豬骨 | M7: =M51 -> 水果 | N7: 有機豆漿 | O7: 5 | P7: 2.5 | Q7: 1.8 | R7: 2.9 | S7: 1 | U7: =O7*70+P7*75+Q7*25+R7*45+S7*120+T7*60 -> 833
A8: =IF(A7="","",IF(MONTH(A7)<>MONTH(A7+1),"",A7+5)) -> 45210 | B8: =IF(A8="","",RIGHT(TEXT(WEEKDAY(A8),"[$-404]aaaa;@"),1)) -> 三 | C8: =B57 -> 西式特餐 | D8: =B58&B59 -> 義大利麵 | E8: =E57 -> 金黃魚塊 | F8: =PHONETIC(E58:E62) -> 虱目魚塊 | G8: =G57 -> 茄汁肉醬 | H8: =PHONETIC(G58:G62) -> 豬絞肉馬鈴薯洋蔥大蒜 | I8: 時蔬 | J8: 蔬菜大蒜 | K8: =K57 -> 玉米濃湯 | L8: =PHONETIC(K58:K62) -> 雞蛋玉米粒罐頭玉米醬罐頭玉米濃湯粉 | M8: =M57 -> 小餐包 | O8: 5 | P8: 2.5 | Q8: 1.6 | R8: 2.9 | U8: =O8*70+P8*75+Q8*25+R8*45+S8*120+T8*60 -> 708
A9: =IF(A8="","",IF(MONTH(A8)<>MONTH(A8+1),"",A8+1)) -> 45211 | B9: =IF(A9="","",RIGHT(TEXT(WEEKDAY(A9),"[$-404]aaaa;@"),1)) -> 四 | C9: =B63 -> 糙米飯 | D9: =B64&B65 -> 米糙米 | E9: =E63 -> 醬燒雞翅 | F9: =PHONETIC(E64:E68) -> 三節翅滷包 | G9: =G63 -> 鮮菇豆腐 | H9: =PHONETIC(G64:G68) -> 豆腐杏鮑菇乾香菇大蒜 | I9: 時蔬 | J9: 蔬菜大蒜 | K9: =K63 -> 檸檬愛玉 | L9: =PHONETIC(K64:K67) -> 愛玉紅砂糖檸檬汁 | M9: =M63 -> 果汁 | O9: 5 | P9: 2.5 | Q9: 2 | R9: 2.7 | T9: 1 | U9: =O9*70+P9*75+Q9*25+R9*45+S9*120+T9*60 -> 769
A10: =IF(A9="","",IF(MONTH(A9)<>MONTH(A9+1),"",A9+1)) -> 45212 | B10: =IF(A10="","",RIGHT(TEXT(WEEKDAY(A10),"[$-404]aaaa;@"),1)) -> 五 | C10: =B69 -> 小米飯 | D10: =B70&B71 -> 米小米 | E10: =E69 -> 海結滷肉 | F10: =PHONETIC(E70:E74) -> 豬後腿肉乾海帶麵輪大蒜 | G10: =G69 -> 銀蘿蛋香 | H10: =PHONETIC(G70:G74) -> 雞蛋白蘿蔔胡蘿蔔大蒜 | I10: 時蔬 | J10: 蔬菜大蒜 | K10: =K69 -> 番茄蔬湯 | L10: =PHONETIC(K70:K74) -> 時蔬番茄糊薑豬骨 | M10: =M69 -> 水果 | N10: 有機豆漿 | O10: 5.2 | P10: 2.5 | Q10: 2 | R10: 2.9 | U10: =O10*70+P10*75+Q10*25+R10*45+S10*120+T10*60 -> 732
A11: =IF(A10="","",IF(MONTH(A10)<>MONTH(A10+1),"",A10+3)) -> 45215 | B11: =IF(A11="","",RIGHT(TEXT(WEEKDAY(A11),"[$-404]aaaa;@"),1)) -> 一 | C11: =B75 -> 白米飯 | D11: =B76&B77 -> 米 | E11: =E75 -> 黑椒肉絲 | F11: =PHONETIC(E76:E80) -> 豬後腿肉馬鈴薯洋蔥大蒜 | G11: =G75 -> 蔬香冬粉 | H11: =PHONETIC(G76:G80) -> 雞蛋冬粉胡蘿蔔乾木耳大蒜 | I11: 時蔬 | J11: 蔬菜大蒜 | K11: =K75 -> 味噌芽湯 | L11: =PHONETIC(K76:K79) -> 乾裙帶菜味噌薑柴魚片 | M11: =M75 -> 果汁 | O11: 5 | P11: 2.5 | Q11: 1.7 | R11: 3 | U11: =O11*70+P11*75+Q11*25+R11*45+S11*120+T11*60 -> 715
A12: =IF(A11="","",IF(MONTH(A11)<>MONTH(A11+1),"",A11+1)) -> 45216 | B12: =IF(A12="","",RIGHT(TEXT(WEEKDAY(A12),"[$-404]aaaa;@"),1)) -> 二 | C12: =B81 -> 糙米飯 | D12: =B82&B83 -> 米糙米 | E12: =E81 -> 椒鹽魚排 | F12: =PHONETIC(E82:E86) -> 魚排胡椒鹽 | G12: =G81 -> 茄汁豆腐 | H12: =PHONETIC(G82:G86) -> 豆腐洋蔥番茄糊番茄醬大蒜 | I12: 時蔬 | J12: 蔬菜大蒜 | K12: =K81 -> 時蔬湯 | L12: =PHONETIC(K82:K86) -> 時蔬胡蘿蔔薑豬骨 | M12: =M81 -> 保久乳 | O12: 5 | P12: 2.5 | Q12: 1.6 | R12: 2.9 | S12: 1 | U12: =O12*70+P12*75+Q12*25+R12*45+S12*120+T12*60 -> 828
A13: =IF(A12="","",IF(MONTH(A12)<>MONTH(A12+1),"",A12+1)) -> 45217 | B13: =IF(A13="","",RIGHT(TEXT(WEEKDAY(A13),"[$-404]aaaa;@"),1)) -> 三 | C13: =B87 -> 泰式特餐 | D13: =B88&B89 -> 米糙米 | E13: =E87 -> 打拋豬 | F13: =PHONETIC(E88:E92) -> 豬絞肉洋蔥打拋醬大蒜 | G13: =G87 -> 風味甘藍 | H13: =PHONETIC(G88:G92) -> 甘藍胡蘿蔔叻沙醬大蒜 | I13: 時蔬 | J13: 蔬菜大蒜 | K13: =K87 -> 冬蔭功湯 | L13: =PHONETIC(K88:K91) -> 金針菇番茄糊豬骨南薑 | M13: =M87 -> 小餐包 | O13: 4 | P13: 2.5 | Q13: 1.6 | R13: 2.9 | U13: =O13*70+P13*75+Q13*25+R13*45+S13*120+T13*60 -> 638
A14: =IF(A13="","",IF(MONTH(A13)<>MONTH(A13+1),"",A13+1)) -> 45218 | B14: =IF(A14="","",RIGHT(TEXT(WEEKDAY(A14),"[$-404]aaaa;@"),1)) -> 四 | C14: =B93 -> 糙米飯 | D14: =B94&B95 -> 米糙米 | E14: =E93 -> 豆瓣雞丁 | F14: =PHONETIC(E94:E98) -> 肉雞乾海帶豆瓣醬大蒜 | G14: =G93 -> 香滷凍腐 | H14: =PHONETIC(G94:G98) -> 凍豆腐麻竹筍干大蒜 | I14: 時蔬 | J14: 蔬菜大蒜 | K14: =K93 -> 枸杞銀耳 | L14: =PHONETIC(K94:K98) -> 乾銀耳枸杞紅砂糖 | M14: =M93 -> 蜂蜜蛋糕 | O14: 5.4 | P14: 2.5 | Q14: 1.8 | R14: 2.9 | T14: 1 | U14: =O14*70+P14*75+Q14*25+R14*45+S14*120+T14*60 -> 801
A15: =IF(A14="","",IF(MONTH(A14)<>MONTH(A14+1),"",A14+1)) -> 45219 | B15: =IF(A15="","",RIGHT(TEXT(WEEKDAY(A15),"[$-404]aaaa;@"),1)) -> 五 | C15: =B99 -> 紫米飯 | D15: =B100&B101 -> 米黑糯米 | E15: =E99 -> 鹹香肉片 | F15: =PHONETIC(E100:E104) -> 豬後腿肉甘藍胡蘿蔔醃鹹豬肉粉 | G15: =G99 -> 甘藍佐蛋 | H15: =PHONETIC(G100:G104) -> 雞蛋甘藍乾木耳大蒜 | I15: 時蔬 | J15: 蔬菜大蒜 | K15: =K99 -> 金針湯 | L15: =PHONETIC(K100:K104) -> 金針菜乾榨菜薑豬骨 | M15: =M99 -> 水果 | N15: 有機豆漿 | O15: 5 | P15: 2.5 | Q15: 2 | R15: 2.9 | U15: =O15*70+P15*75+Q15*25+R15*45+S15*120+T15*60 -> 718
A16: =IF(A15="","",IF(MONTH(A15)<>MONTH(A15+1),"",A15+3)) -> 45222 | B16: =IF(A16="","",RIGHT(TEXT(WEEKDAY(A16),"[$-404]aaaa;@"),1)) -> 一 | C16: =B105 -> 白米飯 | D16: =B106&B107 -> 米 | E16: =E105 -> 梅干絞肉 | F16: =PHONETIC(E106:E110) -> 豬絞肉梅乾菜麵筋大蒜 | G16: =G105 -> 豆皮銀絲 | H16: =PHONETIC(G106:G110) -> 豆皮白蘿蔔乾木耳大蒜 | I16: 時蔬 | J16: 蔬菜大蒜 | K16: =K105 -> 蛋花湯 | L16: =PHONETIC(K106:K110) -> 雞蛋乾裙帶菜薑 | M16: =M105 -> 果汁 | O16: 5 | P16: 2.5 | Q16: 2 | R16: 2.9 | U16: =O16*70+P16*75+Q16*25+R16*45+S16*120+T16*60 -> 718
A17: =IF(A16="","",IF(MONTH(A16)<>MONTH(A16+1),"",A16+1)) -> 45223 | B17: =IF(A17="","",RIGHT(TEXT(WEEKDAY(A17),"[$-404]aaaa;@"),1)) -> 二 | C17: =B111 -> 糙米飯 | D17: =B112&B113 -> 米糙米 | E17: =E111 -> 香味雞翅 | F17: =PHONETIC(E112:E116) -> 三節翅滷包 | G17: =G111 -> 絞肉白菜 | H17: =PHONETIC(G112:G116) -> 豬絞肉結球白菜乾香菇胡蘿蔔大蒜 | I17: 時蔬 | J17: 蔬菜大蒜 | K17: =K111 -> 時瓜湯 | L17: =PHONETIC(K112:K116) -> 時瓜枸杞薑豬骨 | M17: =M111 -> 保久乳 | O17: 5 | P17: 2.5 | Q17: 1.7 | R17: 2.8 | S17: 1 | U17: =O17*70+P17*75+Q17*25+R17*45+S17*120+T17*60 -> 826
A18: =IF(A17="","",IF(MONTH(A17)<>MONTH(A17+1),"",A17+1)) -> 45224 | B18: =IF(A18="","",RIGHT(TEXT(WEEKDAY(A18),"[$-404]aaaa;@"),1)) -> 三 | C18: =B117 -> 刈包特餐 | D18: =B118&B119 -> 刈包 | E18: =E117 -> 酸菜肉片 | F18: =PHONETIC(E118:E122) -> 豬後腿肉酸菜薑 | G18: =G117 -> 玉筍豆腐 | H18: =PHONETIC(G118:G122) -> 豆腐冷凍玉米筍豆瓣醬大蒜 | I18: 時蔬 | J18: 蔬菜大蒜 | K18: =K117 -> 糙米粥 | L18: =PHONETIC(K118:K122) -> 雞蛋時蔬乾香菇糙米胡蘿蔔 | M18: =M117 -> 小餐包 | O18: 4.2 | P18: 2.5 | Q18: 1.5 | R18: 2.8 | U18: =O18*70+P18*75+Q18*25+R18*45+S18*120+T18*60 -> 645
A19: =IF(A18="","",IF(MONTH(A18)<>MONTH(A18+1),"",A18+1)) -> 45225 | B19: =IF(A19="","",RIGHT(TEXT(WEEKDAY(A19),"[$-404]aaaa;@"),1)) -> 四 | C19: =B123 -> 糙米飯 | D19: =B124&B125 -> 米糙米 | E19: =E123 -> 咖哩雞丁 | F19: =PHONETIC(E124:E128) -> 肉雞馬鈴薯洋蔥咖哩粉 | G19: =G123 -> 培根豆芽 | H19: =PHONETIC(G124:G128) -> 綠豆芽胡蘿蔔培根大蒜 | I19: 時蔬 | J19: 蔬菜大蒜 | K19: =K123 -> 仙草甜湯 | L19: =PHONETIC(K124:K128) -> 仙草凍紅砂糖 | M19: =M123 -> 小饅頭 | O19: 5.6 | P19: 2.5 | Q19: 2.2 | R19: 2.9 | T19: 1 | U19: =O19*70+P19*75+Q19*25+R19*45+S19*120+T19*60 -> 825
A20: =IF(A19="","",IF(MONTH(A19)<>MONTH(A19+1),"",A19+1)) -> 45226 | B20: =IF(A20="","",RIGHT(TEXT(WEEKDAY(A20),"[$-404]aaaa;@"),1)) -> 五 | C20: =B129 -> 燕麥飯 | D20: =B130&B131 -> 米燕麥 | E20: =E129 -> 三鮮豉香 | F20: =PHONETIC(E130:E133) -> 魚丁虱目魚丸白蘿蔔豆豉 | G20: =G129 -> 螞蟻上樹 | H20: =PHONETIC(G130:G134) -> 豬絞肉冬粉時蔬乾木耳大蒜 | I20: 時蔬 | J20: 蔬菜大蒜 | K20: =K129 -> 味噌蔬湯 | L20: =PHONETIC(K130:K134) -> 時蔬味噌薑柴魚片 | M20: =M129 -> 水果 | N20: 有機豆漿 | O20: 5.5 | P20: 2.5 | Q20: 1.8 | R20: 2.9 | U20: =O20*70+P20*75+Q20*25+R20*45+S20*120+T20*60 -> 748
A21: =IF(A20="","",IF(MONTH(A20)<>MONTH(A20+1),"",A20+3)) -> 45229 | B21: =IF(A21="","",RIGHT(TEXT(WEEKDAY(A21),"[$-404]aaaa;@"),1)) -> 一 | C21: =B135 -> 白米飯 | D21: =B136&B137 -> 米 | E21: =E135 -> 家常里雞 | F21: =PHONETIC(E136:E140) -> 香雞排 | G21: =G135 -> 鐵板豆腐 | H21: =PHONETIC(G136:G140) -> 豆腐脆筍乾木耳大蒜 | I21: 時蔬 | J21: 蔬菜大蒜 | K21: =K135 -> 金針湯 | L21: =PHONETIC(K136:K140) -> 金針菜乾榨菜薑豬骨 | M21: =M135 -> 果汁 | O21: 5 | P21: 2.5 | Q21: 2.2 | R21: 2.9 | U21: =O21*70+P21*75+Q21*25+R21*45+S21*120+T21*60 -> 723
A22: =IF(A21="","",IF(MONTH(A21)<>MONTH(A21+1),"",A21+1)) -> 45230 | B22: =IF(A22="","",RIGHT(TEXT(WEEKDAY(A22),"[$-404]aaaa;@"),1)) -> 二 | C22: =B141 -> 糙米飯 | D22: =B142&B143 -> 米糙米 | E22: =E141 -> 泡菜肉片 | F22: =PHONETIC(E142:E146) -> 豬後腿肉韓式泡菜大蒜 | G22: =G141 -> 家常豆干 | H22: =PHONETIC(G142:G146) -> 豆干甘藍乾木耳胡蘿蔔大蒜 | I22: 時蔬 | J22: 蔬菜大蒜 | K22: =K141 -> 時蔬湯 | L22: =PHONETIC(K142:K146) -> 時蔬胡蘿蔔薑豬骨 | M22: =M141 -> 保久乳 | O22: 5.6 | P22: 2.5 | Q22: 2 | R22: 3.1 | S22: 1 | U22: =O22*70+P22*75+Q22*25+R22*45+S22*120+T22*60 -> 889
A23: 過敏警語：「本月產品含有蛋、芝麻、含麩之穀物、花生、大豆、魚類、亞硫酸鹽類及其相關製品，不適合其過敏體質者食用」
A24: 月菜單編排說明:一、每周三五吃有機蔬菜。二、每週五喝有機豆漿
A25: 食材明細（食材重量以100人份計量，營養分析以個人計量,其中肉雞包含23%骨頭之採購量，每周供應特餐一次，當日得混搭供應，國中4菜1湯1附餐，國小3菜1湯1附餐）
A26: 日期 | B26: 主食 | C26: 重/公斤 | D26: 公斤 | E26: 主菜 | F26: 重/公斤 | G26: 副菜一 | H26: 重/公斤 | I26: 蔬菜 | J26: 重/公斤 | K26: 湯品 | L26: 重/公斤 | M26: 附餐一 | N26: 附餐二
A27: =B3 -> 一 | B27: 白米飯 | D27: =IF(C27,"公斤","") | E27: 香炸魚排 | G27: 牛蒡豆腐 | I27: 時蔬 | K27: 蛋花芽湯 | M27: 果汁
A28: =A3 -> 45201 | B28: 米 | C28: 10 | D28: =IF(C28,"公斤","") -> 公斤 | E28: 魚排 | F28: 6.5 | G28: 豆腐 | H28: 5 | I28: 蔬菜 | J28: 7 | K28: 乾裙帶菜 | L28: 0.2
D29: =IF(C29,"公斤","") | G29: 牛蒡絲 | H29: 2 | I29: 大蒜 | J29: 0.05 | K29: 薑 | L29: 0.05
D30: =IF(C30,"公斤","") | G30: 豬絞肉 | H30: 1 | K30: 雞蛋 | L30: 0.6
D31: =IF(C31,"公斤","") | G31: 大蒜 | H31: 0.05
D32: =IF(C32,"公斤","")
A33: =B4 -> 二 | B33: 糙米飯 | E33: 家常雞排 | G33: 白菜凍腐 | I33: 時蔬 | K33: 茄香蔬湯 | M33: TAP豆漿
A34: =A4 -> 45202 | B34: 米 | C34: 7 | D34: =IF(C33,"公斤","") | E34: 香雞排 | F34: 6 | G34: 凍豆腐 | H34: 3 | I34: 蔬菜 | J34: 7 | K34: 番茄糊 | L34: 2
B35: 糙米 | C35: 3 | D35: =IF(C34,"公斤","") -> 公斤 | G35: 結球白菜 | H35: 3 | I35: 大蒜 | J35: 0.05 | K35: 時蔬 | L35: 2
G36: 乾香菇 | H36: 0.01 | K36: 豬骨 | L36: 1
G37: 胡蘿蔔 | H37: 1
G38: 大蒜 | H38: 0.05
A39: =B5 -> 三 | B39: 米粉特餐 | E39: 米粉配料 | G39: 原味薯餅 | I39: 時蔬 | K39: 三絲羹湯 | M39: 小餐包
A40: =A5 -> 45203 | B40: 米粉 | C40: 4 | E40: 豬絞肉 | F40: 6 | G40: 薯餅 | H40: 4 | I40: 蔬菜 | J40: 7 | K40: 雞蛋 | L40: 1.1
...

Sheet 國中素
A1: 112 | D1: 112 | E1: 學年度 | F1: 國民 | G1: 中學 | H1: 10 | I1: 月素食菜單-7案 | K1: 津吉
A2: 日期 | B2: 星期 | C2: 主食 | D2: 主食明細 | E2: 主菜 | F2: 主菜明細 | G2: 副菜一 | H2: 副菜一明細 | I2: 副菜二 | J2: 副菜二明細 | K2: 蔬菜 | L2: 蔬菜明細 | M2: 湯品 | N2: 湯品明細 | O2: 附餐一 | P2: 附餐二 | Q2: 穀/份 | R2: 豆/份 | S2: 蔬/份 | T2: 油/份 | U2: 乳/分 | V2: 果/份 | W2: 熱量
A3: 45201 | B3: =IF(A3="","",RIGHT(TEXT(WEEKDAY(A3),"[$-404]aaaa;@"),1)) -> 一 | C3: =B27 -> 白米飯 | D3: =B28&B29 -> 米 | E3: =E27 -> 香炸素火腿 | F3: =PHONETIC(E28:E32) -> 素火腿 | G3: =G27 -> 牛蒡豆腐 | H3: =PHONETIC(G28:G32) -> 豆腐牛蒡絲素肉薑 | I3: =I27 -> 清炒花椰 | J3: =PHONETIC(I28:I32) -> 花椰菜胡蘿蔔薑 | K3: 時蔬 | L3: 蔬菜薑 | M3: =M27 -> 蛋花芽湯 | N3: =PHONETIC(M28:M31) -> 乾裙帶菜薑雞蛋 | O3: =O27 -> 果汁 | Q3: 5.3 | R3: 2.5 | S3: 1.9 | T3: 2.8 | W3: =Q3*70+R3*75+S3*25+T3*45+U3*120+V3*60 -> 732
A4: =IF(A3="","",IF(MONTH(A3)<>MONTH(A3+1),"",A3+1)) -> 45202 | B4: =IF(A4="","",RIGHT(TEXT(WEEKDAY(A4),"[$-404]aaaa;@"),1)) -> 二 | C4: =B33 -> 糙米飯 | D4: =B34&B35 -> 米糙米 | E4: =E33 -> 家常麵腸 | F4: =PHONETIC(E34:E38) -> 麵腸乾海帶薑 | G4: =G33 -> 白菜凍腐 | H4: =PHONETIC(G34:G38) -> 凍豆腐結球白菜乾香菇胡蘿蔔薑 | I4: =I33 -> 碎脯蛋香 | J4: =PHONETIC(I34:I38) -> 雞蛋蘿蔔乾白蘿蔔薑 | K4: 時蔬 | L4: 蔬菜薑 | M4: =M33 -> 茄香蔬湯 | N4: =PHONETIC(M34:M37) -> 番茄糊時蔬 | O4: =O33 -> TAP豆漿 | Q4: 6 | R4: 2.5 | S4: 1.8 | T4: 2.9 | V4: 1 | W4: =Q4*70+R4*75+S4*25+T4*45+U4*120+V4*60 -> 843
A5: =IF(A4="","",IF(MONTH(A4)<>MONTH(A4+1),"",A4+1)) -> 45203 | B5: =IF(A5="","",RIGHT(TEXT(WEEKDAY(A5),"[$-404]aaaa;@"),1)) -> 三 | C5: =B39 -> 米粉特餐 | D5: =B40&B41 -> 米粉 | E5: =E39 -> 米粉配料 | F5: =PHONETIC(E40:E44) -> 素肉時蔬胡蘿蔔薑 | G5: =G39 -> 原味薯餅 | H5: =PHONETIC(G40:G44) -> 薯餅 | I5: =I39 -> 蜜汁豆干 | J5: =PHONETIC(I40:I44) -> 豆干薑 | K5: 時蔬 | L5: 蔬菜薑 | M5: =M39 -> 三絲羹湯 | N5: =PHONETIC(M40:M43) -> 雞蛋脆筍白蘿蔔乾木耳 | O5: =O39 -> 小餐包 | Q5: 5.2 | R5: 2.5 | S5: 2 | T5: 2.9 | U5: 1 | W5: =Q5*70+R5*75+S5*25+T5*45+U5*120+V5*60 -> 852
A6: =IF(A5="","",IF(MONTH(A5)<>MONTH(A5+1),"",A5+1)) -> 45204 | B6: =IF(A6="","",RIGHT(TEXT(WEEKDAY(A6),"[$-404]aaaa;@"),1)) -> 四 | C6: =B45 -> 糙米飯 | D6: =B46&B47 -> 米糙米 | E6: =E45 -> 筍干百頁 | F6: =PHONETIC(E46:E50) -> 百頁麻竹筍干薑 | G6: =G45 -> 豆皮海帶 | H6: =PHONETIC(G46:G50) -> 豆皮乾海帶薑 | I6: =I45 -> 野菜天 | J6: =PHONETIC(I46:I50) -> 野菜天 | K6: 時蔬 | L6: 蔬菜薑 | M6: =M45 -> 綠豆湯 | N6: =PHONETIC(M46:M49) -> 綠豆紅砂糖 | O6: =O45 -> 堅果 | Q6: 5.6 | R6: 2.5 | S6: 1.7 | T6: 2.8 | W6: =Q6*70+R6*75+S6*25+T6*45+U6*120+V6*60 -> 748
A7: =IF(A6="","",IF(MONTH(A6)<>MONTH(A6+1),"",A6+1)) -> 45205 | B7: =IF(A7="","",RIGHT(TEXT(WEEKDAY(A7),"[$-404]aaaa;@"),1)) -> 五 | C7: =B51 -> 紅藜飯 | D7: =B52&B53 -> 米紅藜 | E7: =E51 -> 沙茶油腐 | F7: =PHONETIC(E52:E56) -> 四角油豆腐白蘿蔔薑 | G7: =G51 -> 木須佐蛋 | H7: =PHONETIC(G52:G56) -> 雞蛋時蔬乾木耳胡蘿蔔薑 | I7: =I51 -> 素香豆芽 | J7: =PHONETIC(I52:I56) -> 素培根綠豆芽胡蘿蔔薑 | K7: 時蔬 | L7: 蔬菜薑 | M7: =M51 -> 金針湯 | N7: =PHONETIC(M52:M56) -> 金針菜乾榨菜薑 | O7: =O51 -> 水果 | P7: 有機豆漿 | Q7: 5 | R7: 2.5 | S7: 1.8 | T7: 2.9 | U7: 1 | W7: =Q7*70+R7*75+S7*25+T7*45+U7*120+V7*60 -> 833
A8: =IF(A7="","",IF(MONTH(A7)<>MONTH(A7+1),"",A7+5)) -> 45210 | B8: =IF(A8="","",RIGHT(TEXT(WEEKDAY(A8),"[$-404]aaaa;@"),1)) -> 三 | C8: =B57 -> 西式特餐 | D8: =B58&B59 -> 義大利麵 | E8: =E57 -> 素火腿 | F8: =PHONETIC(E58:E62) -> 素火腿 | G8: =G57 -> 茄汁肉醬 | H8: =PHONETIC(G58:G62) -> 素肉馬鈴薯薑 | I8: =I57 -> 起司花椰 | J8: =PHONETIC(I58:I62) -> 花椰菜胡蘿蔔起司粉薑 | K8: 時蔬 | L8: 蔬菜薑 | M8: =M57 -> 玉米濃湯 | N8: =PHONETIC(M58:M62) -> 雞蛋玉米粒罐頭玉米醬罐頭玉米濃湯粉 | O8: =O57 -> 小餐包 | Q8: 5 | R8: 2.5 | S8: 1.6 | T8: 2.9 | W8: =Q8*70+R8*75+S8*25+T8*45+U8*120+V8*60 -> 708
A9: =IF(A8="","",IF(MONTH(A8)<>MONTH(A8+1),"",A8+1)) -> 45211 | B9: =IF(A9="","",RIGHT(TEXT(WEEKDAY(A9),"[$-404]aaaa;@"),1)) -> 四 | C9: =B63 -> 糙米飯 | D9: =B64&B65 -> 米糙米 | E9: =E63 -> 魯蒸煎炒蛋 | F9: =PHONETIC(E64:E68) -> 雞蛋滷包 | G9: =G63 -> 鮮菇豆腐 | H9: =PHONETIC(G64:G68) -> 豆腐杏鮑菇乾香菇薑 | I9: =I63 -> 素肉瓜粒 | J9: =PHONETIC(I64:I67) -> 素肉時瓜乾木耳薑 | K9: 時蔬 | L9: 蔬菜薑 | M9: =M63 -> 檸檬愛玉 | N9: =PHONETIC(M64:M67) -> 愛玉紅砂糖檸檬汁 | O9: =O63 -> 果汁 | Q9: 5 | R9: 2.5 | S9: 2 | T9: 2.7 | V9: 1 | W9: =Q9*70+R9*75+S9*25+T9*45+U9*120+V9*60 -> 769
A10: =IF(A9="","",IF(MONTH(A9)<>MONTH(A9+1),"",A9+1)) -> 45212 | B10: =IF(A10="","",RIGHT(TEXT(WEEKDAY(A10),"[$-404]aaaa;@"),1)) -> 五 | C10: =B69 -> 小米飯 | D10: =B70&B71 -> 米小米 | E10: =E69 -> 海結麵輪 | F10: =PHONETIC(E70:E74) -> 麵輪乾海帶薑 | G10: =G69 -> 銀蘿蛋香 | H10: =PHONETIC(G70:G74) -> 雞蛋白蘿蔔胡蘿蔔薑 | I10: =I69 -> 五香豆干 | J10: =PHONETIC(I70:I73) -> 豆干薑 | K10: 時蔬 | L10: 蔬菜薑 | M10: =M69 -> 番茄蔬湯 | N10: =PHONETIC(M70:M74) -> 時蔬番茄糊薑 | O10: =O69 -> 水果 | P10: 有機豆漿 | Q10: 5.2 | R10: 2.5 | S10: 2 | T10: 2.9 | W10: =Q10*70+R10*75+S10*25+T10*45+U10*120+V10*60 -> 732
A11: =IF(A10="","",IF(MONTH(A10)<>MONTH(A10+1),"",A10+3)) -> 45215 | B11: =IF(A11="","",RIGHT(TEXT(WEEKDAY(A11),"[$-404]aaaa;@"),1)) -> 一 | C11: =B75 -> 白米飯 | D11: =B76&B77 -> 米 | E11: =E75 -> 黑椒油腐 | F11: =PHONETIC(E76:E80) -> 四角油豆腐馬鈴薯薑 | G11: =G75 -> 蔬香冬粉 | H11: =PHONETIC(G76:G80) -> 雞蛋冬粉胡蘿蔔乾木耳薑 | I11: =I75 -> 滷野菜天 | J11: =PHONETIC(I76:I79) -> 野菜天 | K11: 時蔬 | L11: 蔬菜薑 | M11: =M75 -> 味噌芽湯 | N11: =PHONETIC(M76:M79) -> 乾裙帶菜味噌薑 | O11: =O75 -> 果汁 | Q11: 5 | R11: 2.5 | S11: 1.7 | T11: 3 | W11: =Q11*70+R11*75+S11*25+T11*45+U11*120+V11*60 -> 715
A12: =IF(A11="","",IF(MONTH(A11)<>MONTH(A11+1),"",A11+1)) -> 45216 | B12: =IF(A12="","",RIGHT(TEXT(WEEKDAY(A12),"[$-404]aaaa;@"),1)) -> 二 | C12: =B81 -> 糙米飯 | D12: =B82&B83 -> 米糙米 | E12: =E81 -> 椒鹽素火腿 | F12: =PHONETIC(E82:E86) -> 素火腿胡椒鹽 | G12: =G81 -> 茄汁豆腐 | H12: =PHONETIC(G82:G86) -> 豆腐番茄糊番茄醬薑 | I12: =I81 -> 毛豆白菜 | J12: =PHONETIC(I82:I86) -> 結球白菜毛豆乾香菇薑 | K12: 時蔬 | L12: 蔬菜薑 | M12: =M81 -> 時蔬湯 | N12: =PHONETIC(M82:M86) -> 時蔬胡蘿蔔薑 | O12: =O81 -> 保久乳 | Q12: 5 | R12: 2.5 | S12: 1.6 | T12: 2.9 | U12: 1 | W12: =Q12*70+R12*75+S12*25+T12*45+U12*120+V12*60 -> 828
A13: =IF(A12="","",IF(MONTH(A12)<>MONTH(A12+1),"",A12+1)) -> 45217 | B13: =IF(A13="","",RIGHT(TEXT(WEEKDAY(A13),"[$-404]aaaa;@"),1)) -> 三 | C13: =B87 -> 泰式特餐 | D13: =B88&B89 -> 米糙米 | E13: =E87 -> 打拋諸 | F13: =PHONETIC(E88:E92) -> 素肉打拋醬薑 | G13: =G87 -> 豆皮甘藍 | H13: =PHONETIC(G88:G92) -> 甘藍胡蘿蔔豆皮薑 | I13: =I87 -> 南洋豆包 | J13: =PHONETIC(I88:I92) -> 豆包 | K13: 時蔬 | L13: 蔬菜薑 | M13: =M87 -> 冬蔭功湯 | N13: =PHONETIC(M88:M91) -> 金針菇番茄糊南薑香茅 | O13: =O87 -> 小餐包 | Q13: 4 | R13: 2.5 | S13: 1.6 | T13: 2.9 | W13: =Q13*70+R13*75+S13*25+T13*45+U13*120+V13*60 -> 638
A14: =IF(A13="","",IF(MONTH(A13)<>MONTH(A13+1),"",A13+1)) -> 45218 | B14: =IF(A14="","",RIGHT(TEXT(WEEKDAY(A14),"[$-404]aaaa;@"),1)) -> 四 | C14: =B93 -> 糙米飯 | D14: =B94&B95 -> 米糙米 | E14: =E93 -> 豆瓣麵腸 | F14: =PHONETIC(E94:E98) -> 麵腸乾海帶豆瓣醬薑 | G14: =G93 -> 香滷凍腐 | H14: =PHONETIC(G94:G98) -> 凍豆腐麻竹筍干薑 | I14: =I93 -> 素肉時蔬 | J14: =PHONETIC(I94:I98) -> 素肉時蔬胡蘿蔔薑 | K14: 時蔬 | L14: 蔬菜薑 | M14: =M93 -> 枸杞銀耳 | N14: =PHONETIC(M94:M98) -> 乾銀耳枸杞紅砂糖 | O14: =O93 -> 海苔 | Q14: 5.4 | R14: 2.5 | S14: 1.8 | T14: 2.9 | V14: 1 | W14: =Q14*70+R14*75+S14*25+T14*45+U14*120+V14*60 -> 801
A15: =IF(A14="","",IF(MONTH(A14)<>MONTH(A14+1),"",A14+1)) -> 45219 | B15: =IF(A15="","",RIGHT(TEXT(WEEKDAY(A15),"[$-404]aaaa;@"),1)) -> 五 | C15: =B99 -> 紫米飯 | D15: =B100&B101 -> 米黑糯米 | E15: =E99 -> 鹹香百頁 | F15: =PHONETIC(E100:E104) -> 百頁甘藍胡蘿蔔 | G15: =G99 -> 甘藍佐蛋 | H15: =PHONETIC(G100:G104) -> 雞蛋甘藍乾木耳薑 | I15: =I99 -> 五香豆干 | J15: =PHONETIC(I100:I104) -> 豆干胡蘿蔔薑 | K15: 時蔬 | L15: 蔬菜薑 | M15: =M99 -> 金針湯 | N15: =PHONETIC(M100:M104) -> 金針菜乾榨菜薑 | O15: =O99 -> 水果 | P15: 有機豆漿 | Q15: 5 | R15: 2.5 | S15: 2 | T15: 2.9 | W15: =Q15*70+R15*75+S15*25+T15*45+U15*120+V15*60 -> 718
A16: =IF(A15="","",IF(MONTH(A15)<>MONTH(A15+1),"",A15+3)) -> 45222 | B16: =IF(A16="","",RIGHT(TEXT(WEEKDAY(A16),"[$-404]aaaa;@"),1)) -> 一 | C16: =B105 -> 白米飯 | D16: =B106&B107 -> 米 | E16: =E105 -> 梅干麵筋 | F16: =PHONETIC(E106:E110) -> 梅乾菜麵筋薑 | G16: =G105 -> 豆皮銀絲 | H16: =PHONETIC(G106:G110) -> 豆皮白蘿蔔乾木耳薑 | I16: =I105 -> 原味薯餅 | J16: =PHONETIC(I106:I110) -> 薯餅 | K16: 時蔬 | L16: 蔬菜薑 | M16: =M105 -> 蛋花湯 | N16: =PHONETIC(M106:M110) -> 雞蛋乾裙帶菜薑 | O16: =O105 -> 果汁 | Q16: 5 | R16: 2.5 | S16: 2 | T16: 2.9 | W16: =Q16*70+R16*75+S16*25+T16*45+U16*120+V16*60 -> 718
A17: =IF(A16="","",IF(MONTH(A16)<>MONTH(A16+1),"",A16+1)) -> 45223 | B17: =IF(A17="","",RIGHT(TEXT(WEEKDAY(A17),"[$-404]aaaa;@"),1)) -> 二 | C17: =B111 -> 糙米飯 | D17: =B112&B113 -> 米糙米 | E17: =E111 -> 素火腿 | F17: =PHONETIC(E112:E116) -> 素火腿滷包 | G17: =G111 -> 毛豆白菜 | H17: =PHONETIC(G112:G116) -> 毛豆結球白菜乾香菇胡蘿蔔薑 | I17: =I111 -> 滷香竹腸 | J17: =PHONETIC(I112:I116) -> 香竹腸薑 | K17: 時蔬 | L17: 蔬菜薑 | M17: =M111 -> 時瓜湯 | N17: =PHONETIC(M112:M116) -> 時瓜枸杞薑 | O17: =O111 -> 優酪乳 | Q17: 5 | R17: 2.5 | S17: 1.7 | T17: 2.8 | U17: 1 | W17: =Q17*70+R17*75+S17*25+T17*45+U17*120+V17*60 -> 826
A18: =IF(A17="","",IF(MONTH(A17)<>MONTH(A17+1),"",A17+1)) -> 45224 | B18: =IF(A18="","",RIGHT(TEXT(WEEKDAY(A18),"[$-404]aaaa;@"),1)) -> 三 | C18: =B117 -> 刈包特餐 | D18: =B118&B119 -> 刈包 | E18: =E117 -> 酸菜麵腸 | F18: =PHONETIC(E118:E122) -> 麵腸酸菜薑 | G18: =G117 -> 玉筍豆腐 | H18: =PHONETIC(G118:G122) -> 豆腐冷凍玉米筍豆瓣醬薑 | I18: =I117 -> 麥香薯餅 | J18: =PHONETIC(I118:I122) -> 薯餅 | K18: 時蔬 | L18: 蔬菜薑 | M18: =M117 -> 糙米粥 | N18: =PHONETIC(M118:M122) -> 雞蛋時蔬乾香菇糙米胡蘿蔔 | O18: =O117 -> 小餐包 | Q18: 4.2 | R18: 2.5 | S18: 1.5 | T18: 2.8 | W18: =Q18*70+R18*75+S18*25+T18*45+U18*120+V18*60 -> 645
A19: =IF(A18="","",IF(MONTH(A18)<>MONTH(A18+1),"",A18+1)) -> 45225 | B19: =IF(A19="","",RIGHT(TEXT(WEEKDAY(A19),"[$-404]aaaa;@"),1)) -> 四 | C19: =B123 -> 糙米飯 | D19: =B124&B125 -> 米糙米 | E19: =E123 -> 咖哩百頁 | F19: =PHONETIC(E124:E128) -> 百頁馬鈴薯咖哩粉 | G19: =G123 -> 素香豆芽 | H19: =PHONETIC(G124:G128) -> 綠豆芽胡蘿蔔素培根薑 | I19: =I123 -> 秘汁豆干 | J19: =PHONETIC(I124:I128) -> 豆干醬油二砂糖薑 | K19: 時蔬 | L19: 蔬菜薑 | M19: =M123 -> 仙草甜湯 | N19: =PHONETIC(M124:M128) -> 仙草凍紅砂糖 | O19: =O123 -> 小饅頭 | Q19: 5.6 | R19: 2.5 | S19: 2.2 | T19: 2.9 | V19: 1 | W19: =Q19*70+R19*75+S19*25+T19*45+U19*120+V19*60 -> 825
A20: =IF(A19="","",IF(MONTH(A19)<>MONTH(A19+1),"",A19+1)) -> 45226 | B20: =IF(A20="","",RIGHT(TEXT(WEEKDAY(A20),"[$-404]aaaa;@"),1)) -> 五 | C20: =B129 -> 燕麥飯 | D20: =B130&B131 -> 米燕麥 | E20: =E129 -> 油腐豉香 | F20: =PHONETIC(E130:E133) -> 四角油豆腐白蘿蔔豆豉 | G20: =G129 -> 螞蟻上樹 | H20: =PHONETIC(G130:G134) -> 素肉冬粉時蔬乾木耳薑 | I20: =I129 -> 照燒凍腐 | J20: =PHONETIC(I130:I134) -> 凍豆腐時瓜醬油紅砂糖 | K20: 時蔬 | L20: 蔬菜薑 | M20: =M129 -> 味噌蔬湯 | N20: =PHONETIC(M130:M134) -> 時蔬味噌薑 | O20: =O129 -> 水果 | P20: 有機豆漿 | Q20: 5.5 | R20: 2.5 | S20: 1.8 | T20: 2.9 | W20: =Q20*70+R20*75+S20*25+T20*45+U20*120+V20*60 -> 748
A21: =IF(A20="","",IF(MONTH(A20)<>MONTH(A20+1),"",A20+3)) -> 45229 | B21: =IF(A21="","",RIGHT(TEXT(WEEKDAY(A21),"[$-404]aaaa;@"),1)) -> 一 | C21: =B135 -> 白米飯 | D21: =B136&B137 -> 米 | E21: =E135 -> 家常百頁 | F21: =PHONETIC(E136:E140) -> 百頁 | G21: =G135 -> 鐵板豆腐 | H21: =PHONETIC(G136:G140) -> 豆腐脆筍乾木耳薑 | I21: =I135 -> 金沙花椰 | J21: =PHONETIC(I136:I140) -> 花椰菜蛋黃粉胡蘿蔔薑 | K21: 時蔬 | L21: 蔬菜薑 | M21: =M135 -> 金針湯 | N21: =PHONETIC(M136:M140) -> 金針菜乾榨菜薑 | O21: =O135 -> 果汁 | Q21: 5 | R21: 2.5 | S21: 2.2 | T21: 2.9 | W21: =Q21*70+R21*75+S21*25+T21*45+U21*120+V21*60 -> 723
A22: =IF(A21="","",IF(MONTH(A21)<>MONTH(A21+1),"",A21+1)) -> 45230 | B22: =IF(A22="","",RIGHT(TEXT(WEEKDAY(A22),"[$-404]aaaa;@"),1)) -> 二 | C22: =B141 -> 糙米飯 | D22: =B142&B143 -> 米糙米 | E22: =E141 -> 泡菜麵腸 | F22: =PHONETIC(E142:E146) -> 麵腸韓式泡菜薑 | G22: =G141 -> 家常豆干 | H22: =PHONETIC(G142:G146) -> 豆干甘藍乾木耳胡蘿蔔薑 | I22: =I141 -> 滷野菜天 | J22: =PHONETIC(I142:I146) -> 野菜天 | K22: 時蔬 | L22: 蔬菜薑 | M22: =M141 -> 時蔬湯 | N22: =PHONETIC(M142:M146) -> 時蔬胡蘿蔔薑 | O22: =O141 -> 鮮乳 | Q22: 5.6 | R22: 2.5 | S22: 2 | T22: 3.1 | U22: 1 | W22: =Q22*70+R22*75+S22*25+T22*45+U22*120+V22*60 -> 889
A23: 過敏警語：「本月產品含有蛋、芝麻、含麩之穀物、花生、大豆、亞硫酸鹽類及其相關製品，不適合其過敏體質者食用」
A24: 月菜單編排說明:一、每周三五吃有機蔬菜。二、每週五喝有機豆漿
A25: 食材明細（食材重量以100人份計量，營養分析以個人計量,其中麵腸包含23%骨頭之採購量，每周供應特餐一次，當日得混搭供應，國中4菜1湯1附餐，國小3菜1湯1附餐）
A26: 日期 | B26: 主食 | C26: 重/公斤 | D26: 公斤 | E26: 主菜 | F26: 重/公斤 | G26: 副菜一 | H26: 重/公斤 | I26: 副菜二 | J26: 重/公斤 | K26: 蔬菜 | L26: 重/公斤 | M26: 湯品 | N26: 重/公斤 | O26: 附餐一 | P26: 附餐二
A27: =B3 -> 一 | B27: 白米飯 | D27: =IF(C27,"公斤","") | E27: 香炸素火腿 | G27: 牛蒡豆腐 | I27: 清炒花椰 | K27: 時蔬 | M27: 蛋花芽湯 | O27: 果汁
A28: =A3 -> 45201 | B28: 米 | C28: 10 | D28: =IF(C28,"公斤","") -> 公斤 | E28: 素火腿 | F28: 6.5 | G28: 豆腐 | H28: 5 | I28: 花椰菜 | J28: 7 | K28: 蔬菜 | L28: 7 | M28: 乾裙帶菜 | N28: 0.2
D29: =IF(C29,"公斤","") | G29: 牛蒡絲 | H29: 2 | I29: 胡蘿蔔 | J29: 0.5 | K29: 薑 | L29: 0.05 | M29: 薑 | N29: 0.05
D30: =IF(C30,"公斤","") | G30: 素肉 | H30: 0.1 | M30: 雞蛋 | N30: 0.6
D31: =IF(C31,"公斤","") | G31: 薑 | H31: 0.05 | I31: 薑 | J31: 0.05
D32: =IF(C32,"公斤","")
A33: =B4 -> 二 | B33: 糙米飯 | E33: 家常麵腸 | G33: 白菜凍腐 | I33: 碎脯蛋香 | K33: 時蔬 | M33: 茄香蔬湯 | O33: TAP豆漿
A34: =A4 -> 45202 | B34: 米 | C34: 7 | D34: =IF(C33,"公斤","") | E34: 麵腸 | F34: 9 | G34: 凍豆腐 | H34: 3 | I34: 雞蛋 | J34: 1.8 | K34: 蔬菜 | L34: 7 | M34: 番茄糊 | N34: 2
B35: 糙米 | C35: 3 | D35: =IF(C34,"公斤","") -> 公斤 | E35: 乾海帶 | F35: 1 | G35: 結球白菜 | H35: 3 | I35: 蘿蔔乾 | J35: 2 | K35: 薑 | L35: 0.05 | M35: 時蔬 | N35: 2
E36: 薑 | F36: 0.05 | G36: 乾香菇 | H36: 0.01 | I36: 白蘿蔔 | J36: 3
G37: 胡蘿蔔 | H37: 1
G38: 薑 | H38: 0.05 | I38: 薑 | J38: 0.05
A39: =B5 -> 三 | B39: 米粉特餐 | E39: 米粉配料 | G39: 原味薯餅 | I39: 蜜汁豆干 | K39: 時蔬 | M39: 三絲羹湯 | O39: 小餐包
A40: =A5 -> 45203 | B40: 米粉 | C40: 4 | E40: 素肉 | F40: 1 | G40: 薯餅 | H40: 4 | I40: 豆干 | J40: 5 | K40: 蔬菜 | L40: 7 | M40: 雞蛋 | N40: 1.1
...

Sheet 國小素
A1: 112 | D1: 112 | E1: 學年度 | F1: 國民 | G1: 小學 | H1: 10 | I1: 月素食菜單-7案 | L1: 津吉
A2: 日期 | B2: 星期 | C2: 主食 | D2: 主食明細 | E2: 主菜 | F2: 主菜明細 | G2: 副菜一 | H2: 副菜一明細 | I2: 蔬菜 | J2: 蔬菜明細 | K2: 湯品 | L2: 湯品明細 | M2: 附餐一 | N2: 附餐二 | O2: 穀/份 | P2: 豆/份 | Q2: 蔬/份 | R2: 油/份 | S2: 乳/分 | T2: 果/份 | U2: 熱量
A3: 45201 | B3: =IF(A3="","",RIGHT(TEXT(WEEKDAY(A3),"[$-404]aaaa;@"),1)) -> 一 | C3: =B27 -> 白米飯 | D3: =B28&B29 -> 米 | E3: =E27 -> 素火腿 | F3: =PHONETIC(E28:E32) -> 素火腿 | G3: =G27 -> 牛蒡豆腐 | H3: =PHONETIC(G28:G32) -> 豆腐牛蒡絲素肉薑 | I3: 時蔬 | J3: 蔬菜薑 | K3: =K27 -> 蛋花芽湯 | L3: =PHONETIC(K28:K31) -> 乾裙帶菜薑雞蛋 | M3: =M27 -> 果汁 | O3: 5.3 | P3: 2.5 | Q3: 1.9 | R3: 2.8 | U3: =O3*70+P3*75+Q3*25+R3*45+S3*120+T3*60 -> 732
A4: =IF(A3="","",IF(MONTH(A3)<>MONTH(A3+1),"",A3+1)) -> 45202 | B4: =IF(A4="","",RIGHT(TEXT(WEEKDAY(A4),"[$-404]aaaa;@"),1)) -> 二 | C4: =B33 -> 糙米飯 | D4: =B34&B35 -> 米糙米 | E4: =E33 -> 家常麵腸 | F4: =PHONETIC(E34:E38) -> 麵腸乾海帶薑 | G4: =G33 -> 白菜凍腐 | H4: =PHONETIC(G34:G38) -> 凍豆腐結球白菜乾香菇胡蘿蔔薑 | I4: 時蔬 | J4: 蔬菜薑 | K4: =K33 -> 茄香蔬湯 | L4: =PHONETIC(K34:K37) -> 番茄糊時蔬 | M4: =M33 -> TAP豆漿 | O4: 6 | P4: 2.5 | Q4: 1.8 | R4: 2.9 | T4: 1 | U4: =O4*70+P4*75+Q4*25+R4*45+S4*120+T4*60 -> 843
A5: =IF(A4="","",IF(MONTH(A4)<>MONTH(A4+1),"",A4+1)) -> 45203 | B5: =IF(A5="","",RIGHT(TEXT(WEEKDAY(A5),"[$-404]aaaa;@"),1)) -> 三 | C5: =B39 -> 米粉特餐 | D5: =B40&B41 -> 米粉 | E5: =E39 -> 米粉配料 | F5: =PHONETIC(E40:E44) -> 素肉時蔬胡蘿蔔薑 | G5: =G39 -> 原味薯餅 | H5: =PHONETIC(G40:G44) -> 薯餅 | I5: 時蔬 | J5: 蔬菜薑 | K5: =K39 -> 三絲羹湯 | L5: =PHONETIC(K40:K43) -> 雞蛋脆筍白蘿蔔乾木耳 | M5: =M39 -> 小餐包 | O5: 5.2 | P5: 2.5 | Q5: 2 | R5: 2.9 | S5: 1 | U5: =O5*70+P5*75+Q5*25+R5*45+S5*120+T5*60 -> 852
A6: =IF(A5="","",IF(MONTH(A5)<>MONTH(A5+1),"",A5+1)) -> 45204 | B6: =IF(A6="","",RIGHT(TEXT(WEEKDAY(A6),"[$-404]aaaa;@"),1)) -> 四 | C6: =B45 -> 糙米飯 | D6: =B46&B47 -> 米糙米 | E6: =E45 -> 筍干百頁 | F6: =PHONETIC(E46:E50) -> 百頁麻竹筍干薑 | G6: =G45 -> 豆皮海帶 | H6: =PHONETIC(G46:G50) -> 豆皮乾海帶薑 | I6: 時蔬 | J6: 蔬菜薑 | K6: =K45 -> 綠豆湯 | L6: =PHONETIC(K46:K49) -> 綠豆紅砂糖 | M6: =M45 -> 堅果 | O6: 5.6 | P6: 2.5 | Q6: 1.7 | R6: 2.8 | U6: =O6*70+P6*75+Q6*25+R6*45+S6*120+T6*60 -> 748
A7: =IF(A6="","",IF(MONTH(A6)<>MONTH(A6+1),"",A6+1)) -> 45205 | B7: =IF(A7="","",RIGHT(TEXT(WEEKDAY(A7),"[$-404]aaaa;@"),1)) -> 五 | C7: =B51 -> 紅藜飯 | D7: =B52&B53 -> 米紅藜 | E7: =E51 -> 沙茶油腐 | F7: =PHONETIC(E52:E56) -> 四角油豆腐白蘿蔔薑 | G7: =G51 -> 木須佐蛋 | H7: =PHONETIC(G52:G56) -> 雞蛋時蔬乾木耳胡蘿蔔薑 | I7: 時蔬 | J7: 蔬菜薑 | K7: =K51 -> 金針湯 | L7: =PHONETIC(K52:K56) -> 金針菜乾榨菜薑 | M7: =M51 -> 水果 | N7: 有機豆漿 | O7: 5 | P7: 2.5 | Q7: 1.8 | R7: 2.9 | S7: 1 | U7: =O7*70+P7*75+Q7*25+R7*45+S7*120+T7*60 -> 833
A8: =IF(A7="","",IF(MONTH(A7)<>MONTH(A7+1),"",A7+5)) -> 45210 | B8: =IF(A8="","",RIGHT(TEXT(WEEKDAY(A8),"[$-404]aaaa;@"),1)) -> 三 | C8: =B57 -> 西式特餐 | D8: =B58&B59 -> 義大利麵 | E8: =E57 -> 素火腿 | F8: =PHONETIC(E58:E62) -> 素火腿 | G8: =G57 -> 茄汁肉醬 | H8: =PHONETIC(G58:G62) -> 素肉馬鈴薯薑 | I8: 時蔬 | J8: 蔬菜薑 | K8: =K57 -> 玉米濃湯 | L8: =PHONETIC(K58:K62) -> 雞蛋玉米粒罐頭玉米醬罐頭玉米濃湯粉 | M8: =M57 -> 小餐包 | O8: 5 | P8: 2.5 | Q8: 1.6 | R8: 2.9 | U8: =O8*70+P8*75+Q8*25+R8*45+S8*120+T8*60 -> 708
A9: =IF(A8="","",IF(MONTH(A8)<>MONTH(A8+1),"",A8+1)) -> 45211 | B9: =IF(A9="","",RIGHT(TEXT(WEEKDAY(A9),"[$-404]aaaa;@"),1)) -> 四 | C9: =B63 -> 糙米飯 | D9: =B64&B65 -> 米糙米 | E9: =E63 -> 魯蒸煎炒蛋 | F9: =PHONETIC(E64:E68) -> 雞蛋滷包 | G9: =G63 -> 鮮菇豆腐 | H9: =PHONETIC(G64:G68) -> 豆腐杏鮑菇乾香菇薑 | I9: 時蔬 | J9: 蔬菜薑 | K9: =K63 -> 檸檬愛玉 | L9: =PHONETIC(K64:K67) -> 愛玉紅砂糖檸檬汁 | M9: =M63 -> 果汁 | O9: 5 | P9: 2.5 | Q9: 2 | R9: 2.7 | T9: 1 | U9: =O9*70+P9*75+Q9*25+R9*45+S9*120+T9*60 -> 769
A10: =IF(A9="","",IF(MONTH(A9)<>MONTH(A9+1),"",A9+1)) -> 45212 | B10: =IF(A10="","",RIGHT(TEXT(WEEKDAY(A10),"[$-404]aaaa;@"),1)) -> 五 | C10: =B69 -> 小米飯 | D10: =B70&B71 -> 米小米 | E10: =E69 -> 海結麵輪 | F10: =PHONETIC(E70:E74) -> 麵輪乾海帶薑 | G10: =G69 -> 銀蘿蛋香 | H10: =PHONETIC(G70:G74) -> 雞蛋白蘿蔔胡蘿蔔薑 | I10: 時蔬 | J10: 蔬菜薑 | K10: =K69 -> 番茄蔬湯 | L10: =PHONETIC(K70:K74) -> 時蔬番茄糊薑 | M10: =M69 -> 水果 | N10: 有機豆漿 | O10: 5.2 | P10: 2.5 | Q10: 2 | R10: 2.9 | U10: =O10*70+P10*75+Q10*25+R10*45+S10*120+T10*60 -> 732
A11: =IF(A10="","",IF(MONTH(A10)<>MONTH(A10+1),"",A10+3)) -> 45215 | B11: =IF(A11="","",RIGHT(TEXT(WEEKDAY(A11),"[$-404]aaaa;@"),1)) -> 一 | C11: =B75 -> 白米飯 | D11: =B76&B77 -> 米 | E11: =E75 -> 黑椒油腐 | F11: =PHONETIC(E76:E80) -> 四角油豆腐馬鈴薯薑 | G11: =G75 -> 蔬香冬粉 | H11: =PHONETIC(G76:G80) -> 雞蛋冬粉胡蘿蔔乾木耳薑 | I11: 時蔬 | J11: 蔬菜薑 | K11: =K75 -> 味噌芽湯 | L11: =PHONETIC(K76:K79) -> 乾裙帶菜味噌薑 | M11: =M75 -> 果汁 | O11: 5 | P11: 2.5 | Q11: 1.7 | R11: 3 | U11: =O11*70+P11*75+Q11*25+R11*45+S11*120+T11*60 -> 715
A12: =IF(A11="","",IF(MONTH(A11)<>MONTH(A11+1),"",A11+1)) -> 45216 | B12: =IF(A12="","",RIGHT(TEXT(WEEKDAY(A12),"[$-404]aaaa;@"),1)) -> 二 | C12: =B81 -> 糙米飯 | D12: =B82&B83 -> 米糙米 | E12: =E81 -> 椒鹽素火腿 | F12: =PHONETIC(E82:E86) -> 素火腿胡椒鹽 | G12: =G81 -> 茄汁豆腐 | H12: =PHONETIC(G82:G86) -> 豆腐番茄糊番茄醬薑 | I12: 時蔬 | J12: 蔬菜薑 | K12: =K81 -> 時蔬湯 | L12: =PHONETIC(K82:K86) -> 時蔬胡蘿蔔薑 | M12: =M81 -> 保久乳/堅果 | O12: 5 | P12: 2.5 | Q12: 1.6 | R12: 2.9 | S12: 1 | U12: =O12*70+P12*75+Q12*25+R12*45+S12*120+T12*60 -> 828
A13: =IF(A12="","",IF(MONTH(A12)<>MONTH(A12+1),"",A12+1)) -> 45217 | B13: =IF(A13="","",RIGHT(TEXT(WEEKDAY(A13),"[$-404]aaaa;@"),1)) -> 三 | C13: =B87 -> 泰式特餐 | D13: =B88&B89 -> 米糙米 | E13: =E87 -> 打拋諸 | F13: =PHONETIC(E88:E92) -> 素肉打拋醬薑 | G13: =G87 -> 豆皮甘藍 | H13: =PHONETIC(G88:G92) -> 甘藍胡蘿蔔豆皮薑 | I13: 時蔬 | J13: 蔬菜薑 | K13: =K87 -> 冬蔭功湯 | L13: =PHONETIC(K88:K91) -> 金針菇番茄糊南薑香茅 | M13: =M87 -> 小餐包 | O13: 4 | P13: 2.5 | Q13: 1.6 | R13: 2.9 | U13: =O13*70+P13*75+Q13*25+R13*45+S13*120+T13*60 -> 638
A14: =IF(A13="","",IF(MONTH(A13)<>MONTH(A13+1),"",A13+1)) -> 45218 | B14: =IF(A14="","",RIGHT(TEXT(WEEKDAY(A14),"[$-404]aaaa;@"),1)) -> 四 | C14: =B93 -> 糙米飯 | D14: =B94&B95 -> 米糙米 | E14: =E93 -> 豆瓣麵腸 | F14: =PHONETIC(E94:E98) -> 麵腸乾海帶豆瓣醬薑 | G14: =G93 -> 香滷凍腐 | H14: =PHONETIC(G94:G98) -> 凍豆腐麻竹筍干薑 | I14: 時蔬 | J14: 蔬菜薑 | K14: =K93 -> 枸杞銀耳 | L14: =PHONETIC(K94:K98) -> 乾銀耳枸杞紅砂糖 | M14: =M93 -> 海苔 | O14: 5.4 | P14: 2.5 | Q14: 1.8 | R14: 2.9 | T14: 1 | U14: =O14*70+P14*75+Q14*25+R14*45+S14*120+T14*60 -> 801
A15: =IF(A14="","",IF(MONTH(A14)<>MONTH(A14+1),"",A14+1)) -> 45219 | B15: =IF(A15="","",RIGHT(TEXT(WEEKDAY(A15),"[$-404]aaaa;@"),1)) -> 五 | C15: =B99 -> 紫米飯 | D15: =B100&B101 -> 米黑糯米 | E15: =E99 -> 鹹香百頁 | F15: =PHONETIC(E100:E104) -> 百頁甘藍胡蘿蔔 | G15: =G99 -> 甘藍佐蛋 | H15: =PHONETIC(G100:G104) -> 雞蛋甘藍乾木耳薑 | I15: 時蔬 | J15: 蔬菜薑 | K15: =K99 -> 金針湯 | L15: =PHONETIC(K100:K104) -> 金針菜乾榨菜薑 | M15: =M99 -> 水果 | N15: 有機豆漿 | O15: 5 | P15: 2.5 | Q15: 2 | R15: 2.9 | U15: =O15*70+P15*75+Q15*25+R15*45+S15*120+T15*60 -> 718
A16: =IF(A15="","",IF(MONTH(A15)<>MONTH(A15+1),"",A15+3)) -> 45222 | B16: =IF(A16="","",RIGHT(TEXT(WEEKDAY(A16),"[$-404]aaaa;@"),1)) -> 一 | C16: =B105 -> 白米飯 | D16: =B106&B107 -> 米 | E16: =E105 -> 梅干麵筋 | F16: =PHONETIC(E106:E110) -> 梅乾菜麵筋薑 | G16: =G105 -> 豆皮銀絲 | H16: =PHONETIC(G106:G110) -> 豆皮白蘿蔔乾木耳薑 | I16: 時蔬 | J16: 蔬菜薑 | K16: =K105 -> 蛋花湯 | L16: =PHONETIC(K106:K110) -> 雞蛋乾裙帶菜薑 | M16: =M105 -> 果汁 | O16: 5 | P16: 2.5 | Q16: 2 | R16: 2.9 | U16: =O16*70+P16*75+Q16*25+R16*45+S16*120+T16*60 -> 718
A17: =IF(A16="","",IF(MONTH(A16)<>MONTH(A16+1),"",A16+1)) -> 45223 | B17: =IF(A17="","",RIGHT(TEXT(WEEKDAY(A17),"[$-404]aaaa;@"),1)) -> 二 | C17: =B111 -> 糙米飯 | D17: =B112&B113 -> 米糙米 | E17: =E111 -> 素火腿 | F17: =PHONETIC(E112:E116) -> 素火腿滷包 | G17: =G111 -> 毛豆白菜 | H17: =PHONETIC(G112:G116) -> 毛豆結球白菜乾香菇胡蘿蔔薑 | I17: 時蔬 | J17: 蔬菜薑 | K17: =K111 -> 時瓜湯 | L17: =PHONETIC(K112:K116) -> 時瓜枸杞薑 | M17: =M111 -> 優酪乳/保久乳 | O17: 5 | P17: 2.5 | Q17: 1.7 | R17: 2.8 | S17: 1 | U17: =O17*70+P17*75+Q17*25+R17*45+S17*120+T17*60 -> 826
A18: =IF(A17="","",IF(MONTH(A17)<>MONTH(A17+1),"",A17+1)) -> 45224 | B18: =IF(A18="","",RIGHT(TEXT(WEEKDAY(A18),"[$-404]aaaa;@"),1)) -> 三 | C18: =B117 -> 刈包特餐 | D18: =B118&B119 -> 刈包 | E18: =E117 -> 酸菜麵腸 | F18: =PHONETIC(E118:E122) -> 麵腸酸菜薑 | G18: =G117 -> 玉筍豆腐 | H18: =PHONETIC(G118:G122) -> 豆腐冷凍玉米筍豆瓣醬薑 | I18: 時蔬 | J18: 蔬菜薑 | K18: =K117 -> 糙米粥 | L18: =PHONETIC(K118:K122) -> 雞蛋時蔬乾香菇糙米胡蘿蔔 | M18: =M117 -> 小餐包 | O18: 4.2 | P18: 2.5 | Q18: 1.5 | R18: 2.8 | U18: =O18*70+P18*75+Q18*25+R18*45+S18*120+T18*60 -> 645
A19: =IF(A18="","",IF(MONTH(A18)<>MONTH(A18+1),"",A18+1)) -> 45225 | B19: =IF(A19="","",RIGHT(TEXT(WEEKDAY(A19),"[$-404]aaaa;@"),1)) -> 四 | C19: =B123 -> 糙米飯 | D19: =B124&B125 -> 米糙米 | E19: =E123 -> 咖哩百頁 | F19: =PHONETIC(E124:E128) -> 百頁馬鈴薯咖哩粉 | G19: =G123 -> 素香豆芽 | H19: =PHONETIC(G124:G128) -> 綠豆芽胡蘿蔔素培根薑 | I19: 時蔬 | J19: 蔬菜薑 | K19: =K123 -> 仙草甜湯 | L19: =PHONETIC(K124:K128) -> 仙草凍紅砂糖 | M19: =M123 -> 小饅頭 | O19: 5.6 | P19: 2.5 | Q19: 2.2 | R19: 2.9 | T19: 1 | U19: =O19*70+P19*75+Q19*25+R19*45+S19*120+T19*60 -> 825
A20: =IF(A19="","",IF(MONTH(A19)<>MONTH(A19+1),"",A19+1)) -> 45226 | B20: =IF(A20="","",RIGHT(TEXT(WEEKDAY(A20),"[$-404]aaaa;@"),1)) -> 五 | C20: =B129 -> 燕麥飯 | D20: =B130&B131 -> 米燕麥 | E20: =E129 -> 油腐豉香 | F20: =PHONETIC(E130:E133) -> 四角油豆腐白蘿蔔豆豉 | G20: =G129 -> 螞蟻上樹 | H20: =PHONETIC(G130:G134) -> 素肉冬粉時蔬乾木耳薑 | I20: 時蔬 | J20: 蔬菜薑 | K20: =K129 -> 味噌蔬湯 | L20: =PHONETIC(K130:K134) -> 時蔬味噌薑 | M20: =M129 -> 水果 | N20: 有機豆漿 | O20: 5.5 | P20: 2.5 | Q20: 1.8 | R20: 2.9 | U20: =O20*70+P20*75+Q20*25+R20*45+S20*120+T20*60 -> 748
A21: =IF(A20="","",IF(MONTH(A20)<>MONTH(A20+1),"",A20+3)) -> 45229 | B21: =IF(A21="","",RIGHT(TEXT(WEEKDAY(A21),"[$-404]aaaa;@"),1)) -> 一 | C21: =B135 -> 白米飯 | D21: =B136&B137 -> 米 | E21: =E135 -> 家常百頁 | F21: =PHONETIC(E136:E140) -> 百頁 | G21: =G135 -> 鐵板豆腐 | H21: =PHONETIC(G136:G140) -> 豆腐脆筍乾木耳薑 | I21: 時蔬 | J21: 蔬菜薑 | K21: =K135 -> 金針湯 | L21: =PHONETIC(K136:K140) -> 金針菜乾榨菜薑 | M21: =M135 -> 果汁 | O21: 5 | P21: 2.5 | Q21: 2.2 | R21: 2.9 | U21: =O21*70+P21*75+Q21*25+R21*45+S21*120+T21*60 -> 723
A22: =IF(A21="","",IF(MONTH(A21)<>MONTH(A21+1),"",A21+1)) -> 45230 | B22: =IF(A22="","",RIGHT(TEXT(WEEKDAY(A22),"[$-404]aaaa;@"),1)) -> 二 | C22: =B141 -> 糙米飯 | D22: =B142&B143 -> 米糙米 | E22: =E141 -> 泡菜麵腸 | F22: =PHONETIC(E142:E146) -> 麵腸韓式泡菜薑 | G22: =G141 -> 家常豆干 | H22: =PHONETIC(G142:G146) -> 豆干甘藍乾木耳胡蘿蔔薑 | I22: 時蔬 | J22: 蔬菜薑 | K22: =K141 -> 時蔬湯 | L22: =PHONETIC(K142:K146) -> 時蔬胡蘿蔔薑 | M22: =M141 -> 鮮乳/保久乳 | O22: 5.6 | P22: 2.5 | Q22: 2 | R22: 3.1 | S22: 1 | U22: =O22*70+P22*75+Q22*25+R22*45+S22*120+T22*60 -> 889
A23: 過敏警語：「本月產品含有蛋、芝麻、含麩之穀物、花生、大豆、亞硫酸鹽類及其相關製品，不適合其過敏體質者食用」
A24: 月菜單編排說明:一、每周三五吃有機蔬菜。二、每週五喝有機豆漿
A25: 食材明細（食材重量以100人份計量，營養分析以個人計量,其中麵腸包含23%骨頭之採購量，每周供應特餐一次，當日得混搭供應，國中4菜1湯1附餐，國小3菜1湯1附餐）
A26: 日期 | B26: 主食 | C26: 重/公斤 | D26: 公斤 | E26: 主菜 | F26: 重/公斤 | G26: 副菜一 | H26: 重/公斤 | I26: 蔬菜 | J26: 重/公斤 | K26: 湯品 | L26: 重/公斤 | M26: 附餐一 | N26: 附餐二
A27: =B3 -> 一 | B27: 白米飯 | D27: =IF(C27,"公斤","") | E27: 素火腿 | G27: 牛蒡豆腐 | I27: 時蔬 | K27: 蛋花芽湯 | M27: 果汁
A28: =A3 -> 45201 | B28: 米 | C28: 10 | D28: =IF(C28,"公斤","") -> 公斤 | E28: 素火腿 | F28: 6.5 | G28: 豆腐 | H28: 5 | I28: 蔬菜 | J28: 7 | K28: 乾裙帶菜 | L28: 0.2
