Workbook

Sheet B案國中葷食
C1: 111 | D1: 學年度 | E1: 國民中學 | F1: 葷食 | G1: 菜單 | H1: 循環 | K1: 馨儂快餐店
A2: 日期 | B2: 星期 | C2: 循環 | D2: 主食 | E2: 主食明細 | F2: 主菜 | G2: 主菜明細 | H2: 副菜一 | I2: 副菜一明細 | J2: 副菜二 | K2: 副菜二明細 | L2: 蔬菜 | M2: 蔬菜明細 | N2: 湯品 | O2: 湯品明細 | P2: 附餐 | Q2: 穀/份 | R2: 豆/份 | S2: 蔬/份 | T2: 油/份 | U2: 乳/份 | V2: 果/份 | W2: 熱量
A3: 45047 | B3: 一 | C3: =[1]B案葷食國中!A4 -> o1 | D3: =[1]B案葷食國中!I4 -> 白米飯 | E3: =[1]B案葷食國中!AC4 -> 米 | F3: =[1]B案葷食國中!L4 -> 咖哩絞肉 | G3: =[1]B案葷食國中!AD4 -> 豬絞肉 洋蔥 胡蘿蔔 馬鈴薯 咖哩粉 | H3: =[1]B案葷食國中!O4 -> 培根甘藍 | I3: =[1]B案葷食國中!AE4 -> 培根 大蒜 甘藍 | J3: =[1]B案葷食國中!R4 -> 蛋香冬粉 | K3: =[1]B案葷食國中!AF4 -> 雞蛋 冬粉 乾木耳 大蒜 時蔬 | L3: =[1]B案葷食國中!U4 -> 時蔬 | M3: =[1]B案葷食國中!AG4 -> 蔬菜 大蒜 | N3: =[1]B案葷食國中!X4 -> 冬瓜湯 | O3: =[1]B案葷食國中!AH4 -> 冬瓜 薑 豬大排 | P3: 點心 | Q3: =[1]B案葷食國中!B4 -> 5.3 | R3: =[1]B案葷食國中!C4 -> 2.6 | S3: =[1]B案葷食國中!D4 -> 2.2 | T3: =[1]B案葷食國中!E4 -> 3 | U3: =[1]B案葷食國中!F4 -> 0 | V3: =[1]B案葷食國中!G4 -> 0 | W3: =[1]B案葷食國中!H4 -> 846
A4: =A3+1 -> 45048 | B4: 二 | C4: =[1]B案葷食國中!A10 -> O2 | D4: =[1]B案葷食國中!I10 -> 糙米飯 | E4: =[1]B案葷食國中!AC10 -> 米 糙米 | F4: =[1]B案葷食國中!L10 -> 紅燒雞翅 | G4: =[1]B案葷食國中!AD10 -> 三節翅 滷包 | H4: =[1]B案葷食國中!O10 -> 鮮菇豆腐 | I4: =[1]B案葷食國中!AE10 -> 豆腐 鴻喜菇 乾香菇 大蒜 | J4: =[1]B案葷食國中!R10 -> 什錦白菜 | K4: =[1]B案葷食國中!AF10 -> 豬絞肉 結球白菜 乾木耳 胡蘿蔔 大蒜 | L4: =[1]B案葷食國中!U10 -> 時蔬 | M4: =[1]B案葷食國中!AG10 -> 蔬菜 大蒜 | N4: =[1]B案葷食國中!X10 -> 針菇時蔬湯 | O4: =[1]B案葷食國中!AH10 -> 時蔬 金針菇 薑 豬大排 | P4: 點心 | Q4: =[1]B案葷食國中!B10 -> 5.5 | R4: =[1]B案葷食國中!C10 -> 2.7 | S4: =[1]B案葷食國中!D10 -> 1.7 | T4: =[1]B案葷食國中!E10 -> 3 | U4: =[1]B案葷食國中!F10 -> 0 | V4: =[1]B案葷食國中!G10 -> 0 | W4: =[1]B案葷食國中!H10 -> 855
A5: =A4+1 -> 45049 | B5: 三 | C5: =[1]B案葷食國中!A16 -> O3 | D5: =[1]B案葷食國中!I16 -> 刈包特餐 | E5: =[1]B案葷食國中!AC16 -> 刈包 | F5: =[1]B案葷食國中!L16 -> 酸菜肉片 | G5: =[1]B案葷食國中!AD16 -> 豬後腿肉 酸菜 大蒜 | H5: =[1]B案葷食國中!O16 -> 絞肉豆芽 | I5: =[1]B案葷食國中!AE16 -> 豬絞肉 綠豆芽 韮菜 胡蘿蔔 大蒜 | J5: =[1]B案葷食國中!R16 -> 鐵板油腐 | K5: =[1]B案葷食國中!AF16 -> 四角油豆腐 脆筍 乾木耳 大蒜 | L5: =[1]B案葷食國中!U16 -> 時蔬 | M5: =[1]B案葷食國中!AG16 -> 蔬菜 大蒜 | N5: =[1]B案葷食國中!X16 -> 糙米粥 | O5: =[1]B案葷食國中!AH16 -> 雞蛋 糙米 胡蘿蔔 乾香菇 時瓜 | P5: 點心 | Q5: =[1]B案葷食國中!B16 -> 4 | R5: =[1]B案葷食國中!C16 -> 2.8 | S5: =[1]B案葷食國中!D16 -> 2.1 | T5: =[1]B案葷食國中!E16 -> 3.3 | U5: =[1]B案葷食國中!F16 -> 0 | V5: =[1]B案葷食國中!G16 -> 0 | W5: =[1]B案葷食國中!H16 -> 790
A6: =A5+1 -> 45050 | B6: 四 | C6: =[1]B案葷食國中!A22 -> O4 | D6: =[1]B案葷食國中!I22 -> 糙米飯 | E6: =[1]B案葷食國中!AC22 -> 米 糙米 | F6: =[1]B案葷食國中!L22 -> 香酥魚排 | G6: =[1]B案葷食國中!AD22 -> 魚排 | H6: =[1]B案葷食國中!O22 -> 蜜汁豆干 | I6: =[1]B案葷食國中!AE22 -> 豆干 芝麻(熟) | J6: =[1]B案葷食國中!R22 -> 清香時蔬 | K6: =[1]B案葷食國中!AF22 -> 豬絞肉 時蔬 胡蘿蔔 大蒜 | L6: =[1]B案葷食國中!U22 -> 時蔬 | M6: =[1]B案葷食國中!AG22 -> 蔬菜 大蒜 | N6: =[1]B案葷食國中!X22 -> 芋圓仙草湯 | O6: =[1]B案葷食國中!AH22 -> 仙草凍 二砂糖 芋圓 | P6: 點心 | Q6: =[1]B案葷食國中!B22 -> 5.7 | R6: =[1]B案葷食國中!C22 -> 3 | S6: =[1]B案葷食國中!D22 -> 2 | T6: =[1]B案葷食國中!E22 -> 3 | U6: =[1]B案葷食國中!F22 -> 0 | V6: =[1]B案葷食國中!G22 -> 0 | W6: =[1]B案葷食國中!H22 -> 899
A7: =A6+1 -> 45051 | B7: 五 | C7: =[1]B案葷食國中!A28 -> O5 | D7: =[1]B案葷食國中!I28 -> 芝麻飯 | E7: =[1]B案葷食國中!AC28 -> 米 芝麻(熟) | F7: =[1]B案葷食國中!L28 -> 咖哩雞 | G7: =[1]B案葷食國中!AD28 -> 肉雞 洋蔥 胡蘿蔔 馬鈴薯 咖哩粉 | H7: =[1]B案葷食國中!O28 -> 蛋香冬粉 | I7: =[1]B案葷食國中!AE28 -> 雞蛋 冬粉 乾木耳 大蒜 時蔬 | J7: =[1]B案葷食國中!R28 -> 泡菜凍腐 | K7: =[1]B案葷食國中!AF28 -> 凍豆腐 韓式泡菜 白菜 大蒜 | L7: =[1]B案葷食國中!U28 -> 時蔬 | M7: =[1]B案葷食國中!AG28 -> 蔬菜 大蒜 | N7: =[1]B案葷食國中!X28 -> 金針肉絲湯 | O7: =[1]B案葷食國中!AH28 -> 金針菜乾 豬後腿肉 | P7: 點心 | Q7: =[1]B案葷食國中!B28 -> 5 | R7: =[1]B案葷食國中!C28 -> 2.2 | S7: =[1]B案葷食國中!D28 -> 2.4 | T7: =[1]B案葷食國中!E28 -> 3.6 | U7: =[1]B案葷食國中!F28 -> 0 | V7: =[1]B案葷食國中!G28 -> 0 | W7: =[1]B案葷食國中!H28 -> 737
A8: =A7+3 -> 45054 | B8: 一 | C8: =[1]B案葷食國中!A34 -> P1 | D8: =[1]B案葷食國中!I34 -> 白米飯 | E8: =[1]B案葷食國中!AC34 -> 米 | F8: =[1]B案葷食國中!L34 -> 豆瓣魷魚 | G8: =[1]B案葷食國中!AD34 -> 阿根廷魷 時蔬 甜椒 豬後腿肉 豆瓣醬 | H8: =[1]B案葷食國中!O34 -> 麵筋時瓜 | I8: =[1]B案葷食國中!AE34 -> 麵筋 時瓜 乾木耳 大蒜 | J8: =[1]B案葷食國中!R34 -> 肉絲寬粉 | K8: =[1]B案葷食國中!AF34 -> 豬後腿肉 寬粉 大蒜 時蔬 乾木耳 | L8: =[1]B案葷食國中!U34 -> 時蔬 | M8: =[1]B案葷食國中!AG34 -> 蔬菜 大蒜 | N8: =[1]B案葷食國中!X34 -> 時蔬湯 | O8: =[1]B案葷食國中!AH34 -> 時蔬 薑 豬大排 | P8: 點心 | Q8: =[1]B案葷食國中!B34 -> 5.5 | R8: =[1]B案葷食國中!C34 -> 2.7 | S8: =[1]B案葷食國中!D34 -> 2.5 | T8: =[1]B案葷食國中!E34 -> 3.2 | U8: =[1]B案葷食國中!F34 -> 0 | V8: =[1]B案葷食國中!G34 -> 0 | W8: =[1]B案葷食國中!H34 -> 794
A9: =A8+1 -> 45055 | B9: 二 | C9: =[1]B案葷食國中!A40 -> P2 | D9: =[1]B案葷食國中!I40 -> 糙米飯 | E9: =[1]B案葷食國中!AC40 -> 米 糙米 | F9: =[1]B案葷食國中!L40 -> 醬瓜絞肉 | G9: =[1]B案葷食國中!AD40 -> 豬絞肉 胡蘿蔔 醃漬花胡瓜 大蒜 | H9: =[1]B案葷食國中!O40 -> 關東煮 | I9: =[1]B案葷食國中!AE40 -> 凍豆腐 甜玉米 黑輪 柴魚片 | J9: =[1]B案葷食國中!R40 -> 肉絲時蔬 | K9: =[1]B案葷食國中!AF40 -> 豬後腿肉 時蔬 乾香菇 大蒜 | L9: =[1]B案葷食國中!U40 -> 時蔬 | M9: =[1]B案葷食國中!AG40 -> 蔬菜 大蒜 | N9: =[1]B案葷食國中!X40 -> 番茄時蔬湯 | O9: =[1]B案葷食國中!AH40 -> 大番茄 時蔬 薑 | P9: 點心 | Q9: =[1]B案葷食國中!B40 -> 5.6 | R9: =[1]B案葷食國中!C40 -> 2.3 | S9: =[1]B案葷食國中!D40 -> 1.9 | T9: =[1]B案葷食國中!E40 -> 3 | U9: =[1]B案葷食國中!F40 -> 0 | V9: =[1]B案葷食國中!G40 -> 0 | W9: =[1]B案葷食國中!H40 -> 747
A10: =A9+1 -> 45056 | B10: 三 | C10: =[1]B案葷食國中!A46 -> P3 | D10: =[1]B案葷食國中!I46 -> 炊粉特餐 | E10: =[1]B案葷食國中!AC46 -> 米粉 | F10: =[1]B案葷食國中!L46 -> 香滷肉排 | G10: =[1]B案葷食國中!AD46 -> 肉排 | H10: =[1]B案葷食國中!O46 -> 炊粉配料 | I10: =[1]B案葷食國中!AE46 -> 豬絞肉 時蔬 胡蘿蔔 大蒜 紅蔥頭 | J10: =[1]B案葷食國中!R46 -> 培根豆芽 | K10: =[1]B案葷食國中!AF46 -> 培根 綠豆芽 韮菜 胡蘿蔔 大蒜 | L10: =[1]B案葷食國中!U46 -> 時蔬 | M10: =[1]B案葷食國中!AG46 -> 蔬菜 大蒜 | N10: =[1]B案葷食國中!X46 -> 大滷湯 | O10: =[1]B案葷食國中!AH46 -> 雞蛋 脆筍 乾木耳 胡蘿蔔 | P10: 點心 | Q10: =[1]B案葷食國中!B46 -> 2.5 | R10: =[1]B案葷食國中!C46 -> 2.6 | S10: =[1]B案葷食國中!D46 -> 2.1 | T10: =[1]B案葷食國中!E46 -> 3.3 | U10: =[1]B案葷食國中!F46 -> 0 | V10: =[1]B案葷食國中!G46 -> 0 | W10: =[1]B案葷食國中!H46 -> 571
A11: =A10+1 -> 45057 | B11: 四 | C11: =[1]B案葷食國中!A52 -> P4 | D11: =[1]B案葷食國中!I52 -> 糙米飯 | E11: =[1]B案葷食國中!AC52 -> 米 糙米 | F11: =[1]B案葷食國中!L52 -> 咖哩雞 | G11: =[1]B案葷食國中!AD52 -> 肉雞 胡蘿蔔 馬鈴薯 洋蔥 咖哩粉 | H11: =[1]B案葷食國中!O52 -> 絞肉白菜 | I11: 豬絞肉 結球白菜 乾香菇 胡蘿蔔 大蒜 | J11: =[1]B案葷食國中!R52 -> 蒜味季豆 | K11: =[1]B案葷食國中!AF52 -> 冷凍菜豆(莢) 大蒜 | L11: =[1]B案葷食國中!U52 -> 時蔬 | M11: =[1]B案葷食國中!AG52 -> 蔬菜 大蒜 | N11: =[1]B案葷食國中!X52 -> 綠豆甜湯 | O11: =[1]B案葷食國中!AH52 -> 綠豆 二砂糖 | P11: 點心 | Q11: =[1]B案葷食國中!B52 -> 6.6 | R11: =[1]B案葷食國中!C52 -> 2 | S11: =[1]B案葷食國中!D52 -> 1.9 | T11: =[1]B案葷食國中!E52 -> 3.1 | U11: =[1]B案葷食國中!F52 -> 0 | V11: =[1]B案葷食國中!G52 -> 0 | W11: =[1]B案葷食國中!H52 -> 799
A12: =A11+1 -> 45058 | B12: 五 | C12: =[1]B案葷食國中!A58 -> P5 | D12: =[1]B案葷食國中!I58 -> 燕麥飯 | E12: =[1]B案葷食國中!AC58 -> 米 燕麥 | F12: =[1]B案葷食國中!L58 -> 鹹豬肉片 | G12: =[1]B案葷食國中!AD58 -> 豬後腿肉 洋蔥 大蒜 鹹豬肉粉 青蔥 | H12: =[1]B案葷食國中!O58 -> 豆包甘藍 | I12: =[1]B案葷食國中!AE58 -> 豆包 甘藍 甜椒 大蒜 | J12: =[1]B案葷食國中!R58 -> 泰式魚丸 | K12: =[1]B案葷食國中!AF58 -> 魚丸 泰式甜辣醬 | L12: =[1]B案葷食國中!U58 -> 時蔬 | M12: =[1]B案葷食國中!AG58 -> 蔬菜 大蒜 | N12: =[1]B案葷食國中!X58 -> 柴魚紫菜湯 | O12: =[1]B案葷食國中!AH58 -> 紫菜 柴魚片 薑 | P12: 點心 | Q12: =[1]B案葷食國中!B58 -> 5.3 | R12: =[1]B案葷食國中!C58 -> 2.6 | S12: =[1]B案葷食國中!D58 -> 1.9 | T12: =[1]B案葷食國中!E58 -> 3.3 | U12: =[1]B案葷食國中!F58 -> 0 | V12: =[1]B案葷食國中!G58 -> 0 | W12: =[1]B案葷食國中!H58 -> 762
A13: =A12+3 -> 45061 | B13: 一 | C13: =[1]B案葷食國中!A64 -> Q1 | D13: =[1]B案葷食國中!I64 -> 白米飯 | E13: =[1]B案葷食國中!AC64 -> 米 | F13: =[1]B案葷食國中!L64 -> 京醬肉絲 | G13: =[1]B案葷食國中!AD64 -> 豬後腿肉 豆薯 大蒜 甜麵醬 | H13: =[1]B案葷食國中!O64 -> 香滷油腐 | I13: =[1]B案葷食國中!AE64 -> 四角油豆腐 脆筍 滷包 大蒜 | J13: =[1]B案葷食國中!R64 -> 絞肉時蔬 | K13: =[1]B案葷食國中!AF64 -> 豬絞肉 時蔬 胡蘿蔔 大蒜 | L13: =[1]B案葷食國中!U64 -> 時蔬 | M13: =[1]B案葷食國中!AG64 -> 蔬菜 大蒜 | N13: =[1]B案葷食國中!X64 -> 味噌湯 | O13: =[1]B案葷食國中!AH64 -> 乾裙帶菜 味噌 薑 柴魚片 | P13: 點心 | Q13: =[1]B案葷食國中!B64 -> 5 | R13: =[1]B案葷食國中!C64 -> 3.1 | S13: =[1]B案葷食國中!D64 -> 2.1 | T13: =[1]B案葷食國中!E64 -> 3 | U13: =[1]B案葷食國中!F64 -> 0 | V13: =[1]B案葷食國中!G64 -> 0 | W13: =[1]B案葷食國中!H64 -> 770
A14: =A13+1 -> 45062 | B14: 二 | C14: =[1]B案葷食國中!A70 -> Q2 | D14: =[1]B案葷食國中!I70 -> 糙米飯 | E14: =[1]B案葷食國中!AC70 -> 米 糙米 | F14: =[1]B案葷食國中!L70 -> 三杯雞丁 | G14: =[1]B案葷食國中!AD70 -> 肉雞 九層塔 薑 甘藍 | H14: =[1]B案葷食國中!O70 -> 蜜汁豆干 | I14: =[1]B案葷食國中!AE70 -> 五香豆干 白芝麻 | J14: =[1]B案葷食國中!R70 -> 蛋香時蔬 | K14: =[1]B案葷食國中!AF70 -> 雞蛋 時蔬 乾木耳 大蒜 | L14: =[1]B案葷食國中!U70 -> 時蔬 | M14: =[1]B案葷食國中!AG70 -> 蔬菜 大蒜 | N14: =[1]B案葷食國中!X70 -> 鮮菇排骨湯 | O14: =[1]B案葷食國中!AH70 -> 杏鮑菇 胡蘿蔔 薑 豬大排 | P14: 點心 | Q14: =[1]B案葷食國中!B70 -> 5 | R14: =[1]B案葷食國中!C70 -> 3 | S14: =[1]B案葷食國中!D70 -> 1.9 | T14: =[1]B案葷食國中!E70 -> 3 | U14: =[1]B案葷食國中!F70 -> 0 | V14: =[1]B案葷食國中!G70 -> 0 | W14: =[1]B案葷食國中!H70 -> 757.5
A15: =A14+1 -> 45063 | B15: 三 | C15: =[1]B案葷食國中!A76 -> Q3 | D15: =[1]B案葷食國中!I76 -> 油飯特餐 | E15: =[1]B案葷食國中!AC76 -> 米 糯米 | F15: =[1]B案葷食國中!L76 -> 筍干滷肉 | G15: =[1]B案葷食國中!AD76 -> 豬後腿肉 麻竹筍干 大蒜 | H15: =[1]B案葷食國中!O76 -> 油飯配料 | I15: =[1]B案葷食國中!AE76 -> 豬絞肉 乾香菇 紅蔥頭 大蒜 | J15: =[1]B案葷食國中!R76 -> 肉絲豆芽 | K15: =[1]B案葷食國中!AF76 -> 豬後腿肉 綠豆芽 韮菜 大蒜 | L15: =[1]B案葷食國中!U76 -> 時蔬 | M15: =[1]B案葷食國中!AG76 -> 蔬菜 大蒜 | N15: =[1]B案葷食國中!X76 -> 四神湯 | O15: =[1]B案葷食國中!AH76 -> 四神 豬大排 | P15: 點心 | Q15: =[1]B案葷食國中!B76 -> 6.1 | R15: =[1]B案葷食國中!C76 -> 2.8 | S15: =[1]B案葷食國中!D76 -> 1.6 | T15: =[1]B案葷食國中!E76 -> 3 | U15: =[1]B案葷食國中!F76 -> 0 | V15: =[1]B案葷食國中!G76 -> 0 | W15: =[1]B案葷食國中!H76 -> 902
A16: =A15+1 -> 45064 | B16: 四 | C16: =[1]B案葷食國中!A82 -> Q4 | D16: =[1]B案葷食國中!I82 -> 糙米飯 | E16: =[1]B案葷食國中!AC82 -> 米 糙米 | F16: =[1]B案葷食國中!L82 -> 梅粉魚排 | G16: =[1]B案葷食國中!AD82 -> 魚排 梅粉 | H16: =[1]B案葷食國中!O82 -> 青椒豆干 | I16: =[1]B案葷食國中!AE82 -> 豆干 甜椒(青皮) 乾木耳 大蒜 | J16: =[1]B案葷食國中!R82 -> 肉絲白菜 | K16: =[1]B案葷食國中!AF82 -> 豬後腿肉 結球白菜 胡蘿蔔 大蒜 | L16: =[1]B案葷食國中!U82 -> 時蔬 | M16: =[1]B案葷食國中!AG82 -> 蔬菜 大蒜 | N16: =[1]B案葷食國中!X82 -> 紅豆湯圓 | O16: =[1]B案葷食國中!AH82 -> 紅豆 小湯圓 二砂糖 | P16: 點心 | Q16: =[1]B案葷食國中!B82 -> 6.6 | R16: =[1]B案葷食國中!C82 -> 2.9 | S16: =[1]B案葷食國中!D82 -> 1.6 | T16: =[1]B案葷食國中!E82 -> 3 | U16: =[1]B案葷食國中!F82 -> 0 | V16: =[1]B案葷食國中!G82 -> 0 | W16: =[1]B案葷食國中!H82 -> 944.5
A17: =A16+1 -> 45065 | B17: 五 | C17: =[1]B案葷食國中!A88 -> Q5 | D17: =[1]B案葷食國中!I88 -> 小米飯 | E17: =[1]B案葷食國中!AC88 -> 米 小米 | F17: =[1]B案葷食國中!L88 -> 蔥燒雞 | G17: =[1]B案葷食國中!AD88 -> 肉雞 洋蔥 胡蘿蔔 大蒜 芝麻(熟) | H17: =[1]B案葷食國中!O88 -> 紅燒豆腐 | I17: =[1]B案葷食國中!AE88 -> 豆腐 乾香菇 大蒜 麻竹筍(桶筍) | J17: =[1]B案葷食國中!R88 -> 菇拌海帶 | K17: =[1]B案葷食國中!AF88 -> 乾裙帶菜 金針菇 大蒜 | L17: =[1]B案葷食國中!U88 -> 時蔬 | M17: =[1]B案葷食國中!AG88 -> 蔬菜 大蒜 | N17: =[1]B案葷食國中!X88 -> 番茄時蔬湯 | O17: =[1]B案葷食國中!AH88 -> 時蔬 大番茄 薑 豬大排 | P17: 點心 | Q17: =[1]B案葷食國中!B88 -> 5.2 | R17: =[1]B案葷食國中!C88 -> 2.4 | S17: =[1]B案葷食國中!D88 -> 2.2 | T17: =[1]B案葷食國中!E88 -> 2.5 | U17: =[1]B案葷食國中!F88 -> 0 | V17: =[1]B案葷食國中!G88 -> 0 | W17: =[1]B案葷食國中!H88 -> 786.5
A18: =A17+3 -> 45068 | B18: 一 | C18: =[1]B案葷食國中!A94 -> R1 | D18: =[1]B案葷食國中!I94 -> 白米飯 | E18: =[1]B案葷食國中!AC94 -> 米 | F18: =[1]B案葷食國中!L94 -> 時瓜肉丁 | G18: =[1]B案葷食國中!AD94 -> 豬後腿肉 時瓜 大蒜 | H18: =[1]B案葷食國中!O94 -> 培根豆芽 | I18: =[1]B案葷食國中!AE94 -> 豆包 綠豆芽 培根 大蒜 | J18: =[1]B案葷食國中!R94 -> 蔬香冬粉 | K18: =[1]B案葷食國中!AF94 -> 雞蛋 冬粉 蔬菜 乾木耳 大蒜 | L18: =[1]B案葷食國中!U94 -> 時蔬 | M18: =[1]B案葷食國中!AG94 -> 蔬菜 大蒜 | N18: =[1]B案葷食國中!X94 -> 鮮菇紫菜湯 | O18: =[1]B案葷食國中!AH94 -> 紫菜 杏鮑菇 薑 柴魚片 | P18: 點心 | Q18: =[1]B案葷食國中!B94 -> 5.7 | R18: =[1]B案葷食國中!C94 -> 2.2 | S18: =[1]B案葷食國中!D94 -> 2.2 | T18: =[1]B案葷食國中!E94 -> 3.1 | U18: =[1]B案葷食國中!F94 -> 0 | V18: =[1]B案葷食國中!G94 -> 0 | W18: =[1]B案葷食國中!H94 -> 851.5
A19: =A18+1 -> 45069 | B19: 二 | C19: =[1]B案葷食國中!A100 -> R2 | D19: =[1]B案葷食國中!I100 -> 糙米飯 | E19: =[1]B案葷食國中!AC100 -> 米 糙米 | F19: =[1]B案葷食國中!L100 -> 腿排 | G19: =[1]B案葷食國中!AD100 -> 腿排 | H19: =[1]B案葷食國中!O100 -> 麻婆豆腐 | I19: =[1]B案葷食國中!AE100 -> 豆腐 豬絞肉 冷凍毛豆仁 大蒜 | J19: =[1]B案葷食國中!R100 -> 紅仁炒蛋 | K19: =[1]B案葷食國中!AF100 -> 雞蛋 胡蘿蔔 大蒜 | L19: =[1]B案葷食國中!U100 -> 時蔬 | M19: =[1]B案葷食國中!AG100 -> 蔬菜 大蒜 | N19: =[1]B案葷食國中!X100 -> 魚丸湯 | O19: =[1]B案葷食國中!AH100 -> 時瓜 薑 魚丸 | P19: 點心 | Q19: =[1]B案葷食國中!B100 -> 5 | R19: =[1]B案葷食國中!C100 -> 3.1 | S19: =[1]B案葷食國中!D100 -> 1.5 | T19: =[1]B案葷食國中!E100 -> 3 | U19: =[1]B案葷食國中!F100 -> 0 | V19: =[1]B案葷食國中!G100 -> 0 | W19: =[1]B案葷食國中!H100 -> 845
A20: =A19+1 -> 45070 | B20: 三 | C20: =[1]B案葷食國中!A106 -> R3 | D20: =[1]B案葷食國中!I106 -> 西式特餐 | E20: =[1]B案葷食國中!AC106 -> 義大利麵 | F20: =[1]B案葷食國中!L106 -> 茄汁肉醬 | G20: =[1]B案葷食國中!AD106 -> 豬絞肉 馬鈴薯 洋蔥 蕃茄醬 | H20: =[1]B案葷食國中!O106 -> 拌麵配料 | I20: =[1]B案葷食國中!AE106 -> 甘藍 火腿丁 乾香菇 | J20: =[1]B案葷食國中!R106 -> 小餐包 | K20: =[1]B案葷食國中!AF106 -> 小餐包 | L20: =[1]B案葷食國中!U106 -> 時蔬 | M20: =[1]B案葷食國中!AG106 -> 蔬菜 大蒜 | N20: =[1]B案葷食國中!X106 -> 南瓜濃湯 | O20: =[1]B案葷食國中!AH106 -> 雞蛋 南瓜 玉米濃湯調理包 | P20: 點心 | Q20: =[1]B案葷食國中!B106 -> 5 | R20: =[1]B案葷食國中!C106 -> 1.9 | S20: =[1]B案葷食國中!D106 -> 1.4 | T20: =[1]B案葷食國中!E106 -> 2.7 | U20: =[1]B案葷食國中!F106 -> 0 | V20: =[1]B案葷食國中!G106 -> 0 | W20: =[1]B案葷食國中!H106 -> 730
A21: =A20+1 -> 45071 | B21: 四 | C21: =[1]B案葷食國中!A112 -> R4 | D21: =[1]B案葷食國中!I112 -> 糙米飯 | E21: =[1]B案葷食國中!AC112 -> 米 糙米 | F21: =[1]B案葷食國中!L112 -> 花生肉片 | G21: =[1]B案葷食國中!AD112 -> 豬後腿肉 油花生 麵筋 大蒜 小黃瓜 | H21: =[1]B案葷食國中!O112 -> 海結麵輪 | I21: =[1]B案葷食國中!AE112 -> 乾海帶 麵輪 大蒜 | J21: =[1]B案葷食國中!R112 -> 肉絲季豆 | K21: =[1]B案葷食國中!AF112 -> 冷菜菜豆(莢) 肉絲 大蒜 | L21: =[1]B案葷食國中!U112 -> 時蔬 | M21: =[1]B案葷食國中!AG112 -> 蔬菜 大蒜 | N21: =[1]B案葷食國中!X112 -> 銀耳湯 | O21: =[1]B案葷食國中!AH112 -> 乾銀耳 二砂糖 紅棗 枸杞 | P21: 點心 | Q21: =[1]B案葷食國中!B112 -> 5 | R21: =[1]B案葷食國中!C112 -> 3.3 | S21: =[1]B案葷食國中!D112 -> 1 | T21: =[1]B案葷食國中!E112 -> 2.7 | U21: =[1]B案葷食國中!F112 -> 0 | V21: =[1]B案葷食國中!G112 -> 0 | W21: =[1]B案葷食國中!H112 -> 825
A22: =A21+1 -> 45072 | B22: 五 | C22: =[1]B案葷食國中!A118 -> R5 | D22: =[1]B案葷食國中!I118 -> 紫米飯 | E22: =[1]B案葷食國中!AC118 -> 米 黑糯米 | F22: =[1]B案葷食國中!L118 -> 蝦仁豆腐 | G22: =[1]B案葷食國中!AD118 -> 小蝦仁 豆腐 大蒜 沙茶醬 | H22: =[1]B案葷食國中!O118 -> 雪菜豆干 | I22: =[1]B案葷食國中!AE118 -> 豆干 油菜 大蒜 | J22: =[1]B案葷食國中!R118 -> 清炒甘藍 | K22: =[1]B案葷食國中!AF118 -> 甘藍 胡蘿蔔 大蒜 | L22: =[1]B案葷食國中!U118 -> 時蔬 | M22: =[1]B案葷食國中!AG118 -> 蔬菜 大蒜 | N22: =[1]B案葷食國中!X118 -> 味噌湯 | O22: =[1]B案葷食國中!AH118 -> 乾裙帶菜 味噌 薑 柴魚片 | P22: 點心 | Q22: =[1]B案葷食國中!B118 -> 5.4 | R22: =[1]B案葷食國中!C118 -> 2.7 | S22: =[1]B案葷食國中!D118 -> 2.2 | T22: =[1]B案葷食國中!E118 -> 3 | U22: =[1]B案葷食國中!F118 -> 0 | V22: =[1]B案葷食國中!G118 -> 0 | W22: =[1]B案葷食國中!H118 -> 860.5
A23: =A22+3 -> 45075 | B23: 一 | C23: =[1]B案葷食國中!A124 -> S1 | D23: =[1]B案葷食國中!I124 -> 白米飯 | E23: =[1]B案葷食國中!AC124 -> 米 | F23: =[1]B案葷食國中!L124 -> 打拋豬 | G23: =[1]B案葷食國中!AD124 -> 豬絞肉 九層塔 豆薯 大蒜 大番茄 | H23: =[1]B案葷食國中!O124 -> 小魚豆干 | I23: =[1]B案葷食國中!AE124 -> 小魚乾 豆干 大蒜 | J23: =[1]B案葷食國中!R124 -> 時蔬蛋香 | K23: =[1]B案葷食國中!AF124 -> 雞蛋 時蔬 洋蔥 | L23: =[1]B案葷食國中!U124 -> 時蔬 | M23: =[1]B案葷食國中!AG124 -> 蔬菜 大蒜 | N23: =[1]B案葷食國中!X124 -> 冬瓜湯 | O23: =[1]B案葷食國中!AH124 -> 冬瓜 薑 豬大排 | P23: 點心 | Q23: =[1]B案葷食國中!B124 -> 5 | R23: =[1]B案葷食國中!C124 -> 3.5 | S23: =[1]B案葷食國中!D124 -> 1.9 | T23: =[1]B案葷食國中!E124 -> 3 | U23: =[1]B案葷食國中!F124 -> 0 | V23: =[1]B案葷食國中!G124 -> 0 | W23: =[1]B案葷食國中!H124 -> 885
A24: =A23+1 -> 45076 | B24: 二 | C24: =[1]B案葷食國中!A130 -> S2 | D24: =[1]B案葷食國中!I130 -> 糙米飯 | E24: =[1]B案葷食國中!AC130 -> 米 糙米 | F24: =[1]B案葷食國中!L130 -> 醬瓜雞丁 | G24: =[1]B案葷食國中!AD130 -> 肉雞 醃漬花胡瓜 薑 | H24: =[1]B案葷食國中!O130 -> 茄汁豆腐 | I24: =[1]B案葷食國中!AE130 -> 豆腐 洋蔥 番茄糊 蕃茄醬 大番茄 | J24: =[1]B案葷食國中!R130 -> 西滷菜 | K24: =[1]B案葷食國中!AF130 -> 豬絞肉 結球白菜 乾香菇 胡蘿蔔 大蒜 | L24: =[1]B案葷食國中!U130 -> 時蔬 | M24: =[1]B案葷食國中!AG130 -> 蔬菜 大蒜 | N24: =[1]B案葷食國中!X130 -> 味噌湯 | O24: =[1]B案葷食國中!AH130 -> 乾裙帶菜 味噌 薑 柴魚片 | P24: 點心 | Q24: =[1]B案葷食國中!B130 -> 5 | R24: =[1]B案葷食國中!C130 -> 2.9 | S24: =[1]B案葷食國中!D130 -> 1.8 | T24: =[1]B案葷食國中!E130 -> 3 | U24: =[1]B案葷食國中!F130 -> 0 | V24: =[1]B案葷食國中!G130 -> 0 | W24: =[1]B案葷食國中!H130 -> 837.5
A25: =A24+1 -> 45077 | B25: 三 | C25: =[1]B案葷食國中!A136 -> S3 | D25: =[1]B案葷食國中!I136 -> 炊粉特餐 | E25: =[1]B案葷食國中!AC136 -> 米粉 | F25: =[1]B案葷食國中!L136 -> 油蔥肉燥 | G25: =[1]B案葷食國中!AD136 -> 豬絞肉 時蔬 乾香菇 紅蔥頭 大蒜 | H25: =[1]B案葷食國中!O136 -> 肉絲南瓜 | I25: =[1]B案葷食國中!AE136 -> 豬後腿肉 南瓜 薑 | J25: =[1]B案葷食國中!R136 -> 蜜汁豆干 | K25: =[1]B案葷食國中!AF136 -> 豆干 豆薯 醬油 二砂糖 | L25: =[1]B案葷食國中!U136 -> 時蔬 | M25: =[1]B案葷食國中!AG136 -> 蔬菜 大蒜 | N25: =[1]B案葷食國中!X136 -> 魩魚羹湯 | O25: =[1]B案葷食國中!AH136 -> 雞蛋 脆筍 時蔬 乾木耳 魩仔魚(加工) | P25: 點心 | Q25: =[1]B案葷食國中!B136 -> 3 | R25: =[1]B案葷食國中!C136 -> 2.8 | S25: =[1]B案葷食國中!D136 -> 1.5 | T25: =[1]B案葷食國中!E136 -> 3 | U25: =[1]B案葷食國中!F136 -> 0 | V25: =[1]B案葷食國中!G136 -> 0 | W25: =[1]B案葷食國中!H136 -> 682.5
A27: 過敏原警語:「本月產品含有甲殼類、花生、雞蛋、堅果類、芝麻、含麩質之穀物、大豆、魚類、使用亞硫酸鹽類及其相關製品」。
A28: 說明:5月份菜單編排說明如下：
A29: 一、星期二、四的蔬菜為有機蔬菜。
A30: 二、為符合每月第一週吃雞翅，5/2(二)主菜是紅燒雞翅
A31: 三、大骨可能替代為雞骨或肉絲。
A32: 四、點心供應品項如下：小餐包、水果、豆漿、旺仔小饅頭等
A34: 食材明細（食材重量以100人份計量，營養分析以個人計量,其中肉雞包含23%骨頭之採購量，每周供應特餐一次，當日得混搭供應，國中4菜1湯，國小3菜1湯）
A35: 循環 | B35: 主食 | C35: 重/kg | D35: 公斤 | E35: 主菜 | F35: 重/kg | G35: 公斤 | H35: 副菜一 | I35: 重/kg | J35: 公斤 | K35: 副菜二 | L35: 重/kg | M35: 公斤 | N35: 蔬菜 | O35: 重/kg | P35: 公斤 | Q35: 湯品 | R35: 重/kg | S35: 公斤
A36: o1 | B36: 白米飯 | E36: 咖哩絞肉 | H36: 培根甘藍 | K36: 蛋香冬粉 | N36: 時蔬 | P36: =IF(O36,"公斤","") | Q36: 冬瓜湯
B37: 米 | C37: 10 | D37: 公斤 | E37: 豬絞肉 | F37: 6 | G37: =IF(F37,"公斤","") -> 公斤 | H37: 培根 | I37: 1.3 | J37: =IF(I37,"公斤","") -> 公斤 | K37: 雞蛋 | L37: 0.6 | M37: =IF(L37,"公斤","") -> 公斤 | N37: 蔬菜 | O37: 7 | P37: =IF(O37,"公斤","") -> 公斤 | Q37: 冬瓜 | R37: 4 | S37: 公斤
E38: 洋蔥 | F38: 2 | G38: =IF(F38,"公斤","") -> 公斤 | H38: 大蒜 | I38: 0.05 | J38: =IF(I38,"公斤","") -> 公斤 | K38: 冬粉 | L38: 1 | M38: =IF(L38,"公斤","") -> 公斤 | N38: 大蒜 | O38: 0.05 | P38: =IF(O38,"公斤","") -> 公斤 | Q38: 薑 | R38: 0.05 | S38: 公斤
E39: 胡蘿蔔 | F39: 0.5 | G39: =IF(F39,"公斤","") -> 公斤 | H39: 甘藍 | I39: 6.5 | J39: =IF(I39,"公斤","") -> 公斤 | K39: 乾木耳 | L39: 0.1 | M39: =IF(L39,"公斤","") -> 公斤 | P39: =IF(O39,"公斤","") | Q39: 豬大排 | R39: 0.6 | S39: 公斤
E40: 馬鈴薯 | F40: 2.5 | G40: =IF(F40,"公斤","") -> 公斤 | J40: =IF(I40,"公斤","") | K40: 大蒜 | L40: 0.05 | M40: =IF(L40,"公斤","") -> 公斤 | P40: =IF(O40,"公斤","")
E41: 咖哩粉 | G41: =IF(F41,"公斤","") | J41: =IF(I41,"公斤","") | K41: 時蔬 | L41: 3 | M41: =IF(L41,"公斤","") -> 公斤 | P41: =IF(O41,"公斤","")
A42: O2 | B42: 糙米飯 | E42: 紅燒雞翅 | H42: 鮮菇豆腐 | K42: 什錦白菜 | N42: 時蔬 | Q42: 針菇時蔬湯
...

Sheet B案國小葷食
C1: 111 | D1: 學年度 | E1: 國民小學 | F1: 葷食 | G1: 菜單 | H1: 循環 | K1: 馨儂快餐店
A2: 日期 | B2: 星期 | C2: 循環 | D2: 主食 | E2: 主食明細 | F2: 主菜 | G2: 主菜明細 | H2: 副菜一 | I2: 副菜一明細 | J2: 蔬菜 | K2: 蔬菜明細 | L2: 湯品 | M2: 湯品明細 | N2: 附餐 | O2: 穀/份 | P2: 豆/份 | Q2: 蔬/份 | R2: 油/份 | S2: 乳/份 | T2: 果/份 | U2: 熱量
A3: 45047 | B3: 一 | C3: =[1]B案葷食國中!A4 -> o1 | D3: =[1]B案葷食國小!I4 -> 白米飯 | E3: =[1]B案葷食國小!Z4 -> 米 | F3: =[1]B案葷食國小!L4 -> 咖哩絞肉 | G3: =[1]B案葷食國小!AA4 -> 豬絞肉 洋蔥 胡蘿蔔 馬鈴薯 咖哩粉 | H3: =[1]B案葷食國小!O4 -> 培根甘藍 | I3: =[1]B案葷食國小!AB4 -> 培根 大蒜 甘藍 | J3: =[1]B案葷食國小!R4 -> 時蔬 | K3: =[1]B案葷食國小!AC4 -> 蔬菜 大蒜 | L3: =[1]B案葷食國小!U4 -> 冬瓜湯 | M3: =[1]B案葷食國小!AD4 -> 冬瓜 薑 豬大排 | N3: 點心 | O3: =[1]B案葷食國小!B4 -> 5.3 | P3: =[1]B案葷食國小!C4 -> 2.6 | Q3: =[1]B案葷食國小!D4 -> 2.2 | R3: =[1]B案葷食國小!E4 -> 3 | S3: =[1]B案葷食國小!F4 -> 0 | T3: =[1]B案葷食國小!G4 -> 0 | U3: =[1]B案葷食國小!H4 -> 756
A4: =A3+1 -> 45048 | B4: 二 | C4: =[1]B案葷食國中!A10 -> O2 | D4: =[1]B案葷食國小!I10 -> 糙米飯 | E4: =[1]B案葷食國小!Z10 -> 米 糙米 | F4: =[1]B案葷食國小!L10 -> 紅燒雞翅 | G4: =[1]B案葷食國小!AA10 -> 三節翅 滷包 | H4: =[1]B案葷食國小!O10 -> 鮮菇豆腐 | I4: =[1]B案葷食國小!AB10 -> 豆腐 鴻喜菇 乾香菇 大蒜 | J4: =[1]B案葷食國小!R10 -> 時蔬 | K4: =[1]B案葷食國小!AC10 -> 蔬菜 大蒜 | L4: =[1]B案葷食國小!U10 -> 針菇時蔬湯 | M4: =[1]B案葷食國小!AD10 -> 時蔬 金針菇 薑 豬大排 | N4: 點心 | O4: =[1]B案葷食國小!B10 -> 5.5 | P4: =[1]B案葷食國小!C10 -> 2.7 | Q4: =[1]B案葷食國小!D10 -> 1.1 | R4: =[1]B案葷食國小!E10 -> 3 | S4: =[1]B案葷食國小!F10 -> 0 | T4: =[1]B案葷食國小!G10 -> 0 | U4: =[1]B案葷食國小!H10 -> 750
A5: =A4+1 -> 45049 | B5: 三 | C5: =[1]B案葷食國中!A16 -> O3 | D5: =[1]B案葷食國小!I16 -> 刈包特餐 | E5: =[1]B案葷食國小!Z16 -> 刈包 | F5: =[1]B案葷食國小!L16 -> 酸菜肉片 | G5: =[1]B案葷食國小!AA16 -> 豬後腿肉 酸菜 大蒜 | H5: =[1]B案葷食國小!O16 -> 絞肉豆芽 | I5: =[1]B案葷食國小!AB16 -> 豬絞肉 綠豆芽 韮菜 胡蘿蔔 大蒜 | J5: =[1]B案葷食國小!R16 -> 時蔬 | K5: =[1]B案葷食國小!AC16 -> 蔬菜 大蒜 | L5: =[1]B案葷食國小!U16 -> 糙米粥 | M5: =[1]B案葷食國小!AD16 -> 雞蛋 糙米 胡蘿蔔 乾香菇 時瓜 | N5: 點心 | O5: =[1]B案葷食國小!B16 -> 4 | P5: =[1]B案葷食國小!C16 -> 2.4 | Q5: =[1]B案葷食國小!D16 -> 1.9 | R5: =[1]B案葷食國小!E16 -> 3.3 | S5: =[1]B案葷食國小!F16 -> 0 | T5: =[1]B案葷食國小!G16 -> 0 | U5: =[1]B案葷食國小!H16 -> 656
A6: =A5+1 -> 45050 | B6: 四 | C6: =[1]B案葷食國中!A22 -> O4 | D6: =[1]B案葷食國小!I22 -> 糙米飯 | E6: =[1]B案葷食國小!Z22 -> 米 糙米 | F6: =[1]B案葷食國小!L22 -> 香酥魚排 | G6: =[1]B案葷食國小!AA22 -> 魚排 | H6: =[1]B案葷食國小!O22 -> 蜜汁豆干 | I6: =[1]B案葷食國小!AB22 -> 豆干 芝麻(熟) | J6: =[1]B案葷食國小!R22 -> 時蔬 | K6: =[1]B案葷食國小!AC22 -> 蔬菜 大蒜 | L6: =[1]B案葷食國小!U22 -> 芋圓仙草湯 | M6: =[1]B案葷食國小!AD22 -> 仙草凍 二砂糖 芋圓 | N6: 點心 | O6: =[1]B案葷食國小!B22 -> 5.6 | P6: =[1]B案葷食國小!C22 -> 3 | Q6: =[1]B案葷食國小!D22 -> 1.4 | R6: =[1]B案葷食國小!E22 -> 3 | S6: =[1]B案葷食國小!F22 -> 0 | T6: =[1]B案葷食國小!G22 -> 0 | U6: =[1]B案葷食國小!H22 -> 787
A7: =A6+1 -> 45051 | B7: 五 | C7: =[1]B案葷食國中!A28 -> O5 | D7: =[1]B案葷食國小!I28 -> 芝麻飯 | E7: =[1]B案葷食國小!Z28 -> 米 芝麻(熟) | F7: =[1]B案葷食國小!L28 -> 咖哩雞 | G7: =[1]B案葷食國小!AA28 -> 肉雞 洋蔥 胡蘿蔔 馬鈴薯 咖哩粉 | H7: =[1]B案葷食國小!O28 -> 蛋香冬粉 | I7: =[1]B案葷食國小!AB28 -> 雞蛋 冬粉 乾木耳 大蒜 時蔬 | J7: =[1]B案葷食國小!R28 -> 時蔬 | K7: =[1]B案葷食國小!AC28 -> 蔬菜 大蒜 | L7: =[1]B案葷食國小!U28 -> 金針肉絲湯 | M7: =[1]B案葷食國小!AD28 -> 金針菜乾 豬後腿肉 | N7: 點心 | O7: =[1]B案葷食國小!B28 -> 5 | P7: =[1]B案葷食國小!C28 -> 2.2 | Q7: =[1]B案葷食國小!D28 -> 1.8 | R7: =[1]B案葷食國小!E28 -> 3.6 | S7: =[1]B案葷食國小!F28 -> 0 | T7: =[1]B案葷食國小!G28 -> 0 | U7: =[1]B案葷食國小!H28 -> 722
A8: =A7+3 -> 45054 | B8: 一 | C8: =[1]B案葷食國中!A34 -> P1 | D8: =[1]B案葷食國小!I34 -> 白米飯 | E8: =[1]B案葷食國小!Z34 -> 米 | F8: =[1]B案葷食國小!L34 -> 豆瓣魷魚 | G8: =[1]B案葷食國小!AA34 -> 阿根廷魷 時蔬 甜椒 豬後腿肉 豆瓣醬 | H8: =[1]B案葷食國小!O34 -> 麵筋時瓜 | I8: =[1]B案葷食國小!AB34 -> 麵筋 時瓜 乾木耳 大蒜 | J8: =[1]B案葷食國小!R34 -> 時蔬 | K8: =[1]B案葷食國小!AC34 -> 蔬菜 大蒜 | L8: =[1]B案葷食國小!U34 -> 時蔬湯 | M8: =[1]B案葷食國小!AD34 -> 時蔬 薑 豬大排 | N8: 點心 | O8: =[1]B案葷食國小!B34 -> 5 | P8: =[1]B案葷食國小!C34 -> 1.7 | Q8: =[1]B案葷食國小!D34 -> 2.1 | R8: =[1]B案葷食國小!E34 -> 3.2 | S8: =[1]B案葷食國小!F34 -> 0 | T8: =[1]B案葷食國小!G34 -> 0 | U8: =[1]B案葷食國小!H34 -> 674
A9: =A8+1 -> 45055 | B9: 二 | C9: =[1]B案葷食國中!A40 -> P2 | D9: =[1]B案葷食國小!I40 -> 糙米飯 | E9: =[1]B案葷食國小!Z40 -> 米 糙米 | F9: =[1]B案葷食國小!L40 -> 醬瓜絞肉 | G9: =[1]B案葷食國小!AA40 -> 豬絞肉 胡蘿蔔 醃漬花胡瓜 大蒜 | H9: =[1]B案葷食國小!O40 -> 關東煮 | I9: =[1]B案葷食國小!AB40 -> 凍豆腐 甜玉米 黑輪 柴魚片 | J9: =[1]B案葷食國小!R40 -> 時蔬 | K9: =[1]B案葷食國小!AC40 -> 蔬菜 大蒜 | L9: =[1]B案葷食國小!U40 -> 番茄時蔬湯 | M9: =[1]B案葷食國小!AD40 -> 大番茄 時蔬 薑 | N9: 點心 | O9: =[1]B案葷食國小!B40 -> 5.6 | P9: =[1]B案葷食國小!C40 -> 2.5 | Q9: =[1]B案葷食國小!D40 -> 1.3 | R9: =[1]B案葷食國小!E40 -> 3 | S9: =[1]B案葷食國小!F40 -> 0 | T9: =[1]B案葷食國小!G40 -> 0 | U9: =[1]B案葷食國小!H40 -> 747
A10: =A9+1 -> 45056 | B10: 三 | C10: =[1]B案葷食國中!A46 -> P3 | D10: =[1]B案葷食國小!I46 -> 炊粉特餐 | E10: =[1]B案葷食國小!Z46 -> 米粉 | F10: =[1]B案葷食國小!L46 -> 香滷肉排 | G10: =[1]B案葷食國小!AA46 -> 肉排 | H10: =[1]B案葷食國小!O46 -> 炊粉配料 | I10: =[1]B案葷食國小!AB46 -> 豬絞肉 時蔬 胡蘿蔔 大蒜 紅蔥頭 | J10: =[1]B案葷食國小!R46 -> 時蔬 | K10: =[1]B案葷食國小!AC46 -> 蔬菜 大蒜 | L10: =[1]B案葷食國小!U46 -> 大滷湯 | M10: =[1]B案葷食國小!AD46 -> 雞蛋 脆筍 乾木耳 胡蘿蔔 | N10: 點心 | O10: =[1]B案葷食國小!B46 -> 2.5 | P10: =[1]B案葷食國小!C46 -> 2.6 | Q10: =[1]B案葷食國小!D46 -> 1.5 | R10: =[1]B案葷食國小!E46 -> 3.3 | S10: =[1]B案葷食國小!F46 -> 0 | T10: =[1]B案葷食國小!G46 -> 0 | U10: =[1]B案葷食國小!H46 -> 556
A11: =A10+1 -> 45057 | B11: 四 | C11: =[1]B案葷食國中!A52 -> P4 | D11: =[1]B案葷食國小!I52 -> 糙米飯 | E11: =[1]B案葷食國小!Z52 -> 米 糙米 | F11: =[1]B案葷食國小!L52 -> 咖哩雞 | G11: =[1]B案葷食國小!AA52 -> 肉雞 胡蘿蔔 馬鈴薯 洋蔥 咖哩粉 | H11: =[1]B案葷食國小!O52 -> 絞肉白菜 | I11: =[1]B案葷食國小!AB52 -> 豬絞肉 結球白菜 乾香菇 胡蘿蔔 大蒜 | J11: =[1]B案葷食國小!R52 -> 時蔬 | K11: =[1]B案葷食國小!AC52 -> 蔬菜 大蒜 | L11: =[1]B案葷食國小!U52 -> 綠豆甜湯 | M11: =[1]B案葷食國小!AD52 -> 綠豆 二砂糖 | N11: 點心 | O11: =[1]B案葷食國小!B52 -> 7 | P11: =[1]B案葷食國小!C52 -> 2 | Q11: =[1]B案葷食國小!D52 -> 1.5 | R11: =[1]B案葷食國小!E52 -> 3.1 | S11: =[1]B案葷食國小!F52 -> 0 | T11: =[1]B案葷食國小!G52 -> 0 | U11: =[1]B案葷食國小!H52 -> 817
A12: =A11+1 -> 45058 | B12: 五 | C12: =[1]B案葷食國中!A58 -> P5 | D12: =[1]B案葷食國小!I58 -> 燕麥飯 | E12: =[1]B案葷食國小!Z58 -> 米 燕麥 | F12: =[1]B案葷食國小!L58 -> 鹹豬肉片 | G12: =[1]B案葷食國小!AA58 -> 豬後腿肉 洋蔥 大蒜 鹹豬肉粉 青蔥 | H12: =[1]B案葷食國小!O58 -> 豆包甘藍 | I12: =[1]B案葷食國小!AB58 -> 豆包 甘藍 甜椒 大蒜 | J12: =[1]B案葷食國小!R58 -> 時蔬 | K12: =[1]B案葷食國小!AC58 -> 蔬菜 大蒜 | L12: =[1]B案葷食國小!U58 -> 柴魚紫菜湯 | M12: =[1]B案葷食國小!AD58 -> 紫菜 柴魚片 薑 | N12: 點心 | O12: =[1]B案葷食國小!B58 -> 5.2 | P12: =[1]B案葷食國小!C58 -> 2.5 | Q12: =[1]B案葷食國小!D58 -> 1.9 | R12: =[1]B案葷食國小!E58 -> 3.2 | S12: =[1]B案葷食國小!F58 -> 0 | T12: =[1]B案葷食國小!G58 -> 0 | U12: =[1]B案葷食國小!H58 -> 743
A13: =A12+3 -> 45061 | B13: 一 | C13: =[1]B案葷食國中!A64 -> Q1 | D13: =[1]B案葷食國小!I64 -> 白米飯 | E13: =[1]B案葷食國小!Z64 -> 米 | F13: =[1]B案葷食國小!L64 -> 京醬肉絲 | G13: =[1]B案葷食國小!AA64 -> 豬後腿肉 豆薯 大蒜 甜麵醬 | H13: =[1]B案葷食國小!O64 -> 香滷油腐 | I13: =[1]B案葷食國小!AB64 -> 四角油豆腐 脆筍 滷包 大蒜 | J13: =[1]B案葷食國小!R64 -> 時蔬 | K13: =[1]B案葷食國小!AC64 -> 蔬菜 大蒜 | L13: =[1]B案葷食國小!U64 -> 味噌湯 | M13: =[1]B案葷食國小!AD64 -> 乾裙帶菜 味噌 薑 柴魚片 | N13: 點心 | O13: =[1]B案葷食國小!B64 -> 5 | P13: =[1]B案葷食國小!C64 -> 2.8 | Q13: =[1]B案葷食國小!D64 -> 1.3 | R13: =[1]B案葷食國小!E64 -> 2.5 | S13: =[1]B案葷食國小!F64 -> 0 | T13: =[1]B案葷食國小!G64 -> 0 | U13: =[1]B案葷食國小!H64 -> 705
A14: =A13+1 -> 45062 | B14: 二 | C14: =[1]B案葷食國中!A70 -> Q2 | D14: =[1]B案葷食國小!I70 -> 糙米飯 | E14: =[1]B案葷食國小!Z70 -> 米 糙米 | F14: =[1]B案葷食國小!L70 -> 三杯雞丁 | G14: =[1]B案葷食國小!AA70 -> 肉雞 九層塔 薑 甘藍 | H14: =[1]B案葷食國小!O70 -> 蜜汁豆干 | I14: =[1]B案葷食國小!AB70 -> 五香豆干 白芝麻 | J14: =[1]B案葷食國小!R70 -> 時蔬 | K14: =[1]B案葷食國小!AC70 -> 蔬菜 大蒜 | L14: =[1]B案葷食國小!U70 -> 鮮菇排骨湯 | M14: =[1]B案葷食國小!AD70 -> 杏鮑菇 胡蘿蔔 薑 豬大排 | N14: 點心 | O14: =[1]B案葷食國小!B70 -> 5 | P14: =[1]B案葷食國小!C70 -> 2.8 | Q14: =[1]B案葷食國小!D70 -> 1.3 | R14: =[1]B案葷食國小!E70 -> 2.5 | S14: =[1]B案葷食國小!F70 -> 0 | T14: =[1]B案葷食國小!G70 -> 0 | U14: =[1]B案葷食國小!H70 -> 705
A15: =A14+1 -> 45063 | B15: 三 | C15: =[1]B案葷食國中!A76 -> Q3 | D15: =[1]B案葷食國小!I76 -> 油飯特餐 | E15: =[1]B案葷食國小!Z76 -> 米 糯米 | F15: =[1]B案葷食國小!L76 -> 筍干滷肉 | G15: =[1]B案葷食國小!AA76 -> 豬後腿肉 麻竹筍干 大蒜 | H15: =[1]B案葷食國小!O76 -> 油飯配料 | I15: =[1]B案葷食國小!AB76 -> 豬絞肉 乾香菇 紅蔥頭 大蒜 | J15: =[1]B案葷食國小!R76 -> 時蔬 | K15: =[1]B案葷食國小!AC76 -> 蔬菜 大蒜 | L15: =[1]B案葷食國小!U76 -> 四神湯 | M15: =[1]B案葷食國小!AD76 -> 四神 豬大排 | N15: 點心 | O15: =[1]B案葷食國小!B76 -> 6.1 | P15: =[1]B案葷食國小!C76 -> 2.5 | Q15: =[1]B案葷食國小!D76 -> 1 | R15: =[1]B案葷食國小!E76 -> 2.5 | S15: =[1]B案葷食國小!F76 -> 0 | T15: =[1]B案葷食國小!G76 -> 0 | U15: =[1]B案葷食國小!H76 -> 752
A16: =A15+1 -> 45064 | B16: 四 | C16: =[1]B案葷食國中!A82 -> Q4 | D16: =[1]B案葷食國小!I82 -> 糙米飯 | E16: =[1]B案葷食國小!Z82 -> 米 糙米 | F16: =[1]B案葷食國小!L82 -> 梅粉魚排 | G16: =[1]B案葷食國小!AA82 -> 魚排 梅粉 | H16: =[1]B案葷食國小!O82 -> 青椒豆干 | I16: =[1]B案葷食國小!AB82 -> 豆干 甜椒(青皮) 乾木耳 大蒜 | J16: =[1]B案葷食國小!R82 -> 時蔬 | K16: =[1]B案葷食國小!AC82 -> 蔬菜 大蒜 | L16: =[1]B案葷食國小!U82 -> 紅豆湯圓 | M16: =[1]B案葷食國小!AD82 -> 紅豆 小湯圓 二砂糖 | N16: 點心 | O16: =[1]B案葷食國小!B82 -> 6.6 | P16: =[1]B案葷食國小!C82 -> 2.6 | Q16: =[1]B案葷食國小!D82 -> 0.9 | R16: =[1]B案葷食國小!E82 -> 2.5 | S16: =[1]B案葷食國小!F82 -> 0 | T16: =[1]B案葷食國小!G82 -> 0 | U16: =[1]B案葷食國小!H82 -> 792
A17: =A16+1 -> 45065 | B17: 五 | C17: =[1]B案葷食國中!A88 -> Q5 | D17: =[1]B案葷食國小!I88 -> 小米飯 | E17: =[1]B案葷食國小!Z88 -> 米 小米 | F17: =[1]B案葷食國小!L88 -> 蔥燒雞 | G17: =[1]B案葷食國小!AA88 -> 肉雞 洋蔥 胡蘿蔔 大蒜 芝麻(熟) | H17: =[1]B案葷食國小!O88 -> 紅燒豆腐 | I17: =[1]B案葷食國小!AB88 -> 豆腐 乾香菇 大蒜 麻竹筍(桶筍) | J17: =[1]B案葷食國小!R88 -> 時蔬 | K17: =[1]B案葷食國小!AC88 -> 蔬菜 大蒜 | L17: =[1]B案葷食國小!U88 -> 番茄時蔬湯 | M17: =[1]B案葷食國小!AD88 -> 時蔬 大番茄 薑 豬大排 | N17: 點心 | O17: =[1]B案葷食國小!B88 -> 5.2 | P17: =[1]B案葷食國小!C88 -> 2.4 | Q17: =[1]B案葷食國小!D88 -> 1.7 | R17: =[1]B案葷食國小!E88 -> 2 | S17: =[1]B案葷食國小!F88 -> 0 | T17: =[1]B案葷食國小!G88 -> 0 | U17: =[1]B案葷食國小!H88 -> 676.5
A18: =A17+3 -> 45068 | B18: 一 | C18: =[1]B案葷食國中!A94 -> R1 | D18: =[1]B案葷食國小!I94 -> 白米飯 | E18: =[1]B案葷食國小!Z94 -> 米 | F18: =[1]B案葷食國小!L94 -> 時瓜肉丁 | G18: =[1]B案葷食國小!AA94 -> 豬後腿肉 時瓜 大蒜 | H18: =[1]B案葷食國小!O94 -> 培根豆芽 | I18: =[1]B案葷食國小!AB94 -> 豆包 綠豆芽 培根 大蒜 | J18: =[1]B案葷食國小!R94 -> 時蔬 | K18: =[1]B案葷食國小!AC94 -> 蔬菜 大蒜 | L18: =[1]B案葷食國小!U94 -> 鮮菇紫菜湯 | M18: =[1]B案葷食國小!AD94 -> 紫菜 杏鮑菇 薑 柴魚片 | N18: 點心 | O18: =[1]B案葷食國小!B94 -> 5 | P18: =[1]B案葷食國小!C94 -> 2 | Q18: =[1]B案葷食國小!D94 -> 1.9 | R18: =[1]B案葷食國小!E94 -> 2.8 | S18: =[1]B案葷食國小!F94 -> 0 | T18: =[1]B案葷食國小!G94 -> 0 | U18: =[1]B案葷食國小!H94 -> 673.5
A19: =A18+1 -> 45069 | B19: 二 | C19: =[1]B案葷食國中!A100 -> R2 | D19: =[1]B案葷食國小!I100 -> 糙米飯 | E19: =[1]B案葷食國小!Z100 -> 米 糙米 | F19: =[1]B案葷食國小!L100 -> 腿排 | G19: =[1]B案葷食國小!AA100 -> 腿排 | H19: =[1]B案葷食國小!O100 -> 麻婆豆腐 | I19: =[1]B案葷食國小!AB100 -> 豆腐 豬絞肉 冷凍毛豆仁 大蒜 | J19: =[1]B案葷食國小!R100 -> 時蔬 | K19: =[1]B案葷食國小!AC100 -> 蔬菜 大蒜 | L19: =[1]B案葷食國小!U100 -> 魚丸湯 | M19: =[1]B案葷食國小!AD100 -> 時瓜 薑 魚丸 | N19: 點心 | O19: =[1]B案葷食國小!B100 -> 5 | P19: =[1]B案葷食國小!C100 -> 2.8 | Q19: =[1]B案葷食國小!D100 -> 1.1 | R19: =[1]B案葷食國小!E100 -> 2.8 | S19: =[1]B案葷食國小!F100 -> 0 | T19: =[1]B案葷食國小!G100 -> 0 | U19: =[1]B案葷食國小!H100 -> 713.5
A20: =A19+1 -> 45070 | B20: 三 | C20: =[1]B案葷食國中!A106 -> R3 | D20: =[1]B案葷食國小!I106 -> 西式特餐 | E20: =[1]B案葷食國小!Z106 -> 義大利麵 | F20: =[1]B案葷食國小!L106 -> 茄汁肉醬 | G20: =[1]B案葷食國小!AA106 -> 豬絞肉 馬鈴薯 洋蔥 蕃茄醬 | H20: =[1]B案葷食國小!O106 -> 拌麵配料 | I20: =[1]B案葷食國小!AB106 -> 甘藍 火腿丁 乾香菇 | J20: =[1]B案葷食國小!R106 -> 時蔬 | K20: =[1]B案葷食國小!AC106 -> 蔬菜 大蒜 | L20: =[1]B案葷食國小!U106 -> 南瓜濃湯 | M20: =[1]B案葷食國小!AD106 -> 雞蛋 南瓜 玉米濃湯調理包 | N20: 點心 | O20: =[1]B案葷食國小!B106 -> 4 | P20: =[1]B案葷食國小!C106 -> 1.9 | Q20: =[1]B案葷食國小!D106 -> 1.4 | R20: =[1]B案葷食國小!E106 -> 2.5 | S20: =[1]B案葷食國小!F106 -> 0 | T20: =[1]B案葷食國小!G106 -> 0 | U20: =[1]B案葷食國小!H106 -> 570
A21: =A20+1 -> 45071 | B21: 四 | C21: =[1]B案葷食國中!A112 -> R4 | D21: =[1]B案葷食國小!I112 -> 糙米飯 | E21: =[1]B案葷食國小!Z112 -> 米 糙米 | F21: =[1]B案葷食國小!L112 -> 花生肉片 | G21: =[1]B案葷食國小!AA112 -> 豬後腿肉 油花生 麵筋 大蒜 小黃瓜 | H21: =[1]B案葷食國小!O112 -> 海結麵輪 | I21: =[1]B案葷食國小!AB112 -> 乾海帶 麵輪 大蒜 | J21: =[1]B案葷食國小!R112 -> 時蔬 | K21: =[1]B案葷食國小!AC112 -> 蔬菜 大蒜 | L21: =[1]B案葷食國小!U112 -> 銀耳湯 | M21: =[1]B案葷食國小!AD112 -> 乾銀耳 二砂糖 紅棗 枸杞 | N21: 點心 | O21: =[1]B案葷食國小!B112 -> 5 | P21: =[1]B案葷食國小!C112 -> 2.8 | Q21: =[1]B案葷食國小!D112 -> 0.9 | R21: =[1]B案葷食國小!E112 -> 2.5 | S21: =[1]B案葷食國小!F112 -> 0 | T21: =[1]B案葷食國小!G112 -> 0 | U21: =[1]B案葷食國小!H112 -> 695
A22: =A21+1 -> 45072 | B22: 五 | C22: =[1]B案葷食國中!A118 -> R5 | D22: =[1]B案葷食國小!I118 -> 紫米飯 | E22: =[1]B案葷食國小!Z118 -> 米 黑糯米 | F22: =[1]B案葷食國小!L118 -> 蝦仁豆腐 | G22: =[1]B案葷食國小!AA118 -> 小蝦仁 豆腐 大蒜 沙茶醬 | H22: =[1]B案葷食國小!O118 -> 雪菜豆干 | I22: =[1]B案葷食國小!AB118 -> 豆干 油菜 大蒜 | J22: =[1]B案葷食國小!R118 -> 時蔬 | K22: =[1]B案葷食國小!AC118 -> 蔬菜 大蒜 | L22: =[1]B案葷食國小!U118 -> 味噌湯 | M22: =[1]B案葷食國小!AD118 -> 乾裙帶菜 味噌 薑 柴魚片 | N22: 點心 | O22: =[1]B案葷食國小!B118 -> 5.4 | P22: =[1]B案葷食國小!C118 -> 2.7 | Q22: =[1]B案葷食國小!D118 -> 1.6 | R22: =[1]B案葷食國小!E118 -> 2.8 | S22: =[1]B案葷食國小!F118 -> 0 | T22: =[1]B案葷食國小!G118 -> 0 | U22: =[1]B案葷食國小!H118 -> 746.5
A23: =A22+3 -> 45075 | B23: 一 | C23: =[1]B案葷食國中!A124 -> S1 | D23: =[1]B案葷食國小!I124 -> 白米飯 | E23: =[1]B案葷食國小!Z124 -> 米 | F23: =[1]B案葷食國小!L124 -> 打拋豬 | G23: =[1]B案葷食國小!AA124 -> 豬絞肉 九層塔 豆薯 大蒜 大番茄 | H23: =[1]B案葷食國小!O124 -> 小魚豆干 | I23: =[1]B案葷食國小!AB124 -> 小魚乾 豆干 大蒜 | J23: =[1]B案葷食國小!R124 -> 時蔬 | K23: =[1]B案葷食國小!AC124 -> 蔬菜 大蒜 | L23: =[1]B案葷食國小!U124 -> 冬瓜湯 | M23: =[1]B案葷食國小!AD124 -> 冬瓜 薑 豬大排 | N23: 點心 | O23: =[1]B案葷食國小!B124 -> 5 | P23: =[1]B案葷食國小!C124 -> 3.2 | Q23: =[1]B案葷食國小!D124 -> 1.3 | R23: =[1]B案葷食國小!E124 -> 3 | S23: =[1]B案葷食國小!F124 -> 0 | T23: =[1]B案葷食國小!G124 -> 0 | U23: =[1]B案葷食國小!H124 -> 757.5
A24: =A23+1 -> 45076 | B24: 二 | C24: =[1]B案葷食國中!A130 -> S2 | D24: =[1]B案葷食國小!I130 -> 糙米飯 | E24: =[1]B案葷食國小!Z130 -> 米 糙米 | F24: =[1]B案葷食國小!L130 -> 醬瓜雞丁 | G24: =[1]B案葷食國小!AA130 -> 肉雞 醃漬花胡瓜 薑 | H24: =[1]B案葷食國小!O130 -> 茄汁豆腐 | I24: =[1]B案葷食國小!AB130 -> 豆腐 洋蔥 番茄糊 蕃茄醬 大番茄 | J24: =[1]B案葷食國小!R130 -> 時蔬 | K24: =[1]B案葷食國小!AC130 -> 蔬菜 大蒜 | L24: =[1]B案葷食國小!U130 -> 味噌湯 | M24: =[1]B案葷食國小!AD130 -> 乾裙帶菜 味噌 薑 柴魚片 | N24: 點心 | O24: =[1]B案葷食國小!B130 -> 5 | P24: =[1]B案葷食國小!C130 -> 2.8 | Q24: =[1]B案葷食國小!D130 -> 1 | R24: =[1]B案葷食國小!E130 -> 3 | S24: =[1]B案葷食國小!F130 -> 0 | T24: =[1]B案葷食國小!G130 -> 0 | U24: =[1]B案葷食國小!H130 -> 720
A25: =A24+1 -> 45077 | B25: 三 | C25: =[1]B案葷食國中!A136 -> S3 | D25: =[1]B案葷食國小!I136 -> 炊粉特餐 | E25: =[1]B案葷食國小!Z136 -> 米粉 | F25: =[1]B案葷食國小!L136 -> 油蔥肉燥 | G25: =[1]B案葷食國小!AA136 -> 豬絞肉 時蔬 乾香菇 紅蔥頭 大蒜 | H25: =[1]B案葷食國小!O136 -> 肉絲南瓜 | I25: =[1]B案葷食國小!AB136 -> 豬後腿肉 南瓜 薑 | J25: =[1]B案葷食國小!R136 -> 時蔬 | K25: =[1]B案葷食國小!AC136 -> 蔬菜 大蒜 | L25: =[1]B案葷食國小!U136 -> 魩魚羹湯 | M25: =[1]B案葷食國小!AD136 -> 雞蛋 脆筍 時蔬 乾木耳 魩仔魚(加工) | N25: 點心 | O25: =[1]B案葷食國小!B136 -> 3 | P25: =[1]B案葷食國小!C136 -> 2.4 | Q25: =[1]B案葷食國小!D136 -> 1.2 | R25: =[1]B案葷食國小!E136 -> 3 | S25: =[1]B案葷食國小!F136 -> 0 | T25: =[1]B案葷食國小!G136 -> 0 | U25: =[1]B案葷食國小!H136 -> 555
A27: 過敏原警語:「本月產品含有甲殼類、花生、雞蛋、堅果類、芝麻、含麩質之穀物、大豆、魚類、使用亞硫酸鹽類及其相關製品」。
A28: 說明:5月份菜單編排說明如下：
A29: 一、星期二、四的蔬菜為有機蔬菜。
A30: 二、為符合每月第一週吃雞翅，5/2(二)主菜是紅燒雞翅
A31: 三、大骨可能替代為雞骨或肉絲。
A32: 四、點心供應品項如下：小餐包、水果、豆漿、旺仔小饅頭等
A34: 食材明細（食材重量以100人份計量，營養分析以個人計量,其中肉雞包含23%骨頭之採購量，每周供應特餐一次，當日得混搭供應，國中4菜1湯，國小3菜1湯）
A35: 循環 | B35: 主食 | C35: 重/kg | D35: 公斤 | E35: 主菜 | F35: 重/kg | G35: 公斤 | H35: 副菜一 | I35: 重/kg | J35: 公斤 | K35: 蔬菜 | L35: 重/kg | M35: 公斤 | N35: 湯品 | O35: 重/kg | P35: 公斤
A36: O1 | B36: 白米飯 | E36: 咖哩絞肉 | H36: 培根甘藍 | K36: 時蔬 | N36: 冬瓜湯
B37: 米 | C37: 10 | D37: 公斤 | E37: 豬絞肉 | F37: 6 | G37: =IF(F37,"公斤","") -> 公斤 | H37: 培根 | I37: 1.3 | J37: =IF(I37,"公斤","") -> 公斤 | K37: 蔬菜 | L37: 7 | M37: =IF(L37,"公斤","") -> 公斤 | N37: 冬瓜 | O37: 4 | P37: 公斤
E38: 洋蔥 | F38: 2 | G38: =IF(F38,"公斤","") -> 公斤 | H38: 大蒜 | I38: 0.05 | J38: =IF(I38,"公斤","") -> 公斤 | K38: 大蒜 | L38: 0.05 | M38: =IF(L38,"公斤","") -> 公斤 | N38: 薑 | O38: 0.05 | P38: 公斤
E39: 胡蘿蔔 | F39: 0.5 | G39: =IF(F39,"公斤","") -> 公斤 | H39: 甘藍 | I39: 6.5 | J39: =IF(I39,"公斤","") -> 公斤 | M39: =IF(L39,"公斤","") | N39: 豬大排 | O39: 0.6 | P39: 公斤
E40: 馬鈴薯 | F40: 2.5 | G40: =IF(F40,"公斤","") -> 公斤 | J40: =IF(I40,"公斤","") | M40: =IF(L40,"公斤","")
E41: 咖哩粉 | G41: =IF(F41,"公斤","") | J41: =IF(I41,"公斤","") | M41: =IF(L41,"公斤","")
A42: O2 | B42: 糙米飯 | E42: 紅燒雞翅 | H42: 鮮菇豆腐 | K42: 時蔬 | N42: 針菇時蔬湯
...

Sheet B案國中素食
C1: 111 | D1: 學年度 | E1: 國民中學 | F1: 素食 | G1: 菜單 | H1: 循環 | M1: 馨儂快餐店
A2: 日期 | B2: 星期 | C2: 循環 | D2: 主食 | E2: 主食明細 | F2: 主菜 | G2: 主菜明細 | H2: 副菜一 | I2: 副菜一明細 | J2: 副菜二 | K2: 副菜二明細 | L2: 蔬菜 | M2: 蔬菜明細 | N2: 湯品 | O2: 湯品明細 | P2: 附餐 | Q2: 穀/份 | R2: 豆/份 | S2: 蔬/份 | T2: 油/份 | U2: 乳/份 | V2: 果/份 | W2: 熱量
A3: 45047 | B3: 一 | C3: =[1]B案葷食國中!A4 -> o1 | D3: =[1]B案素食國中!I4 -> 白米飯 | E3: =[1]B案素食國中!AB4 -> 米 | F3: =[1]B案素食國中!L4 -> 咖哩麵腸 | G3: =[1]B案素食國中!AC4 -> 麵腸 芹菜 胡蘿蔔 馬鈴薯 咖哩粉 | H3: =[1]B案素食國中!O4 -> 素炒甘藍 | I3: =[1]B案素食國中!AD4 -> 素火腿 薑 甘藍 | J3: =[1]B案素食國中!R4 -> 蛋香冬粉 | K3: =[1]B案素食國中!AE4 -> 雞蛋 冬粉 乾木耳 薑 時蔬 | L3: =[1]B案素食國中!U4 -> 時蔬 | M3: =[1]B案素食國中!AF4 -> 蔬菜 薑 | N3: =[1]B案素食國中!X4 -> 冬瓜湯 | O3: =[1]B案素食國中!AG4 -> 冬瓜 薑 素羊肉 | P3: 點心 | Q3: =[1]B案素食國中!B4 -> 5.9 | R3: =[1]B案素食國中!C4 -> 2.6 | S3: =[1]B案素食國中!D4 -> 2.2 | T3: =[1]B案素食國中!E4 -> 3 | U3: =[1]B案素食國中!F4 -> 0 | V3: =[1]B案素食國中!G4 -> 0 | W3: =[1]B案素食國中!H4 -> 798
A4: =A3+1 -> 45048 | B4: 二 | C4: =[1]B案葷食國中!A10 -> O2 | D4: =[1]B案素食國中!I10 -> 糙米飯 | E4: =[1]B案素食國中!AB10 -> 米 糙米 | F4: =[1]B案素食國中!L10 -> 紅燒豆包 | G4: =[1]B案素食國中!AC10 -> 豆包 滷包 | H4: =[1]B案素食國中!O10 -> 鮮菇豆腐 | I4: =[1]B案素食國中!AD10 -> 豆腐 鴻喜菇 乾香菇 薑 | J4: =[1]B案素食國中!R10 -> 什錦白菜 | K4: =[1]B案素食國中!AE10 -> 冷凍毛豆仁 結球白菜 乾木耳 胡蘿蔔 薑 | L4: =[1]B案素食國中!U10 -> 時蔬 | M4: =[1]B案素食國中!AF10 -> 蔬菜 薑 | N4: =[1]B案素食國中!X10 -> 針菇時蔬湯 | O4: =[1]B案素食國中!AG10 -> 時蔬 金針菇 薑 素羊肉 | P4: 點心 | Q4: =[1]B案素食國中!B10 -> 5.5 | R4: =[1]B案素食國中!C10 -> 2.7 | S4: =[1]B案素食國中!D10 -> 1.7 | T4: =[1]B案素食國中!E10 -> 3 | U4: =[1]B案素食國中!F10 -> 0 | V4: =[1]B案素食國中!G10 -> 0 | W4: =[1]B案素食國中!H10 -> 765
A5: =A4+1 -> 45049 | B5: 三 | C5: =[1]B案葷食國中!A16 -> O3 | D5: =[1]B案素食國中!I16 -> 刈包特餐 | E5: =[1]B案素食國中!AB16 -> 刈包 | F5: =[1]B案素食國中!L16 -> 紅麴素排 | G5: =[1]B案素食國中!AC16 -> 素排 | H5: =[1]B案素食國中!O16 -> 芹香豆芽 | I5: =[1]B案素食國中!AD16 -> 綠豆芽 芹菜 胡蘿蔔 薑 | J5: =[1]B案素食國中!R16 -> 鐵板油腐 | K5: =[1]B案素食國中!AE16 -> 四角油豆腐 脆筍 乾木耳 薑 | L5: =[1]B案素食國中!U16 -> 時蔬 | M5: =[1]B案素食國中!AF16 -> 蔬菜 薑 | N5: =[1]B案素食國中!X16 -> 糙米粥 | O5: =[1]B案素食國中!AG16 -> 雞蛋 糙米 胡蘿蔔 乾香菇 時瓜 | P5: 點心 | Q5: =[1]B案素食國中!B16 -> 4 | R5: =[1]B案素食國中!C16 -> 2.8 | S5: =[1]B案素食國中!D16 -> 2.1 | T5: =[1]B案素食國中!E16 -> 3.3 | U5: =[1]B案素食國中!F16 -> 0 | V5: =[1]B案素食國中!G16 -> 0 | W5: =[1]B案素食國中!H16 -> 691
A6: =A5+1 -> 45050 | B6: 四 | C6: =[1]B案葷食國中!A22 -> O4 | D6: =[1]B案素食國中!I22 -> 糙米飯 | E6: =[1]B案素食國中!AB22 -> 米 糙米 | F6: =[1]B案素食國中!L22 -> 豉香百頁 | G6: =[1]B案素食國中!AC22 -> 百頁豆腐 白蘿蔔 胡蘿蔔 豆豉 薑 | H6: =[1]B案素食國中!O22 -> 蜜汁豆干 | I6: =[1]B案素食國中!AD22 -> 豆干 芝麻(熟) | J6: =[1]B案素食國中!R22 -> 清香時蔬 | K6: =[1]B案素食國中!AE22 -> 素肉 時蔬 胡蘿蔔 薑 | L6: =[1]B案素食國中!U22 -> 時蔬 | M6: =[1]B案素食國中!AF22 -> 蔬菜 薑 | N6: =[1]B案素食國中!X22 -> 芋圓仙草湯 | O6: =[1]B案素食國中!AG22 -> 仙草凍 二砂糖 芋圓 | P6: 點心 | Q6: =[1]B案素食國中!B22 -> 5.7 | R6: =[1]B案素食國中!C22 -> 3 | S6: =[1]B案素食國中!D22 -> 2 | T6: =[1]B案素食國中!E22 -> 3 | U6: =[1]B案素食國中!F22 -> 0 | V6: =[1]B案素食國中!G22 -> 0 | W6: =[1]B案素食國中!H22 -> 809
A7: =A6+1 -> 45051 | B7: 五 | C7: =[1]B案葷食國中!A28 -> O5 | D7: =[1]B案素食國中!I28 -> 芝麻飯 | E7: =[1]B案素食國中!AB28 -> 米 芝麻(熟) | F7: =[1]B案素食國中!L28 -> 海結麵輪 | G7: =[1]B案素食國中!AC28 -> 麵輪 乾海帶 胡蘿蔔 薑 | H7: =[1]B案素食國中!O28 -> 雪菜豆干 | I7: =[1]B案素食國中!AD28 -> 豆干 雪裡蕻 薑 | J7: =[1]B案素食國中!R28 -> 泡菜凍腐 | K7: =[1]B案素食國中!AE28 -> 凍豆腐 韓式泡菜 白菜 薑 | L7: =[1]B案素食國中!U28 -> 時蔬 | M7: =[1]B案素食國中!AF28 -> 蔬菜 薑 | N7: =[1]B案素食國中!X28 -> 金針湯 | O7: =[1]B案素食國中!AG28 -> 金針菜乾 榨菜 薑 素羊肉 | P7: 點心 | Q7: =[1]B案素食國中!B28 -> 5 | R7: =[1]B案素食國中!C28 -> 2.2 | S7: =[1]B案素食國中!D28 -> 2.4 | T7: =[1]B案素食國中!E28 -> 3.6 | U7: =[1]B案素食國中!F28 -> 0 | V7: =[1]B案素食國中!G28 -> 0 | W7: =[1]B案素食國中!H28 -> 737
A8: =A7+3 -> 45054 | B8: 一 | C8: =[1]B案葷食國中!A34 -> P1 | D8: =[1]B案素食國中!I34 -> 白米飯 | E8: =[1]B案素食國中!AB34 -> 米 | F8: =[1]B案素食國中!L34 -> 豆瓣油腐 | G8: =[1]B案素食國中!AC34 -> 四角油豆腐 豆薯 甜椒 豆瓣醬 | H8: =[1]B案素食國中!O34 -> 麵筋時瓜 | I8: =[1]B案素食國中!AD34 -> 麵筋 時瓜 乾木耳 薑 | J8: =[1]B案素食國中!R34 -> 若絲寬粉 | K8: =[1]B案素食國中!AE34 -> 素肉 寬粉 薑 時蔬 乾木耳 | L8: =[1]B案素食國中!U34 -> 時蔬 | M8: =[1]B案素食國中!AF34 -> 蔬菜 薑 | N8: =[1]B案素食國中!X34 -> 時蔬湯 | O8: =[1]B案素食國中!AG34 -> 時蔬 薑 素羊肉 | P8: 點心 | Q8: =[1]B案素食國中!B34 -> 5.5 | R8: =[1]B案素食國中!C34 -> 2.7 | S8: =[1]B案素食國中!D34 -> 2.5 | T8: =[1]B案素食國中!E34 -> 3.2 | U8: =[1]B案素食國中!F34 -> 0 | V8: =[1]B案素食國中!G34 -> 0 | W8: =[1]B案素食國中!H34 -> 794
A9: =A8+1 -> 45055 | B9: 二 | C9: =[1]B案葷食國中!A40 -> P2 | D9: =[1]B案素食國中!I40 -> 糙米飯 | E9: =[1]B案素食國中!AB40 -> 米 糙米 | F9: =[1]B案素食國中!L40 -> 醬瓜干丁 | G9: =[1]B案素食國中!AC40 -> 豆干 胡蘿蔔 醃漬花胡瓜 薑 | H9: =[1]B案素食國中!O40 -> 關東煮 | I9: =[1]B案素食國中!AD40 -> 凍豆腐 甜玉米 素黑輪 杏鮑菇 | J9: =[1]B案素食國中!R40 -> 若絲時蔬 | K9: =[1]B案素食國中!AE40 -> 素肉 時蔬 乾香菇 薑 | L9: =[1]B案素食國中!U40 -> 時蔬 | M9: =[1]B案素食國中!AF40 -> 蔬菜 薑 | N9: =[1]B案素食國中!X40 -> 番茄時蔬湯 | O9: =[1]B案素食國中!AG40 -> 大番茄 時蔬 薑 | P9: 點心 | Q9: =[1]B案素食國中!B40 -> 5.6 | R9: =[1]B案素食國中!C40 -> 2.3 | S9: =[1]B案素食國中!D40 -> 1.9 | T9: =[1]B案素食國中!E40 -> 3 | U9: =[1]B案素食國中!F40 -> 0 | V9: =[1]B案素食國中!G40 -> 0 | W9: =[1]B案素食國中!H40 -> 747
A10: =A9+1 -> 45056 | B10: 三 | C10: =[1]B案葷食國中!A46 -> P3 | D10: =[1]B案素食國中!I46 -> 炊粉特餐 | E10: =[1]B案素食國中!AB46 -> 米粉 | F10: =[1]B案素食國中!L46 -> 椒鹽豆包 | G10: =[1]B案素食國中!AC46 -> 豆包 胡椒鹽 | H10: =[1]B案素食國中!O46 -> 米粉配料 | I10: =[1]B案素食國中!AD46 -> 素香鬆 時蔬 胡蘿蔔 薑 | J10: =[1]B案素食國中!R46 -> 素火腿豆芽 | K10: =[1]B案素食國中!AE46 -> 素火腿 綠豆芽 芹菜 胡蘿蔔 薑 | L10: =[1]B案素食國中!U46 -> 時蔬 | M10: =[1]B案素食國中!AF46 -> 蔬菜 薑 | N10: =[1]B案素食國中!X46 -> 大滷湯 | O10: =[1]B案素食國中!AG46 -> 雞蛋 脆筍 乾木耳 胡蘿蔔 | P10: 點心 | Q10: =[1]B案素食國中!B46 -> 2.5 | R10: =[1]B案素食國中!C46 -> 2.6 | S10: =[1]B案素食國中!D46 -> 2.1 | T10: =[1]B案素食國中!E46 -> 3.3 | U10: =[1]B案素食國中!F46 -> 0 | V10: =[1]B案素食國中!G46 -> 0 | W10: =[1]B案素食國中!H46 -> 571
A11: =A10+1 -> 45057 | B11: 四 | C11: =[1]B案葷食國中!A52 -> P4 | D11: =[1]B案素食國中!I52 -> 糙米飯 | E11: =[1]B案素食國中!AB52 -> 米 糙米 | F11: =[1]B案素食國中!L52 -> 咖哩麵腸 | G11: =[1]B案素食國中!AC52 -> 麵腸 芹菜 胡蘿蔔 馬鈴薯 咖哩粉 | H11: =[1]B案素食國中!O52 -> 麵筋白菜 | I11: =[1]B案素食國中!AD52 -> 麵筋 結球白菜 乾香菇 胡蘿蔔 薑 | J11: =[1]B案素食國中!R52 -> 清炒季豆 | K11: =[1]B案素食國中!AE52 -> 冷凍菜豆(莢) 薑 豆包 | L11: =[1]B案素食國中!U52 -> 時蔬 | M11: =[1]B案素食國中!AF52 -> 蔬菜 薑 | N11: =[1]B案素食國中!X52 -> 綠豆甜湯 | O11: =[1]B案素食國中!AG52 -> 綠豆 二砂糖 | P11: 點心 | Q11: =[1]B案素食國中!B52 -> 6.6 | R11: =[1]B案素食國中!C52 -> 2 | S11: =[1]B案素食國中!D52 -> 1.9 | T11: =[1]B案素食國中!E52 -> 3.1 | U11: =[1]B案素食國中!F52 -> 0 | V11: =[1]B案素食國中!G52 -> 0 | W11: =[1]B案素食國中!H52 -> 799
A12: =A11+1 -> 45058 | B12: 五 | C12: =[1]B案葷食國中!A58 -> P5 | D12: =[1]B案素食國中!I58 -> 燕麥飯 | E12: =[1]B案素食國中!AB58 -> 米 燕麥 | F12: =[1]B案素食國中!L58 -> 芹香百頁 | G12: =[1]B案素食國中!AC58 -> 百頁豆腐 芹菜 薑 | H12: =[1]B案素食國中!O58 -> 豆包甘藍 | I12: =[1]B案素食國中!AD58 -> 豆包 甘藍 甜椒 薑 | J12: =[1]B案素食國中!R58 -> 泰式素丸 | K12: =[1]B案素食國中!AE58 -> 素丸 泰式甜辣醬 | L12: =[1]B案素食國中!U58 -> 時蔬 | M12: =[1]B案素食國中!AF58 -> 蔬菜 薑 | N12: =[1]B案素食國中!X58 -> 紫菜湯 | O12: =[1]B案素食國中!AG58 -> 紫菜 薑 | P12: 點心 | Q12: =[1]B案素食國中!B58 -> 5.3 | R12: =[1]B案素食國中!C58 -> 2.6 | S12: =[1]B案素食國中!D58 -> 1.9 | T12: =[1]B案素食國中!E58 -> 3.3 | U12: =[1]B案素食國中!F58 -> 0 | V12: =[1]B案素食國中!G58 -> 0 | W12: =[1]B案素食國中!H58 -> 762
A13: =A12+3 -> 45061 | B13: 一 | C13: =[1]B案葷食國中!A64 -> Q1 | D13: =[1]B案素食國中!I64 -> 白米飯 | E13: =[1]B案素食國中!AB64 -> 米 | F13: =[1]B案素食國中!L64 -> 京醬麵腸 | G13: =[1]B案素食國中!AC64 -> 麵腸 豆薯 薑 甜麵醬 | H13: =[1]B案素食國中!O64 -> 香滷油腐 | I13: =[1]B案素食國中!AD64 -> 四角油豆腐 脆筍 滷包 薑 | J13: =[1]B案素食國中!R64 -> 絞若時蔬 | K13: =[1]B案素食國中!AE64 -> 素肉 時蔬 胡蘿蔔 薑 | L13: =[1]B案素食國中!U64 -> 時蔬 | M13: =[1]B案素食國中!AF64 -> 蔬菜 薑 | N13: =[1]B案素食國中!X64 -> 味噌湯 | O13: =[1]B案素食國中!AG64 -> 乾裙帶菜 味噌 薑 | P13: 點心 | Q13: =[1]B案素食國中!B64 -> 5 | R13: =[1]B案素食國中!C64 -> 2.5 | S13: =[1]B案素食國中!D64 -> 1.9 | T13: =[1]B案素食國中!E64 -> 3 | U13: =[1]B案素食國中!F64 -> 0 | V13: =[1]B案素食國中!G64 -> 0 | W13: =[1]B案素食國中!H64 -> 720
A14: =A13+1 -> 45062 | B14: 二 | C14: =[1]B案葷食國中!A70 -> Q2 | D14: =[1]B案素食國中!I70 -> 糙米飯 | E14: =[1]B案素食國中!AB70 -> 米 糙米 | F14: =[1]B案素食國中!L70 -> 麻油凍腐 | G14: =[1]B案素食國中!AC70 -> 凍豆腐 麻油 薑 甘藍 枸杞 | H14: =[1]B案素食國中!O70 -> 蜜汁豆干 | I14: =[1]B案素食國中!AD70 -> 豆干 白芝麻 | J14: =[1]B案素食國中!R70 -> 蛋香時蔬 | K14: =[1]B案素食國中!AE70 -> 雞蛋 時蔬 乾木耳 薑 | L14: =[1]B案素食國中!U70 -> 時蔬 | M14: =[1]B案素食國中!AF70 -> 蔬菜 薑 | N14: =[1]B案素食國中!X70 -> 鮮菇湯 | O14: =[1]B案素食國中!AG70 -> 杏鮑菇 胡蘿蔔 薑 素羊肉 | P14: 點心 | Q14: =[1]B案素食國中!B70 -> 5 | R14: =[1]B案素食國中!C70 -> 2 | S14: =[1]B案素食國中!D70 -> 1.8 | T14: =[1]B案素食國中!E70 -> 3 | U14: =[1]B案素食國中!F70 -> 0 | V14: =[1]B案素食國中!G70 -> 0 | W14: =[1]B案素食國中!H70 -> 680
A15: =A14+1 -> 45063 | B15: 三 | C15: =[1]B案葷食國中!A76 -> Q3 | D15: =[1]B案素食國中!I76 -> 油飯特餐 | E15: =[1]B案素食國中!AB76 -> 米 糯米 | F15: =[1]B案素食國中!L76 -> 滷煎蒸炒滑蛋 | G15: =[1]B案素食國中!AC76 -> 蛋 | H15: =[1]B案素食國中!O76 -> 油飯配料 | I15: =[1]B案素食國中!AD76 -> 素香鬆 乾香菇 薑 | J15: =[1]B案素食國中!R76 -> 若絲豆芽 | K15: =[1]B案素食國中!AE76 -> 素肉 綠豆芽 芹菜 薑 | L15: =[1]B案素食國中!U76 -> 時蔬 | M15: =[1]B案素食國中!AF76 -> 蔬菜 薑 | N15: =[1]B案素食國中!X76 -> 四神湯 | O15: =[1]B案素食國中!AG76 -> 四神 素羊肉 | P15: 點心 | Q15: =[1]B案素食國中!B76 -> 6.1 | R15: =[1]B案素食國中!C76 -> 2.5 | S15: =[1]B案素食國中!D76 -> 1.4 | T15: =[1]B案素食國中!E76 -> 3 | U15: =[1]B案素食國中!F76 -> 0 | V15: =[1]B案素食國中!G76 -> 0 | W15: =[1]B案素食國中!H76 -> 784.5
A16: =A15+1 -> 45064 | B16: 四 | C16: =[1]B案葷食國中!A82 -> Q4 | D16: =[1]B案素食國中!I82 -> 糙米飯 | E16: =[1]B案素食國中!AB82 -> 米 糙米 | F16: =[1]B案素食國中!L82 -> 梅粉豆包 | G16: =[1]B案素食國中!AC82 -> 豆包 梅粉 | H16: =[1]B案素食國中!O82 -> 青椒豆干 | I16: =[1]B案素食國中!AD82 -> 豆干 甜椒(青皮) 乾木耳 薑 | J16: =[1]B案素食國中!R82 -> 清炒白菜 | K16: =[1]B案素食國中!AE82 -> 結球白菜 胡蘿蔔 薑 | L16: =[1]B案素食國中!U82 -> 時蔬 | M16: =[1]B案素食國中!AF82 -> 蔬菜 薑 | N16: =[1]B案素食國中!X82 -> 紅豆湯圓 | O16: =[1]B案素食國中!AG82 -> 紅豆 小湯圓 二砂糖 | P16: 點心 | Q16: =[1]B案素食國中!B82 -> 6.6 | R16: =[1]B案素食國中!C82 -> 2.7 | S16: =[1]B案素食國中!D82 -> 1.7 | T16: =[1]B案素食國中!E82 -> 3 | U16: =[1]B案素食國中!F82 -> 0 | V16: =[1]B案素食國中!G82 -> 0 | W16: =[1]B案素食國中!H82 -> 842
A17: =A16+1 -> 45065 | B17: 五 | C17: =[1]B案葷食國中!A88 -> Q5 | D17: =[1]B案素食國中!I88 -> 小米飯 | E17: =[1]B案素食國中!AB88 -> 米 小米 | F17: =[1]B案素食國中!L88 -> 壽喜麵輪 | G17: =[1]B案素食國中!AC88 -> 麵輪 甘藍 甜椒 薑 芝麻(熟) | H17: =[1]B案素食國中!O88 -> 紅燒豆腐 | I17: =[1]B案素食國中!AD88 -> 豆腐 乾香菇 薑 麻竹筍(桶筍) | J17: =[1]B案素食國中!R88 -> 菇拌海帶 | K17: =[1]B案素食國中!AE88 -> 乾裙帶菜 金針菇 薑 | L17: =[1]B案素食國中!U88 -> 時蔬 | M17: =[1]B案素食國中!AF88 -> 蔬菜 薑 | N17: =[1]B案素食國中!X88 -> 番茄時蔬湯 | O17: =[1]B案素食國中!AG88 -> 時蔬 大番茄 薑 素羊肉 | P17: 點心 | Q17: =[1]B案素食國中!B88 -> 5.2 | R17: =[1]B案素食國中!C88 -> 2.5 | S17: =[1]B案素食國中!D88 -> 2.3 | T17: =[1]B案素食國中!E88 -> 3 | U17: =[1]B案素食國中!F88 -> 0 | V17: =[1]B案素食國中!G88 -> 0 | W17: =[1]B案素食國中!H88 -> 744
A18: =A17+3 -> 45068 | B18: 一 | C18: =[1]B案葷食國中!A94 -> R1 | D18: =[1]B案素食國中!I94 -> 白米飯 | E18: =[1]B案素食國中!AB94 -> 米 | F18: =[1]B案素食國中!L94 -> 時瓜油腐 | G18: =[1]B案素食國中!AC94 -> 四角油豆腐 時瓜 薑 | H18: =[1]B案素食國中!O94 -> 豆包豆芽 | I18: =[1]B案素食國中!AD94 -> 豆包 綠豆芽 胡蘿蔔 薑 素火腿 | J18: =[1]B案素食國中!R94 -> 蔬香冬粉 | K18: =[1]B案素食國中!AE94 -> 雞蛋 冬粉 蔬菜 乾木耳 薑 | L18: =[1]B案素食國中!U94 -> 時蔬 | M18: =[1]B案素食國中!AF94 -> 蔬菜 薑 | N18: =[1]B案素食國中!X94 -> 鮮菇紫菜湯 | O18: =[1]B案素食國中!AG94 -> 紫菜 杏鮑菇 薑 | P18: 點心 | Q18: =[1]B案素食國中!B94 -> 5.7 | R18: =[1]B案素食國中!C94 -> 2.5 | S18: =[1]B案素食國中!D94 -> 2.3 | T18: =[1]B案素食國中!E94 -> 3.1 | U18: =[1]B案素食國中!F94 -> 0 | V18: =[1]B案素食國中!G94 -> 0 | W18: =[1]B案素食國中!H94 -> 783.5
A19: =A18+1 -> 45069 | B19: 二 | C19: =[1]B案葷食國中!A100 -> R2 | D19: =[1]B案素食國中!I100 -> 糙米飯 | E19: =[1]B案素食國中!AB100 -> 米 糙米 | F19: =[1]B案素食國中!L100 -> 椒鹽豆包 | G19: =[1]B案素食國中!AC100 -> 豆包 胡椒鹽 | H19: =[1]B案素食國中!O100 -> 麻婆豆腐 | I19: =[1]B案素食國中!AD100 -> 豆腐 素肉 冷凍毛豆仁 薑 | J19: =[1]B案素食國中!R100 -> 紅仁炒蛋 | K19: =[1]B案素食國中!AE100 -> 雞蛋 胡蘿蔔 薑 | L19: =[1]B案素食國中!U100 -> 時蔬 | M19: =[1]B案素食國中!AF100 -> 蔬菜 薑 | N19: =[1]B案素食國中!X100 -> 素丸湯 | O19: =[1]B案素食國中!AG100 -> 時瓜 薑 素丸 | P19: 點心 | Q19: =[1]B案素食國中!B100 -> 5 | R19: =[1]B案素食國中!C100 -> 3.4 | S19: =[1]B案素食國中!D100 -> 1.7 | T19: =[1]B案素食國中!E100 -> 3 | U19: =[1]B案素食國中!F100 -> 0 | V19: =[1]B案素食國中!G100 -> 0 | W19: =[1]B案素食國中!H100 -> 782.5
A20: =A19+1 -> 45070 | B20: 三 | C20: =[1]B案葷食國中!A106 -> R3 | D20: =[1]B案素食國中!I106 -> 西式特餐 | E20: =[1]B案素食國中!AB106 -> 義大利麵 | F20: =[1]B案素食國中!L106 -> 茄汁麵腸 | G20: =[1]B案素食國中!AC106 -> 麵腸 馬鈴薯 芹菜 蕃茄醬 | H20: =[1]B案素食國中!O106 -> 拌麵配料 | I20: =[1]B案素食國中!AD106 -> 甘藍 素火腿丁 乾香菇 | J20: =[1]B案素食國中!R106 -> 小餐包 | K20: =[1]B案素食國中!AE106 -> 小餐包 | L20: =[1]B案素食國中!U106 -> 時蔬 | M20: =[1]B案素食國中!AF106 -> 蔬菜 大蒜 | N20: =[1]B案素食國中!X106 -> 南瓜蛋花湯 | O20: =[1]B案素食國中!AG106 -> 雞蛋 南瓜 薑 | P20: 點心 | Q20: =[1]B案素食國中!B106 -> 5 | R20: =[1]B案素食國中!C106 -> 1.9 | S20: =[1]B案素食國中!D106 -> 1.4 | T20: =[1]B案素食國中!E106 -> 2.7 | U20: =[1]B案素食國中!F106 -> 0 | V20: =[1]B案素食國中!G106 -> 0 | W20: =[1]B案素食國中!H106 -> 649
A21: =A20+1 -> 45071 | B21: 四 | C21: =[1]B案葷食國中!A112 -> R4 | D21: =[1]B案素食國中!I112 -> 糙米飯 | E21: =[1]B案素食國中!AB112 -> 米 糙米 | F21: =[1]B案素食國中!L112 -> 花生麵筋 | G21: =[1]B案素食國中!AC112 -> 麵筋 花生 薑 小黃瓜 | H21: =[1]B案素食國中!O112 -> 滷味雙拼 | I21: =[1]B案素食國中!AD112 -> 乾海帶 鵪鶉蛋 薑 | J21: =[1]B案素食國中!R112 -> 香滷凍腐 | K21: =[1]B案素食國中!AE112 -> 凍豆腐 麻竹筍干 薑 | L21: =[1]B案素食國中!U112 -> 時蔬 | M21: =[1]B案素食國中!AF112 -> 蔬菜 大蒜 | N21: =[1]B案素食國中!X112 -> 銀耳湯 | O21: =[1]B案素食國中!AG112 -> 乾銀耳 二砂糖 紅棗 枸杞 | P21: 點心 | Q21: =[1]B案素食國中!B112 -> 5 | R21: =[1]B案素食國中!C112 -> 3.8 | S21: =[1]B案素食國中!D112 -> 1 | T21: =[1]B案素食國中!E112 -> 2.7 | U21: =[1]B案素食國中!F112 -> 0 | V21: =[1]B案素食國中!G112 -> 0 | W21: =[1]B案素食國中!H112 -> 781.5
A22: =A21+1 -> 45072 | B22: 五 | C22: =[1]B案葷食國中!A118 -> R5 | D22: =[1]B案素食國中!I118 -> 紫米飯 | E22: =[1]B案素食國中!AB118 -> 米 黑糯米 | F22: =[1]B案素食國中!L118 -> 沙茶豆腐 | G22: =[1]B案素食國中!AC118 -> 豆腐 胡蘿蔔 薑 沙茶醬 | H22: =[1]B案素食國中!O118 -> 雪菜豆干 | I22: =[1]B案素食國中!AD118 -> 豆干 雪裡蕻 薑 | J22: =[1]B案素食國中!R118 -> 清炒甘藍 | K22: =[1]B案素食國中!AE118 -> 甘藍 胡蘿蔔 薑 | L22: =[1]B案素食國中!U118 -> 時蔬 | M22: =[1]B案素食國中!AF118 -> 蔬菜 大蒜 | N22: =[1]B案素食國中!X118 -> 味噌湯 | O22: =[1]B案素食國中!AG118 -> 乾裙帶菜 味噌 薑 | P22: 點心 | Q22: =[1]B案素食國中!B118 -> 5.4 | R22: =[1]B案素食國中!C118 -> 2.7 | S22: =[1]B案素食國中!D118 -> 2 | T22: =[1]B案素食國中!E118 -> 3 | U22: =[1]B案素食國中!F118 -> 0 | V22: =[1]B案素食國中!G118 -> 0 | W22: =[1]B案素食國中!H118 -> 765.5
A23: =A22+3 -> 45075 | B23: 一 | C23: =[1]B案葷食國中!A124 -> S1 | D23: =[1]B案素食國中!I124 -> 白米飯 | E23: =[1]B案素食國中!AB124 -> 米 | F23: =[1]B案素食國中!L124 -> 塔香油腐 | G23: =[1]B案素食國中!AC124 -> 四角油豆腐 九層塔 豆薯 薑 杏鮑菇 | H23: =[1]B案素食國中!O124 -> 青椒豆干 | I23: =[1]B案素食國中!AD124 -> 豆干 甜椒(青皮) 薑 | J23: =[1]B案素食國中!R124 -> 時蔬蛋香 | K23: =[1]B案素食國中!AE124 -> 雞蛋 時蔬 胡蘿蔔 | L23: =[1]B案素食國中!U124 -> 時蔬 | M23: =[1]B案素食國中!AF124 -> 蔬菜 大蒜 | N23: =[1]B案素食國中!X124 -> 冬瓜湯 | O23: =[1]B案素食國中!AG124 -> 冬瓜 薑 素羊肉 | P23: 點心 | Q23: =[1]B案素食國中!B124 -> 5 | R23: =[1]B案素食國中!C124 -> 2.1 | S23: =[1]B案素食國中!D124 -> 2.2 | T23: =[1]B案素食國中!E124 -> 3 | U23: =[1]B案素食國中!F124 -> 0 | V23: =[1]B案素食國中!G124 -> 0 | W23: =[1]B案素食國中!H124 -> 697.5
A24: =A23+1 -> 45076 | B24: 二 | C24: =[1]B案葷食國中!A130 -> S2 | D24: =[1]B案素食國中!I130 -> 糙米飯 | E24: =[1]B案素食國中!AB130 -> 米 糙米 | F24: =[1]B案素食國中!L130 -> 紅麴素排 | G24: =[1]B案素食國中!AC130 -> 素排 | H24: =[1]B案素食國中!O130 -> 茄汁豆腐 | I24: =[1]B案素食國中!AD130 -> 豆腐 芹菜 番茄糊 蕃茄醬 大番茄 | J24: =[1]B案素食國中!R130 -> 西滷菜 | K24: =[1]B案素食國中!AE130 -> 素肉 結球白菜 乾香菇 胡蘿蔔 薑 | L24: =[1]B案素食國中!U130 -> 時蔬 | M24: =[1]B案素食國中!AF130 -> 蔬菜 大蒜 | N24: =[1]B案素食國中!X130 -> 味噌湯 | O24: =[1]B案素食國中!AG130 -> 乾裙帶菜 味噌 薑 | P24: 點心 | Q24: =[1]B案素食國中!B130 -> 5 | R24: =[1]B案素食國中!C130 -> 3 | S24: =[1]B案素食國中!D130 -> 1.8 | T24: =[1]B案素食國中!E130 -> 3 | U24: =[1]B案素食國中!F130 -> 0 | V24: =[1]B案素食國中!G130 -> 0 | W24: =[1]B案素食國中!H130 -> 755
A25: =A24+1 -> 45077 | B25: 三 | C25: =[1]B案葷食國中!A136 -> S3 | D25: =[1]B案素食國中!I136 -> 炊粉特餐 | E25: =[1]B案素食國中!AB136 -> 米粉 糙米 | F25: =[1]B案素食國中!L136 -> 炸豆包 | G25: =[1]B案素食國中!AC136 -> 豆包 | H25: =[1]B案素食國中!O136 -> 炊粉配料 | I25: =[1]B案素食國中!AD136 -> 南瓜 芹菜 乾香菇 薑 | J25: =[1]B案素食國中!R136 -> 蜜汁豆干 | K25: =[1]B案素食國中!AE136 -> 豆干 豆薯 醬油 二砂糖 | L25: =[1]B案素食國中!U136 -> 時蔬 | M25: =[1]B案素食國中!AF136 -> 蔬菜 大蒜 | N25: =[1]B案素食國中!X136 -> 素肉羮湯 | O25: =[1]B案素食國中!AG136 -> 雞蛋 脆筍 時蔬 乾木耳 素肉羮 | P25: 點心 | Q25: =[1]B案素食國中!B136 -> 3 | R25: =[1]B案素食國中!C136 -> 2.8 | S25: =[1]B案素食國中!D136 -> 1.3 | T25: =[1]B案素食國中!E136 -> 3 | U25: =[1]B案素食國中!F136 -> 0 | V25: =[1]B案素食國中!G136 -> 0 | W25: =[1]B案素食國中!H136 -> 587.5
A27: 過敏原警語:「本月產品含有花生、雞蛋、堅果類、芝麻、含麩質之穀物、大豆、使用亞硫酸鹽類及其相關製品」。
A28: 說明:5月份菜單編排說明如下：
A29: 一、星期二、四的蔬菜為有機蔬菜。
A30: 二、點心供應品項如下：小餐包、水果、旺仔小饅頭等
A32: 食材明細（食材重量以100人份計量，營養分析以個人計量,其中肉雞包含23%骨頭之採購量，每周供應特餐一次，當日得混搭供應，國中4菜1湯，國小3菜1湯）
A33: 循環 | B33: 主食 | C33: 重/kg | D33: 公斤 | E33: 主菜 | F33: 重/kg | G33: 公斤 | H33: 副菜一 | I33: 重/kg | J33: 公斤 | K33: 副菜二 | L33: 重/kg | M33: 公斤 | N33: 蔬菜 | O33: 重/kg | P33: 公斤 | Q33: 湯品 | R33: 重/kg | S33: 公斤
A34: O1 | B34: 白米飯 | E34: 咖哩麵腸 | H34: 素炒甘藍 | K34: 蛋香冬粉 | N34: 時蔬 | Q34: 冬瓜湯
B35: 米 | C35: 10 | D35: 公斤 | E35: 麵腸 | F35: 7 | G35: 公斤 | H35: 素火腿 | I35: 2 | J35: 公斤 | K35: 雞蛋 | L35: 0.6 | M35: 公斤 | N35: 蔬菜 | O35: 7 | P35: =IF(O35,"公斤","") -> 公斤 | Q35: 冬瓜 | R35: 4 | S35: 公斤
E36: 芹菜 | F36: 2 | G36: 公斤 | H36: 薑 | I36: 0.05 | J36: 公斤 | K36: 冬粉 | L36: 1 | M36: 公斤 | N36: 薑 | O36: 0.05 | P36: =IF(O36,"公斤","") -> 公斤 | Q36: 薑 | R36: 0.05 | S36: 公斤
E37: 胡蘿蔔 | F37: 0.5 | G37: 公斤 | H37: 甘藍 | I37: 6.5 | J37: 公斤 | K37: 乾木耳 | L37: 0.1 | M37: 公斤 | P37: =IF(O37,"公斤","") | Q37: 素羊肉 | R37: 0.6 | S37: 公斤
E38: 馬鈴薯 | F38: 2.5 | G38: 公斤 | K38: 薑 | L38: 0.05 | M38: 公斤 | P38: =IF(O38,"公斤","")
E39: 咖哩粉 | K39: 時蔬 | L39: 3 | M39: 公斤 | P39: =IF(O39,"公斤","")
A40: O2 | B40: 糙米飯 | E40: 紅燒豆包 | H40: 鮮菇豆腐 | K40: 什錦白菜 | N40: 時蔬 | Q40: 針菇時蔬湯
B41: 米 | C41: 9 | D41: 公斤 | E41: 豆包 | F41: 6 | G41: 公斤 | H41: 豆腐 | I41: 4 | J41: 公斤 | K41: 冷凍毛豆仁 | L41: 0.6 | M41: 公斤 | N41: 蔬菜 | O41: 7 | P41: =IF(O41,"公斤","") -> 公斤 | Q41: 時蔬 | R41: 2 | S41: 公斤
B42: 糙米 | C42: 1.5 | D42: 公斤 | E42: 滷包 | H42: 鴻喜菇 | I42: 1 | J42: 公斤 | K42: 結球白菜 | L42: 7 | M42: 公斤 | N42: 薑 | O42: 0.05 | P42: =IF(O42,"公斤","") -> 公斤 | Q42: 金針菇 | R42: 1.5 | S42: 公斤
...

Sheet B案國小素食
C1: 111 | D1: 學年度 | E1: 國民小學 | F1: 素食 | G1: 菜單 | H1: 循環 | K1: 馨儂快餐店
A2: 日期 | B2: 星期 | C2: 循環 | D2: 主食 | E2: 主食明細 | F2: 主菜 | G2: 主菜明細 | H2: 副菜一 | I2: 副菜一明細 | J2: 蔬菜 | K2: 蔬菜明細 | L2: 湯品 | M2: 湯品明細 | N2: 附餐 | O2: 穀/份 | P2: 豆/份 | Q2: 蔬/份 | R2: 油/份 | S2: 乳/份 | T2: 果/份 | U2: 熱量
A3: 45047 | B3: 一 | C3: =[1]B案葷食國中!A4 -> o1 | D3: =[1]B案素食國小!I4 -> 白米飯 | E3: =[1]B案素食國小!Y4 -> 米 | F3: =[1]B案素食國小!L4 -> 咖哩麵腸 | G3: =[1]B案素食國小!Z4 -> 麵腸 芹菜 胡蘿蔔 馬鈴薯 咖哩粉 | H3: =[1]B案素食國小!O4 -> 素炒甘藍 | I3: =[1]B案素食國小!AA4 -> 素火腿 薑 甘藍 | J3: =[1]B案素食國小!R4 -> 時蔬 | K3: =[1]B案素食國小!AB4 -> 蔬菜 薑 | L3: =[1]B案素食國小!U4 -> 冬瓜湯 | M3: =[1]B案素食國小!AC4 -> 冬瓜 薑 素羊肉 | N3: 點心 | O3: =[1]B案素食國小!B4 -> 5.3 | P3: =[1]B案素食國小!C4 -> 2.6 | Q3: =[1]B案素食國小!D4 -> 2.2 | R3: =[1]B案素食國小!E4 -> 3 | S3: =[1]B案素食國小!F4 -> 0 | T3: =[1]B案素食國小!G4 -> 0 | U3: =[1]B案素食國小!H4 -> 756
A4: =A3+1 -> 45048 | B4: 二 | C4: =[1]B案葷食國中!A10 -> O2 | D4: =[1]B案素食國小!I10 -> 糙米飯 | E4: =[1]B案素食國小!Y10 -> 米 糙米 | F4: =[1]B案素食國小!L10 -> 紅燒豆包 | G4: =[1]B案素食國小!Z10 -> 豆包 滷包 | H4: =[1]B案素食國小!O10 -> 鮮菇豆腐 | I4: =[1]B案素食國小!AA10 -> 豆腐 鴻喜菇 乾香菇 薑 | J4: =[1]B案素食國小!R10 -> 時蔬 | K4: =[1]B案素食國小!AB10 -> 蔬菜 薑 | L4: =[1]B案素食國小!U10 -> 針菇時蔬湯 | M4: =[1]B案素食國小!AC10 -> 時蔬 金針菇 薑 素羊肉 | N4: 點心 | O4: =[1]B案素食國小!B10 -> 5.5 | P4: =[1]B案素食國小!C10 -> 2.7 | Q4: =[1]B案素食國小!D10 -> 1.1 | R4: =[1]B案素食國小!E10 -> 3 | S4: =[1]B案素食國小!F10 -> 0 | T4: =[1]B案素食國小!G10 -> 0 | U4: =[1]B案素食國小!H10 -> 750
A5: =A4+1 -> 45049 | B5: 三 | C5: =[1]B案葷食國中!A16 -> O3 | D5: =[1]B案素食國小!I16 -> 刈包特餐 | E5: =[1]B案素食國小!Y16 -> 刈包 | F5: =[1]B案素食國小!L16 -> 紅麴素排 | G5: =[1]B案素食國小!Z16 -> 素排 | H5: =[1]B案素食國小!O16 -> 芹香豆芽 | I5: =[1]B案素食國小!AA16 -> 綠豆芽 芹菜 胡蘿蔔 薑 | J5: =[1]B案素食國小!R16 -> 時蔬 | K5: =[1]B案素食國小!AB16 -> 蔬菜 薑 | L5: =[1]B案素食國小!U16 -> 糙米粥 | M5: =[1]B案素食國小!AC16 -> 雞蛋 糙米 胡蘿蔔 乾香菇 時瓜 | N5: 點心 | O5: =[1]B案素食國小!B16 -> 4 | P5: =[1]B案素食國小!C16 -> 2.4 | Q5: =[1]B案素食國小!D16 -> 1.9 | R5: =[1]B案素食國小!E16 -> 3.3 | S5: =[1]B案素食國小!F16 -> 0 | T5: =[1]B案素食國小!G16 -> 0 | U5: =[1]B案素食國小!H16 -> 656
A6: =A5+1 -> 45050 | B6: 四 | C6: =[1]B案葷食國中!A22 -> O4 | D6: =[1]B案素食國小!I22 -> 糙米飯 | E6: =[1]B案素食國小!Y22 -> 米 糙米 | F6: =[1]B案素食國小!L22 -> 豉香百頁 | G6: =[1]B案素食國小!Z22 -> 百頁豆腐 白蘿蔔 胡蘿蔔 豆豉 薑 | H6: =[1]B案素食國小!O22 -> 蜜汁豆干 | I6: =[1]B案素食國小!AA22 -> 豆干 芝麻(熟) | J6: =[1]B案素食國小!R22 -> 時蔬 | K6: =[1]B案素食國小!AB22 -> 蔬菜 薑 | L6: =[1]B案素食國小!U22 -> 芋圓仙草湯 | M6: =[1]B案素食國小!AC22 -> 仙草凍 二砂糖 芋圓 | N6: 點心 | O6: =[1]B案素食國小!B22 -> 5.6 | P6: =[1]B案素食國小!C22 -> 3 | Q6: =[1]B案素食國小!D22 -> 1.4 | R6: =[1]B案素食國小!E22 -> 3 | S6: =[1]B案素食國小!F22 -> 0 | T6: =[1]B案素食國小!G22 -> 0 | U6: =[1]B案素食國小!H22 -> 787
A7: =A6+1 -> 45051 | B7: 五 | C7: =[1]B案葷食國中!A28 -> O5 | D7: =[1]B案素食國小!I28 -> 芝麻飯 | E7: =[1]B案素食國小!Y28 -> 米 芝麻(熟) | F7: =[1]B案素食國小!L28 -> 海結麵輪 | G7: =[1]B案素食國小!Z28 -> 麵輪 乾海帶 胡蘿蔔 薑 | H7: =[1]B案素食國小!O28 -> 雪菜豆干 | I7: =[1]B案素食國小!AA28 -> 豆干 雪裡蕻 薑 | J7: =[1]B案素食國小!R28 -> 時蔬 | K7: =[1]B案素食國小!AB28 -> 蔬菜 薑 | L7: =[1]B案素食國小!U28 -> 金針湯 | M7: =[1]B案素食國小!AC28 -> 金針菜乾 榨菜 薑 素羊肉 | N7: 點心 | O7: =[1]B案素食國小!B28 -> 5 | P7: =[1]B案素食國小!C28 -> 2.2 | Q7: =[1]B案素食國小!D28 -> 1.8 | R7: =[1]B案素食國小!E28 -> 3.6 | S7: =[1]B案素食國小!F28 -> 0 | T7: =[1]B案素食國小!G28 -> 0 | U7: =[1]B案素食國小!H28 -> 722
A8: =A7+3 -> 45054 | B8: 一 | C8: =[1]B案葷食國中!A34 -> P1 | D8: =[1]B案素食國小!I34 -> 白米飯 | E8: =[1]B案素食國小!Y34 -> 米 | F8: =[1]B案素食國小!L34 -> 豆瓣油腐 | G8: =[1]B案素食國小!Z34 -> 四角油豆腐 豆薯 甜椒 豆瓣醬 | H8: =[1]B案素食國小!O34 -> 麵筋時瓜 | I8: =[1]B案素食國小!AA34 -> 麵筋 時瓜 乾木耳 薑 | J8: =[1]B案素食國小!R34 -> 時蔬 | K8: =[1]B案素食國小!AB34 -> 蔬菜 薑 | L8: =[1]B案素食國小!U34 -> 時蔬湯 | M8: =[1]B案素食國小!AC34 -> 時蔬 薑 素羊肉 | N8: 點心 | O8: =[1]B案素食國小!B34 -> 5 | P8: =[1]B案素食國小!C34 -> 1.7 | Q8: =[1]B案素食國小!D34 -> 2.1 | R8: =[1]B案素食國小!E34 -> 3.2 | S8: =[1]B案素食國小!F34 -> 0 | T8: =[1]B案素食國小!G34 -> 0 | U8: =[1]B案素食國小!H34 -> 674
A9: =A8+1 -> 45055 | B9: 二 | C9: =[1]B案葷食國中!A40 -> P2 | D9: =[1]B案素食國小!I40 -> 糙米飯 | E9: =[1]B案素食國小!Y40 -> 米 糙米 | F9: =[1]B案素食國小!L40 -> 醬瓜干丁 | G9: =[1]B案素食國小!Z40 -> 豆干 胡蘿蔔 醃漬花胡瓜 薑 | H9: =[1]B案素食國小!O40 -> 關東煮 | I9: =[1]B案素食國小!AA40 -> 凍豆腐 甜玉米 素黑輪 杏鮑菇 | J9: =[1]B案素食國小!R40 -> 時蔬 | K9: =[1]B案素食國小!AB40 -> 蔬菜 薑 | L9: =[1]B案素食國小!U40 -> 番茄時蔬湯 | M9: =[1]B案素食國小!AC40 -> 大番茄 時蔬 薑 | N9: 點心 | O9: =[1]B案素食國小!B40 -> 5.6 | P9: =[1]B案素食國小!C40 -> 2.5 | Q9: =[1]B案素食國小!D40 -> 1.3 | R9: =[1]B案素食國小!E40 -> 3 | S9: =[1]B案素食國小!F40 -> 0 | T9: =[1]B案素食國小!G40 -> 0 | U9: =[1]B案素食國小!H40 -> 747
A10: =A9+1 -> 45056 | B10: 三 | C10: =[1]B案葷食國中!A46 -> P3 | D10: =[1]B案素食國小!I46 -> 炊粉特餐 | E10: =[1]B案素食國小!Y46 -> 米粉 | F10: =[1]B案素食國小!L46 -> 椒鹽豆包 | G10: =[1]B案素食國小!Z46 -> 豆包 胡椒鹽 | H10: =[1]B案素食國小!O46 -> 米粉配料 | I10: =[1]B案素食國小!AA46 -> 素香鬆 時蔬 胡蘿蔔 薑 | J10: =[1]B案素食國小!R46 -> 時蔬 | K10: =[1]B案素食國小!AB46 -> 蔬菜 薑 | L10: =[1]B案素食國小!U46 -> 大滷湯 | M10: =[1]B案素食國小!AC46 -> 雞蛋 脆筍 乾木耳 胡蘿蔔 | N10: 點心 | O10: =[1]B案素食國小!B46 -> 2.5 | P10: =[1]B案素食國小!C46 -> 2.6 | Q10: =[1]B案素食國小!D46 -> 1.5 | R10: =[1]B案素食國小!E46 -> 3.3 | S10: =[1]B案素食國小!F46 -> 0 | T10: =[1]B案素食國小!G46 -> 0 | U10: =[1]B案素食國小!H46 -> 556
A11: =A10+1 -> 45057 | B11: 四 | C11: =[1]B案葷食國中!A52 -> P4 | D11: =[1]B案素食國小!I52 -> 糙米飯 | E11: =[1]B案素食國小!Y52 -> 米 糙米 | F11: =[1]B案素食國小!L52 -> 咖哩麵腸 | G11: =[1]B案素食國小!Z52 -> 麵腸 芹菜 胡蘿蔔 馬鈴薯 咖哩粉 | H11: =[1]B案素食國小!O52 -> 麵筋白菜 | I11: =[1]B案素食國小!AA52 -> 麵筋 結球白菜 乾香菇 胡蘿蔔 薑 | J11: =[1]B案素食國小!R52 -> 時蔬 | K11: =[1]B案素食國小!AB52 -> 蔬菜 薑 | L11: =[1]B案素食國小!U52 -> 綠豆甜湯 | M11: =[1]B案素食國小!AC52 -> 綠豆 二砂糖 | N11: 點心 | O11: =[1]B案素食國小!B52 -> 7 | P11: =[1]B案素食國小!C52 -> 2 | Q11: =[1]B案素食國小!D52 -> 1.5 | R11: =[1]B案素食國小!E52 -> 3.1 | S11: =[1]B案素食國小!F52 -> 0 | T11: =[1]B案素食國小!G52 -> 0 | U11: =[1]B案素食國小!H52 -> 817
A12: =A11+1 -> 45058 | B12: 五 | C12: =[1]B案葷食國中!A58 -> P5 | D12: =[1]B案素食國小!I58 -> 燕麥飯 | E12: =[1]B案素食國小!Y58 -> 米 燕麥 | F12: =[1]B案素食國小!L58 -> 芹香百頁 | G12: =[1]B案素食國小!Z58 -> 百頁豆腐 芹菜 薑 | H12: =[1]B案素食國小!O58 -> 豆包甘藍 | I12: =[1]B案素食國小!AA58 -> 豆包 甘藍 甜椒 薑 | J12: =[1]B案素食國小!R58 -> 時蔬 | K12: =[1]B案素食國小!AB58 -> 蔬菜 薑 | L12: =[1]B案素食國小!U58 -> 紫菜湯 | M12: =[1]B案素食國小!AC58 -> 紫菜 薑 | N12: 點心 | O12: =[1]B案素食國小!B58 -> 5.2 | P12: =[1]B案素食國小!C58 -> 2.5 | Q12: =[1]B案素食國小!D58 -> 1.9 | R12: =[1]B案素食國小!E58 -> 3.2 | S12: =[1]B案素食國小!F58 -> 0 | T12: =[1]B案素食國小!G58 -> 0 | U12: =[1]B案素食國小!H58 -> 743
A13: =A12+3 -> 45061 | B13: 一 | C13: =[1]B案葷食國中!A64 -> Q1 | D13: =[1]B案素食國小!I64 -> 白米飯 | E13: =[1]B案素食國小!Y64 -> 米 | F13: =[1]B案素食國小!L64 -> 京醬麵腸 | G13: =[1]B案素食國小!Z64 -> 麵腸 豆薯 薑 甜麵醬 | H13: =[1]B案素食國小!O64 -> 香滷油腐 | I13: =[1]B案素食國小!AA64 -> 四角油豆腐 脆筍 滷包 薑 | J13: =[1]B案素食國小!R64 -> 時蔬 | K13: =[1]B案素食國小!AB64 -> 蔬菜 薑 | L13: =[1]B案素食國小!U64 -> 味噌湯 | M13: =[1]B案素食國小!AC64 -> 乾裙帶菜 味噌 薑 | N13: 點心 | O13: =[1]B案素食國小!B64 -> 5 | P13: =[1]B案素食國小!C64 -> 2 | Q13: =[1]B案素食國小!D64 -> 1.2 | R13: =[1]B案素食國小!E64 -> 2.5 | S13: =[1]B案素食國小!F64 -> 0 | T13: =[1]B案素食國小!G64 -> 0 | U13: =[1]B案素食國小!H64 -> 642.5
A14: =A13+1 -> 45062 | B14: 二 | C14: =[1]B案葷食國中!A70 -> Q2 | D14: =[1]B案素食國小!I70 -> 糙米飯 | E14: =[1]B案素食國小!Y70 -> 米 糙米 | F14: =[1]B案素食國小!L70 -> 麻油凍腐 | G14: =[1]B案素食國小!Z70 -> 凍豆腐 麻油 薑 甘藍 枸杞 | H14: =[1]B案素食國小!O70 -> 蜜汁豆干 | I14: =[1]B案素食國小!AA70 -> 豆干 白芝麻 | J14: =[1]B案素食國小!R70 -> 時蔬 | K14: =[1]B案素食國小!AB70 -> 蔬菜 薑 | L14: =[1]B案素食國小!U70 -> 鮮菇湯 | M14: =[1]B案素食國小!AC70 -> 杏鮑菇 胡蘿蔔 薑 素羊肉 | N14: 點心 | O14: =[1]B案素食國小!B70 -> 5 | P14: =[1]B案素食國小!C70 -> 2.3 | Q14: =[1]B案素食國小!D70 -> 1.3 | R14: =[1]B案素食國小!E70 -> 2.5 | S14: =[1]B案素食國小!F70 -> 0 | T14: =[1]B案素食國小!G70 -> 0 | U14: =[1]B案素食國小!H70 -> 667.5
A15: =A14+1 -> 45063 | B15: 三 | C15: =[1]B案葷食國中!A76 -> Q3 | D15: =[1]B案素食國小!I76 -> 油飯特餐 | E15: =[1]B案素食國小!Y76 -> 米 糯米 | F15: =[1]B案素食國小!L76 -> 滷煎蒸炒滑蛋 | G15: =[1]B案素食國小!Z76 -> 蛋 | H15: =[1]B案素食國小!O76 -> 油飯配料 | I15: =[1]B案素食國小!AA76 -> 素香鬆 乾香菇 薑 | J15: =[1]B案素食國小!R76 -> 時蔬 | K15: =[1]B案素食國小!AB76 -> 蔬菜 薑 | L15: =[1]B案素食國小!U76 -> 四神湯 | M15: =[1]B案素食國小!AC76 -> 四神 素羊肉 | N15: 點心 | O15: =[1]B案素食國小!B76 -> 6.1 | P15: =[1]B案素食國小!C76 -> 2 | Q15: =[1]B案素食國小!D76 -> 0.8 | R15: =[1]B案素食國小!E76 -> 2.5 | S15: =[1]B案素食國小!F76 -> 0 | T15: =[1]B案素食國小!G76 -> 0 | U15: =[1]B案素食國小!H76 -> 709.5
A16: =A15+1 -> 45064 | B16: 四 | C16: =[1]B案葷食國中!A82 -> Q4 | D16: =[1]B案素食國小!I82 -> 糙米飯 | E16: =[1]B案素食國小!Y82 -> 米 糙米 | F16: =[1]B案素食國小!L82 -> 梅粉豆包 | G16: =[1]B案素食國小!Z82 -> 豆包 梅粉 | H16: =[1]B案素食國小!O82 -> 青椒豆干 | I16: =[1]B案素食國小!AA82 -> 豆干 甜椒(青皮) 乾木耳 薑 | J16: =[1]B案素食國小!R82 -> 時蔬 | K16: =[1]B案素食國小!AB82 -> 蔬菜 薑 | L16: =[1]B案素食國小!U82 -> 紅豆湯圓 | M16: =[1]B案素食國小!AC82 -> 紅豆 小湯圓 二砂糖 | N16: 點心 | O16: =[1]B案素食國小!B82 -> 6.6 | P16: =[1]B案素食國小!C82 -> 2.7 | Q16: =[1]B案素食國小!D82 -> 1 | R16: =[1]B案素食國小!E82 -> 2.5 | S16: =[1]B案素食國小!F82 -> 0 | T16: =[1]B案素食國小!G82 -> 0 | U16: =[1]B案素食國小!H82 -> 802
A17: =A16+1 -> 45065 | B17: 五 | C17: =[1]B案葷食國中!A88 -> Q5 | D17: =[1]B案素食國小!I88 -> 小米飯 | E17: =[1]B案素食國小!Y88 -> 米 小米 | F17: =[1]B案素食國小!L88 -> 壽喜麵輪 | G17: =[1]B案素食國小!Z88 -> 麵輪 甘藍 甜椒 薑 芝麻(熟) | H17: =[1]B案素食國小!O88 -> 紅燒豆腐 | I17: =[1]B案素食國小!AA88 -> 豆腐 乾香菇 薑 麻竹筍(桶筍) | J17: =[1]B案素食國小!R88 -> 時蔬 | K17: =[1]B案素食國小!AB88 -> 蔬菜 薑 | L17: =[1]B案素食國小!U88 -> 番茄時蔬湯 | M17: =[1]B案素食國小!AC88 -> 時蔬 大番茄 薑 素羊肉 | N17: 點心 | O17: =[1]B案素食國小!B88 -> 5.2 | P17: =[1]B案素食國小!C88 -> 2.5 | Q17: =[1]B案素食國小!D88 -> 1.9 | R17: =[1]B案素食國小!E88 -> 2.5 | S17: =[1]B案素食國小!F88 -> 0 | T17: =[1]B案素食國小!G88 -> 0 | U17: =[1]B案素食國小!H88 -> 711.5
A18: =A17+3 -> 45068 | B18: 一 | C18: =[1]B案葷食國中!A94 -> R1 | D18: =[1]B案素食國小!I94 -> 白米飯 | E18: =[1]B案素食國小!Y94 -> 米 | F18: =[1]B案素食國小!L94 -> 時瓜油腐 | G18: =[1]B案素食國小!Z94 -> 四角油豆腐 時瓜 薑 | H18: =[1]B案素食國小!O94 -> 豆包豆芽 | I18: =[1]B案素食國小!AA94 -> 豆包 綠豆芽 胡蘿蔔 薑 素火腿 | J18: =[1]B案素食國小!R94 -> 時蔬 | K18: =[1]B案素食國小!AB94 -> 蔬菜 薑 | L18: =[1]B案素食國小!U94 -> 鮮菇紫菜湯 | M18: =[1]B案素食國小!AC94 -> 紫菜 杏鮑菇 薑 | N18: 點心 | O18: =[1]B案素食國小!B94 -> 5 | P18: =[1]B案素食國小!C94 -> 2 | Q18: =[1]B案素食國小!D94 -> 2 | R18: =[1]B案素食國小!E94 -> 2.8 | S18: =[1]B案素食國小!F94 -> 0 | T18: =[1]B案素食國小!G94 -> 0 | U18: =[1]B案素食國小!H94 -> 676
A19: =A18+1 -> 45069 | B19: 二 | C19: =[1]B案葷食國中!A100 -> R2 | D19: =[1]B案素食國小!I100 -> 糙米飯 | E19: =[1]B案素食國小!Y100 -> 米 糙米 | F19: =[1]B案素食國小!L100 -> 椒鹽豆包 | G19: =[1]B案素食國小!Z100 -> 豆包 胡椒鹽 | H19: =[1]B案素食國小!O100 -> 麻婆豆腐 | I19: =[1]B案素食國小!AA100 -> 豆腐 素肉 冷凍毛豆仁 薑 | J19: =[1]B案素食國小!R100 -> 時蔬 | K19: =[1]B案素食國小!AB100 -> 蔬菜 薑 | L19: =[1]B案素食國小!U100 -> 素丸湯 | M19: =[1]B案素食國小!AC100 -> 時瓜 薑 素丸 | N19: 點心 | O19: =[1]B案素食國小!B100 -> 5 | P19: =[1]B案素食國小!C100 -> 3.1 | Q19: =[1]B案素食國小!D100 -> 1.3 | R19: =[1]B案素食國小!E100 -> 2.8 | S19: =[1]B案素食國小!F100 -> 0 | T19: =[1]B案素食國小!G100 -> 0 | U19: =[1]B案素食國小!H100 -> 741
A20: =A19+1 -> 45070 | B20: 三 | C20: =[1]B案葷食國中!A106 -> R3 | D20: =[1]B案素食國小!I106 -> 西式特餐 | E20: =[1]B案素食國小!Y106 -> 義大利麵 | F20: =[1]B案素食國小!L106 -> 茄汁麵腸 | G20: =[1]B案素食國小!Z106 -> 麵腸 馬鈴薯 芹菜 蕃茄醬 | H20: =[1]B案素食國小!O106 -> 拌麵配料 | I20: =[1]B案素食國小!AA106 -> 甘藍 素火腿丁 乾香菇 | J20: =[1]B案素食國小!R106 -> 時蔬 | K20: =[1]B案素食國小!AB106 -> 蔬菜 大蒜 | L20: =[1]B案素食國小!U106 -> 南瓜蛋花湯 | M20: =[1]B案素食國小!AC106 -> 雞蛋 南瓜 薑 | N20: 點心 | O20: =[1]B案素食國小!B106 -> 4 | P20: =[1]B案素食國小!C106 -> 1.9 | Q20: =[1]B案素食國小!D106 -> 1.4 | R20: =[1]B案素食國小!E106 -> 2.8 | S20: =[1]B案素食國小!F106 -> 0 | T20: =[1]B案素食國小!G106 -> 0 | U20: =[1]B案素食國小!H106 -> 583.5
