Workbook

Sheet A案--葷食國中
A1: 要修正正確數值 | J1: 僅需貼上食材明細和重量，"公斤"和下一個分頁循環就會自己跑出來
A2: 111學年度下學期國民中學112年4月份葷食菜單 (A案)
A3: 食材明細（食材重量以100人份計量，營養分析以個人計量,其中肉雞包含23%骨頭之採購量，每周供應特餐一次，當日得混搭供應，國中4菜1湯，國小3菜1湯） | W3: 統整區的檔案，連動到上方循環，後續給教育處的檔案，此處請自行隱藏
A4: 日期 | B4: 循環 | C4: 穀/份 | D4: 豆/份 | E4: 蔬/份 | F4: 油/份 | G4: 乳/份 | H4: 果/份 | I4: 熱量 | J4: 主食 | K4: 重/kg | L4: 主菜 | M4: 重/kg | N4: 副菜一 | O4: 重/kg | P4: 副菜二 | Q4: 重/kg | R4: 蔬菜 | S4: 重/kg | T4: 湯品 | U4: 重/kg | Y4: 主食 | Z4: 主菜 | AA4: 副菜一 | AB4: 副菜二 | AC4: 蔬菜 | AD4: 湯品
A5: 4/6 星期四 | B5: i4 | C5: 5.3 | D5: 2.6 | E5: 2.5 | F5: 3.1 | G5: 0 | H5: 0 | I5: 738 | J5: 糙米飯 | L5: 咖哩絞肉 | N5: 火腿玉菜 | P5: 肉絲季豆 | R5: 時蔬 | T5: 花豆甜湯 | W5: =B5 -> i4 | Y5: =J6&" "&J7&" "&J8&" "&J9&" "&J10 -> 米 糙米 | Z5: =L6&" "&L7&" "&L8&" "&L9&" "&L10 -> 豬絞肉 馬鈴薯 胡蘿蔔 洋蔥 咖哩粉 | AA5: =N6&" "&N7&" "&N8&" "&N9&" "&N10 -> 甘藍 火腿 大蒜 | AB5: =P6&" "&P7&" "&P8&" "&P9&" "&P10 -> 豬後腿肉 冷凍菜豆(莢) 大蒜 | AC5: =R6&" "&R7&" "&R8&" "&R9&" "&R10 -> 蔬菜 大蒜 | AD5: =T6&" "&T7&" "&T8&" "&T9&" "&T10 -> 花豆 二砂糖
J6: 米 | K6: 7 | L6: 豬絞肉 | M6: 6 | N6: 甘藍 | O6: 7 | P6: 豬後腿肉 | Q6: 0.6 | R6: 蔬菜 | S6: 7 | T6: 花豆 | U6: 2
J7: 糙米 | K7: 3 | L7: 馬鈴薯 | M7: 2 | N7: 火腿 | O7: 0.5 | P7: 冷凍菜豆(莢) | Q7: 5 | R7: 大蒜 | S7: 0.05 | T7: 二砂糖 | U7: 1
L8: 胡蘿蔔 | M8: 0.5 | N8: 大蒜 | O8: 0.05 | P8: 大蒜 | Q8: 0.05 | AA8: 6
L9: 洋蔥 | M9: 1
L10: 咖哩粉
A11: 4/7 星期五 | B11: i5 | C11: 5.5 | D11: 2.8 | E11: 1.8 | F11: 3 | G11: 0 | H11: 0 | I11: 763 | J11: 燕麥飯 | L11: 筍干燒肉 | N11: 蛋香豆薯 | P11: 蔬菜佃煮 | R11: 時蔬 | T11: 味噌豆皮湯 | W11: =B11 -> i5 | Y11: =J12&" "&J13&" "&J14&" "&J15&" "&J16 -> 米 燕麥 | Z11: =L12&" "&L13&" "&L14&" "&L15&" "&L16 -> 豬後腿肉 麻竹筍干 大蒜 | AA11: =N12&" "&N13&" "&N14&" "&N15&" "&N16 -> 雞蛋 豆薯 大蒜 胡蘿蔔 | AB11: =P12&" "&P13&" "&P14&" "&P15&" "&P16 -> 白蘿蔔 四角油豆腐 甜玉米 味醂 | AC11: =R12&" "&R13&" "&R14&" "&R15&" "&R16 -> 蔬菜 大蒜 | AD11: =T12&" "&T13&" "&T14&" "&T15&" "&T16 -> 豆皮 味噌 柴魚片
J12: 米 | K12: 10 | L12: 豬後腿肉 | M12: 6 | N12: 雞蛋 | O12: 1.2 | P12: 白蘿蔔 | Q12: 3 | R12: 蔬菜 | S12: 7 | T12: 豆皮 | U12: 0.3
J13: 燕麥 | K13: 0.4 | L13: 麻竹筍干 | M13: 3 | N13: 豆薯 | O13: 5 | P13: 四角油豆腐 | Q13: 3 | R13: 大蒜 | S13: 0.05 | T13: 味噌 | U13: 0.6
L14: 大蒜 | M14: 0.05 | N14: 大蒜 | O14: 0.05 | P14: 甜玉米 | Q14: 3 | T14: 柴魚片 | U14: 0.01 | AA14: 7
N15: 胡蘿蔔 | O15: 0.5 | P15: 味醂 | Q15: 0.01
A17: 4/10 星期一 | B17: j1 | C17: 5.3 | D17: 3.1 | E17: 1.9 | F17: 3.2 | G17: 0 | H17: 0 | I17: 750 | J17: 白米飯 | L17: 茄汁肉絲 | N17: 洋蔥炒蛋 | P17: 絞肉豆芽 | R17: 時蔬 | T17: 金針湯 | W17: =B17 -> j1 | Y17: =J18&" "&J19&" "&J20&" "&J21&" "&J22 -> 米 | Z17: =L18&" "&L19&" "&L20&" "&L21&" "&L22 -> 豬後腿肉 馬鈴薯 大番茄 大蒜 番茄醬 | AA17: =N18&" "&N19&" "&N20&" "&N21&" "&N22 -> 雞蛋 洋蔥 大蒜 | AB17: =P18&" "&P19&" "&P20&" "&P21&" "&P22 -> 綠豆芽 豬絞肉 韮菜 胡蘿蔔 大蒜 | AC17: =R18&" "&R19&" "&R20&" "&R21&" "&R22 -> 蔬菜 大蒜 | AD17: =T18&" "&T19&" "&T20&" "&T21&" "&T22 -> 金針菜乾 大骨 薑 榨菜
J18: 米 | K18: 10 | L18: 豬後腿肉 | M18: 6 | N18: 雞蛋 | O18: 3 | P18: 綠豆芽 | Q18: 5 | R18: 蔬菜 | S18: 7 | T18: 金針菜乾 | U18: 0.1
L19: 馬鈴薯 | M19: 2 | N19: 洋蔥 | O19: 4 | P19: 豬絞肉 | Q19: 1.7 | R19: 大蒜 | S19: 0.05 | T19: 大骨 | U19: 0.6 | AA19: 10
L20: 大番茄 | M20: 1 | N20: 大蒜 | O20: 0.05 | P20: 韮菜 | Q20: 0.5 | T20: 薑 | U20: 0.05
L21: 大蒜 | M21: 0.05 | P21: 胡蘿蔔 | Q21: 0.5 | T21: 榨菜 | U21: 1
L22: 番茄醬 | P22: 大蒜 | Q22: 0.05
A23: 4/11 星期二 | B23: j2 | C23: 5 | D23: 2.7 | E23: 2.3 | F23: 3 | G23: 0 | H23: 0 | I23: 715 | J23: 糙米飯 | L23: 醬瓜燒雞 | N23: 毛豆白菜 | P23: 清炒花椰 | R23: 時蔬 | T23: 海芽蛋花湯 | W23: =B23 -> j2 | Y23: =J24&" "&J25&" "&J26&" "&J27&" "&J28 -> 米 糙米 | Z23: =L24&" "&L25&" "&L26&" "&L27&" "&L28 -> 肉雞 醃漬花胡瓜 大蒜 | AA23: =N24&" "&N25&" "&N26&" "&N27&" "&N28 -> 結球白菜 冷凍毛豆仁 胡蘿蔔 大蒜 | AB23: =P24&" "&P25&" "&P26&" "&P27&" "&P28 -> 冷凍花椰菜 胡蘿蔔 大蒜 | AC23: =R24&" "&R25&" "&R26&" "&R27&" "&R28 -> 蔬菜 大蒜 | AD23: =T24&" "&T25&" "&T26&" "&T27&" "&T28 -> 乾海帶 雞蛋 薑
J24: 米 | K24: 7 | L24: 肉雞 | M24: 9 | N24: 結球白菜 | O24: 6.5 | P24: 冷凍花椰菜 | Q24: 6 | R24: 蔬菜 | S24: 7 | T24: 乾海帶 | U24: 0.1
J25: 糙米 | K25: 3 | L25: 醃漬花胡瓜 | M25: 2 | N25: 冷凍毛豆仁 | O25: 0.5 | P25: 胡蘿蔔 | Q25: 0.5 | R25: 大蒜 | S25: 0.05 | T25: 雞蛋 | U25: 1
L26: 大蒜 | M26: 0.05 | N26: 胡蘿蔔 | O26: 0.5 | P26: 大蒜 | Q26: 0.05 | T26: 薑 | U26: 0.05 | AA26: 11
N27: 大蒜 | O27: 0.05
A29: 4/12 星期三 | B29: j3 | C29: 4 | D29: 3 | E29: 2 | F29: 3 | G29: 0 | H29: 0 | I29: 653 | J29: 刈包特餐 | L29: 香滷肉排 | N29: 酸菜麵腸 | P29: 清炒玉菜 | R29: 時蔬 | T29: 糙米粥 | W29: =B29 -> j3 | Y29: =J30&" "&J31&" "&J32&" "&J33&" "&J34 -> 刈包 | Z29: =L30&" "&L31&" "&L32&" "&L33&" "&L34 -> 肉排 滷包 | AA29: =N30&" "&N31&" "&N32&" "&N33&" "&N34 -> 酸菜 麵腸 大蒜 | AB29: =P30&" "&P31&" "&P32&" "&P33&" "&P34 -> 甘藍 胡蘿蔔 大蒜 | AC29: =R30&" "&R31&" "&R32&" "&R33&" "&R34 -> 蔬菜 大蒜 | AD29: =T30&" "&T31&" "&T32&" "&T33&" "&T34 -> 雞蛋 糙米 胡蘿蔔 乾香菇 時瓜
J30: 刈包 | K30: 4 | L30: 肉排 | M30: 6 | N30: 酸菜 | O30: 3 | P30: 甘藍 | Q30: 7 | R30: 蔬菜 | S30: 7 | T30: 雞蛋 | U30: 1
L31: 滷包 | N31: 麵腸 | O31: 3 | P31: 胡蘿蔔 | Q31: 0.5 | R31: 大蒜 | S31: 0.05 | T31: 糙米 | U31: 4
N32: 大蒜 | O32: 0.05 | P32: 大蒜 | Q32: 0.05 | T32: 胡蘿蔔 | U32: 0.5 | AA32: 12
T33: 乾香菇 | U33: 0.01
T34: 時瓜 | U34: 2
A35: 4/13 星期四 | B35: j4 | C35: 6.4 | D35: 3 | E35: 1.6 | F35: 3 | G35: 0 | H35: 0 | I35: 790 | J35: 糙米飯 | L35: 豆瓣魚丁 | N35: 筍干油腐 | P35: 塔香海茸 | R35: 時蔬 | T35: 仙草甜湯 | W35: =B35 -> j4 | Y35: =J36&" "&J37&" "&J38&" "&J39&" "&J40 -> 米 糙米 | Z35: =L36&" "&L37&" "&L38&" "&L39&" "&L40 -> 鮮魚丁 白蘿蔔 胡蘿蔔 大蒜 豆瓣醬 | AA35: =N36&" "&N37&" "&N38&" "&N39&" "&N40 -> 麻竹筍干 四角油豆腐 大蒜 | AB35: =P36&" "&P37&" "&P38&" "&P39&" "&P40 -> 豬後腿肉 海帶茸 九層塔 大蒜 | AC35: =R36&" "&R37&" "&R38&" "&R39&" "&R40 -> 蔬菜 大蒜 | AD35: =T36&" "&T37&" "&T38&" "&T39&" "&T40 -> 仙草凍 二砂糖
J36: 米 | K36: 7 | L36: 鮮魚丁 | M36: 6.5 | N36: 麻竹筍干 | O36: 2 | P36: 豬後腿肉 | Q36: 0.6 | R36: 蔬菜 | S36: 7 | T36: 仙草凍 | U36: 6
J37: 糙米 | K37: 3 | L37: 白蘿蔔 | M37: 3.5 | N37: 四角油豆腐 | O37: 3 | P37: 海帶茸 | Q37: 2 | R37: 大蒜 | S37: 0.05 | T37: 二砂糖 | U37: 1
L38: 胡蘿蔔 | M38: 0.5 | N38: 大蒜 | O38: 0.05 | P38: 九層塔 | Q38: 0.05 | AA38: 13
L39: 大蒜 | M39: 0.05 | P39: 大蒜 | Q39: 0.05
L40: 豆瓣醬
A41: 4/14 星期五 | B41: j5 | C41: 5 | D41: 3.4 | E41: 2.2 | F41: 3.2 | G41: 0 | H41: 0 | I41: 782 | J41: 芝麻飯 | L41: 泡菜燒肉 | N41: 魚香豆干 | P41: 肉絲時蔬 | R41: 時蔬 | T41: 冬瓜湯 | W41: =B41 -> j5 | Y41: =J42&" "&J43&" "&J44&" "&J45&" "&J46 -> 米 芝麻(熟) | Z41: =L42&" "&L43&" "&L44&" "&L45&" "&L46 -> 豬後腿肉 韓式泡菜 甘藍 大蒜 | AA41: =N42&" "&N43&" "&N44&" "&N45&" "&N46 -> 小魚干 豆干 油花生 大蒜 | AB41: =P42&" "&P43&" "&P44&" "&P45&" "&P46 -> 時蔬 胡蘿蔔 大蒜 豬後腿肉 | AC41: =R42&" "&R43&" "&R44&" "&R45&" "&R46 -> 蔬菜 大蒜 | AD41: =T42&" "&T43&" "&T44&" "&T45&" "&T46 -> 冬瓜 薑 大骨
J42: 米 | K42: 10 | L42: 豬後腿肉 | M42: 6 | N42: 小魚干 | O42: 0.2 | P42: 時蔬 | Q42: 6 | R42: 蔬菜 | S42: 7 | T42: 冬瓜 | U42: 4
...

Sheet A案--葷食國中月總表
B1: 111 | C1: 學年度 | D1: 國民中學 | E1: 葷食 | F1: 菜單 | G1: 循環
A2: 日期 | B2: 循環 | C2: 主食 | D2: 主食明細 | E2: 主菜 | F2: 主菜明細 | G2: 副菜一 | H2: 副菜一明細 | I2: 副菜二 | J2: 副菜二明細 | K2: 蔬菜 | L2: 蔬菜明細 | M2: 湯品 | N2: 湯品明細 | O2: 點心 | P2: 穀/份 | Q2: 豆/份 | R2: 蔬/份 | S2: 油/份 | T2: 乳/份 | U2: 果/份 | V2: 熱量
A3: 4月6日 | B3: ='A案--葷食國中'!B5 -> i4 | C3: ='A案--葷食國中'!J5 -> 糙米飯 | D3: ='A案--葷食國中'!Y5 -> 米 糙米 | E3: ='A案--葷食國中'!L5 -> 咖哩絞肉 | F3: ='A案--葷食國中'!Z5 -> 豬絞肉 馬鈴薯 胡蘿蔔 洋蔥 咖哩粉 | G3: ='A案--葷食國中'!N5 -> 火腿玉菜 | H3: ='A案--葷食國中'!AA5 -> 甘藍 火腿 大蒜 | I3: ='A案--葷食國中'!P5 -> 肉絲季豆 | J3: ='A案--葷食國中'!AB5 -> 豬後腿肉 冷凍菜豆(莢) 大蒜 | K3: ='A案--葷食國中'!R5 -> 時蔬 | L3: ='A案--葷食國中'!AC5 -> 蔬菜 大蒜 | M3: ='A案--葷食國中'!T5 -> 花豆甜湯 | N3: ='A案--葷食國中'!AD5 -> 花豆 二砂糖 | O3: 0 | P3: ='A案--葷食國中'!C5 -> 5.3 | Q3: ='A案--葷食國中'!D5 -> 2.6 | R3: ='A案--葷食國中'!E5 -> 2.5 | S3: ='A案--葷食國中'!F5 -> 3.1 | T3: ='A案--葷食國中'!G5 -> 0 | U3: ='A案--葷食國中'!H5 -> 0 | V3: ='A案--葷食國中'!I5 -> 738
A4: 4月7日 | B4: ='A案--葷食國中'!B11 -> i5 | C4: ='A案--葷食國中'!J11 -> 燕麥飯 | D4: ='A案--葷食國中'!Y11 -> 米 燕麥 | E4: ='A案--葷食國中'!L11 -> 筍干燒肉 | F4: ='A案--葷食國中'!Z11 -> 豬後腿肉 麻竹筍干 大蒜 | G4: ='A案--葷食國中'!N11 -> 蛋香豆薯 | H4: ='A案--葷食國中'!AA11 -> 雞蛋 豆薯 大蒜 胡蘿蔔 | I4: ='A案--葷食國中'!P11 -> 蔬菜佃煮 | J4: ='A案--葷食國中'!AB11 -> 白蘿蔔 四角油豆腐 甜玉米 味醂 | K4: ='A案--葷食國中'!R11 -> 時蔬 | L4: ='A案--葷食國中'!AC11 -> 蔬菜 大蒜 | M4: ='A案--葷食國中'!T11 -> 味噌豆皮湯 | N4: ='A案--葷食國中'!AD11 -> 豆皮 味噌 柴魚片 | O4: 0 | P4: ='A案--葷食國中'!C11 -> 5.5 | Q4: ='A案--葷食國中'!D11 -> 2.8 | R4: ='A案--葷食國中'!E11 -> 1.8 | S4: ='A案--葷食國中'!F11 -> 3 | T4: ='A案--葷食國中'!G11 -> 0 | U4: ='A案--葷食國中'!H11 -> 0 | V4: ='A案--葷食國中'!I11 -> 763
A5: 4月10日 | B5: ='A案--葷食國中'!B17 -> j1 | C5: ='A案--葷食國中'!J17 -> 白米飯 | D5: ='A案--葷食國中'!Y17 -> 米 | E5: ='A案--葷食國中'!L17 -> 茄汁肉絲 | F5: ='A案--葷食國中'!Z17 -> 豬後腿肉 馬鈴薯 大番茄 大蒜 番茄醬 | G5: ='A案--葷食國中'!N17 -> 洋蔥炒蛋 | H5: ='A案--葷食國中'!AA17 -> 雞蛋 洋蔥 大蒜 | I5: ='A案--葷食國中'!P17 -> 絞肉豆芽 | J5: ='A案--葷食國中'!AB17 -> 綠豆芽 豬絞肉 韮菜 胡蘿蔔 大蒜 | K5: ='A案--葷食國中'!R17 -> 時蔬 | L5: ='A案--葷食國中'!AC17 -> 蔬菜 大蒜 | M5: ='A案--葷食國中'!T17 -> 金針湯 | N5: ='A案--葷食國中'!AD17 -> 金針菜乾 大骨 薑 榨菜 | O5: 0 | P5: ='A案--葷食國中'!C17 -> 5.3 | Q5: ='A案--葷食國中'!D17 -> 3.1 | R5: ='A案--葷食國中'!E17 -> 1.9 | S5: ='A案--葷食國中'!F17 -> 3.2 | T5: ='A案--葷食國中'!G17 -> 0 | U5: ='A案--葷食國中'!H17 -> 0 | V5: ='A案--葷食國中'!I17 -> 750
A6: 4月11日 | B6: ='A案--葷食國中'!B23 -> j2 | C6: ='A案--葷食國中'!J23 -> 糙米飯 | D6: ='A案--葷食國中'!Y23 -> 米 糙米 | E6: ='A案--葷食國中'!L23 -> 醬瓜燒雞 | F6: ='A案--葷食國中'!Z23 -> 肉雞 醃漬花胡瓜 大蒜 | G6: ='A案--葷食國中'!N23 -> 毛豆白菜 | H6: ='A案--葷食國中'!AA23 -> 結球白菜 冷凍毛豆仁 胡蘿蔔 大蒜 | I6: ='A案--葷食國中'!P23 -> 清炒花椰 | J6: ='A案--葷食國中'!AB23 -> 冷凍花椰菜 胡蘿蔔 大蒜 | K6: ='A案--葷食國中'!R23 -> 時蔬 | L6: ='A案--葷食國中'!AC23 -> 蔬菜 大蒜 | M6: ='A案--葷食國中'!T23 -> 海芽蛋花湯 | N6: ='A案--葷食國中'!AD23 -> 乾海帶 雞蛋 薑 | O6: 0 | P6: ='A案--葷食國中'!C23 -> 5 | Q6: ='A案--葷食國中'!D23 -> 2.7 | R6: ='A案--葷食國中'!E23 -> 2.3 | S6: ='A案--葷食國中'!F23 -> 3 | T6: ='A案--葷食國中'!G23 -> 0 | U6: ='A案--葷食國中'!H23 -> 0 | V6: ='A案--葷食國中'!I23 -> 715
A7: 4月12日 | B7: ='A案--葷食國中'!B29 -> j3 | C7: ='A案--葷食國中'!J29 -> 刈包特餐 | D7: ='A案--葷食國中'!Y29 -> 刈包 | E7: ='A案--葷食國中'!L29 -> 香滷肉排 | F7: ='A案--葷食國中'!Z29 -> 肉排 滷包 | G7: ='A案--葷食國中'!N29 -> 酸菜麵腸 | H7: ='A案--葷食國中'!AA29 -> 酸菜 麵腸 大蒜 | I7: ='A案--葷食國中'!P29 -> 清炒玉菜 | J7: ='A案--葷食國中'!AB29 -> 甘藍 胡蘿蔔 大蒜 | K7: ='A案--葷食國中'!R29 -> 時蔬 | L7: ='A案--葷食國中'!AC29 -> 蔬菜 大蒜 | M7: ='A案--葷食國中'!T29 -> 糙米粥 | N7: ='A案--葷食國中'!AD29 -> 雞蛋 糙米 胡蘿蔔 乾香菇 時瓜 | O7: 0 | P7: ='A案--葷食國中'!C29 -> 4 | Q7: ='A案--葷食國中'!D29 -> 3 | R7: ='A案--葷食國中'!E29 -> 2 | S7: ='A案--葷食國中'!F29 -> 3 | T7: ='A案--葷食國中'!G29 -> 0 | U7: ='A案--葷食國中'!H29 -> 0 | V7: ='A案--葷食國中'!I29 -> 653
A8: 4月13日 | B8: ='A案--葷食國中'!B35 -> j4 | C8: ='A案--葷食國中'!J35 -> 糙米飯 | D8: ='A案--葷食國中'!Y35 -> 米 糙米 | E8: ='A案--葷食國中'!L35 -> 豆瓣魚丁 | F8: ='A案--葷食國中'!Z35 -> 鮮魚丁 白蘿蔔 胡蘿蔔 大蒜 豆瓣醬 | G8: ='A案--葷食國中'!N35 -> 筍干油腐 | H8: ='A案--葷食國中'!AA35 -> 麻竹筍干 四角油豆腐 大蒜 | I8: ='A案--葷食國中'!P35 -> 塔香海茸 | J8: ='A案--葷食國中'!AB35 -> 豬後腿肉 海帶茸 九層塔 大蒜 | K8: ='A案--葷食國中'!R35 -> 時蔬 | L8: ='A案--葷食國中'!AC35 -> 蔬菜 大蒜 | M8: ='A案--葷食國中'!T35 -> 仙草甜湯 | N8: ='A案--葷食國中'!AD35 -> 仙草凍 二砂糖 | O8: 0 | P8: ='A案--葷食國中'!C35 -> 6.4 | Q8: ='A案--葷食國中'!D35 -> 3 | R8: ='A案--葷食國中'!E35 -> 1.6 | S8: ='A案--葷食國中'!F35 -> 3 | T8: ='A案--葷食國中'!G35 -> 0 | U8: ='A案--葷食國中'!H35 -> 0 | V8: ='A案--葷食國中'!I35 -> 790
A9: 4月14日 | B9: ='A案--葷食國中'!B41 -> j5 | C9: ='A案--葷食國中'!J41 -> 芝麻飯 | D9: ='A案--葷食國中'!Y41 -> 米 芝麻(熟) | E9: ='A案--葷食國中'!L41 -> 泡菜燒肉 | F9: ='A案--葷食國中'!Z41 -> 豬後腿肉 韓式泡菜 甘藍 大蒜 | G9: ='A案--葷食國中'!N41 -> 魚香豆干 | H9: ='A案--葷食國中'!AA41 -> 小魚干 豆干 油花生 大蒜 | I9: ='A案--葷食國中'!P41 -> 肉絲時蔬 | J9: ='A案--葷食國中'!AB41 -> 時蔬 胡蘿蔔 大蒜 豬後腿肉 | K9: ='A案--葷食國中'!R41 -> 時蔬 | L9: ='A案--葷食國中'!AC41 -> 蔬菜 大蒜 | M9: ='A案--葷食國中'!T41 -> 冬瓜湯 | N9: ='A案--葷食國中'!AD41 -> 冬瓜 薑 大骨 | O9: 0 | P9: ='A案--葷食國中'!C41 -> 5 | Q9: ='A案--葷食國中'!D41 -> 3.4 | R9: ='A案--葷食國中'!E41 -> 2.2 | S9: ='A案--葷食國中'!F41 -> 3.2 | T9: ='A案--葷食國中'!G41 -> 0 | U9: ='A案--葷食國中'!H41 -> 0 | V9: ='A案--葷食國中'!I41 -> 782
A10: 4月17日 | B10: ='A案--葷食國中'!B47 -> k1 | C10: ='A案--葷食國中'!J47 -> 白米飯 | D10: ='A案--葷食國中'!Y47 -> 米 | E10: ='A案--葷食國中'!L47 -> 紅燒雞翅 | F10: ='A案--葷食國中'!Z47 -> 三節翅 滷包 | G10: ='A案--葷食國中'!N47 -> 鮮菇豆腐 | H10: ='A案--葷食國中'!AA47 -> 豆腐 金針菇 乾香菇 大蒜 胡蘿蔔 | I10: ='A案--葷食國中'!P47 -> 乾煸季豆 | J10: ='A案--葷食國中'!AB47 -> 豬絞肉 冷凍菜豆(莢) 大蒜 | K10: ='A案--葷食國中'!R47 -> 時蔬 | L10: ='A案--葷食國中'!AC47 -> 蔬菜 大蒜 | M10: ='A案--葷食國中'!T47 -> 味噌湯 | N10: ='A案--葷食國中'!AD47 -> 乾裙帶菜 味噌 薑 柴魚片 | O10: 0 | P10: ='A案--葷食國中'!C47 -> 5 | Q10: ='A案--葷食國中'!D47 -> 3.1 | R10: ='A案--葷食國中'!E47 -> 1.5 | S10: ='A案--葷食國中'!F47 -> 2.3 | T10: ='A案--葷食國中'!G47 -> 0 | U10: ='A案--葷食國中'!H47 -> 0 | V10: ='A案--葷食國中'!I47 -> 723.5
A11: 4月18日 | B11: ='A案--葷食國中'!B53 -> k2 | C11: ='A案--葷食國中'!J53 -> 糙米飯 | D11: ='A案--葷食國中'!Y53 -> 米 糙米 | E11: ='A案--葷食國中'!L53 -> 咖哩鮮魚 | F11: ='A案--葷食國中'!Z53 -> 鮮魚丁 馬鈴薯 洋蔥 胡蘿蔔 咖哩粉 | G11: ='A案--葷食國中'!N53 -> 蛋香刈薯 | H11: ='A案--葷食國中'!AA53 -> 雞蛋 刈薯 大蒜 | I11: ='A案--葷食國中'!P53 -> 回鍋豆干 | J11: ='A案--葷食國中'!AB53 -> 豆干 甘藍 乾木耳 大蒜 | K11: ='A案--葷食國中'!R53 -> 時蔬 | L11: ='A案--葷食國中'!AC53 -> 蔬菜 大蒜 | M11: ='A案--葷食國中'!T53 -> 金針湯 | N11: ='A案--葷食國中'!AD53 -> 金針菜乾 榨菜 薑 大骨 | O11: 0 | P11: ='A案--葷食國中'!C53 -> 5.4 | Q11: ='A案--葷食國中'!D53 -> 2.8 | R11: ='A案--葷食國中'!E53 -> 1.8 | S11: ='A案--葷食國中'!F53 -> 2.3 | T11: ='A案--葷食國中'!G53 -> 0 | U11: ='A案--葷食國中'!H53 -> 0 | V11: ='A案--葷食國中'!I53 -> 736.5
A12: 4月19日 | B12: ='A案--葷食國中'!B59 -> k3 | C12: ='A案--葷食國中'!J59 -> 泰式特餐 | D12: ='A案--葷食國中'!Y59 -> 米 糙米 | E12: ='A案--葷食國中'!L59 -> 打拋豬 | F12: ='A案--葷食國中'!Z59 -> 豬絞肉 洋蔥 打拋醬 魚露 大蒜 | G12: ='A案--葷食國中'!N59 -> 泰式魚丸 | H12: ='A案--葷食國中'!AA59 -> 魚丸 泰式酸辣醬 | I12: ='A案--葷食國中'!P59 -> 蝦醬高麗菜 | J12: ='A案--葷食國中'!AB59 -> 甘藍 泰式蝦醬 大蒜 | K12: ='A案--葷食國中'!R59 -> 時蔬 | L12: ='A案--葷食國中'!AC59 -> 蔬菜 大蒜 | M12: ='A案--葷食國中'!T59 -> 冬蔭功湯 | N12: ='A案--葷食國中'!AD59 -> 秀珍菇 大番茄 大骨 檸檬 香茅 | O12: 0 | P12: ='A案--葷食國中'!C59 -> 5.5 | Q12: ='A案--葷食國中'!D59 -> 2.6 | R12: ='A案--葷食國中'!E59 -> 2.1 | S12: ='A案--葷食國中'!F59 -> 2.4 | T12: ='A案--葷食國中'!G59 -> 0 | U12: ='A案--葷食國中'!H59 -> 0 | V12: ='A案--葷食國中'!I59 -> 740.5
A13: 4月20日 | B13: ='A案--葷食國中'!B65 -> k4 | C13: ='A案--葷食國中'!J65 -> 糙米飯 | D13: ='A案--葷食國中'!Y65 -> 米 糙米 | E13: ='A案--葷食國中'!L65 -> 豆瓣雞丁 | F13: ='A案--葷食國中'!Z65 -> 肉雞 豆薯 胡蘿蔔 大蒜 | G13: ='A案--葷食國中'!N65 -> 肉絲豆芽 | H13: ='A案--葷食國中'!AA65 -> 豬後腿肉 綠豆芽 韮菜 乾木耳 大蒜 | I13: ='A案--葷食國中'!P65 -> 香滷油腐 | J13: ='A案--葷食國中'!AB65 -> 四角油豆腐 麻竹筍干 滷包 大蒜 | K13: ='A案--葷食國中'!R65 -> 時蔬 | L13: ='A案--葷食國中'!AC65 -> 蔬菜 大蒜 | M13: ='A案--葷食國中'!T65 -> 綠豆湯 | N13: ='A案--葷食國中'!AD65 -> 綠豆 二砂糖 | O13: 0 | P13: ='A案--葷食國中'!C65 -> 5.8 | Q13: ='A案--葷食國中'!D65 -> 3 | R13: ='A案--葷食國中'!E65 -> 2 | S13: ='A案--葷食國中'!F65 -> 2.5 | T13: ='A案--葷食國中'!G65 -> 0 | U13: ='A案--葷食國中'!H65 -> 0 | V13: ='A案--葷食國中'!I65 -> 793.5
A14: 4月21日 | B14: ='A案--葷食國中'!B71 -> k5 | C14: ='A案--葷食國中'!J71 -> 紅藜飯 | D14: ='A案--葷食國中'!Y71 -> 米 紅藜 | E14: ='A案--葷食國中'!L71 -> 壽喜燒肉 | F14: ='A案--葷食國中'!Z71 -> 豬後腿肉 結球白菜 胡蘿蔔 大蒜 | G14: ='A案--葷食國中'!N71 -> 紅蔘炒蛋 | H14: ='A案--葷食國中'!AA71 -> 雞蛋 胡蘿蔔 大蒜 | I14: ='A案--葷食國中'!P71 -> 菇拌海帶 | J14: ='A案--葷食國中'!AB71 -> 乾裙帶菜 金針菇 大蒜 | K14: ='A案--葷食國中'!R71 -> 時蔬 | L14: ='A案--葷食國中'!AC71 -> 蔬菜 大蒜 | M14: ='A案--葷食國中'!T71 -> 時瓜湯 | N14: ='A案--葷食國中'!AD71 -> 時瓜 薑 大骨 | O14: 0 | P14: ='A案--葷食國中'!C71 -> 5 | Q14: ='A案--葷食國中'!D71 -> 2.2 | R14: ='A案--葷食國中'!E71 -> 2.3 | S14: ='A案--葷食國中'!F71 -> 2.3 | T14: ='A案--葷食國中'!G71 -> 0 | U14: ='A案--葷食國中'!H71 -> 0 | V14: ='A案--葷食國中'!I71 -> 676
A15: 4月24日 | B15: ='A案--葷食國中'!B77 -> l1 | C15: ='A案--葷食國中'!J77 -> 白米飯 | D15: ='A案--葷食國中'!Y77 -> 米 | E15: ='A案--葷食國中'!L77 -> 花生絞肉 | F15: ='A案--葷食國中'!Z77 -> 豬絞肉 油花生 麵筋 大蒜 胡蘿蔔 | G15: ='A案--葷食國中'!N77 -> 豆包甘藍 | H15: ='A案--葷食國中'!AA77 -> 豆包 甘藍 乾香菇 大蒜 | I15: ='A案--葷食國中'!P77 -> 蔬香冬粉 | J15: ='A案--葷食國中'!AB77 -> 雞蛋 冬粉 蔬菜 乾木耳 大蒜 | K15: ='A案--葷食國中'!R77 -> 時蔬 | L15: ='A案--葷食國中'!AC77 -> 蔬菜 大蒜 | M15: ='A案--葷食國中'!T77 -> 豆漿 | N15: ='A案--葷食國中'!AD77 -> 豆漿 | O15: 0 | P15: ='A案--葷食國中'!C77 -> 5.7 | Q15: ='A案--葷食國中'!D77 -> 2.7 | R15: ='A案--葷食國中'!E77 -> 2 | S15: ='A案--葷食國中'!F77 -> 3 | T15: ='A案--葷食國中'!G77 -> 0 | U15: ='A案--葷食國中'!H77 -> 0 | V15: ='A案--葷食國中'!I77 -> 786.5
A16: 4月25日 | B16: ='A案--葷食國中'!B83 -> l2 | C16: ='A案--葷食國中'!J83 -> 糙米飯 | D16: ='A案--葷食國中'!Y83 -> 米 糙米 | E16: ='A案--葷食國中'!L83 -> 椒鹽魚排 | F16: ='A案--葷食國中'!Z83 -> 魚排 胡椒鹽 | G16: ='A案--葷食國中'!N83 -> 蛋香季豆 | H16: ='A案--葷食國中'!AA83 -> 雞蛋 冷凍菜豆(莢) 胡蘿蔔 大蒜 | I16: ='A案--葷食國中'!P83 -> 麻婆豆腐 | J16: ='A案--葷食國中'!AB83 -> 豆腐 豬絞肉 大蒜 豆瓣醬 胡蘿蔔 | K16: ='A案--葷食國中'!R83 -> 時蔬 | L16: ='A案--葷食國中'!AC83 -> 蔬菜 大蒜 | M16: ='A案--葷食國中'!T83 -> 時蔬湯 | N16: ='A案--葷食國中'!AD83 -> 時蔬 薑 大骨 | O16: 0 | P16: ='A案--葷食國中'!C83 -> 5 | Q16: ='A案--葷食國中'!D83 -> 2.8 | R16: ='A案--葷食國中'!E83 -> 1.5 | S16: ='A案--葷食國中'!F83 -> 3 | T16: ='A案--葷食國中'!G83 -> 0 | U16: ='A案--葷食國中'!H83 -> 0 | V16: ='A案--葷食國中'!I83 -> 732.5
A17: 4月26日 | B17: ='A案--葷食國中'!B89 -> l3 | C17: ='A案--葷食國中'!J89 -> 西式特餐 | D17: ='A案--葷食國中'!Y89 -> 麵條 | E17: ='A案--葷食國中'!L89 -> 茄汁肉醬 | F17: ='A案--葷食國中'!Z89 -> 豬絞肉 馬鈴薯 洋蔥 蕃茄醬 | G17: ='A案--葷食國中'!N89 -> 清炒花椰 | H17: ='A案--葷食國中'!AA89 -> 冷凍花椰菜 胡蘿蔔 大蒜 | I17: ='A案--葷食國中'!P89 -> 熱狗 | J17: ='A案--葷食國中'!AB89 -> 熱狗 | K17: ='A案--葷食國中'!R89 -> 時蔬 | L17: ='A案--葷食國中'!AC89 -> 蔬菜 大蒜 | M17: ='A案--葷食國中'!T89 -> 南瓜濃湯 | N17: ='A案--葷食國中'!AD89 -> 雞蛋 南瓜 毛豆 濃湯調理包 | O17: 0 | P17: ='A案--葷食國中'!C89 -> 5.3 | Q17: ='A案--葷食國中'!D89 -> 2.2 | R17: ='A案--葷食國中'!E89 -> 1.6 | S17: ='A案--葷食國中'!F89 -> 3 | T17: ='A案--葷食國中'!G89 -> 0 | U17: ='A案--葷食國中'!H89 -> 0 | V17: ='A案--葷食國中'!I89 -> 711
A18: 4月27日 | B18: ='A案--葷食國中'!B95 -> l4 | C18: ='A案--葷食國中'!J95 -> 糙米飯 | D18: ='A案--葷食國中'!Y95 -> 米 糙米 | E18: ='A案--葷食國中'!L95 -> 回鍋肉片 | F18: ='A案--葷食國中'!Z95 -> 豬後腿肉 洋蔥 胡蘿蔔 大蒜 | G18: ='A案--葷食國中'!N95 -> 香滷凍腐 | H18: ='A案--葷食國中'!AA95 -> 凍豆腐 白蘿蔔 胡蘿蔔 大蒜 | I18: ='A案--葷食國中'!P95 -> 清炒時蔬 | J18: ='A案--葷食國中'!AB95 -> 時蔬 枸杞 大蒜 | K18: ='A案--葷食國中'!R95 -> 時蔬 | L18: ='A案--葷食國中'!AC95 -> 蔬菜 大蒜 | M18: ='A案--葷食國中'!T95 -> 粉圓甜湯 | N18: ='A案--葷食國中'!AD95 -> 粉圓 二砂糖 | O18: 0 | P18: ='A案--葷食國中'!C95 -> 6 | Q18: ='A案--葷食國中'!D95 -> 2 | R18: ='A案--葷食國中'!E95 -> 2 | S18: ='A案--葷食國中'!F95 -> 3 | T18: ='A案--葷食國中'!G95 -> 0 | U18: ='A案--葷食國中'!H95 -> 0 | V18: ='A案--葷食國中'!I95 -> 755
A19: 4月28日 | B19: ='A案--葷食國中'!B101 -> l5 | C19: ='A案--葷食國中'!J101 -> 小米飯 | D19: ='A案--葷食國中'!Y101 -> 米 小米 | E19: ='A案--葷食國中'!L101 -> 照燒雞 | F19: ='A案--葷食國中'!Z101 -> 肉雞 洋蔥 胡蘿蔔 醬油 二砂糖 | G19: ='A案--葷食國中'!N101 -> 雪菜豆干 | H19: ='A案--葷食國中'!AA101 -> 豆干 雪裡蕻 大蒜 | I19: ='A案--葷食國中'!P101 -> 絞肉甘藍 | J19: ='A案--葷食國中'!AB101 -> 豬絞肉 甘藍 胡蘿蔔 大蒜 | K19: ='A案--葷食國中'!R101 -> 時蔬 | L19: ='A案--葷食國中'!AC101 -> 蔬菜 大蒜 | M19: ='A案--葷食國中'!T101 -> 海芽湯 | N19: ='A案--葷食國中'!AD101 -> 乾裙帶菜 薑 柴魚片 | O19: 0 | P19: ='A案--葷食國中'!C101 -> 5.2 | Q19: ='A案--葷食國中'!D101 -> 3 | R19: ='A案--葷食國中'!E101 -> 2.1 | S19: ='A案--葷食國中'!F101 -> 3 | T19: ='A案--葷食國中'!G101 -> 0 | U19: ='A案--葷食國中'!H101 -> 0 | V19: ='A案--葷食國中'!I101 -> 776.5
B21: 過敏警語:「本月產品含有蛋、芝麻、含麩之穀物、花生、大豆、魚類、亞硫酸鹽類及其相關製品，不適合其過敏體質者食用」

Sheet A案--葷食國小
A1: 要修正正確數值 | J1: 僅需貼上食材明細和重量，"公斤"和下一個分頁循環就會自己跑出來
A2: 111學年度下學期國民小學112年4月份葷食菜單 (A案)
A3: 食材明細（食材重量以100人份計量，營養分析以個人計量,其中肉雞包含23%骨頭之採購量，每周供應特餐一次，當日得混搭供應，國中4菜1湯，國小3菜1湯） | Z3: 統整區的檔案，連動到上方循環，後續給教育處的檔案，此處請自行隱藏
A4: 日期 | B4: 循環 | C4: 穀/份 | D4: 豆/份 | E4: 蔬/份 | F4: 油/份 | G4: 乳/份 | H4: 果/份 | I4: 熱量 | J4: 主食 | K4: 重/kg | L4: 公斤 | M4: 主菜 | N4: 重/kg | O4: 公斤 | P4: 副菜一 | Q4: 重/kg | R4: 公斤 | S4: 蔬菜 | T4: 重/kg | U4: 公斤 | V4: 湯品 | W4: 重/kg | X4: 公斤 | AA4: 主食 | AB4: 主菜 | AC4: 副菜一 | AD4: 蔬菜 | AE4: 湯品
A5: 4/6 星期四 | B5: i4 | C5: 5.5 | D5: 1.8 | E5: 1.6 | F5: 3 | G5: 0 | H5: 0 | I5: 695 | J5: 糙米飯 | M5: 咖哩絞肉 | P5: 火腿玉菜 | S5: 時蔬 | V5: 花豆甜湯 | Z5: =B5 -> i4 | AA5: =J6&" "&J7&" "&J8&" "&J9&" "&J10 -> 米 糙米 | AB5: =M6&" "&M7&" "&M8&" "&M9&" "&M10 -> 豬絞肉 馬鈴薯 胡蘿蔔 洋蔥 咖哩粉 | AC5: =P6&" "&P7&" "&P8&" "&P9&" "&P10 -> 甘藍 火腿 大蒜 | AD5: =S6&" "&S7&" "&S8&" "&S9&" "&S10 -> 蔬菜 大蒜 | AE5: =V6&" "&V7&" "&V8&" "&V9&" "&V10 -> 花豆 二砂糖
J6: 米 | K6: 7 | L6: =IF(K6,"公斤","") -> 公斤 | M6: 豬絞肉 | N6: 6 | O6: =IF(N6,"公斤","") -> 公斤 | P6: 甘藍 | Q6: 7 | R6: =IF(Q6,"公斤","") -> 公斤 | S6: 蔬菜 | T6: 7 | U6: =IF(T6,"公斤","") -> 公斤 | V6: 花豆 | W6: 2 | X6: =IF(W6,"公斤","") -> 公斤
J7: 糙米 | K7: 3 | L7: =IF(K7,"公斤","") -> 公斤 | M7: 馬鈴薯 | N7: 2 | O7: =IF(N7,"公斤","") -> 公斤 | P7: 火腿 | Q7: 0.5 | R7: =IF(Q7,"公斤","") -> 公斤 | S7: 大蒜 | T7: 0.05 | U7: =IF(T7,"公斤","") -> 公斤 | V7: 二砂糖 | W7: 1 | X7: =IF(W7,"公斤","") -> 公斤 | AC7: 6
L8: =IF(K8,"公斤","") | M8: 胡蘿蔔 | N8: 0.5 | O8: =IF(N8,"公斤","") -> 公斤 | P8: 大蒜 | Q8: 0.05 | R8: =IF(Q8,"公斤","") -> 公斤 | U8: =IF(T8,"公斤","") | X8: =IF(W8,"公斤","")
L9: =IF(K9,"公斤","") | M9: 洋蔥 | N9: 1 | O9: =IF(N9,"公斤","") -> 公斤 | R9: =IF(Q9,"公斤","") | U9: =IF(T9,"公斤","") | X9: =IF(W9,"公斤","")
L10: =IF(K10,"公斤","") | M10: 咖哩粉 | O10: =IF(N10,"公斤","") | R10: =IF(Q10,"公斤","") | U10: =IF(T10,"公斤","") | X10: =IF(W10,"公斤","")
A11: 4/7 星期五 | B11: i5 | C11: 5.2 | D11: 2.1 | E11: 1.6 | F11: 3 | G11: 0 | H11: 0 | I11: 697 | J11: 燕麥飯 | M11: 筍干燒肉 | P11: 蛋香豆薯 | S11: 時蔬 | V11: 味噌豆皮湯 | Z11: =B11 -> i5 | AA11: =J12&" "&J13&" "&J14&" "&J15&" "&J16 -> 米 燕麥 | AB11: =M12&" "&M13&" "&M14&" "&M15&" "&M16 -> 豬後腿肉 麻竹筍干 大蒜 | AC11: =P12&" "&P13&" "&P14&" "&P15&" "&P16 -> 雞蛋 豆薯 大蒜 胡蘿蔔 | AD11: =S12&" "&S13&" "&S14&" "&S15&" "&S16 -> 蔬菜 大蒜 | AE11: =V12&" "&V13&" "&V14&" "&V15&" "&V16 -> 豆皮 味噌 柴魚片
J12: 米 | K12: 10 | L12: =IF(K12,"公斤","") -> 公斤 | M12: 豬後腿肉 | N12: 6 | O12: =IF(N12,"公斤","") -> 公斤 | P12: 雞蛋 | Q12: 1.2 | R12: =IF(Q12,"公斤","") -> 公斤 | S12: 蔬菜 | T12: 7 | U12: =IF(T12,"公斤","") -> 公斤 | V12: 豆皮 | W12: 0.3 | X12: =IF(W12,"公斤","") -> 公斤
J13: 燕麥 | K13: 0.4 | L13: =IF(K13,"公斤","") -> 公斤 | M13: 麻竹筍干 | N13: 3 | O13: =IF(N13,"公斤","") -> 公斤 | P13: 豆薯 | Q13: 5 | R13: =IF(Q13,"公斤","") -> 公斤 | S13: 大蒜 | T13: 0.05 | U13: =IF(T13,"公斤","") -> 公斤 | V13: 味噌 | W13: 0.6 | X13: =IF(W13,"公斤","") -> 公斤 | AC13: 7
L14: =IF(K14,"公斤","") | M14: 大蒜 | N14: 0.05 | O14: =IF(N14,"公斤","") -> 公斤 | P14: 大蒜 | Q14: 0.05 | R14: =IF(Q14,"公斤","") -> 公斤 | U14: =IF(T14,"公斤","") | V14: 柴魚片 | W14: 0.01 | X14: =IF(W14,"公斤","") -> 公斤
L15: =IF(K15,"公斤","") | O15: =IF(N15,"公斤","") | P15: 胡蘿蔔 | Q15: 0.5 | R15: =IF(Q15,"公斤","") -> 公斤 | U15: =IF(T15,"公斤","") | X15: =IF(W15,"公斤","")
L16: =IF(K16,"公斤","") | O16: =IF(N16,"公斤","") | R16: =IF(Q16,"公斤","") | U16: =IF(T16,"公斤","") | X16: =IF(W16,"公斤","")
A17: 4/10 星期一 | B17: j1 | C17: 5.2 | D17: 2.4 | E17: 2.1 | F17: 3.2 | G17: 0 | H17: 0 | I17: 732 | J17: 白米飯 | M17: 茄汁肉絲 | P17: 洋蔥炒蛋 | S17: 時蔬 | V17: 金針湯 | Z17: =B17 -> j1 | AA17: =J18&" "&J19&" "&J20&" "&J21&" "&J22 -> 米 | AB17: =M18&" "&M19&" "&M20&" "&M21&" "&M22 -> 豬後腿肉 馬鈴薯 大番茄 大蒜 番茄醬 | AC17: =P18&" "&P19&" "&P20&" "&P21&" "&P22 -> 雞蛋 洋蔥 大蒜 | AD17: =S18&" "&S19&" "&S20&" "&S21&" "&S22 -> 蔬菜 大蒜 | AE17: =V18&" "&V19&" "&V20&" "&V21&" "&V22 -> 金針菜乾 大骨 薑 榨菜
J18: 米 | K18: 10 | L18: =IF(K18,"公斤","") -> 公斤 | M18: 豬後腿肉 | N18: 6 | O18: =IF(N18,"公斤","") -> 公斤 | P18: 雞蛋 | Q18: 3 | R18: =IF(Q18,"公斤","") -> 公斤 | S18: 蔬菜 | T18: 7 | U18: =IF(T18,"公斤","") -> 公斤 | V18: 金針菜乾 | W18: 0.1 | X18: =IF(W18,"公斤","") -> 公斤
L19: =IF(K19,"公斤","") | M19: 馬鈴薯 | N19: 2 | O19: =IF(N19,"公斤","") -> 公斤 | P19: 洋蔥 | Q19: 4 | R19: =IF(Q19,"公斤","") -> 公斤 | S19: 大蒜 | T19: 0.05 | U19: =IF(T19,"公斤","") -> 公斤 | V19: 大骨 | W19: 0.6 | X19: =IF(W19,"公斤","") -> 公斤
L20: =IF(K20,"公斤","") | M20: 大番茄 | N20: 1 | O20: =IF(N20,"公斤","") -> 公斤 | P20: 大蒜 | Q20: 0.05 | R20: =IF(Q20,"公斤","") -> 公斤 | U20: =IF(T20,"公斤","") | V20: 薑 | W20: 0.05 | X20: =IF(W20,"公斤","") -> 公斤 | AC20: 10
L21: =IF(K21,"公斤","") | M21: 大蒜 | N21: 0.05 | O21: =IF(N21,"公斤","") -> 公斤 | R21: =IF(Q21,"公斤","") | U21: =IF(T21,"公斤","") | V21: 榨菜 | W21: 1 | X21: =IF(W21,"公斤","") -> 公斤
L22: =IF(K22,"公斤","") | M22: 番茄醬 | O22: =IF(N22,"公斤","") | R22: =IF(Q22,"公斤","") | U22: =IF(T22,"公斤","") | X22: =IF(W22,"公斤","")
A23: 4/11 星期二 | B23: j2 | C23: 5 | D23: 2.5 | E23: 1.7 | F23: 3 | G23: 0 | H23: 0 | I23: =C23*70+D23*75+E23*25+F23*45 -> 715 | J23: 糙米飯 | M23: 醬瓜燒雞 | P23: 毛豆白菜 | S23: 時蔬 | V23: 海芽蛋花湯 | Z23: =B23 -> j2 | AA23: =J24&" "&J25&" "&J26&" "&J27&" "&J28 -> 米 糙米 | AB23: =M24&" "&M25&" "&M26&" "&M27&" "&M28 -> 肉雞 醃漬花胡瓜 大蒜 | AC23: =P24&" "&P25&" "&P26&" "&P27&" "&P28 -> 結球白菜 冷凍毛豆仁 胡蘿蔔 大蒜 | AD23: =S24&" "&S25&" "&S26&" "&S27&" "&S28 -> 蔬菜 大蒜 | AE23: =V24&" "&V25&" "&V26&" "&V27&" "&V28 -> 乾海帶 雞蛋 薑
J24: 米 | K24: 7 | L24: =IF(K24,"公斤","") -> 公斤 | M24: 肉雞 | N24: 9 | O24: =IF(N24,"公斤","") -> 公斤 | P24: 結球白菜 | Q24: 6.5 | R24: =IF(Q24,"公斤","") -> 公斤 | S24: 蔬菜 | T24: 7 | U24: =IF(T24,"公斤","") -> 公斤 | V24: 乾海帶 | W24: 0.1 | X24: =IF(W24,"公斤","") -> 公斤
J25: 糙米 | K25: 3 | L25: =IF(K25,"公斤","") -> 公斤 | M25: 醃漬花胡瓜 | N25: 2 | O25: =IF(N25,"公斤","") -> 公斤 | P25: 冷凍毛豆仁 | Q25: 0.5 | R25: =IF(Q25,"公斤","") -> 公斤 | S25: 大蒜 | T25: 0.05 | U25: =IF(T25,"公斤","") -> 公斤 | V25: 雞蛋 | W25: 1 | X25: =IF(W25,"公斤","") -> 公斤
L26: =IF(K26,"公斤","") | M26: 大蒜 | N26: 0.05 | O26: =IF(N26,"公斤","") -> 公斤 | P26: 胡蘿蔔 | Q26: 0.5 | R26: =IF(Q26,"公斤","") -> 公斤 | U26: =IF(T26,"公斤","") | V26: 薑 | W26: 0.05 | X26: =IF(W26,"公斤","") -> 公斤 | AC26: 11
L27: =IF(K27,"公斤","") | O27: =IF(N27,"公斤","") | P27: 大蒜 | Q27: 0.05 | R27: =IF(Q27,"公斤","") -> 公斤 | U27: =IF(T27,"公斤","") | X27: =IF(W27,"公斤","")
L28: =IF(K28,"公斤","") | O28: =IF(N28,"公斤","") | R28: =IF(Q28,"公斤","") | U28: =IF(T28,"公斤","") | X28: =IF(W28,"公斤","")
A29: 4/12 星期三 | B29: j3 | C29: 3.3 | D29: 2.8 | E29: 1.3 | F29: 3 | G29: 0 | H29: 0 | I29: =C29*70+D29*75+E29*25+F29*45 -> 608.5 | J29: 刈包特餐 | M29: 香滷肉排 | P29: 酸菜麵腸 | S29: 時蔬 | V29: 糙米粥 | Z29: =B29 -> j3 | AA29: =J30&" "&J31&" "&J32&" "&J33&" "&J34 -> 刈包 | AB29: =M30&" "&M31&" "&M32&" "&M33&" "&M34 -> 肉排 滷包 | AC29: =P30&" "&P31&" "&P32&" "&P33&" "&P34 -> 酸菜 麵腸 大蒜 | AD29: =S30&" "&S31&" "&S32&" "&S33&" "&S34 -> 蔬菜 大蒜 | AE29: =V30&" "&V31&" "&V32&" "&V33&" "&V34 -> 雞蛋 糙米 胡蘿蔔 乾香菇 時瓜
J30: 刈包 | K30: 4 | L30: =IF(K30,"公斤","") -> 公斤 | M30: 肉排 | N30: 6 | O30: =IF(N30,"公斤","") -> 公斤 | P30: 酸菜 | Q30: 3 | R30: =IF(Q30,"公斤","") -> 公斤 | S30: 蔬菜 | T30: 7 | U30: =IF(T30,"公斤","") -> 公斤 | V30: 雞蛋 | W30: 1 | X30: =IF(W30,"公斤","") -> 公斤
L31: =IF(K31,"公斤","") | M31: 滷包 | O31: =IF(N31,"公斤","") | P31: 麵腸 | Q31: 3 | R31: =IF(Q31,"公斤","") -> 公斤 | S31: 大蒜 | T31: 0.05 | U31: =IF(T31,"公斤","") -> 公斤 | V31: 糙米 | W31: 4 | X31: =IF(W31,"公斤","") -> 公斤
L32: =IF(K32,"公斤","") | O32: =IF(N32,"公斤","") | P32: 大蒜 | Q32: 0.05 | R32: =IF(Q32,"公斤","") -> 公斤 | U32: =IF(T32,"公斤","") | V32: 胡蘿蔔 | W32: 0.5 | X32: =IF(W32,"公斤","") -> 公斤 | AC32: 12
L33: =IF(K33,"公斤","") | O33: =IF(N33,"公斤","") | R33: =IF(Q33,"公斤","") | U33: =IF(T33,"公斤","") | V33: 乾香菇 | W33: 0.01 | X33: =IF(W33,"公斤","") -> 公斤
L34: =IF(K34,"公斤","") | O34: =IF(N34,"公斤","") | R34: =IF(Q34,"公斤","") | U34: =IF(T34,"公斤","") | V34: 時瓜 | W34: 2 | X34: =IF(W34,"公斤","") -> 公斤
A35: 4/13 星期四 | B35: j4 | C35: 5 | D35: 2.4 | E35: 1.3 | F35: 3 | G35: 0 | H35: 0 | I35: =C35*70+D35*75+E35*25+F35*45 -> 697.5 | J35: 糙米飯 | M35: 豆瓣魚丁 | P35: 筍干油腐 | S35: 時蔬 | V35: 仙草甜湯 | Z35: =B35 -> j4 | AA35: =J36&" "&J37&" "&J38&" "&J39&" "&J40 -> 米 糙米 | AB35: =M36&" "&M37&" "&M38&" "&M39&" "&M40 -> 鮮魚丁 白蘿蔔 胡蘿蔔 大蒜 豆瓣醬 | AC35: =P36&" "&P37&" "&P38&" "&P39&" "&P40 -> 麻竹筍干 四角油豆腐 大蒜 | AD35: =S36&" "&S37&" "&S38&" "&S39&" "&S40 -> 蔬菜 大蒜 | AE35: =V36&" "&V37&" "&V38&" "&V39&" "&V40 -> 仙草凍 二砂糖
J36: 米 | K36: 7 | L36: =IF(K36,"公斤","") -> 公斤 | M36: 鮮魚丁 | N36: 6.5 | O36: =IF(N36,"公斤","") -> 公斤 | P36: 麻竹筍干 | Q36: 2 | R36: =IF(Q36,"公斤","") -> 公斤 | S36: 蔬菜 | T36: 7 | U36: =IF(T36,"公斤","") -> 公斤 | V36: 仙草凍 | W36: 6 | X36: =IF(W36,"公斤","") -> 公斤
J37: 糙米 | K37: 3 | L37: =IF(K37,"公斤","") -> 公斤 | M37: 白蘿蔔 | N37: 3.5 | O37: =IF(N37,"公斤","") -> 公斤 | P37: 四角油豆腐 | Q37: 3 | R37: =IF(Q37,"公斤","") -> 公斤 | S37: 大蒜 | T37: 0.05 | U37: =IF(T37,"公斤","") -> 公斤 | V37: 二砂糖 | W37: 1 | X37: =IF(W37,"公斤","") -> 公斤 | AC37: 13
L38: =IF(K38,"公斤","") | M38: 胡蘿蔔 | N38: 0.5 | O38: =IF(N38,"公斤","") -> 公斤 | P38: 大蒜 | Q38: 0.05 | R38: =IF(Q38,"公斤","") -> 公斤 | U38: =IF(T38,"公斤","") | X38: =IF(W38,"公斤","")
L39: =IF(K39,"公斤","") | M39: 大蒜 | N39: 0.05 | O39: =IF(N39,"公斤","") -> 公斤 | R39: =IF(Q39,"公斤","") | U39: =IF(T39,"公斤","") | X39: =IF(W39,"公斤","")
L40: =IF(K40,"公斤","") | M40: 豆瓣醬 | O40: =IF(N40,"公斤","") | R40: =IF(Q40,"公斤","") | U40: =IF(T40,"公斤","") | X40: =IF(W40,"公斤","")
...

Sheet A案--葷食國小月總表
B1: 111 | C1: 學年度 | D1: 國民小學 | E1: 葷食 | F1: 菜單 | G1: 循環
A2: 日期 | B2: 循環 | C2: 主食 | D2: 主食明細 | E2: 主菜 | F2: 主菜明細 | G2: 副菜一 | H2: 副菜一明細 | I2: 蔬菜 | J2: 蔬菜明細 | K2: 湯品 | L2: 湯品明細 | M2: 點心 | N2: 穀/份 | O2: 豆/份 | P2: 蔬/份 | Q2: 油/份 | R2: 乳/份 | S2: 果/份 | T2: 熱量
A3: 4月6日 | B3: ='A案--葷食國小'!B5 -> i4 | C3: ='A案--葷食國小'!J5 -> 糙米飯 | D3: ='A案--葷食國小'!AA5 -> 米 糙米 | E3: ='A案--葷食國小'!M5 -> 咖哩絞肉 | F3: ='A案--葷食國小'!AB5 -> 豬絞肉 馬鈴薯 胡蘿蔔 洋蔥 咖哩粉 | G3: ='A案--葷食國小'!P5 -> 火腿玉菜 | H3: ='A案--葷食國小'!AC5 -> 甘藍 火腿 大蒜 | I3: ='A案--葷食國小'!S5 -> 時蔬 | J3: ='A案--葷食國小'!AD5 -> 蔬菜 大蒜 | K3: ='A案--葷食國小'!V5 -> 花豆甜湯 | L3: ='A案--葷食國小'!AE5 -> 花豆 二砂糖 | M3: 0 | N3: ='A案--葷食國小'!C5 -> 5.5 | O3: ='A案--葷食國小'!D5 -> 1.8 | P3: ='A案--葷食國小'!E5 -> 1.6 | Q3: ='A案--葷食國小'!F5 -> 3 | R3: ='A案--葷食國小'!G5 -> 0 | S3: ='A案--葷食國小'!H5 -> 0 | T3: ='A案--葷食國小'!I5 -> 695
A4: 4月7日 | B4: ='A案--葷食國小'!B11 -> i5 | C4: ='A案--葷食國小'!J11 -> 燕麥飯 | D4: ='A案--葷食國小'!AA11 -> 米 燕麥 | E4: ='A案--葷食國小'!M11 -> 筍干燒肉 | F4: ='A案--葷食國小'!AB11 -> 豬後腿肉 麻竹筍干 大蒜 | G4: ='A案--葷食國小'!P11 -> 蛋香豆薯 | H4: ='A案--葷食國小'!AC11 -> 雞蛋 豆薯 大蒜 胡蘿蔔 | I4: ='A案--葷食國小'!S11 -> 時蔬 | J4: ='A案--葷食國小'!AD11 -> 蔬菜 大蒜 | K4: ='A案--葷食國小'!V11 -> 味噌豆皮湯 | L4: ='A案--葷食國小'!AE11 -> 豆皮 味噌 柴魚片 | M4: 0 | N4: ='A案--葷食國小'!C11 -> 5.2 | O4: ='A案--葷食國小'!D11 -> 2.1 | P4: ='A案--葷食國小'!E11 -> 1.6 | Q4: ='A案--葷食國小'!F11 -> 3 | R4: ='A案--葷食國小'!G11 -> 0 | S4: ='A案--葷食國小'!H11 -> 0 | T4: ='A案--葷食國小'!I11 -> 697
A5: 4月10日 | B5: ='A案--葷食國小'!B17 -> j1 | C5: ='A案--葷食國小'!J17 -> 白米飯 | D5: ='A案--葷食國小'!AA17 -> 米 | E5: ='A案--葷食國小'!M17 -> 茄汁肉絲 | F5: ='A案--葷食國小'!AB17 -> 豬後腿肉 馬鈴薯 大番茄 大蒜 番茄醬 | G5: ='A案--葷食國小'!P17 -> 洋蔥炒蛋 | H5: ='A案--葷食國小'!AC17 -> 雞蛋 洋蔥 大蒜 | I5: ='A案--葷食國小'!S17 -> 時蔬 | J5: ='A案--葷食國小'!AD17 -> 蔬菜 大蒜 | K5: ='A案--葷食國小'!V17 -> 金針湯 | L5: ='A案--葷食國小'!AE17 -> 金針菜乾 大骨 薑 榨菜 | M5: 0 | N5: ='A案--葷食國小'!C17 -> 5.2 | O5: ='A案--葷食國小'!D17 -> 2.4 | P5: ='A案--葷食國小'!E17 -> 2.1 | Q5: ='A案--葷食國小'!F17 -> 3.2 | R5: ='A案--葷食國小'!G17 -> 0 | S5: ='A案--葷食國小'!H17 -> 0 | T5: ='A案--葷食國小'!I17 -> 732
A6: 4月11日 | B6: ='A案--葷食國小'!B23 -> j2 | C6: ='A案--葷食國小'!J23 -> 糙米飯 | D6: ='A案--葷食國小'!AA23 -> 米 糙米 | E6: ='A案--葷食國小'!M23 -> 醬瓜燒雞 | F6: ='A案--葷食國小'!AB23 -> 肉雞 醃漬花胡瓜 大蒜 | G6: ='A案--葷食國小'!P23 -> 毛豆白菜 | H6: ='A案--葷食國小'!AC23 -> 結球白菜 冷凍毛豆仁 胡蘿蔔 大蒜 | I6: ='A案--葷食國小'!S23 -> 時蔬 | J6: ='A案--葷食國小'!AD23 -> 蔬菜 大蒜 | K6: ='A案--葷食國小'!V23 -> 海芽蛋花湯 | L6: ='A案--葷食國小'!AE23 -> 乾海帶 雞蛋 薑 | M6: 0 | N6: ='A案--葷食國小'!C23 -> 5 | O6: ='A案--葷食國小'!D23 -> 2.5 | P6: ='A案--葷食國小'!E23 -> 1.7 | Q6: ='A案--葷食國小'!F23 -> 3 | R6: ='A案--葷食國小'!G23 -> 0 | S6: ='A案--葷食國小'!H23 -> 0 | T6: ='A案--葷食國小'!I23 -> 715
A7: 4月12日 | B7: ='A案--葷食國小'!B29 -> j3 | C7: ='A案--葷食國小'!J29 -> 刈包特餐 | D7: ='A案--葷食國小'!AA29 -> 刈包 | E7: ='A案--葷食國小'!M29 -> 香滷肉排 | F7: ='A案--葷食國小'!AB29 -> 肉排 滷包 | G7: ='A案--葷食國小'!P29 -> 酸菜麵腸 | H7: ='A案--葷食國小'!AC29 -> 酸菜 麵腸 大蒜 | I7: ='A案--葷食國小'!S29 -> 時蔬 | J7: ='A案--葷食國小'!AD29 -> 蔬菜 大蒜 | K7: ='A案--葷食國小'!V29 -> 糙米粥 | L7: ='A案--葷食國小'!AE29 -> 雞蛋 糙米 胡蘿蔔 乾香菇 時瓜 | M7: 0 | N7: ='A案--葷食國小'!C29 -> 3.3 | O7: ='A案--葷食國小'!D29 -> 2.8 | P7: ='A案--葷食國小'!E29 -> 1.3 | Q7: ='A案--葷食國小'!F29 -> 3 | R7: ='A案--葷食國小'!G29 -> 0 | S7: ='A案--葷食國小'!H29 -> 0 | T7: ='A案--葷食國小'!I29 -> 608.5
A8: 4月13日 | B8: ='A案--葷食國小'!B35 -> j4 | C8: ='A案--葷食國小'!J35 -> 糙米飯 | D8: ='A案--葷食國小'!AA35 -> 米 糙米 | E8: ='A案--葷食國小'!M35 -> 豆瓣魚丁 | F8: ='A案--葷食國小'!AB35 -> 鮮魚丁 白蘿蔔 胡蘿蔔 大蒜 豆瓣醬 | G8: ='A案--葷食國小'!P35 -> 筍干油腐 | H8: ='A案--葷食國小'!AC35 -> 麻竹筍干 四角油豆腐 大蒜 | I8: ='A案--葷食國小'!S35 -> 時蔬 | J8: ='A案--葷食國小'!AD35 -> 蔬菜 大蒜 | K8: ='A案--葷食國小'!V35 -> 仙草甜湯 | L8: ='A案--葷食國小'!AE35 -> 仙草凍 二砂糖 | M8: 0 | N8: ='A案--葷食國小'!C35 -> 5 | O8: ='A案--葷食國小'!D35 -> 2.4 | P8: ='A案--葷食國小'!E35 -> 1.3 | Q8: ='A案--葷食國小'!F35 -> 3 | R8: ='A案--葷食國小'!G35 -> 0 | S8: ='A案--葷食國小'!H35 -> 0 | T8: ='A案--葷食國小'!I35 -> 697.5
A9: 4月14日 | B9: ='A案--葷食國小'!B41 -> j5 | C9: ='A案--葷食國小'!J41 -> 芝麻飯 | D9: ='A案--葷食國小'!AA41 -> 米 芝麻(熟) | E9: ='A案--葷食國小'!M41 -> 泡菜燒肉 | F9: ='A案--葷食國小'!AB41 -> 豬後腿肉 韓式泡菜 甘藍 大蒜 | G9: ='A案--葷食國小'!P41 -> 魚香豆干 | H9: ='A案--葷食國小'!AC41 -> 小魚干 豆干 油花生 大蒜 | I9: ='A案--葷食國小'!S41 -> 時蔬 | J9: ='A案--葷食國小'!AD41 -> 蔬菜 大蒜 | K9: ='A案--葷食國小'!V41 -> 冬瓜湯 | L9: ='A案--葷食國小'!AE41 -> 冬瓜 薑 大骨 | M9: 0 | N9: ='A案--葷食國小'!C41 -> 5 | O9: ='A案--葷食國小'!D41 -> 2.7 | P9: ='A案--葷食國小'!E41 -> 2.2 | Q9: ='A案--葷食國小'!F41 -> 3.2 | R9: ='A案--葷食國小'!G41 -> 0 | S9: ='A案--葷食國小'!H41 -> 0 | T9: ='A案--葷食國小'!I41 -> 751.5
A10: 4月17日 | B10: ='A案--葷食國小'!B47 -> k1 | C10: ='A案--葷食國小'!J47 -> 白米飯 | D10: ='A案--葷食國小'!AA47 -> 米 | E10: ='A案--葷食國小'!M47 -> 紅燒雞翅 | F10: ='A案--葷食國小'!AB47 -> 三節翅 滷包 | G10: ='A案--葷食國小'!P47 -> 鮮菇豆腐 | H10: ='A案--葷食國小'!AC47 -> 豆腐 金針菇 乾香菇 大蒜 胡蘿蔔 | I10: ='A案--葷食國小'!S47 -> 時蔬 | J10: ='A案--葷食國小'!AD47 -> 蔬菜 大蒜 | K10: ='A案--葷食國小'!V47 -> 味噌湯 | L10: ='A案--葷食國小'!AE47 -> 乾裙帶菜 味噌 薑 柴魚片 | M10: 0 | N10: ='A案--葷食國小'!C47 -> 5 | O10: ='A案--葷食國小'!D47 -> 2.8 | P10: ='A案--葷食國小'!E47 -> 1 | Q10: ='A案--葷食國小'!F47 -> 1.9 | R10: ='A案--葷食國小'!G47 -> 0 | S10: ='A案--葷食國小'!H47 -> 0 | T10: ='A案--葷食國小'!I47 -> 670.5
A11: 4月18日 | B11: ='A案--葷食國小'!B53 -> k2 | C11: ='A案--葷食國小'!J53 -> 糙米飯 | D11: ='A案--葷食國小'!AA53 -> 米 糙米 | E11: ='A案--葷食國小'!M53 -> 咖哩鮮魚 | F11: ='A案--葷食國小'!AB53 -> 鮮魚丁 馬鈴薯 洋蔥 胡蘿蔔 咖哩粉 | G11: ='A案--葷食國小'!P53 -> 蛋香刈薯 | H11: ='A案--葷食國小'!AC53 -> 雞蛋 刈薯 大蒜 | I11: ='A案--葷食國小'!S53 -> 時蔬 | J11: ='A案--葷食國小'!AD53 -> 蔬菜 大蒜 | K11: ='A案--葷食國小'!V53 -> 金針湯 | L11: ='A案--葷食國小'!AE53 -> 金針菜乾 榨菜 薑 大骨 | M11: 0 | N11: ='A案--葷食國小'!C53 -> 5.4 | O11: ='A案--葷食國小'!D53 -> 2.1 | P11: ='A案--葷食國小'!E53 -> 1.4 | Q11: ='A案--葷食國小'!F53 -> 1.8 | R11: ='A案--葷食國小'!G53 -> 0 | S11: ='A案--葷食國小'!H53 -> 0 | T11: ='A案--葷食國小'!I53 -> 651.5
A12: 4月19日 | B12: ='A案--葷食國小'!B59 -> k3 | C12: ='A案--葷食國小'!J59 -> 泰式特餐 | D12: ='A案--葷食國小'!AA59 -> 米 糙米 | E12: ='A案--葷食國小'!M59 -> 打拋豬 | F12: ='A案--葷食國小'!AB59 -> 豬絞肉 洋蔥 打拋醬 魚露 大蒜 | G12: ='A案--葷食國小'!P59 -> 泰式魚丸 | H12: ='A案--葷食國小'!AC59 -> 魚丸 泰式酸辣醬 | I12: ='A案--葷食國小'!S59 -> 時蔬 | J12: ='A案--葷食國小'!AD59 -> 蔬菜 大蒜 | K12: ='A案--葷食國小'!V59 -> 冬蔭功湯 | L12: ='A案--葷食國小'!AE59 -> 秀珍菇 大番茄 大骨 檸檬 香茅 | M12: 0 | N12: ='A案--葷食國小'!C59 -> 5.5 | O12: ='A案--葷食國小'!D59 -> 2.6 | P12: ='A案--葷食國小'!E59 -> 1.4 | Q12: ='A案--葷食國小'!F59 -> 2 | R12: ='A案--葷食國小'!G59 -> 0 | S12: ='A案--葷食國小'!H59 -> 0 | T12: ='A案--葷食國小'!I59 -> 705
A13: 4月20日 | B13: ='A案--葷食國小'!B65 -> k4 | C13: ='A案--葷食國小'!J65 -> 糙米飯 | D13: ='A案--葷食國小'!AA65 -> 米 糙米 | E13: ='A案--葷食國小'!M65 -> 豆瓣雞丁 | F13: ='A案--葷食國小'!AB65 -> 肉雞 豆薯 胡蘿蔔 大蒜 | G13: ='A案--葷食國小'!P65 -> 肉絲豆芽 | H13: ='A案--葷食國小'!AC65 -> 豬後腿肉 綠豆芽 韮菜 乾木耳 大蒜 | I13: ='A案--葷食國小'!S65 -> 時蔬 | J13: ='A案--葷食國小'!AD65 -> 蔬菜 大蒜 | K13: ='A案--葷食國小'!V65 -> 綠豆湯 | L13: ='A案--葷食國小'!AE65 -> 綠豆 二砂糖 | M13: 0 | N13: ='A案--葷食國小'!C65 -> 5.8 | O13: ='A案--葷食國小'!D65 -> 2.5 | P13: ='A案--葷食國小'!E65 -> 1.7 | Q13: ='A案--葷食國小'!F65 -> 2.1 | R13: ='A案--葷食國小'!G65 -> 0 | S13: ='A案--葷食國小'!H65 -> 0 | T13: ='A案--葷食國小'!I65 -> 730.5
A14: 4月21日 | B14: ='A案--葷食國小'!B71 -> k5 | C14: ='A案--葷食國小'!J71 -> 紅藜飯 | D14: ='A案--葷食國小'!AA71 -> 米 紅藜 | E14: ='A案--葷食國小'!M71 -> 壽喜燒肉 | F14: ='A案--葷食國小'!AB71 -> 豬後腿肉 結球白菜 胡蘿蔔 大蒜 | G14: ='A案--葷食國小'!P71 -> 紅蔘炒蛋 | H14: ='A案--葷食國小'!AC71 -> 雞蛋 胡蘿蔔 大蒜 | I14: ='A案--葷食國小'!S71 -> 時蔬 | J14: ='A案--葷食國小'!AD71 -> 蔬菜 大蒜 | K14: ='A案--葷食國小'!V71 -> 時瓜湯 | L14: ='A案--葷食國小'!AE71 -> 時瓜 薑 大骨 | M14: 0 | N14: ='A案--葷食國小'!C71 -> 5 | O14: ='A案--葷食國小'!D71 -> 2.2 | P14: ='A案--葷食國小'!E71 -> 2.1 | Q14: ='A案--葷食國小'!F71 -> 2.2 | R14: ='A案--葷食國小'!G71 -> 0 | S14: ='A案--葷食國小'!H71 -> 0 | T14: ='A案--葷食國小'!I71 -> 666.5
A15: 4月24日 | B15: ='A案--葷食國小'!B77 -> l1 | C15: ='A案--葷食國小'!J77 -> 白米飯 | D15: ='A案--葷食國小'!AA77 -> 米 | E15: ='A案--葷食國小'!M77 -> 花生絞肉 | F15: ='A案--葷食國小'!AB77 -> 豬絞肉 油花生 麵筋 大蒜 胡蘿蔔 | G15: ='A案--葷食國小'!P77 -> 豆包甘藍 | H15: ='A案--葷食國小'!AC77 -> 豆包 甘藍 乾香菇 大蒜 | I15: ='A案--葷食國小'!S77 -> 時蔬 | J15: ='A案--葷食國小'!AD77 -> 蔬菜 大蒜 | K15: ='A案--葷食國小'!V77 -> 豆漿 | L15: ='A案--葷食國小'!AE77 -> 豆漿 | M15: 0 | N15: ='A案--葷食國小'!C77 -> 5 | O15: ='A案--葷食國小'!D77 -> 2.5 | P15: ='A案--葷食國小'!E77 -> 1.7 | Q15: ='A案--葷食國小'!F77 -> 2.5 | R15: ='A案--葷食國小'!G77 -> 0 | S15: ='A案--葷食國小'!H77 -> 0 | T15: ='A案--葷食國小'!I77 -> 692.5
A16: 4月25日 | B16: ='A案--葷食國小'!B83 -> l2 | C16: ='A案--葷食國小'!J83 -> 糙米飯 | D16: ='A案--葷食國小'!AA83 -> 米 糙米 | E16: ='A案--葷食國小'!M83 -> 椒鹽魚排 | F16: ='A案--葷食國小'!AB83 -> 魚排 胡椒鹽 | G16: ='A案--葷食國小'!P83 -> 蛋香季豆 | H16: ='A案--葷食國小'!AC83 -> 雞蛋 冷凍菜豆(莢) 胡蘿蔔 大蒜 | I16: ='A案--葷食國小'!S83 -> 時蔬 | J16: ='A案--葷食國小'!AD83 -> 蔬菜 大蒜 | K16: ='A案--葷食國小'!V83 -> 時蔬湯 | L16: ='A案--葷食國小'!AE83 -> 時蔬 薑 大骨 | M16: 0 | N16: ='A案--葷食國小'!C83 -> 5 | O16: ='A案--葷食國小'!D83 -> 1.8 | P16: ='A案--葷食國小'!E83 -> 1.5 | Q16: ='A案--葷食國小'!F83 -> 2.5 | R16: ='A案--葷食國小'!G83 -> 0 | S16: ='A案--葷食國小'!H83 -> 0 | T16: ='A案--葷食國小'!I83 -> 635
A17: 4月26日 | B17: ='A案--葷食國小'!B89 -> l3 | C17: ='A案--葷食國小'!J89 -> 西式特餐 | D17: ='A案--葷食國小'!AA89 -> 麵條 | E17: ='A案--葷食國小'!M89 -> 茄汁肉醬 | F17: ='A案--葷食國小'!AB89 -> 豬絞肉 馬鈴薯 洋蔥 蕃茄醬 | G17: ='A案--葷食國小'!P89 -> 清炒花椰 | H17: ='A案--葷食國小'!AC89 -> 冷凍花椰菜 胡蘿蔔 大蒜 | I17: ='A案--葷食國小'!S89 -> 時蔬 | J17: ='A案--葷食國小'!AD89 -> 蔬菜 大蒜 | K17: ='A案--葷食國小'!V89 -> 南瓜濃湯 | L17: ='A案--葷食國小'!AE89 -> 雞蛋 南瓜 毛豆 濃湯調理包 | M17: 0 | N17: ='A案--葷食國小'!C89 -> 5.3 | O17: ='A案--葷食國小'!D89 -> 2 | P17: ='A案--葷食國小'!E89 -> 1.6 | Q17: ='A案--葷食國小'!F89 -> 2.5 | R17: ='A案--葷食國小'!G89 -> 0 | S17: ='A案--葷食國小'!H89 -> 0 | T17: ='A案--葷食國小'!I89 -> 673.5
A18: 4月27日 | B18: ='A案--葷食國小'!B95 -> l4 | C18: ='A案--葷食國小'!J95 -> 糙米飯 | D18: ='A案--葷食國小'!AA95 -> 米 糙米 | E18: ='A案--葷食國小'!M95 -> 回鍋肉片 | F18: ='A案--葷食國小'!AB95 -> 豬後腿肉 洋蔥 胡蘿蔔 大蒜 | G18: ='A案--葷食國小'!P95 -> 香滷凍腐 | H18: ='A案--葷食國小'!AC95 -> 凍豆腐 白蘿蔔 胡蘿蔔 大蒜 | I18: ='A案--葷食國小'!S95 -> 時蔬 | J18: ='A案--葷食國小'!AD95 -> 蔬菜 大蒜 | K18: ='A案--葷食國小'!V95 -> 粉圓甜湯 | L18: ='A案--葷食國小'!AE95 -> 粉圓 二砂糖 | M18: 0 | N18: ='A案--葷食國小'!C95 -> 6 | O18: ='A案--葷食國小'!D95 -> 2 | P18: ='A案--葷食國小'!E95 -> 1.5 | Q18: ='A案--葷食國小'!F95 -> 2.5 | R18: ='A案--葷食國小'!G95 -> 0 | S18: ='A案--葷食國小'!H95 -> 0 | T18: ='A案--葷食國小'!I95 -> 720
A19: 4月28日 | B19: ='A案--葷食國小'!B101 -> l5 | C19: ='A案--葷食國小'!J101 -> 小米飯 | D19: ='A案--葷食國小'!AA101 -> 米 小米 | E19: ='A案--葷食國小'!M101 -> 照燒雞 | F19: ='A案--葷食國小'!AB101 -> 肉雞 洋蔥 胡蘿蔔 醬油 二砂糖 | G19: ='A案--葷食國小'!P101 -> 雪菜豆干 | H19: ='A案--葷食國小'!AC101 -> 豆干 雪裡蕻 大蒜 | I19: ='A案--葷食國小'!S101 -> 時蔬 | J19: ='A案--葷食國小'!AD101 -> 蔬菜 大蒜 | K19: ='A案--葷食國小'!V101 -> 海芽湯 | L19: ='A案--葷食國小'!AE101 -> 乾裙帶菜 薑 柴魚片 | M19: 0 | N19: ='A案--葷食國小'!C101 -> 5.2 | O19: ='A案--葷食國小'!D101 -> 2.8 | P19: ='A案--葷食國小'!E101 -> 1.5 | Q19: ='A案--葷食國小'!F101 -> 2.5 | R19: ='A案--葷食國小'!G101 -> 0 | S19: ='A案--葷食國小'!H101 -> 0 | T19: ='A案--葷食國小'!I101 -> 724
B22: 過敏警語:「本月產品含有蛋、芝麻、含麩之穀物、花生、大豆、魚類、亞硫酸鹽類及其相關製品，不適合其過敏體質者食用」

Sheet 葷食水璉國小 
A1: 要修正正確數值 | J1: 僅需貼上食材明細和重量，"公斤"和下一個分頁循環就會自己跑出來
A2: 111學年度下學期水璉國民小學112年4月份葷食菜單 (A案)
A3: 食材明細（食材重量以100人份計量，營養分析以個人計量,其中肉雞包含23%骨頭之採購量，每周供應特餐一次，當日得混搭供應，國中4菜1湯，國小3菜1湯） | V3: 統整區的檔案，連動到上方循環，後續給教育處的檔案，此處請自行隱藏
A4: 日期 | B4: 循環 | C4: 穀/份 | D4: 豆/份 | E4: 蔬/份 | F4: 油/份 | G4: 乳/份 | H4: 果/份 | I4: 熱量 | J4: 主食 | K4: 重/kg | L4: 主菜 | M4: 重/kg | N4: 副菜一 | O4: 重/kg | P4: 蔬菜 | Q4: 重/kg | R4: 湯品 | S4: 重/kg | T4: 點心 | W4: 主食 | X4: 主菜 | Y4: 副菜一 | Z4: 蔬菜 | AA4: 湯品
A5: 4/6 星期四 | B5: i4 | C5: 5.5 | D5: 1.8 | E5: 1.6 | F5: 3 | G5: 0 | H5: 0 | I5: 695 | J5: 糙米飯 | L5: 咖哩絞肉 | N5: 火腿玉菜 | P5: 時蔬 | R5: 花豆甜湯 | T5: 保久乳 | V5: =B5 -> i4 | W5: =J6&" "&J7&" "&J8&" "&J9&" "&J10 -> 米 糙米 | X5: =L6&" "&L7&" "&L8&" "&L9&" "&L10 -> 豬絞肉 馬鈴薯 胡蘿蔔 洋蔥 咖哩粉 | Y5: =N6&" "&N7&" "&N8&" "&N9&" "&N10 -> 甘藍 火腿 大蒜 | Z5: =P6&" "&P7&" "&P8&" "&P9&" "&P10 -> 蔬菜 大蒜 | AA5: =R6&" "&R7&" "&R8&" "&R9&" "&R10 -> 花豆 二砂糖
J6: 米 | K6: 7 | L6: 豬絞肉 | M6: 6 | N6: 甘藍 | O6: 7 | P6: 蔬菜 | Q6: 7 | R6: 花豆 | S6: 2
J7: 糙米 | K7: 3 | L7: 馬鈴薯 | M7: 2 | N7: 火腿 | O7: 0.5 | P7: 大蒜 | Q7: 0.05 | R7: 二砂糖 | S7: 1 | Y7: 6
L8: 胡蘿蔔 | M8: 0.5 | N8: 大蒜 | O8: 0.05
L9: 洋蔥 | M9: 1
L10: 咖哩粉
A11: 4/7 星期五 | B11: i5 | C11: 5.2 | D11: 2.1 | E11: 1.6 | F11: 3 | G11: 0 | H11: 0 | I11: 697 | J11: 燕麥飯 | L11: 筍干燒肉 | N11: 蛋香豆薯 | P11: 時蔬 | R11: 味噌豆皮湯 | T11: 水果升級 | V11: =B11 -> i5 | W11: =J12&" "&J13&" "&J14&" "&J15&" "&J16 -> 米 燕麥 | X11: =L12&" "&L13&" "&L14&" "&L15&" "&L16 -> 豬後腿肉 麻竹筍干 大蒜 | Y11: =N12&" "&N13&" "&N14&" "&N15&" "&N16 -> 雞蛋 豆薯 大蒜 胡蘿蔔 | Z11: =P12&" "&P13&" "&P14&" "&P15&" "&P16 -> 蔬菜 大蒜 | AA11: =R12&" "&R13&" "&R14&" "&R15&" "&R16 -> 豆皮 味噌 柴魚片
J12: 米 | K12: 10 | L12: 豬後腿肉 | M12: 6 | N12: 雞蛋 | O12: 1.2 | P12: 蔬菜 | Q12: 7 | R12: 豆皮 | S12: 0.3
J13: 燕麥 | K13: 0.4 | L13: 麻竹筍干 | M13: 3 | N13: 豆薯 | O13: 5 | P13: 大蒜 | Q13: 0.05 | R13: 味噌 | S13: 0.6 | Y13: 7
L14: 大蒜 | M14: 0.05 | N14: 大蒜 | O14: 0.05 | R14: 柴魚片 | S14: 0.01
N15: 胡蘿蔔 | O15: 0.5
A17: 4/10 星期一 | B17: j1 | C17: 5.2 | D17: 2.4 | E17: 2.1 | F17: 3.2 | G17: 0 | H17: 0 | I17: 732 | J17: 白米飯 | L17: 茄汁肉絲 | N17: 洋蔥炒蛋 | P17: 時蔬 | R17: 金針湯 | T17: 果汁 | V17: =B17 -> j1 | W17: =J18&" "&J19&" "&J20&" "&J21&" "&J22 -> 米 | X17: =L18&" "&L19&" "&L20&" "&L21&" "&L22 -> 豬後腿肉 馬鈴薯 大番茄 大蒜 番茄醬 | Y17: =N18&" "&N19&" "&N20&" "&N21&" "&N22 -> 雞蛋 洋蔥 大蒜 | Z17: =P18&" "&P19&" "&P20&" "&P21&" "&P22 -> 蔬菜 大蒜 | AA17: =R18&" "&R19&" "&R20&" "&R21&" "&R22 -> 金針菜乾 大骨 薑 榨菜
J18: 米 | K18: 10 | L18: 豬後腿肉 | M18: 6 | N18: 雞蛋 | O18: 3 | P18: 蔬菜 | Q18: 7 | R18: 金針菜乾 | S18: 0.1
L19: 馬鈴薯 | M19: 2 | N19: 洋蔥 | O19: 4 | P19: 大蒜 | Q19: 0.05 | R19: 大骨 | S19: 0.6
L20: 大番茄 | M20: 1 | N20: 大蒜 | O20: 0.05 | R20: 薑 | S20: 0.05 | Y20: 10
L21: 大蒜 | M21: 0.05 | R21: 榨菜 | S21: 1
L22: 番茄醬
A23: 4/11 星期二 | B23: j2 | C23: 5 | D23: 2.5 | E23: 1.7 | F23: 3 | G23: 0 | H23: 0 | I23: 715 | J23: 糙米飯 | L23: 醬瓜燒雞 | N23: 毛豆白菜 | P23: 時蔬 | R23: 海芽蛋花湯 | T23: 醬燒肉包 | V23: =B23 -> j2 | W23: =J24&" "&J25&" "&J26&" "&J27&" "&J28 -> 米 糙米 | X23: =L24&" "&L25&" "&L26&" "&L27&" "&L28 -> 肉雞 醃漬花胡瓜 大蒜 | Y23: =N24&" "&N25&" "&N26&" "&N27&" "&N28 -> 結球白菜 冷凍毛豆仁 胡蘿蔔 大蒜 | Z23: =P24&" "&P25&" "&P26&" "&P27&" "&P28 -> 蔬菜 大蒜 | AA23: =R24&" "&R25&" "&R26&" "&R27&" "&R28 -> 乾海帶 雞蛋 薑
J24: 米 | K24: 7 | L24: 肉雞 | M24: 9 | N24: 結球白菜 | O24: 6.5 | P24: 蔬菜 | Q24: 7 | R24: 乾海帶 | S24: 0.1
J25: 糙米 | K25: 3 | L25: 醃漬花胡瓜 | M25: 2 | N25: 冷凍毛豆仁 | O25: 0.5 | P25: 大蒜 | Q25: 0.05 | R25: 雞蛋 | S25: 1
L26: 大蒜 | M26: 0.05 | N26: 胡蘿蔔 | O26: 0.5 | R26: 薑 | S26: 0.05 | Y26: 11
N27: 大蒜 | O27: 0.05
A29: 4/12 星期三 | B29: j3 | C29: 3.3 | D29: 2.8 | E29: 1.3 | F29: 3 | G29: 0 | H29: 0 | I29: 608.5 | J29: 刈包特餐 | L29: 香滷肉排 | N29: 酸菜麵腸 | P29: 時蔬 | R29: 糙米粥 | T29: 水果升級 | V29: =B29 -> j3 | W29: =J30&" "&J31&" "&J32&" "&J33&" "&J34 -> 刈包 | X29: =L30&" "&L31&" "&L32&" "&L33&" "&L34 -> 肉排 滷包 | Y29: =N30&" "&N31&" "&N32&" "&N33&" "&N34 -> 酸菜 麵腸 大蒜 | Z29: =P30&" "&P31&" "&P32&" "&P33&" "&P34 -> 蔬菜 大蒜 | AA29: =R30&" "&R31&" "&R32&" "&R33&" "&R34 -> 雞蛋 糙米 胡蘿蔔 乾香菇 時瓜
J30: 刈包 | K30: 4 | L30: 肉排 | M30: 6 | N30: 酸菜 | O30: 3 | P30: 蔬菜 | Q30: 7 | R30: 雞蛋 | S30: 1
L31: 滷包 | N31: 麵腸 | O31: 3 | P31: 大蒜 | Q31: 0.05 | R31: 糙米 | S31: 4
N32: 大蒜 | O32: 0.05 | R32: 胡蘿蔔 | S32: 0.5 | Y32: 12
R33: 乾香菇 | S33: 0.01
R34: 時瓜 | S34: 2
A35: 4/13 星期四 | B35: j4 | C35: 5 | D35: 2.4 | E35: 1.3 | F35: 3 | G35: 0 | H35: 0 | I35: 697.5 | J35: 糙米飯 | L35: 豆瓣魚丁 | N35: 筍干油腐 | P35: 時蔬 | R35: 仙草甜湯 | T35: 地瓜包 | V35: =B35 -> j4 | W35: =J36&" "&J37&" "&J38&" "&J39&" "&J40 -> 米 糙米 | X35: =L36&" "&L37&" "&L38&" "&L39&" "&L40 -> 鮮魚丁 白蘿蔔 胡蘿蔔 大蒜 豆瓣醬 | Y35: =N36&" "&N37&" "&N38&" "&N39&" "&N40 -> 麻竹筍干 四角油豆腐 大蒜 | Z35: =P36&" "&P37&" "&P38&" "&P39&" "&P40 -> 蔬菜 大蒜 | AA35: =R36&" "&R37&" "&R38&" "&R39&" "&R40 -> 仙草凍 二砂糖
J36: 米 | K36: 7 | L36: 鮮魚丁 | M36: 6.5 | N36: 麻竹筍干 | O36: 2 | P36: 蔬菜 | Q36: 7 | R36: 仙草凍 | S36: 6
J37: 糙米 | K37: 3 | L37: 白蘿蔔 | M37: 3.5 | N37: 四角油豆腐 | O37: 3 | P37: 大蒜 | Q37: 0.05 | R37: 二砂糖 | S37: 1 | Y37: 13
L38: 胡蘿蔔 | M38: 0.5 | N38: 大蒜 | O38: 0.05
L39: 大蒜 | M39: 0.05
L40: 豆瓣醬
A41: 4/14 星期五 | B41: j5 | C41: 5 | D41: 2.7 | E41: 2.2 | F41: 3.2 | G41: 0 | H41: 0 | I41: 751.5 | J41: 芝麻飯 | L41: 泡菜燒肉 | N41: 魚香豆干 | P41: 時蔬 | R41: 冬瓜湯 | T41: 紅豆包 | V41: =B41 -> j5 | W41: =J42&" "&J43&" "&J44&" "&J45&" "&J46 -> 米 芝麻(熟) | X41: =L42&" "&L43&" "&L44&" "&L45&" "&L46 -> 豬後腿肉 韓式泡菜 甘藍 大蒜 | Y41: =N42&" "&N43&" "&N44&" "&N45&" "&N46 -> 小魚干 豆干 油花生 大蒜 | Z41: =P42&" "&P43&" "&P44&" "&P45&" "&P46 -> 蔬菜 大蒜 | AA41: =R42&" "&R43&" "&R44&" "&R45&" "&R46 -> 冬瓜 薑 大骨
J42: 米 | K42: 10 | L42: 豬後腿肉 | M42: 6 | N42: 小魚干 | O42: 0.2 | P42: 蔬菜 | Q42: 7 | R42: 冬瓜 | S42: 4
...

Sheet 葷食水璉國小月總表
B1: 111 | C1: 學年度 | D1: 國民小學 | E1: 葷食 | F1: 菜單 | G1: 循環
A2: 日期 | B2: 循環 | C2: 主食 | D2: 主食明細 | E2: 主菜 | F2: 主菜明細 | G2: 副菜一 | H2: 副菜一明細 | I2: 蔬菜 | J2: 蔬菜明細 | K2: 湯品 | L2: 湯品明細 | M2: 點心 | N2: 穀/份 | O2: 豆/份 | P2: 蔬/份 | Q2: 油/份 | R2: 乳/份 | S2: 果/份 | T2: 熱量
A3: 4月6日 | B3: ='A案--葷食國小'!B5 -> i4 | C3: ='A案--葷食國小'!J5 -> 糙米飯 | D3: ='A案--葷食國小'!AA5 -> 米 糙米 | E3: ='A案--葷食國小'!M5 -> 咖哩絞肉 | F3: ='A案--葷食國小'!AB5 -> 豬絞肉 馬鈴薯 胡蘿蔔 洋蔥 咖哩粉 | G3: ='A案--葷食國小'!P5 -> 火腿玉菜 | H3: ='A案--葷食國小'!AC5 -> 甘藍 火腿 大蒜 | I3: ='A案--葷食國小'!S5 -> 時蔬 | J3: ='A案--葷食國小'!AD5 -> 蔬菜 大蒜 | K3: ='A案--葷食國小'!V5 -> 花豆甜湯 | L3: ='A案--葷食國小'!AE5 -> 花豆 二砂糖 | M3: 保久乳 | N3: ='A案--葷食國小'!C5 -> 5.5 | O3: ='A案--葷食國小'!D5 -> 1.8 | P3: ='A案--葷食國小'!E5 -> 1.6 | Q3: ='A案--葷食國小'!F5 -> 3 | R3: ='A案--葷食國小'!G5 -> 0 | S3: ='A案--葷食國小'!H5 -> 0 | T3: ='A案--葷食國小'!I5 -> 695
A4: 4月7日 | B4: ='A案--葷食國小'!B11 -> i5 | C4: ='A案--葷食國小'!J11 -> 燕麥飯 | D4: ='A案--葷食國小'!AA11 -> 米 燕麥 | E4: ='A案--葷食國小'!M11 -> 筍干燒肉 | F4: ='A案--葷食國小'!AB11 -> 豬後腿肉 麻竹筍干 大蒜 | G4: ='A案--葷食國小'!P11 -> 蛋香豆薯 | H4: ='A案--葷食國小'!AC11 -> 雞蛋 豆薯 大蒜 胡蘿蔔 | I4: ='A案--葷食國小'!S11 -> 時蔬 | J4: ='A案--葷食國小'!AD11 -> 蔬菜 大蒜 | K4: ='A案--葷食國小'!V11 -> 味噌豆皮湯 | L4: ='A案--葷食國小'!AE11 -> 豆皮 味噌 柴魚片 | M4: 水果升級 | N4: ='A案--葷食國小'!C11 -> 5.2 | O4: ='A案--葷食國小'!D11 -> 2.1 | P4: ='A案--葷食國小'!E11 -> 1.6 | Q4: ='A案--葷食國小'!F11 -> 3 | R4: ='A案--葷食國小'!G11 -> 0 | S4: ='A案--葷食國小'!H11 -> 0 | T4: ='A案--葷食國小'!I11 -> 697
A5: 4月10日 | B5: ='A案--葷食國小'!B17 -> j1 | C5: ='A案--葷食國小'!J17 -> 白米飯 | D5: ='A案--葷食國小'!AA17 -> 米 | E5: ='A案--葷食國小'!M17 -> 茄汁肉絲 | F5: ='A案--葷食國小'!AB17 -> 豬後腿肉 馬鈴薯 大番茄 大蒜 番茄醬 | G5: ='A案--葷食國小'!P17 -> 洋蔥炒蛋 | H5: ='A案--葷食國小'!AC17 -> 雞蛋 洋蔥 大蒜 | I5: ='A案--葷食國小'!S17 -> 時蔬 | J5: ='A案--葷食國小'!AD17 -> 蔬菜 大蒜 | K5: ='A案--葷食國小'!V17 -> 金針湯 | L5: ='A案--葷食國小'!AE17 -> 金針菜乾 大骨 薑 榨菜 | M5: 果汁 | N5: ='A案--葷食國小'!C17 -> 5.2 | O5: ='A案--葷食國小'!D17 -> 2.4 | P5: ='A案--葷食國小'!E17 -> 2.1 | Q5: ='A案--葷食國小'!F17 -> 3.2 | R5: ='A案--葷食國小'!G17 -> 0 | S5: ='A案--葷食國小'!H17 -> 0 | T5: ='A案--葷食國小'!I17 -> 732
A6: 4月11日 | B6: ='A案--葷食國小'!B23 -> j2 | C6: ='A案--葷食國小'!J23 -> 糙米飯 | D6: ='A案--葷食國小'!AA23 -> 米 糙米 | E6: ='A案--葷食國小'!M23 -> 醬瓜燒雞 | F6: ='A案--葷食國小'!AB23 -> 肉雞 醃漬花胡瓜 大蒜 | G6: ='A案--葷食國小'!P23 -> 毛豆白菜 | H6: ='A案--葷食國小'!AC23 -> 結球白菜 冷凍毛豆仁 胡蘿蔔 大蒜 | I6: ='A案--葷食國小'!S23 -> 時蔬 | J6: ='A案--葷食國小'!AD23 -> 蔬菜 大蒜 | K6: ='A案--葷食國小'!V23 -> 海芽蛋花湯 | L6: ='A案--葷食國小'!AE23 -> 乾海帶 雞蛋 薑 | M6: 醬燒肉包 | N6: ='A案--葷食國小'!C23 -> 5 | O6: ='A案--葷食國小'!D23 -> 2.5 | P6: ='A案--葷食國小'!E23 -> 1.7 | Q6: ='A案--葷食國小'!F23 -> 3 | R6: ='A案--葷食國小'!G23 -> 0 | S6: ='A案--葷食國小'!H23 -> 0 | T6: ='A案--葷食國小'!I23 -> 715
A7: 4月12日 | B7: ='A案--葷食國小'!B29 -> j3 | C7: ='A案--葷食國小'!J29 -> 刈包特餐 | D7: ='A案--葷食國小'!AA29 -> 刈包 | E7: ='A案--葷食國小'!M29 -> 香滷肉排 | F7: ='A案--葷食國小'!AB29 -> 肉排 滷包 | G7: ='A案--葷食國小'!P29 -> 酸菜麵腸 | H7: ='A案--葷食國小'!AC29 -> 酸菜 麵腸 大蒜 | I7: ='A案--葷食國小'!S29 -> 時蔬 | J7: ='A案--葷食國小'!AD29 -> 蔬菜 大蒜 | K7: ='A案--葷食國小'!V29 -> 糙米粥 | L7: ='A案--葷食國小'!AE29 -> 雞蛋 糙米 胡蘿蔔 乾香菇 時瓜 | M7: 水果升級 | N7: ='A案--葷食國小'!C29 -> 3.3 | O7: ='A案--葷食國小'!D29 -> 2.8 | P7: ='A案--葷食國小'!E29 -> 1.3 | Q7: ='A案--葷食國小'!F29 -> 3 | R7: ='A案--葷食國小'!G29 -> 0 | S7: ='A案--葷食國小'!H29 -> 0 | T7: ='A案--葷食國小'!I29 -> 608.5
A8: 4月13日 | B8: ='A案--葷食國小'!B35 -> j4 | C8: ='A案--葷食國小'!J35 -> 糙米飯 | D8: ='A案--葷食國小'!AA35 -> 米 糙米 | E8: ='A案--葷食國小'!M35 -> 豆瓣魚丁 | F8: ='A案--葷食國小'!AB35 -> 鮮魚丁 白蘿蔔 胡蘿蔔 大蒜 豆瓣醬 | G8: ='A案--葷食國小'!P35 -> 筍干油腐 | H8: ='A案--葷食國小'!AC35 -> 麻竹筍干 四角油豆腐 大蒜 | I8: ='A案--葷食國小'!S35 -> 時蔬 | J8: ='A案--葷食國小'!AD35 -> 蔬菜 大蒜 | K8: ='A案--葷食國小'!V35 -> 仙草甜湯 | L8: ='A案--葷食國小'!AE35 -> 仙草凍 二砂糖 | M8: 地瓜包 | N8: ='A案--葷食國小'!C35 -> 5 | O8: ='A案--葷食國小'!D35 -> 2.4 | P8: ='A案--葷食國小'!E35 -> 1.3 | Q8: ='A案--葷食國小'!F35 -> 3 | R8: ='A案--葷食國小'!G35 -> 0 | S8: ='A案--葷食國小'!H35 -> 0 | T8: ='A案--葷食國小'!I35 -> 697.5
A9: 4月14日 | B9: ='A案--葷食國小'!B41 -> j5 | C9: ='A案--葷食國小'!J41 -> 芝麻飯 | D9: ='A案--葷食國小'!AA41 -> 米 芝麻(熟) | E9: ='A案--葷食國小'!M41 -> 泡菜燒肉 | F9: ='A案--葷食國小'!AB41 -> 豬後腿肉 韓式泡菜 甘藍 大蒜 | G9: ='A案--葷食國小'!P41 -> 魚香豆干 | H9: ='A案--葷食國小'!AC41 -> 小魚干 豆干 油花生 大蒜 | I9: ='A案--葷食國小'!S41 -> 時蔬 | J9: ='A案--葷食國小'!AD41 -> 蔬菜 大蒜 | K9: ='A案--葷食國小'!V41 -> 冬瓜湯 | L9: ='A案--葷食國小'!AE41 -> 冬瓜 薑 大骨 | M9: 紅豆包 | N9: ='A案--葷食國小'!C41 -> 5 | O9: ='A案--葷食國小'!D41 -> 2.7 | P9: ='A案--葷食國小'!E41 -> 2.2 | Q9: ='A案--葷食國小'!F41 -> 3.2 | R9: ='A案--葷食國小'!G41 -> 0 | S9: ='A案--葷食國小'!H41 -> 0 | T9: ='A案--葷食國小'!I41 -> 751.5
A10: 4月17日 | B10: ='A案--葷食國小'!B47 -> k1 | C10: ='A案--葷食國小'!J47 -> 白米飯 | D10: ='A案--葷食國小'!AA47 -> 米 | E10: ='A案--葷食國小'!M47 -> 紅燒雞翅 | F10: ='A案--葷食國小'!AB47 -> 三節翅 滷包 | G10: ='A案--葷食國小'!P47 -> 鮮菇豆腐 | H10: ='A案--葷食國小'!AC47 -> 豆腐 金針菇 乾香菇 大蒜 胡蘿蔔 | I10: ='A案--葷食國小'!S47 -> 時蔬 | J10: ='A案--葷食國小'!AD47 -> 蔬菜 大蒜 | K10: ='A案--葷食國小'!V47 -> 味噌湯 | L10: ='A案--葷食國小'!AE47 -> 乾裙帶菜 味噌 薑 柴魚片 | M10: 果汁 | N10: ='A案--葷食國小'!C47 -> 5 | O10: ='A案--葷食國小'!D47 -> 2.8 | P10: ='A案--葷食國小'!E47 -> 1 | Q10: ='A案--葷食國小'!F47 -> 1.9 | R10: ='A案--葷食國小'!G47 -> 0 | S10: ='A案--葷食國小'!H47 -> 0 | T10: ='A案--葷食國小'!I47 -> 670.5
A11: 4月18日 | B11: ='A案--葷食國小'!B53 -> k2 | C11: ='A案--葷食國小'!J53 -> 糙米飯 | D11: ='A案--葷食國小'!AA53 -> 米 糙米 | E11: ='A案--葷食國小'!M53 -> 咖哩鮮魚 | F11: ='A案--葷食國小'!AB53 -> 鮮魚丁 馬鈴薯 洋蔥 胡蘿蔔 咖哩粉 | G11: ='A案--葷食國小'!P53 -> 蛋香刈薯 | H11: ='A案--葷食國小'!AC53 -> 雞蛋 刈薯 大蒜 | I11: ='A案--葷食國小'!S53 -> 時蔬 | J11: ='A案--葷食國小'!AD53 -> 蔬菜 大蒜 | K11: ='A案--葷食國小'!V53 -> 金針湯 | L11: ='A案--葷食國小'!AE53 -> 金針菜乾 榨菜 薑 大骨 | M11: 奶皇包 | N11: ='A案--葷食國小'!C53 -> 5.4 | O11: ='A案--葷食國小'!D53 -> 2.1 | P11: ='A案--葷食國小'!E53 -> 1.4 | Q11: ='A案--葷食國小'!F53 -> 1.8 | R11: ='A案--葷食國小'!G53 -> 0 | S11: ='A案--葷食國小'!H53 -> 0 | T11: ='A案--葷食國小'!I53 -> 651.5
A12: 4月19日 | B12: ='A案--葷食國小'!B59 -> k3 | C12: ='A案--葷食國小'!J59 -> 泰式特餐 | D12: ='A案--葷食國小'!AA59 -> 米 糙米 | E12: ='A案--葷食國小'!M59 -> 打拋豬 | F12: ='A案--葷食國小'!AB59 -> 豬絞肉 洋蔥 打拋醬 魚露 大蒜 | G12: ='A案--葷食國小'!P59 -> 泰式魚丸 | H12: ='A案--葷食國小'!AC59 -> 魚丸 泰式酸辣醬 | I12: ='A案--葷食國小'!S59 -> 時蔬 | J12: ='A案--葷食國小'!AD59 -> 蔬菜 大蒜 | K12: ='A案--葷食國小'!V59 -> 冬蔭功湯 | L12: ='A案--葷食國小'!AE59 -> 秀珍菇 大番茄 大骨 檸檬 香茅 | M12: 水果升級 | N12: ='A案--葷食國小'!C59 -> 5.5 | O12: ='A案--葷食國小'!D59 -> 2.6 | P12: ='A案--葷食國小'!E59 -> 1.4 | Q12: ='A案--葷食國小'!F59 -> 2 | R12: ='A案--葷食國小'!G59 -> 0 | S12: ='A案--葷食國小'!H59 -> 0 | T12: ='A案--葷食國小'!I59 -> 705
A13: 4月20日 | B13: ='A案--葷食國小'!B65 -> k4 | C13: ='A案--葷食國小'!J65 -> 糙米飯 | D13: ='A案--葷食國小'!AA65 -> 米 糙米 | E13: ='A案--葷食國小'!M65 -> 豆瓣雞丁 | F13: ='A案--葷食國小'!AB65 -> 肉雞 豆薯 胡蘿蔔 大蒜 | G13: ='A案--葷食國小'!P65 -> 肉絲豆芽 | H13: ='A案--葷食國小'!AC65 -> 豬後腿肉 綠豆芽 韮菜 乾木耳 大蒜 | I13: ='A案--葷食國小'!S65 -> 時蔬 | J13: ='A案--葷食國小'!AD65 -> 蔬菜 大蒜 | K13: ='A案--葷食國小'!V65 -> 綠豆湯 | L13: ='A案--葷食國小'!AE65 -> 綠豆 二砂糖 | M13: 餡餅 | N13: ='A案--葷食國小'!C65 -> 5.8 | O13: ='A案--葷食國小'!D65 -> 2.5 | P13: ='A案--葷食國小'!E65 -> 1.7 | Q13: ='A案--葷食國小'!F65 -> 2.1 | R13: ='A案--葷食國小'!G65 -> 0 | S13: ='A案--葷食國小'!H65 -> 0 | T13: ='A案--葷食國小'!I65 -> 730.5
A14: 4月21日 | B14: ='A案--葷食國小'!B71 -> k5 | C14: ='A案--葷食國小'!J71 -> 紅藜飯 | D14: ='A案--葷食國小'!AA71 -> 米 紅藜 | E14: ='A案--葷食國小'!M71 -> 壽喜燒肉 | F14: ='A案--葷食國小'!AB71 -> 豬後腿肉 結球白菜 胡蘿蔔 大蒜 | G14: ='A案--葷食國小'!P71 -> 紅蔘炒蛋 | H14: ='A案--葷食國小'!AC71 -> 雞蛋 胡蘿蔔 大蒜 | I14: ='A案--葷食國小'!S71 -> 時蔬 | J14: ='A案--葷食國小'!AD71 -> 蔬菜 大蒜 | K14: ='A案--葷食國小'!V71 -> 時瓜湯 | L14: ='A案--葷食國小'!AE71 -> 時瓜 薑 大骨 | M14: 保久乳 | N14: ='A案--葷食國小'!C71 -> 5 | O14: ='A案--葷食國小'!D71 -> 2.2 | P14: ='A案--葷食國小'!E71 -> 2.1 | Q14: ='A案--葷食國小'!F71 -> 2.2 | R14: ='A案--葷食國小'!G71 -> 0 | S14: ='A案--葷食國小'!H71 -> 0 | T14: ='A案--葷食國小'!I71 -> 666.5
A15: 4月24日 | B15: ='A案--葷食國小'!B77 -> l1 | C15: ='A案--葷食國小'!J77 -> 白米飯 | D15: ='A案--葷食國小'!AA77 -> 米 | E15: ='A案--葷食國小'!M77 -> 花生絞肉 | F15: ='A案--葷食國小'!AB77 -> 豬絞肉 油花生 麵筋 大蒜 胡蘿蔔 | G15: ='A案--葷食國小'!P77 -> 豆包甘藍 | H15: ='A案--葷食國小'!AC77 -> 豆包 甘藍 乾香菇 大蒜 | I15: ='A案--葷食國小'!S77 -> 時蔬 | J15: ='A案--葷食國小'!AD77 -> 蔬菜 大蒜 | K15: ='A案--葷食國小'!V77 -> 豆漿 | L15: ='A案--葷食國小'!AE77 -> 豆漿 | M15: 豆漿 | N15: ='A案--葷食國小'!C77 -> 5 | O15: ='A案--葷食國小'!D77 -> 2.5 | P15: ='A案--葷食國小'!E77 -> 1.7 | Q15: ='A案--葷食國小'!F77 -> 2.5 | R15: ='A案--葷食國小'!G77 -> 0 | S15: ='A案--葷食國小'!H77 -> 0 | T15: ='A案--葷食國小'!I77 -> 692.5
A16: 4月25日 | B16: ='A案--葷食國小'!B83 -> l2 | C16: ='A案--葷食國小'!J83 -> 糙米飯 | D16: ='A案--葷食國小'!AA83 -> 米 糙米 | E16: ='A案--葷食國小'!M83 -> 椒鹽魚排 | F16: ='A案--葷食國小'!AB83 -> 魚排 胡椒鹽 | G16: ='A案--葷食國小'!P83 -> 蛋香季豆 | H16: ='A案--葷食國小'!AC83 -> 雞蛋 冷凍菜豆(莢) 胡蘿蔔 大蒜 | I16: ='A案--葷食國小'!S83 -> 時蔬 | J16: ='A案--葷食國小'!AD83 -> 蔬菜 大蒜 | K16: ='A案--葷食國小'!V83 -> 時蔬湯 | L16: ='A案--葷食國小'!AE83 -> 時蔬 薑 大骨 | M16: 紅豆包 | N16: ='A案--葷食國小'!C83 -> 5 | O16: ='A案--葷食國小'!D83 -> 1.8 | P16: ='A案--葷食國小'!E83 -> 1.5 | Q16: ='A案--葷食國小'!F83 -> 2.5 | R16: ='A案--葷食國小'!G83 -> 0 | S16: ='A案--葷食國小'!H83 -> 0 | T16: ='A案--葷食國小'!I83 -> 635
A17: 4月26日 | B17: ='A案--葷食國小'!B89 -> l3 | C17: ='A案--葷食國小'!J89 -> 西式特餐 | D17: ='A案--葷食國小'!AA89 -> 麵條 | E17: ='A案--葷食國小'!M89 -> 茄汁肉醬 | F17: ='A案--葷食國小'!AB89 -> 豬絞肉 馬鈴薯 洋蔥 蕃茄醬 | G17: ='A案--葷食國小'!P89 -> 清炒花椰 | H17: ='A案--葷食國小'!AC89 -> 冷凍花椰菜 胡蘿蔔 大蒜 | I17: ='A案--葷食國小'!S89 -> 時蔬 | J17: ='A案--葷食國小'!AD89 -> 蔬菜 大蒜 | K17: ='A案--葷食國小'!V89 -> 南瓜濃湯 | L17: ='A案--葷食國小'!AE89 -> 雞蛋 南瓜 毛豆 濃湯調理包 | M17: 水果升級 | N17: ='A案--葷食國小'!C89 -> 5.3 | O17: ='A案--葷食國小'!D89 -> 2 | P17: ='A案--葷食國小'!E89 -> 1.6 | Q17: ='A案--葷食國小'!F89 -> 2.5 | R17: ='A案--葷食國小'!G89 -> 0 | S17: ='A案--葷食國小'!H89 -> 0 | T17: ='A案--葷食國小'!I89 -> 673.5
A18: 4月27日 | B18: ='A案--葷食國小'!B95 -> l4 | C18: ='A案--葷食國小'!J95 -> 糙米飯 | D18: ='A案--葷食國小'!AA95 -> 米 糙米 | E18: ='A案--葷食國小'!M95 -> 回鍋肉片 | F18: ='A案--葷食國小'!AB95 -> 豬後腿肉 洋蔥 胡蘿蔔 大蒜 | G18: ='A案--葷食國小'!P95 -> 香滷凍腐 | H18: ='A案--葷食國小'!AC95 -> 凍豆腐 白蘿蔔 胡蘿蔔 大蒜 | I18: ='A案--葷食國小'!S95 -> 時蔬 | J18: ='A案--葷食國小'!AD95 -> 蔬菜 大蒜 | K18: ='A案--葷食國小'!V95 -> 粉圓甜湯 | L18: ='A案--葷食國小'!AE95 -> 粉圓 二砂糖 | M18: 銀絲卷 | N18: ='A案--葷食國小'!C95 -> 6 | O18: ='A案--葷食國小'!D95 -> 2 | P18: ='A案--葷食國小'!E95 -> 1.5 | Q18: ='A案--葷食國小'!F95 -> 2.5 | R18: ='A案--葷食國小'!G95 -> 0 | S18: ='A案--葷食國小'!H95 -> 0 | T18: ='A案--葷食國小'!I95 -> 720
A19: 4月28日 | B19: ='A案--葷食國小'!B101 -> l5 | C19: ='A案--葷食國小'!J101 -> 小米飯 | D19: ='A案--葷食國小'!AA101 -> 米 小米 | E19: ='A案--葷食國小'!M101 -> 照燒雞 | F19: ='A案--葷食國小'!AB101 -> 肉雞 洋蔥 胡蘿蔔 醬油 二砂糖 | G19: ='A案--葷食國小'!P101 -> 雪菜豆干 | H19: ='A案--葷食國小'!AC101 -> 豆干 雪裡蕻 大蒜 | I19: ='A案--葷食國小'!S101 -> 時蔬 | J19: ='A案--葷食國小'!AD101 -> 蔬菜 大蒜 | K19: ='A案--葷食國小'!V101 -> 海芽湯 | L19: ='A案--葷食國小'!AE101 -> 乾裙帶菜 薑 柴魚片 | M19: 餡餅 | N19: ='A案--葷食國小'!C101 -> 5.2 | O19: ='A案--葷食國小'!D101 -> 2.8 | P19: ='A案--葷食國小'!E101 -> 1.5 | Q19: ='A案--葷食國小'!F101 -> 2.5 | R19: ='A案--葷食國小'!G101 -> 0 | S19: ='A案--葷食國小'!H101 -> 0 | T19: ='A案--葷食國小'!I101 -> 724
B22: 過敏警語:「本月產品含有蛋、芝麻、含麩之穀物、花生、大豆、魚類、亞硫酸鹽類及其相關製品，不適合其過敏體質者食用」

Sheet f-j素食國中
A1: 要修正正確數值 | I1: 僅需貼上食材明細和重量，"公斤"和下一個分頁循環就會自己跑出來
A2: 食材明細（食材重量以100人份計量，營養分析以個人計量,其中肉雞包含23%骨頭之採購量，每周供應特餐一次，當日得混搭供應，國中4菜1湯，國小3菜1湯） | AB2: 統整區的檔案，連動到上方循環，後續給教育處的檔案，此處請自行隱藏
A3: 111學年度下學期國民中學112年4月份素食菜單 (A案)
A4: 日期 | B4: 循環 | C4: 穀/份 | D4: 豆/份 | E4: 蔬/份 | F4: 油/份 | G4: 乳/份 | H4: 果/份 | I4: 熱量 | J4: 主食 | K4: 重/kg | L4: 公斤 | M4: 主菜 | N4: 重/kg | O4: 公斤 | P4: 副菜一 | Q4: 重/kg | R4: 公斤 | S4: 副菜二 | T4: 重/kg | U4: 公斤 | V4: 蔬菜 | W4: 重/kg | X4: 公斤 | Y4: 湯品 | Z4: 重/kg | AA4: 公斤 | AC4: 主食 | AD4: 主菜 | AE4: 副菜一 | AF4: 副菜二 | AG4: 蔬菜 | AH4: 湯品
A5: 4/6 星期四 | B5: i4 | C5: 5.3 | D5: 2.6 | E5: 2.5 | F5: 3.1 | G5: 0 | H5: 0 | I5: 738 | J5: 糙米飯 | M5: 咖哩豆干 | P5: 火腿玉菜 | S5: 若絲季豆 | V5: 時蔬 | Y5: 花豆甜湯 | AB5: =B5 -> i4 | AC5: =J6&" "&J7&" "&J8&" "&J9&" "&J10 -> 米 糙米 | AD5: =M6&" "&M7&" "&M8&" "&M9&" "&M10 -> 豆干 馬鈴薯 胡蘿蔔 芹菜 咖哩粉 | AE5: =P6&" "&P7&" "&P8&" "&P9&" "&P10 -> 甘藍 火腿 薑 | AF5: =S6&" "&S7&" "&S8&" "&S9&" "&S10 -> 素肉 冷凍菜豆(莢) 薑 | AG5: =V6&" "&V7&" "&V8&" "&V9&" "&V10 -> 蔬菜 薑 | AH5: =Y6&" "&Y7&" "&Y8&" "&Y9&" "&Y10 -> 花豆 二砂糖
J6: 米 | K6: 7 | L6: =IF(K6,"公斤","") -> 公斤 | M6: 豆干 | N6: 7 | O6: =IF(N6,"公斤","") -> 公斤 | P6: 甘藍 | Q6: 5 | R6: =IF(Q6,"公斤","") -> 公斤 | S6: 素肉 | T6: 0.6 | U6: =IF(T6,"公斤","") -> 公斤 | V6: 蔬菜 | W6: 7 | X6: =IF(W6,"公斤","") -> 公斤 | Y6: 花豆 | Z6: 2 | AA6: =IF(Z6,"公斤","") -> 公斤
J7: 糙米 | K7: 3 | L7: =IF(K7,"公斤","") -> 公斤 | M7: 馬鈴薯 | N7: 2 | O7: =IF(N7,"公斤","") -> 公斤 | P7: 火腿 | Q7: 1 | R7: =IF(Q7,"公斤","") -> 公斤 | S7: 冷凍菜豆(莢) | T7: 5 | U7: =IF(T7,"公斤","") -> 公斤 | V7: 薑 | W7: 0.05 | X7: =IF(W7,"公斤","") -> 公斤 | Y7: 二砂糖 | Z7: 1 | AA7: =IF(Z7,"公斤","") -> 公斤
L8: =IF(K8,"公斤","") | M8: 胡蘿蔔 | N8: 0.5 | O8: =IF(N8,"公斤","") -> 公斤 | P8: 薑 | Q8: 0.05 | R8: =IF(Q8,"公斤","") -> 公斤 | S8: 薑 | T8: 0.05 | U8: =IF(T8,"公斤","") -> 公斤 | X8: =IF(W8,"公斤","") | AA8: =IF(Z8,"公斤","") | AE8: 6
L9: =IF(K9,"公斤","") | M9: 芹菜 | N9: 1 | O9: =IF(N9,"公斤","") -> 公斤 | R9: =IF(Q9,"公斤","") | U9: =IF(T9,"公斤","") | X9: =IF(W9,"公斤","") | AA9: =IF(Z9,"公斤","")
L10: =IF(K10,"公斤","") | M10: 咖哩粉 | O10: =IF(N10,"公斤","") | R10: =IF(Q10,"公斤","") | U10: =IF(T10,"公斤","") | X10: =IF(W10,"公斤","") | AA10: =IF(Z10,"公斤","")
A11: 4/7 星期五 | B11: i5 | C11: 5.5 | D11: 2.8 | E11: 1.8 | F11: 3 | G11: 0 | H11: 0 | I11: 763 | J11: 燕麥飯 | M11: 筍干麵輪 | P11: 蛋香豆薯 | S11: 蔬菜佃煮 | V11: 時蔬 | Y11: 味噌豆皮湯 | AB11: =B11 -> i5 | AC11: =J12&" "&J13&" "&J14&" "&J15&" "&J16 -> 米 燕麥 | AD11: =M12&" "&M13&" "&M14&" "&M15&" "&M16 -> 麵輪 麻竹筍干 薑 | AE11: =P12&" "&P13&" "&P14&" "&P15&" "&P16 -> 雞蛋 豆薯 薑 胡蘿蔔 | AF11: =S12&" "&S13&" "&S14&" "&S15&" "&S16 -> 白蘿蔔 四角油豆腐 甜玉米 味醂 | AG11: =V12&" "&V13&" "&V14&" "&V15&" "&V16 -> 蔬菜 薑 | AH11: =Y12&" "&Y13&" "&Y14&" "&Y15&" "&Y16 -> 豆皮 味噌
J12: 米 | K12: 10 | L12: =IF(K12,"公斤","") -> 公斤 | M12: 麵輪 | N12: 3.5 | O12: =IF(N12,"公斤","") -> 公斤 | P12: 雞蛋 | Q12: 5.5 | R12: =IF(Q12,"公斤","") -> 公斤 | S12: 白蘿蔔 | T12: 3 | U12: =IF(T12,"公斤","") -> 公斤 | V12: 蔬菜 | W12: 7 | X12: =IF(W12,"公斤","") -> 公斤 | Y12: 豆皮 | Z12: 0.3 | AA12: =IF(Z12,"公斤","") -> 公斤
J13: 燕麥 | K13: 0.4 | L13: =IF(K13,"公斤","") -> 公斤 | M13: 麻竹筍干 | N13: 2 | O13: =IF(N13,"公斤","") -> 公斤 | P13: 豆薯 | Q13: 5 | R13: =IF(Q13,"公斤","") -> 公斤 | S13: 四角油豆腐 | T13: 3 | U13: =IF(T13,"公斤","") -> 公斤 | V13: 薑 | W13: 0.05 | X13: =IF(W13,"公斤","") -> 公斤 | Y13: 味噌 | Z13: 0.6 | AA13: =IF(Z13,"公斤","") -> 公斤 | AE13: 7
L14: =IF(K14,"公斤","") | M14: 薑 | N14: 0.05 | O14: =IF(N14,"公斤","") -> 公斤 | P14: 薑 | Q14: 0.05 | R14: =IF(Q14,"公斤","") -> 公斤 | S14: 甜玉米 | T14: 3 | U14: =IF(T14,"公斤","") -> 公斤 | X14: =IF(W14,"公斤","") | AA14: =IF(Z14,"公斤","")
L15: =IF(K15,"公斤","") | O15: =IF(N15,"公斤","") | P15: 胡蘿蔔 | Q15: 0.5 | R15: =IF(Q15,"公斤","") -> 公斤 | S15: 味醂 | T15: 0.01 | U15: =IF(T15,"公斤","") -> 公斤 | X15: =IF(W15,"公斤","") | AA15: =IF(Z15,"公斤","")
L16: =IF(K16,"公斤","") | O16: =IF(N16,"公斤","") | R16: =IF(Q16,"公斤","") | U16: =IF(T16,"公斤","") | X16: =IF(W16,"公斤","") | AA16: =IF(Z16,"公斤","")
A17: 4/10 星期一 | B17: j1 | C17: 5.3 | D17: 3.1 | E17: 1.9 | F17: 3.2 | G17: 0 | H17: 0 | I17: 750 | J17: 白米飯 | M17: 茄汁凍腐 | P17: 塔香炒蛋 | S17: 絞若豆芽 | V17: 時蔬 | Y17: 金針湯 | AB17: =B17 -> j1 | AC17: =J18&" "&J19&" "&J20&" "&J21&" "&J22 -> 米 | AD17: =M18&" "&M19&" "&M20&" "&M21&" "&M22 -> 凍豆腐 馬鈴薯 大番茄 薑 番茄醬 | AE17: =P18&" "&P19&" "&P20&" "&P21&" "&P22 -> 雞蛋 九層塔 薑 鮮香菇 | AF17: =S18&" "&S19&" "&S20&" "&S21&" "&S22 -> 綠豆芽 素肉 胡蘿蔔 薑 | AG17: =V18&" "&V19&" "&V20&" "&V21&" "&V22 -> 蔬菜 薑 | AH17: =Y18&" "&Y19&" "&Y20&" "&Y21&" "&Y22 -> 金針菜乾 薑 榨菜
J18: 米 | K18: 10 | L18: =IF(K18,"公斤","") -> 公斤 | M18: 凍豆腐 | N18: 8 | O18: =IF(N18,"公斤","") -> 公斤 | P18: 雞蛋 | Q18: 5.5 | R18: =IF(Q18,"公斤","") -> 公斤 | S18: 綠豆芽 | T18: 5 | U18: =IF(T18,"公斤","") -> 公斤 | V18: 蔬菜 | W18: 7 | X18: =IF(W18,"公斤","") -> 公斤 | Y18: 金針菜乾 | Z18: 0.1 | AA18: =IF(Z18,"公斤","") -> 公斤
L19: =IF(K19,"公斤","") | M19: 馬鈴薯 | N19: 1 | O19: =IF(N19,"公斤","") -> 公斤 | P19: 九層塔 | Q19: 0.02 | R19: =IF(Q19,"公斤","") -> 公斤 | S19: 素肉 | T19: 0.6 | U19: =IF(T19,"公斤","") -> 公斤 | V19: 薑 | W19: 0.05 | X19: =IF(W19,"公斤","") -> 公斤 | Y19: 薑 | Z19: 0.05 | AA19: =IF(Z19,"公斤","") -> 公斤
L20: =IF(K20,"公斤","") | M20: 大番茄 | N20: 1 | O20: =IF(N20,"公斤","") -> 公斤 | P20: 薑 | Q20: 0.05 | R20: =IF(Q20,"公斤","") -> 公斤 | S20: 胡蘿蔔 | T20: 0.5 | U20: =IF(T20,"公斤","") -> 公斤 | X20: =IF(W20,"公斤","") | Y20: 榨菜 | Z20: 1 | AA20: =IF(Z20,"公斤","") -> 公斤 | AE20: 10
L21: =IF(K21,"公斤","") | M21: 薑 | N21: 0.05 | O21: =IF(N21,"公斤","") -> 公斤 | P21: 鮮香菇 | Q21: 1 | R21: =IF(Q21,"公斤","") -> 公斤 | S21: 薑 | T21: 0.05 | U21: =IF(T21,"公斤","") -> 公斤 | X21: =IF(W21,"公斤","") | AA21: =IF(Z21,"公斤","")
L22: =IF(K22,"公斤","") | M22: 番茄醬 | O22: =IF(N22,"公斤","") | R22: =IF(Q22,"公斤","") | U22: =IF(T22,"公斤","") | X22: =IF(W22,"公斤","") | AA22: =IF(Z22,"公斤","")
A23: 4/11 星期二 | B23: j2 | C23: 5 | D23: 2.7 | E23: 2.3 | F23: 3 | G23: 0 | H23: 0 | I23: 715 | J23: 糙米飯 | M23: 醬瓜豆干 | P23: 毛豆白菜 | S23: 清炒花椰 | V23: 時蔬 | Y23: 海芽蛋花湯 | AB23: =B23 -> j2 | AC23: =J24&" "&J25&" "&J26&" "&J27&" "&J28 -> 米 糙米 | AD23: =M24&" "&M25&" "&M26&" "&M27&" "&M28 -> 豆干 醃漬花胡瓜 薑 | AE23: =P24&" "&P25&" "&P26&" "&P27&" "&P28 -> 結球白菜 冷凍毛豆仁 胡蘿蔔 薑 | AF23: =S24&" "&S25&" "&S26&" "&S27&" "&S28 -> 冷凍花椰菜 胡蘿蔔 薑 素肉 | AG23: =V24&" "&V25&" "&V26&" "&V27&" "&V28 -> 蔬菜 薑 | AH23: =Y24&" "&Y25&" "&Y26&" "&Y27&" "&Y28 -> 乾海帶 雞蛋 薑
J24: 米 | K24: 7 | L24: =IF(K24,"公斤","") -> 公斤 | M24: 豆干 | N24: 6 | O24: =IF(N24,"公斤","") -> 公斤 | P24: 結球白菜 | Q24: 4 | R24: =IF(Q24,"公斤","") -> 公斤 | S24: 冷凍花椰菜 | T24: 6 | U24: =IF(T24,"公斤","") -> 公斤 | V24: 蔬菜 | W24: 7 | X24: =IF(W24,"公斤","") -> 公斤 | Y24: 乾海帶 | Z24: 0.1 | AA24: =IF(Z24,"公斤","") -> 公斤
J25: 糙米 | K25: 3 | L25: =IF(K25,"公斤","") -> 公斤 | M25: 醃漬花胡瓜 | N25: 2 | O25: =IF(N25,"公斤","") -> 公斤 | P25: 冷凍毛豆仁 | Q25: 1.5 | R25: =IF(Q25,"公斤","") -> 公斤 | S25: 胡蘿蔔 | T25: 0.5 | U25: =IF(T25,"公斤","") -> 公斤 | V25: 薑 | W25: 0.05 | X25: =IF(W25,"公斤","") -> 公斤 | Y25: 雞蛋 | Z25: 1 | AA25: =IF(Z25,"公斤","") -> 公斤 | AE25: 11
L26: =IF(K26,"公斤","") | M26: 薑 | N26: 0.05 | O26: =IF(N26,"公斤","") -> 公斤 | P26: 胡蘿蔔 | Q26: 0.5 | R26: =IF(Q26,"公斤","") -> 公斤 | S26: 薑 | T26: 0.05 | U26: =IF(T26,"公斤","") -> 公斤 | X26: =IF(W26,"公斤","") | Y26: 薑 | Z26: 0.05 | AA26: =IF(Z26,"公斤","") -> 公斤
L27: =IF(K27,"公斤","") | O27: =IF(N27,"公斤","") | P27: 薑 | Q27: 0.05 | R27: =IF(Q27,"公斤","") -> 公斤 | S27: 素肉 | T27: 0.6 | U27: =IF(T27,"公斤","") -> 公斤 | X27: =IF(W27,"公斤","") | AA27: =IF(Z27,"公斤","")
L28: =IF(K28,"公斤","") | O28: =IF(N28,"公斤","") | R28: =IF(Q28,"公斤","") | U28: =IF(T28,"公斤","") | X28: =IF(W28,"公斤","") | AA28: =IF(Z28,"公斤","")
