Workbook

Sheet A案--葷食國中
A1: 要修正正確數值 | J1: 僅需貼上食材明細和重量，"公斤"和下一個分頁循環就會自己跑出來
A2: 111學年度下學期國民中學112年4月份葷食菜單 (A案)
A3: 食材明細（食材重量以100人份計量，營養分析以個人計量,其中肉雞包含23%骨頭之採購量，每周供應特餐一次，當日得混搭供應，國中4菜1湯，國小3菜1湯） | W3: 統整區的檔案，連動到上方循環，後續給教育處的檔案，此處請自行隱藏
A4: 日期 | B4: 循環 | C4: 穀/份 | D4: 豆/份 | E4: 蔬/份 | F4: 油/份 | G4: 乳/份 | H4: 果/份 | I4: 熱量 | J4: 主食 | K4: 重/kg | L4: 主菜 | M4: 重/kg | N4: 副菜一 | O4: 重/kg | P4: 副菜二 | Q4: 重/kg | R4: 蔬菜 | S4: 重/kg | T4: 湯品 | U4: 重/kg | Y4: 主食 | Z4: 主菜 | AA4: 副菜一 | AB4: 副菜二 | AC4: 蔬菜 | AD4: 湯品
A5: 4/6 星期四 | B5: i4 | C5: 5.3 | D5: 2.6 | E5: 2.5 | F5: 3.1 | G5: 0 | H5: 0 | I5: 738 | J5: 糙米飯 | L5: 咖哩絞肉 | N5: 火腿玉菜 | P5: 肉絲季豆 | R5: 時蔬 | T5: 花豆甜湯 | W5: =B5 -> i4 | Y5: =J6&" "&J7&" "&J8&" "&J9&" "&J10 -> 米 糙米 | Z5: =L6&" "&L7&" "&L8&" "&L9&" "&L10 -> 豬絞肉 馬鈴薯 胡蘿蔔 洋蔥 咖哩粉 | AA5: =N6&" "&N7&" "&N8&" "&N9&" "&N10 -> 甘藍 火腿 大蒜 | AB5: =P6&" "&P7&" "&P8&" "&P9&" "&P10 -> 豬後腿肉 冷凍菜豆(莢) 大蒜 | AC5: =R6&" "&R7&" "&R8&" "&R9&" "&R10 -> 蔬菜 大蒜 | AD5: =T6&" "&T7&" "&T8&" "&T9&" "&T10 -> 花豆 二砂糖
J6: 米 | K6: 7 | L6: 豬絞肉 | M6: 6 | N6: 甘藍 | O6: 7 | P6: 豬後腿肉 | Q6: 0.6 | R6: 蔬菜 | S6: 7 | T6: 花豆 | U6: 2
J7: 糙米 | K7: 3 | L7: 馬鈴薯 | M7: 2 | N7: 火腿 | O7: 0.5 | P7: 冷凍菜豆(莢) | Q7: 5 | R7: 大蒜 | S7: 0.05 | T7: 二砂糖 | U7: 1
L8: 胡蘿蔔 | M8: 0.5 | N8: 大蒜 | O8: 0.05 | P8: 大蒜 | Q8: 0.05 | AA8: 6
L9: 洋蔥 | M9: 1
L10: 咖哩粉
A11: 4/7 星期五 | B11: i5 | C11: 5.5 | D11: 2.8 | E11: 1.8 | F11: 3 | G11: 0 | H11: 0 | I11: 763 | J11: 燕麥飯 | L11: 筍干燒肉 | N11: 蛋香豆薯 | P11: 蔬菜佃煮 | R11: 時蔬 | T11: 味噌豆皮湯 | W11: =B11 -> i5 | Y11: =J12&" "&J13&" "&J14&" "&J15&" "&J16 -> 米 燕麥 | Z11: =L12&" "&L13&" "&L14&" "&L15&" "&L16 -> 豬後腿肉 麻竹筍干 大蒜 | AA11: =N12&" "&N13&" "&N14&" "&N15&" "&N16 -> 雞蛋 豆薯 大蒜 胡蘿蔔 | AB11: =P12&" "&P13&" "&P14&" "&P15&" "&P16 -> 白蘿蔔 四角油豆腐 甜玉米 味醂 | AC11: =R12&" "&R13&" "&R14&" "&R15&" "&R16 -> 蔬菜 大蒜 | AD11: =T12&" "&T13&" "&T14&" "&T15&" "&T16 -> 豆皮 味噌 柴魚片
J12: 米 | K12: 10 | L12: 豬後腿肉 | M12: 6 | N12: 雞蛋 | O12: 1.2 | P12: 白蘿蔔 | Q12: 3 | R12: 蔬菜 | S12: 7 | T12: 豆皮 | U12: 0.3
J13: 燕麥 | K13: 0.4 | L13: 麻竹筍干 | M13: 3 | N13: 豆薯 | O13: 5 | P13: 四角油豆腐 | Q13: 3 | R13: 大蒜 | S13: 0.05 | T13: 味噌 | U13: 0.6
L14: 大蒜 | M14: 0.05 | N14: 大蒜 | O14: 0.05 | P14: 甜玉米 | Q14: 3 | T14: 柴魚片 | U14: 0.01 | AA14: 7
N15: 胡蘿蔔 | O15: 0.5 | P15: 味醂 | Q15: 0.01
A17: 4/10 星期一 | B17: j1 | C17: 5.3 | D17: 3.1 | E17: 1.9 | F17: 3.2 | G17: 0 | H17: 0 | I17: 750 | J17: 白米飯 | L17: 茄汁肉絲 | N17: 洋蔥炒蛋 | P17: 絞肉豆芽 | R17: 時蔬 | T17: 金針湯 | W17: =B17 -> j1 | Y17: =J18&" "&J19&" "&J20&" "&J21&" "&J22 -> 米 | Z17: =L18&" "&L19&" "&L20&" "&L21&" "&L22 -> 豬後腿肉 馬鈴薯 大番茄 大蒜 番茄醬 | AA17: =N18&" "&N19&" "&N20&" "&N21&" "&N22 -> 雞蛋 洋蔥 大蒜 | AB17: =P18&" "&P19&" "&P20&" "&P21&" "&P22 -> 綠豆芽 豬絞肉 韮菜 胡蘿蔔 大蒜 | AC17: =R18&" "&R19&" "&R20&" "&R21&" "&R22 -> 蔬菜 大蒜 | AD17: =T18&" "&T19&" "&T20&" "&T21&" "&T22 -> 金針菜乾 大骨 薑 榨菜
J18: 米 | K18: 10 | L18: 豬後腿肉 | M18: 6 | N18: 雞蛋 | O18: 3 | P18: 綠豆芽 | Q18: 5 | R18: 蔬菜 | S18: 7 | T18: 金針菜乾 | U18: 0.1
L19: 馬鈴薯 | M19: 2 | N19: 洋蔥 | O19: 4 | P19: 豬絞肉 | Q19: 1.7 | R19: 大蒜 | S19: 0.05 | T19: 大骨 | U19: 0.6 | AA19: 10
L20: 大番茄 | M20: 1 | N20: 大蒜 | O20: 0.05 | P20: 韮菜 | Q20: 0.5 | T20: 薑 | U20: 0.05
L21: 大蒜 | M21: 0.05 | P21: 胡蘿蔔 | Q21: 0.5 | T21: 榨菜 | U21: 1
L22: 番茄醬 | P22: 大蒜 | Q22: 0.05
A23: 4/11 星期二 | B23: j2 | C23: 5 | D23: 2.7 | E23: 2.3 | F23: 3 | G23: 0 | H23: 0 | I23: 715 | J23: 糙米飯 | L23: 醬瓜燒雞 | N23: 毛豆白菜 | P23: 清炒花椰 | R23: 時蔬 | T23: 海芽蛋花湯 | W23: =B23 -> j2 | Y23: =J24&" "&J25&" "&J26&" "&J27&" "&J28 -> 米 糙米 | Z23: =L24&" "&L25&" "&L26&" "&L27&" "&L28 -> 肉雞 醃漬花胡瓜 大蒜 | AA23: =N24&" "&N25&" "&N26&" "&N27&" "&N28 -> 結球白菜 冷凍毛豆仁 胡蘿蔔 大蒜 | AB23: =P24&" "&P25&" "&P26&" "&P27&" "&P28 -> 冷凍花椰菜 胡蘿蔔 大蒜 | AC23: =R24&" "&R25&" "&R26&" "&R27&" "&R28 -> 蔬菜 大蒜 | AD23: =T24&" "&T25&" "&T26&" "&T27&" "&T28 -> 乾海帶 雞蛋 薑
J24: 米 | K24: 7 | L24: 肉雞 | M24: 9 | N24: 結球白菜 | O24: 6.5 | P24: 冷凍花椰菜 | Q24: 6 | R24: 蔬菜 | S24: 7 | T24: 乾海帶 | U24: 0.1
J25: 糙米 | K25: 3 | L25: 醃漬花胡瓜 | M25: 2 | N25: 冷凍毛豆仁 | O25: 0.5 | P25: 胡蘿蔔 | Q25: 0.5 | R25: 大蒜 | S25: 0.05 | T25: 雞蛋 | U25: 1
L26: 大蒜 | M26: 0.05 | N26: 胡蘿蔔 | O26: 0.5 | P26: 大蒜 | Q26: 0.05 | T26: 薑 | U26: 0.05 | AA26: 11
N27: 大蒜 | O27: 0.05
A29: 4/12 星期三 | B29: j3 | C29: 4 | D29: 3 | E29: 2 | F29: 3 | G29: 0 | H29: 0 | I29: 653 | J29: 刈包特餐 | L29: 香滷肉排 | N29: 酸菜麵腸 | P29: 清炒玉菜 | R29: 時蔬 | T29: 糙米粥 | W29: =B29 -> j3 | Y29: =J30&" "&J31&" "&J32&" "&J33&" "&J34 -> 刈包 | Z29: =L30&" "&L31&" "&L32&" "&L33&" "&L34 -> 肉排 滷包 | AA29: =N30&" "&N31&" "&N32&" "&N33&" "&N34 -> 酸菜 麵腸 大蒜 | AB29: =P30&" "&P31&" "&P32&" "&P33&" "&P34 -> 甘藍 胡蘿蔔 大蒜 | AC29: =R30&" "&R31&" "&R32&" "&R33&" "&R34 -> 蔬菜 大蒜 | AD29: =T30&" "&T31&" "&T32&" "&T33&" "&T34 -> 雞蛋 糙米 胡蘿蔔 乾香菇 時瓜
J30: 刈包 | K30: 4 | L30: 肉排 | M30: 6 | N30: 酸菜 | O30: 3 | P30: 甘藍 | Q30: 7 | R30: 蔬菜 | S30: 7 | T30: 雞蛋 | U30: 1
L31: 滷包 | N31: 麵腸 | O31: 3 | P31: 胡蘿蔔 | Q31: 0.5 | R31: 大蒜 | S31: 0.05 | T31: 糙米 | U31: 4
N32: 大蒜 | O32: 0.05 | P32: 大蒜 | Q32: 0.05 | T32: 胡蘿蔔 | U32: 0.5 | AA32: 12
T33: 乾香菇 | U33: 0.01
T34: 時瓜 | U34: 2
A35: 4/13 星期四 | B35: j4 | C35: 6.4 | D35: 3 | E35: 1.6 | F35: 3 | G35: 0 | H35: 0 | I35: 790 | J35: 糙米飯 | L35: 豆瓣魚丁 | N35: 筍干油腐 | P35: 塔香海茸 | R35: 時蔬 | T35: 仙草甜湯 | W35: =B35 -> j4 | Y35: =J36&" "&J37&" "&J38&" "&J39&" "&J40 -> 米 糙米 | Z35: =L36&" "&L37&" "&L38&" "&L39&" "&L40 -> 鮮魚丁 白蘿蔔 胡蘿蔔 大蒜 豆瓣醬 | AA35: =N36&" "&N37&" "&N38&" "&N39&" "&N40 -> 麻竹筍干 四角油豆腐 大蒜 | AB35: =P36&" "&P37&" "&P38&" "&P39&" "&P40 -> 豬後腿肉 海帶茸 九層塔 大蒜 | AC35: =R36&" "&R37&" "&R38&" "&R39&" "&R40 -> 蔬菜 大蒜 | AD35: =T36&" "&T37&" "&T38&" "&T39&" "&T40 -> 仙草凍 二砂糖
J36: 米 | K36: 7 | L36: 鮮魚丁 | M36: 6.5 | N36: 麻竹筍干 | O36: 2 | P36: 豬後腿肉 | Q36: 0.6 | R36: 蔬菜 | S36: 7 | T36: 仙草凍 | U36: 6
J37: 糙米 | K37: 3 | L37: 白蘿蔔 | M37: 3.5 | N37: 四角油豆腐 | O37: 3 | P37: 海帶茸 | Q37: 2 | R37: 大蒜 | S37: 0.05 | T37: 二砂糖 | U37: 1
L38: 胡蘿蔔 | M38: 0.5 | N38: 大蒜 | O38: 0.05 | P38: 九層塔 | Q38: 0.05 | AA38: 13
L39: 大蒜 | M39: 0.05 | P39: 大蒜 | Q39: 0.05
L40: 豆瓣醬
A41: 4/14 星期五 | B41: j5 | C41: 5 | D41: 3.4 | E41: 2.2 | F41: 3.2 | G41: 0 | H41: 0 | I41: 782 | J41: 芝麻飯 | L41: 泡菜燒肉 | N41: 魚香豆干 | P41: 肉絲時蔬 | R41: 時蔬 | T41: 冬瓜湯 | W41: =B41 -> j5 | Y41: =J42&" "&J43&" "&J44&" "&J45&" "&J46 -> 米 芝麻(熟) | Z41: =L42&" "&L43&" "&L44&" "&L45&" "&L46 -> 豬後腿肉 韓式泡菜 甘藍 大蒜 | AA41: =N42&" "&N43&" "&N44&" "&N45&" "&N46 -> 小魚干 豆干 油花生 大蒜 | AB41: =P42&" "&P43&" "&P44&" "&P45&" "&P46 -> 時蔬 胡蘿蔔 大蒜 豬後腿肉 | AC41: =R42&" "&R43&" "&R44&" "&R45&" "&R46 -> 蔬菜 大蒜 | AD41: =T42&" "&T43&" "&T44&" "&T45&" "&T46 -> 冬瓜 薑 大骨
J42: 米 | K42: 10 | L42: 豬後腿肉 | M42: 6 | N42: 小魚干 | O42: 0.2 | P42: 時蔬 | Q42: 6 | R42: 蔬菜 | S42: 7 | T42: 冬瓜 | U42: 4
J43: 芝麻(熟) | K43: 0.05 | L43: 韓式泡菜 | M43: 1 | N43: 豆干 | O43: 4 | P43: 胡蘿蔔 | Q43: 0.5 | R43: 大蒜 | S43: 0.05 | T43: 薑 | U43: 0.05
L44: 甘藍 | M44: 3 | N44: 油花生 | O44: 0.1 | P44: 大蒜 | Q44: 0.05 | T44: 大骨 | U44: 0.6 | AA44: 14
L45: 大蒜 | M45: 0.05 | N45: 大蒜 | O45: 0.05 | P45: 豬後腿肉 | Q45: 0.6
A47: 4/17 星期一 | B47: k1 | C47: 5 | D47: 3.1 | E47: 1.5 | F47: 2.3 | I47: =C47*70+F47*45+E47*25+G47*150+H47*60+D47*75 -> 723.5 | J47: 白米飯 | L47: 紅燒雞翅 | N47: 鮮菇豆腐 | P47: 乾煸季豆 | R47: 時蔬 | T47: 味噌湯 | W47: =B47 -> k1 | Y47: =J48&" "&J49&" "&J50&" "&J51&" "&J52 -> 米 | Z47: =L48&" "&L49&" "&L50&" "&L51&" "&L52 -> 三節翅 滷包 | AA47: =N48&" "&N49&" "&N50&" "&N51&" "&N52 -> 豆腐 金針菇 乾香菇 大蒜 胡蘿蔔 | AB47: =P48&" "&P49&" "&P50&" "&P51&" "&P52 -> 豬絞肉 冷凍菜豆(莢) 大蒜 | AC47: =R48&" "&R49&" "&R50&" "&R51&" "&R52 -> 蔬菜 大蒜 | AD47: =T48&" "&T49&" "&T50&" "&T51&" "&T52 -> 乾裙帶菜 味噌 薑 柴魚片
J48: 米 | K48: 10 | L48: 三節翅 | M48: 9 | N48: 豆腐 | O48: 4 | P48: 豬絞肉 | Q48: 1 | R48: 蔬菜 | S48: 7 | T48: 乾裙帶菜 | U48: 0.2
L49: 滷包 | N49: 金針菇 | O49: 2 | P49: 冷凍菜豆(莢) | Q49: 5 | R49: 大蒜 | S49: 0.05 | T49: 味噌 | U49: 0.1
N50: 乾香菇 | O50: 0.01 | P50: 大蒜 | Q50: 0.05 | T50: 薑 | U50: 0.05
N51: 大蒜 | O51: 0.05 | T51: 柴魚片
N52: 胡蘿蔔 | O52: 0.5
A53: 4/18 星期二 | B53: k2 | C53: 5.4 | D53: 2.8 | E53: 1.8 | F53: 2.3 | I53: =C53*70+F53*45+E53*25+G53*150+H53*60+D53*75 -> 736.5 | J53: 糙米飯 | L53: 咖哩鮮魚 | N53: 蛋香刈薯 | P53: 回鍋豆干 | R53: 時蔬 | T53: 金針湯 | W53: =B53 -> k2 | Y53: =J54&" "&J55&" "&J56&" "&J57&" "&J58 -> 米 糙米 | Z53: =L54&" "&L55&" "&L56&" "&L57&" "&L58 -> 鮮魚丁 馬鈴薯 洋蔥 胡蘿蔔 咖哩粉 | AA53: =N54&" "&N55&" "&N56&" "&N57&" "&N58 -> 雞蛋 刈薯 大蒜 | AB53: =P54&" "&P55&" "&P56&" "&P57&" "&P58 -> 豆干 甘藍 乾木耳 大蒜 | AC53: =R54&" "&R55&" "&R56&" "&R57&" "&R58 -> 蔬菜 大蒜 | AD53: =T54&" "&T55&" "&T56&" "&T57&" "&T58 -> 金針菜乾 榨菜 薑 大骨
J54: 米 | K54: 7 | L54: 鮮魚丁 | M54: 6.5 | N54: 雞蛋 | O54: 1 | P54: 豆干 | Q54: 2.7 | R54: 蔬菜 | S54: 7 | T54: 金針菜乾 | U54: 0.1
J55: 糙米 | K55: 3 | L55: 馬鈴薯 | M55: 3.5 | N55: 刈薯 | O55: 4 | P55: 甘藍 | Q55: 4 | R55: 大蒜 | S55: 0.05 | T55: 榨菜 | U55: 1
L56: 洋蔥 | M56: 1 | N56: 大蒜 | O56: 0.05 | P56: 乾木耳 | Q56: 0.01 | T56: 薑 | U56: 0.05
L57: 胡蘿蔔 | M57: 1 | P57: 大蒜 | Q57: 0.05 | T57: 大骨 | U57: 1
L58: 咖哩粉
A59: 4/19 星期三 | B59: k3 | C59: 5.5 | D59: 2.6 | E59: 2.1 | F59: 2.4 | I59: =C59*70+F59*45+E59*25+G59*150+H59*60+D59*75 -> 740.5 | J59: 泰式特餐 | L59: 打拋豬 | N59: 泰式魚丸 | P59: 蝦醬高麗菜 | R59: 時蔬 | T59: 冬蔭功湯 | W59: =B59 -> k3 | Y59: =J60&" "&J61&" "&J62&" "&J63&" "&J64 -> 米 糙米 | Z59: =L60&" "&L61&" "&L62&" "&L63&" "&L64 -> 豬絞肉 洋蔥 打拋醬 魚露 大蒜 | AA59: =N60&" "&N61&" "&N62&" "&N63&" "&N64 -> 魚丸 泰式酸辣醬 | AB59: =P60&" "&P61&" "&P62&" "&P63&" "&P64 -> 甘藍 泰式蝦醬 大蒜 | AC59: =R60&" "&R61&" "&R62&" "&R63&" "&R64 -> 蔬菜 大蒜 | AD59: =T60&" "&T61&" "&T62&" "&T63&" "&T64 -> 秀珍菇 大番茄 大骨 檸檬 香茅
J60: 米 | K60: 8 | L60: 豬絞肉 | M60: 6 | N60: 魚丸 | O60: 4 | P60: 甘藍 | Q60: 7 | R60: 蔬菜 | S60: 7 | T60: 秀珍菇 | U60: 1
J61: 糙米 | K61: 3 | L61: 洋蔥 | M61: 3.5 | N61: 泰式酸辣醬 | O61: 0.5 | P61: 泰式蝦醬 | Q61: 0.5 | R61: 大蒜 | S61: 0.05 | T61: 大番茄 | U61: 2
L62: 打拋醬 | P62: 大蒜 | Q62: 0.05 | T62: 大骨 | U62: 1
L63: 魚露 | T63: 檸檬
L64: 大蒜 | M64: 0.05 | T64: 香茅
A65: 4/20 星期四 | B65: k4 | C65: 5.8 | D65: 3 | E65: 2 | F65: 2.5 | I65: =C65*70+F65*45+E65*25+G65*150+H65*60+D65*75 -> 793.5 | J65: 糙米飯 | L65: 豆瓣雞丁 | N65: 肉絲豆芽 | P65: 香滷油腐 | R65: 時蔬 | T65: 綠豆湯 | W65: =B65 -> k4 | Y65: =J66&" "&J67&" "&J68&" "&J69&" "&J70 -> 米 糙米 | Z65: =L66&" "&L67&" "&L68&" "&L69&" "&L70 -> 肉雞 豆薯 胡蘿蔔 大蒜 | AA65: =N66&" "&N67&" "&N68&" "&N69&" "&N70 -> 豬後腿肉 綠豆芽 韮菜 乾木耳 大蒜 | AB65: =P66&" "&P67&" "&P68&" "&P69&" "&P70 -> 四角油豆腐 麻竹筍干 滷包 大蒜 | AC65: =R66&" "&R67&" "&R68&" "&R69&" "&R70 -> 蔬菜 大蒜 | AD65: =T66&" "&T67&" "&T68&" "&T69&" "&T70 -> 綠豆 二砂糖
J66: 米 | K66: 7 | L66: 肉雞 | M66: 9 | N66: 豬後腿肉 | O66: 0.6 | P66: 四角油豆腐 | Q66: 3 | R66: 蔬菜 | S66: 7 | T66: 綠豆 | U66: 2
J67: 糙米 | K67: 3 | L67: 豆薯 | M67: 3 | N67: 綠豆芽 | O67: 5 | P67: 麻竹筍干 | Q67: 3 | R67: 大蒜 | S67: 0.05 | T67: 二砂糖 | U67: 1
L68: 胡蘿蔔 | M68: 1 | N68: 韮菜 | O68: 0.5 | P68: 滷包
L69: 大蒜 | M69: 0.05 | N69: 乾木耳 | O69: 0.01 | P69: 大蒜 | Q69: 0.05
N70: 大蒜 | O70: 0.05
A71: 4/21 星期五 | B71: k5 | C71: 5 | D71: 2.2 | E71: 2.3 | F71: 2.3 | I71: =C71*70+F71*45+E71*25+G71*150+H71*60+D71*75 -> 676 | J71: 紅藜飯 | L71: 壽喜燒肉 | N71: 紅蔘炒蛋 | P71: 菇拌海帶 | R71: 時蔬 | T71: 時瓜湯 | W71: =B71 -> k5 | Y71: =J72&" "&J73&" "&J74&" "&J75&" "&J76 -> 米 紅藜 | Z71: =L72&" "&L73&" "&L74&" "&L75&" "&L76 -> 豬後腿肉 結球白菜 胡蘿蔔 大蒜 | AA71: =N72&" "&N73&" "&N74&" "&N75&" "&N76 -> 雞蛋 胡蘿蔔 大蒜 | AB71: =P72&" "&P73&" "&P74&" "&P75&" "&P76 -> 乾裙帶菜 金針菇 大蒜 | AC71: =R72&" "&R73&" "&R74&" "&R75&" "&R76 -> 蔬菜 大蒜 | AD71: =T72&" "&T73&" "&T74&" "&T75&" "&T76 -> 時瓜 薑 大骨
J72: 米 | K72: 10 | L72: 豬後腿肉 | M72: 6 | N72: 雞蛋 | O72: 2 | P72: 乾裙帶菜 | Q72: 1 | R72: 蔬菜 | S72: 7 | T72: 時瓜 | U72: 5
J73: 紅藜 | K73: 0.05 | L73: 結球白菜 | M73: 4 | N73: 胡蘿蔔 | O73: 4 | P73: 金針菇 | Q73: 1 | R73: 大蒜 | S73: 0.05 | T73: 薑 | U73: 0.05
L74: 胡蘿蔔 | M74: 0.5 | N74: 大蒜 | O74: 0.05 | P74: 大蒜 | Q74: 0.05 | T74: 大骨 | U74: 1
L75: 大蒜 | M75: 0.05
A77: 4/24 星期一 | B77: l1 | C77: 5.7 | D77: 2.7 | E77: 2 | F77: 3 | I77: =C77*70+F77*45+E77*25+G77*150+H77*60+D77*75 -> 786.5 | J77: 白米飯 | L77: 花生絞肉 | N77: 豆包甘藍 | P77: 蔬香冬粉 | R77: 時蔬 | T77: 豆漿 | W77: =B77 -> l1 | Y77: =J78&" "&J79&" "&J80&" "&J81&" "&J82 -> 米 | Z77: =L78&" "&L79&" "&L80&" "&L81&" "&L82 -> 豬絞肉 油花生 麵筋 大蒜 胡蘿蔔 | AA77: =N78&" "&N79&" "&N80&" "&N81&" "&N82 -> 豆包 甘藍 乾香菇 大蒜 | AB77: =P78&" "&P79&" "&P80&" "&P81&" "&P82 -> 雞蛋 冬粉 蔬菜 乾木耳 大蒜 | AC77: =R78&" "&R79&" "&R80&" "&R81&" "&R82 -> 蔬菜 大蒜 | AD77: =T78&" "&T79&" "&T80&" "&T81&" "&T82 -> 豆漿
J78: 米 | K78: 10 | L78: 豬絞肉 | M78: 6 | N78: 豆包 | O78: 1.5 | P78: 雞蛋 | Q78: 1 | R78: 蔬菜 | S78: 7 | T78: 豆漿 | U78: 1.9
L79: 油花生 | M79: 0.1 | N79: 甘藍 | O79: 7 | P79: 冬粉 | Q79: 1 | R79: 大蒜 | S79: 0.05
L80: 麵筋 | M80: 0.5 | N80: 乾香菇 | O80: 0.01 | P80: 蔬菜 | Q80: 3
L81: 大蒜 | M81: 0.05 | N81: 大蒜 | O81: 0.05 | P81: 乾木耳 | Q81: 0.01
L82: 胡蘿蔔 | M82: 1 | P82: 大蒜 | Q82: 0.05
A83: 4/25 星期二 | B83: l2 | C83: 5 | D83: 2.8 | E83: 1.5 | F83: 3 | I83: =C83*70+F83*45+E83*25+G83*150+H83*60+D83*75 -> 732.5 | J83: 糙米飯 | L83: 椒鹽魚排 | N83: 蛋香季豆 | P83: 麻婆豆腐 | R83: 時蔬 | T83: 時蔬湯 | W83: =B83 -> l2 | Y83: =J84&" "&J85&" "&J86&" "&J87&" "&J88 -> 米 糙米 | Z83: =L84&" "&L85&" "&L86&" "&L87&" "&L88 -> 魚排 胡椒鹽 | AA83: =N84&" "&N85&" "&N86&" "&N87&" "&N88 -> 雞蛋 冷凍菜豆(莢) 胡蘿蔔 大蒜 | AB83: =P84&" "&P85&" "&P86&" "&P87&" "&P88 -> 豆腐 豬絞肉 大蒜 豆瓣醬 胡蘿蔔 | AC83: =R84&" "&R85&" "&R86&" "&R87&" "&R88 -> 蔬菜 大蒜 | AD83: =T84&" "&T85&" "&T86&" "&T87&" "&T88 -> 時蔬 薑 大骨
J84: 米 | K84: 7 | L84: 魚排 | M84: 6 | N84: 雞蛋 | O84: 1 | P84: 豆腐 | Q84: 6 | R84: 蔬菜 | S84: 7 | T84: 時蔬 | U84: 3
J85: 糙米 | K85: 3 | L85: 胡椒鹽 | N85: 冷凍菜豆(莢) | O85: 4 | P85: 豬絞肉 | Q85: 1 | R85: 大蒜 | S85: 0.05 | T85: 薑 | U85: 0.05
N86: 胡蘿蔔 | O86: 0.5 | P86: 大蒜 | Q86: 0.05 | T86: 大骨 | U86: 1
N87: 大蒜 | O87: 0.05 | P87: 豆瓣醬 | Q87: 0.1
P88: 胡蘿蔔 | Q88: 0.5
A89: 4/26 星期三 | B89: l3 | C89: 5.3 | D89: 2.2 | E89: 1.6 | F89: 3 | I89: =C89*70+F89*45+E89*25+G89*150+H89*60+D89*75 -> 711 | J89: 西式特餐 | L89: 茄汁肉醬 | N89: 清炒花椰 | P89: 熱狗 | R89: 時蔬 | T89: 南瓜濃湯 | W89: =B89 -> l3 | Y89: =J90&" "&J91&" "&J92&" "&J93&" "&J94 -> 麵條 | Z89: =L90&" "&L91&" "&L92&" "&L93&" "&L94 -> 豬絞肉 馬鈴薯 洋蔥 蕃茄醬 | AA89: =N90&" "&N91&" "&N92&" "&N93&" "&N94 -> 冷凍花椰菜 胡蘿蔔 大蒜 | AB89: =P90&" "&P91&" "&P92&" "&P93&" "&P94 -> 熱狗 | AC89: =R90&" "&R91&" "&R92&" "&R93&" "&R94 -> 蔬菜 大蒜 | AD89: =T90&" "&T91&" "&T92&" "&T93&" "&T94 -> 雞蛋 南瓜 毛豆 濃湯調理包
J90: 麵條 | K90: 15 | L90: 豬絞肉 | M90: 6 | N90: 冷凍花椰菜 | O90: 6 | P90: 熱狗 | Q90: 2 | R90: 蔬菜 | S90: 7 | T90: 雞蛋 | U90: 0.3
L91: 馬鈴薯 | M91: 2 | N91: 胡蘿蔔 | O91: 1 | R91: 大蒜 | S91: 0.05 | T91: 南瓜 | U91: 2
L92: 洋蔥 | M92: 1.5 | N92: 大蒜 | O92: 0.05 | T92: 毛豆 | U92: 0.5
L93: 蕃茄醬 | T93: 濃湯調理包
A95: 4/27 星期四 | B95: l4 | C95: 6 | D95: 2 | E95: 2 | F95: 3 | I95: =C95*70+F95*45+E95*25+G95*150+H95*60+D95*75 -> 755 | J95: 糙米飯 | L95: 回鍋肉片 | N95: 香滷凍腐 | P95: 清炒時蔬 | R95: 時蔬 | T95: 粉圓甜湯 | W95: =B95 -> l4 | Y95: =J96&" "&J97&" "&J98&" "&J99&" "&J100 -> 米 糙米 | Z95: =L96&" "&L97&" "&L98&" "&L99&" "&L100 -> 豬後腿肉 洋蔥 胡蘿蔔 大蒜 | AA95: =N96&" "&N97&" "&N98&" "&N99&" "&N100 -> 凍豆腐 白蘿蔔 胡蘿蔔 大蒜 | AB95: =P96&" "&P97&" "&P98&" "&P99&" "&P100 -> 時蔬 枸杞 大蒜 | AC95: =R96&" "&R97&" "&R98&" "&R99&" "&R100 -> 蔬菜 大蒜 | AD95: =T96&" "&T97&" "&T98&" "&T99&" "&T100 -> 粉圓 二砂糖
J96: 米 | K96: 7 | L96: 豬後腿肉 | M96: 6 | N96: 凍豆腐 | O96: 3 | P96: 時蔬 | Q96: 5 | R96: 蔬菜 | S96: 7 | T96: 粉圓 | U96: 2
J97: 糙米 | K97: 3 | L97: 洋蔥 | M97: 3 | N97: 白蘿蔔 | O97: 3 | P97: 枸杞 | Q97: 0.05 | R97: 大蒜 | S97: 0.05 | T97: 二砂糖 | U97: 1
L98: 胡蘿蔔 | M98: 0.5 | N98: 胡蘿蔔 | O98: 0.5 | P98: 大蒜 | Q98: 0.05
L99: 大蒜 | M99: 0.05 | N99: 大蒜 | O99: 0.05
A101: 4/28 星期五 | B101: l5 | C101: 5.2 | D101: 3 | E101: 2.1 | F101: 3 | I101: =C101*70+F101*45+E101*25+G101*150+H101*60+D101*75 -> 776.5 | J101: 小米飯 | L101: 照燒雞 | N101: 雪菜豆干 | P101: 絞肉甘藍 | R101: 時蔬 | T101: 海芽湯 | W101: =B101 -> l5 | Y101: =J102&" "&J103&" "&J104&" "&J105&" "&J106 -> 米 小米 | Z101: =L102&" "&L103&" "&L104&" "&L105&" "&L106 -> 肉雞 洋蔥 胡蘿蔔 醬油 二砂糖 | AA101: =N102&" "&N103&" "&N104&" "&N105&" "&N106 -> 豆干 雪裡蕻 大蒜 | AB101: =P102&" "&P103&" "&P104&" "&P105&" "&P106 -> 豬絞肉 甘藍 胡蘿蔔 大蒜 | AC101: =R102&" "&R103&" "&R104&" "&R105&" "&R106 -> 蔬菜 大蒜 | AD101: =T102&" "&T103&" "&T104&" "&T105&" "&T106 -> 乾裙帶菜 薑 柴魚片
J102: 米 | K102: 10 | L102: 肉雞 | M102: 9 | N102: 豆干 | O102: 2 | P102: 豬絞肉 | Q102: 0.6 | R102: 蔬菜 | S102: 7 | T102: 乾裙帶菜 | U102: 0.1
J103: 小米 | K103: 0.4 | L103: 洋蔥 | M103: 2 | N103: 雪裡蕻 | O103: 3 | P103: 甘藍 | Q103: 6 | R103: 大蒜 | S103: 0.05 | T103: 薑 | U103: 0.05
L104: 胡蘿蔔 | M104: 0.5 | N104: 大蒜 | O104: 0.05 | P104: 胡蘿蔔 | Q104: 0.5 | T104: 柴魚片 | U104: 0.01
L105: 醬油 | P105: 大蒜 | Q105: 0.05
L106: 二砂糖
...

Sheet A案--葷食國中月總表
B1: 111 | C1: 學年度 | D1: 國民中學 | E1: 葷食 | F1: 菜單 | G1: 循環
A2: 日期 | B2: 循環 | C2: 主食 | D2: 主食明細 | E2: 主菜 | F2: 主菜明細 | G2: 副菜一 | H2: 副菜一明細 | I2: 副菜二 | J2: 副菜二明細 | K2: 蔬菜 | L2: 蔬菜明細 | M2: 湯品 | N2: 湯品明細 | O2: 點心 | P2: 穀/份 | Q2: 豆/份 | R2: 蔬/份 | S2: 油/份 | T2: 乳/份 | U2: 果/份 | V2: 熱量
A3: 4月6日 | B3: ='A案--葷食國中'!B5 -> i4 | C3: ='A案--葷食國中'!J5 -> 糙米飯 | D3: ='A案--葷食國中'!Y5 -> 米 糙米 | E3: ='A案--葷食國中'!L5 -> 咖哩絞肉 | F3: ='A案--葷食國中'!Z5 -> 豬絞肉 馬鈴薯 胡蘿蔔 洋蔥 咖哩粉 | G3: ='A案--葷食國中'!N5 -> 火腿玉菜 | H3: ='A案--葷食國中'!AA5 -> 甘藍 火腿 大蒜 | I3: ='A案--葷食國中'!P5 -> 肉絲季豆 | J3: ='A案--葷食國中'!AB5 -> 豬後腿肉 冷凍菜豆(莢) 大蒜 | K3: ='A案--葷食國中'!R5 -> 時蔬 | L3: ='A案--葷食國中'!AC5 -> 蔬菜 大蒜 | M3: ='A案--葷食國中'!T5 -> 花豆甜湯 | N3: ='A案--葷食國中'!AD5 -> 花豆 二砂糖 | O3: 0 | P3: ='A案--葷食國中'!C5 -> 5.3 | Q3: ='A案--葷食國中'!D5 -> 2.6 | R3: ='A案--葷食國中'!E5 -> 2.5 | S3: ='A案--葷食國中'!F5 -> 3.1 | T3: ='A案--葷食國中'!G5 -> 0 | U3: ='A案--葷食國中'!H5 -> 0 | V3: ='A案--葷食國中'!I5 -> 738
A4: 4月7日 | B4: ='A案--葷食國中'!B11 -> i5 | C4: ='A案--葷食國中'!J11 -> 燕麥飯 | D4: ='A案--葷食國中'!Y11 -> 米 燕麥 | E4: ='A案--葷食國中'!L11 -> 筍干燒肉 | F4: ='A案--葷食國中'!Z11 -> 豬後腿肉 麻竹筍干 大蒜 | G4: ='A案--葷食國中'!N11 -> 蛋香豆薯 | H4: ='A案--葷食國中'!AA11 -> 雞蛋 豆薯 大蒜 胡蘿蔔 | I4: ='A案--葷食國中'!P11 -> 蔬菜佃煮 | J4: ='A案--葷食國中'!AB11 -> 白蘿蔔 四角油豆腐 甜玉米 味醂 | K4: ='A案--葷食國中'!R11 -> 時蔬 | L4: ='A案--葷食國中'!AC11 -> 蔬菜 大蒜 | M4: ='A案--葷食國中'!T11 -> 味噌豆皮湯 | N4: ='A案--葷食國中'!AD11 -> 豆皮 味噌 柴魚片 | O4: 0 | P4: ='A案--葷食國中'!C11 -> 5.5 | Q4: ='A案--葷食國中'!D11 -> 2.8 | R4: ='A案--葷食國中'!E11 -> 1.8 | S4: ='A案--葷食國中'!F11 -> 3 | T4: ='A案--葷食國中'!G11 -> 0 | U4: ='A案--葷食國中'!H11 -> 0 | V4: ='A案--葷食國中'!I11 -> 763
A5: 4月10日 | B5: ='A案--葷食國中'!B17 -> j1 | C5: ='A案--葷食國中'!J17 -> 白米飯 | D5: ='A案--葷食國中'!Y17 -> 米 | E5: ='A案--葷食國中'!L17 -> 茄汁肉絲 | F5: ='A案--葷食國中'!Z17 -> 豬後腿肉 馬鈴薯 大番茄 大蒜 番茄醬 | G5: ='A案--葷食國中'!N17 -> 洋蔥炒蛋 | H5: ='A案--葷食國中'!AA17 -> 雞蛋 洋蔥 大蒜 | I5: ='A案--葷食國中'!P17 -> 絞肉豆芽 | J5: ='A案--葷食國中'!AB17 -> 綠豆芽 豬絞肉 韮菜 胡蘿蔔 大蒜 | K5: ='A案--葷食國中'!R17 -> 時蔬 | L5: ='A案--葷食國中'!AC17 -> 蔬菜 大蒜 | M5: ='A案--葷食國中'!T17 -> 金針湯 | N5: ='A案--葷食國中'!AD17 -> 金針菜乾 大骨 薑 榨菜 | O5: 0 | P5: ='A案--葷食國中'!C17 -> 5.3 | Q5: ='A案--葷食國中'!D17 -> 3.1 | R5: ='A案--葷食國中'!E17 -> 1.9 | S5: ='A案--葷食國中'!F17 -> 3.2 | T5: ='A案--葷食國中'!G17 -> 0 | U5: ='A案--葷食國中'!H17 -> 0 | V5: ='A案--葷食國中'!I17 -> 750
A6: 4月11日 | B6: ='A案--葷食國中'!B23 -> j2 | C6: ='A案--葷食國中'!J23 -> 糙米飯 | D6: ='A案--葷食國中'!Y23 -> 米 糙米 | E6: ='A案--葷食國中'!L23 -> 醬瓜燒雞 | F6: ='A案--葷食國中'!Z23 -> 肉雞 醃漬花胡瓜 大蒜 | G6: ='A案--葷食國中'!N23 -> 毛豆白菜 | H6: ='A案--葷食國中'!AA23 -> 結球白菜 冷凍毛豆仁 胡蘿蔔 大蒜 | I6: ='A案--葷食國中'!P23 -> 清炒花椰 | J6: ='A案--葷食國中'!AB23 -> 冷凍花椰菜 胡蘿蔔 大蒜 | K6: ='A案--葷食國中'!R23 -> 時蔬 | L6: ='A案--葷食國中'!AC23 -> 蔬菜 大蒜 | M6: ='A案--葷食國中'!T23 -> 海芽蛋花湯 | N6: ='A案--葷食國中'!AD23 -> 乾海帶 雞蛋 薑 | O6: 0 | P6: ='A案--葷食國中'!C23 -> 5 | Q6: ='A案--葷食國中'!D23 -> 2.7 | R6: ='A案--葷食國中'!E23 -> 2.3 | S6: ='A案--葷食國中'!F23 -> 3 | T6: ='A案--葷食國中'!G23 -> 0 | U6: ='A案--葷食國中'!H23 -> 0 | V6: ='A案--葷食國中'!I23 -> 715
A7: 4月12日 | B7: ='A案--葷食國中'!B29 -> j3 | C7: ='A案--葷食國中'!J29 -> 刈包特餐 | D7: ='A案--葷食國中'!Y29 -> 刈包 | E7: ='A案--葷食國中'!L29 -> 香滷肉排 | F7: ='A案--葷食國中'!Z29 -> 肉排 滷包 | G7: ='A案--葷食國中'!N29 -> 酸菜麵腸 | H7: ='A案--葷食國中'!AA29 -> 酸菜 麵腸 大蒜 | I7: ='A案--葷食國中'!P29 -> 清炒玉菜 | J7: ='A案--葷食國中'!AB29 -> 甘藍 胡蘿蔔 大蒜 | K7: ='A案--葷食國中'!R29 -> 時蔬 | L7: ='A案--葷食國中'!AC29 -> 蔬菜 大蒜 | M7: ='A案--葷食國中'!T29 -> 糙米粥 | N7: ='A案--葷食國中'!AD29 -> 雞蛋 糙米 胡蘿蔔 乾香菇 時瓜 | O7: 0 | P7: ='A案--葷食國中'!C29 -> 4 | Q7: ='A案--葷食國中'!D29 -> 3 | R7: ='A案--葷食國中'!E29 -> 2 | S7: ='A案--葷食國中'!F29 -> 3 | T7: ='A案--葷食國中'!G29 -> 0 | U7: ='A案--葷食國中'!H29 -> 0 | V7: ='A案--葷食國中'!I29 -> 653
A8: 4月13日 | B8: ='A案--葷食國中'!B35 -> j4 | C8: ='A案--葷食國中'!J35 -> 糙米飯 | D8: ='A案--葷食國中'!Y35 -> 米 糙米 | E8: ='A案--葷食國中'!L35 -> 豆瓣魚丁 | F8: ='A案--葷食國中'!Z35 -> 鮮魚丁 白蘿蔔 胡蘿蔔 大蒜 豆瓣醬 | G8: ='A案--葷食國中'!N35 -> 筍干油腐 | H8: ='A案--葷食國中'!AA35 -> 麻竹筍干 四角油豆腐 大蒜 | I8: ='A案--葷食國中'!P35 -> 塔香海茸 | J8: ='A案--葷食國中'!AB35 -> 豬後腿肉 海帶茸 九層塔 大蒜 | K8: ='A案--葷食國中'!R35 -> 時蔬 | L8: ='A案--葷食國中'!AC35 -> 蔬菜 大蒜 | M8: ='A案--葷食國中'!T35 -> 仙草甜湯 | N8: ='A案--葷食國中'!AD35 -> 仙草凍 二砂糖 | O8: 0 | P8: ='A案--葷食國中'!C35 -> 6.4 | Q8: ='A案--葷食國中'!D35 -> 3 | R8: ='A案--葷食國中'!E35 -> 1.6 | S8: ='A案--葷食國中'!F35 -> 3 | T8: ='A案--葷食國中'!G35 -> 0 | U8: ='A案--葷食國中'!H35 -> 0 | V8: ='A案--葷食國中'!I35 -> 790
A9: 4月14日 | B9: ='A案--葷食國中'!B41 -> j5 | C9: ='A案--葷食國中'!J41 -> 芝麻飯 | D9: ='A案--葷食國中'!Y41 -> 米 芝麻(熟) | E9: ='A案--葷食國中'!L41 -> 泡菜燒肉 | F9: ='A案--葷食國中'!Z41 -> 豬後腿肉 韓式泡菜 甘藍 大蒜 | G9: ='A案--葷食國中'!N41 -> 魚香豆干 | H9: ='A案--葷食國中'!AA41 -> 小魚干 豆干 油花生 大蒜 | I9: ='A案--葷食國中'!P41 -> 肉絲時蔬 | J9: ='A案--葷食國中'!AB41 -> 時蔬 胡蘿蔔 大蒜 豬後腿肉 | K9: ='A案--葷食國中'!R41 -> 時蔬 | L9: ='A案--葷食國中'!AC41 -> 蔬菜 大蒜 | M9: ='A案--葷食國中'!T41 -> 冬瓜湯 | N9: ='A案--葷食國中'!AD41 -> 冬瓜 薑 大骨 | O9: 0 | P9: ='A案--葷食國中'!C41 -> 5 | Q9: ='A案--葷食國中'!D41 -> 3.4 | R9: ='A案--葷食國中'!E41 -> 2.2 | S9: ='A案--葷食國中'!F41 -> 3.2 | T9: ='A案--葷食國中'!G41 -> 0 | U9: ='A案--葷食國中'!H41 -> 0 | V9: ='A案--葷食國中'!I41 -> 782
A10: 4月17日 | B10: ='A案--葷食國中'!B47 -> k1 | C10: ='A案--葷食國中'!J47 -> 白米飯 | D10: ='A案--葷食國中'!Y47 -> 米 | E10: ='A案--葷食國中'!L47 -> 紅燒雞翅 | F10: ='A案--葷食國中'!Z47 -> 三節翅 滷包 | G10: ='A案--葷食國中'!N47 -> 鮮菇豆腐 | H10: ='A案--葷食國中'!AA47 -> 豆腐 金針菇 乾香菇 大蒜 胡蘿蔔 | I10: ='A案--葷食國中'!P47 -> 乾煸季豆 | J10: ='A案--葷食國中'!AB47 -> 豬絞肉 冷凍菜豆(莢) 大蒜 | K10: ='A案--葷食國中'!R47 -> 時蔬 | L10: ='A案--葷食國中'!AC47 -> 蔬菜 大蒜 | M10: ='A案--葷食國中'!T47 -> 味噌湯 | N10: ='A案--葷食國中'!AD47 -> 乾裙帶菜 味噌 薑 柴魚片 | O10: 0 | P10: ='A案--葷食國中'!C47 -> 5 | Q10: ='A案--葷食國中'!D47 -> 3.1 | R10: ='A案--葷食國中'!E47 -> 1.5 | S10: ='A案--葷食國中'!F47 -> 2.3 | T10: ='A案--葷食國中'!G47 -> 0 | U10: ='A案--葷食國中'!H47 -> 0 | V10: ='A案--葷食國中'!I47 -> 723.5
A11: 4月18日 | B11: ='A案--葷食國中'!B53 -> k2 | C11: ='A案--葷食國中'!J53 -> 糙米飯 | D11: ='A案--葷食國中'!Y53 -> 米 糙米 | E11: ='A案--葷食國中'!L53 -> 咖哩鮮魚 | F11: ='A案--葷食國中'!Z53 -> 鮮魚丁 馬鈴薯 洋蔥 胡蘿蔔 咖哩粉 | G11: ='A案--葷食國中'!N53 -> 蛋香刈薯 | H11: ='A案--葷食國中'!AA53 -> 雞蛋 刈薯 大蒜 | I11: ='A案--葷食國中'!P53 -> 回鍋豆干 | J11: ='A案--葷食國中'!AB53 -> 豆干 甘藍 乾木耳 大蒜 | K11: ='A案--葷食國中'!R53 -> 時蔬 | L11: ='A案--葷食國中'!AC53 -> 蔬菜 大蒜 | M11: ='A案--葷食國中'!T53 -> 金針湯 | N11: ='A案--葷食國中'!AD53 -> 金針菜乾 榨菜 薑 大骨 | O11: 0 | P11: ='A案--葷食國中'!C53 -> 5.4 | Q11: ='A案--葷食國中'!D53 -> 2.8 | R11: ='A案--葷食國中'!E53 -> 1.8 | S11: ='A案--葷食國中'!F53 -> 2.3 | T11: ='A案--葷食國中'!G53 -> 0 | U11: ='A案--葷食國中'!H53 -> 0 | V11: ='A案--葷食國中'!I53 -> 736.5
A12: 4月19日 | B12: ='A案--葷食國中'!B59 -> k3 | C12: ='A案--葷食國中'!J59 -> 泰式特餐 | D12: ='A案--葷食國中'!Y59 -> 米 糙米 | E12: ='A案--葷食國中'!L59 -> 打拋豬 | F12: ='A案--葷食國中'!Z59 -> 豬絞肉 洋蔥 打拋醬 魚露 大蒜 | G12: ='A案--葷食國中'!N59 -> 泰式魚丸 | H12: ='A案--葷食國中'!AA59 -> 魚丸 泰式酸辣醬 | I12: ='A案--葷食國中'!P59 -> 蝦醬高麗菜 | J12: ='A案--葷食國中'!AB59 -> 甘藍 泰式蝦醬 大蒜 | K12: ='A案--葷食國中'!R59 -> 時蔬 | L12: ='A案--葷食國中'!AC59 -> 蔬菜 大蒜 | M12: ='A案--葷食國中'!T59 -> 冬蔭功湯 | N12: ='A案--葷食國中'!AD59 -> 秀珍菇 大番茄 大骨 檸檬 香茅 | O12: 0 | P12: ='A案--葷食國中'!C59 -> 5.5 | Q12: ='A案--葷食國中'!D59 -> 2.6 | R12: ='A案--葷食國中'!E59 -> 2.1 | S12: ='A案--葷食國中'!F59 -> 2.4 | T12: ='A案--葷食國中'!G59 -> 0 | U12: ='A案--葷食國中'!H59 -> 0 | V12: ='A案--葷食國中'!I59 -> 740.5
A13: 4月20日 | B13: ='A案--葷食國中'!B65 -> k4 | C13: ='A案--葷食國中'!J65 -> 糙米飯 | D13: ='A案--葷食國中'!Y65 -> 米 糙米 | E13: ='A案--葷食國中'!L65 -> 豆瓣雞丁 | F13: ='A案--葷食國中'!Z65 -> 肉雞 豆薯 胡蘿蔔 大蒜 | G13: ='A案--葷食國中'!N65 -> 肉絲豆芽 | H13: ='A案--葷食國中'!AA65 -> 豬後腿肉 綠豆芽 韮菜 乾木耳 大蒜 | I13: ='A案--葷食國中'!P65 -> 香滷油腐 | J13: ='A案--葷食國中'!AB65 -> 四角油豆腐 麻竹筍干 滷包 大蒜 | K13: ='A案--葷食國中'!R65 -> 時蔬 | L13: ='A案--葷食國中'!AC65 -> 蔬菜 大蒜 | M13: ='A案--葷食國中'!T65 -> 綠豆湯 | N13: ='A案--葷食國中'!AD65 -> 綠豆 二砂糖 | O13: 0 | P13: ='A案--葷食國中'!C65 -> 5.8 | Q13: ='A案--葷食國中'!D65 -> 3 | R13: ='A案--葷食國中'!E65 -> 2 | S13: ='A案--葷食國中'!F65 -> 2.5 | T13: ='A案--葷食國中'!G65 -> 0 | U13: ='A案--葷食國中'!H65 -> 0 | V13: ='A案--葷食國中'!I65 -> 793.5
A14: 4月21日 | B14: ='A案--葷食國中'!B71 -> k5 | C14: ='A案--葷食國中'!J71 -> 紅藜飯 | D14: ='A案--葷食國中'!Y71 -> 米 紅藜 | E14: ='A案--葷食國中'!L71 -> 壽喜燒肉 | F14: ='A案--葷食國中'!Z71 -> 豬後腿肉 結球白菜 胡蘿蔔 大蒜 | G14: ='A案--葷食國中'!N71 -> 紅蔘炒蛋 | H14: ='A案--葷食國中'!AA71 -> 雞蛋 胡蘿蔔 大蒜 | I14: ='A案--葷食國中'!P71 -> 菇拌海帶 | J14: ='A案--葷食國中'!AB71 -> 乾裙帶菜 金針菇 大蒜 | K14: ='A案--葷食國中'!R71 -> 時蔬 | L14: ='A案--葷食國中'!AC71 -> 蔬菜 大蒜 | M14: ='A案--葷食國中'!T71 -> 時瓜湯 | N14: ='A案--葷食國中'!AD71 -> 時瓜 薑 大骨 | O14: 0 | P14: ='A案--葷食國中'!C71 -> 5 | Q14: ='A案--葷食國中'!D71 -> 2.2 | R14: ='A案--葷食國中'!E71 -> 2.3 | S14: ='A案--葷食國中'!F71 -> 2.3 | T14: ='A案--葷食國中'!G71 -> 0 | U14: ='A案--葷食國中'!H71 -> 0 | V14: ='A案--葷食國中'!I71 -> 676
A15: 4月24日 | B15: ='A案--葷食國中'!B77 -> l1 | C15: ='A案--葷食國中'!J77 -> 白米飯 | D15: ='A案--葷食國中'!Y77 -> 米 | E15: ='A案--葷食國中'!L77 -> 花生絞肉 | F15: ='A案--葷食國中'!Z77 -> 豬絞肉 油花生 麵筋 大蒜 胡蘿蔔 | G15: ='A案--葷食國中'!N77 -> 豆包甘藍 | H15: ='A案--葷食國中'!AA77 -> 豆包 甘藍 乾香菇 大蒜 | I15: ='A案--葷食國中'!P77 -> 蔬香冬粉 | J15: ='A案--葷食國中'!AB77 -> 雞蛋 冬粉 蔬菜 乾木耳 大蒜 | K15: ='A案--葷食國中'!R77 -> 時蔬 | L15: ='A案--葷食國中'!AC77 -> 蔬菜 大蒜 | M15: ='A案--葷食國中'!T77 -> 豆漿 | N15: ='A案--葷食國中'!AD77 -> 豆漿 | O15: 0 | P15: ='A案--葷食國中'!C77 -> 5.7 | Q15: ='A案--葷食國中'!D77 -> 2.7 | R15: ='A案--葷食國中'!E77 -> 2 | S15: ='A案--葷食國中'!F77 -> 3 | T15: ='A案--葷食國中'!G77 -> 0 | U15: ='A案--葷食國中'!H77 -> 0 | V15: ='A案--葷食國中'!I77 -> 786.5
A16: 4月25日 | B16: ='A案--葷食國中'!B83 -> l2 | C16: ='A案--葷食國中'!J83 -> 糙米飯 | D16: ='A案--葷食國中'!Y83 -> 米 糙米 | E16: ='A案--葷食國中'!L83 -> 椒鹽魚排 | F16: ='A案--葷食國中'!Z83 -> 魚排 胡椒鹽 | G16: ='A案--葷食國中'!N83 -> 蛋香季豆 | H16: ='A案--葷食國中'!AA83 -> 雞蛋 冷凍菜豆(莢) 胡蘿蔔 大蒜 | I16: ='A案--葷食國中'!P83 -> 麻婆豆腐 | J16: ='A案--葷食國中'!AB83 -> 豆腐 豬絞肉 大蒜 豆瓣醬 胡蘿蔔 | K16: ='A案--葷食國中'!R83 -> 時蔬 | L16: ='A案--葷食國中'!AC83 -> 蔬菜 大蒜 | M16: ='A案--葷食國中'!T83 -> 時蔬湯 | N16: ='A案--葷食國中'!AD83 -> 時蔬 薑 大骨 | O16: 0 | P16: ='A案--葷食國中'!C83 -> 5 | Q16: ='A案--葷食國中'!D83 -> 2.8 | R16: ='A案--葷食國中'!E83 -> 1.5 | S16: ='A案--葷食國中'!F83 -> 3 | T16: ='A案--葷食國中'!G83 -> 0 | U16: ='A案--葷食國中'!H83 -> 0 | V16: ='A案--葷食國中'!I83 -> 732.5
A17: 4月26日 | B17: ='A案--葷食國中'!B89 -> l3 | C17: ='A案--葷食國中'!J89 -> 西式特餐 | D17: ='A案--葷食國中'!Y89 -> 麵條 | E17: ='A案--葷食國中'!L89 -> 茄汁肉醬 | F17: ='A案--葷食國中'!Z89 -> 豬絞肉 馬鈴薯 洋蔥 蕃茄醬 | G17: ='A案--葷食國中'!N89 -> 清炒花椰 | H17: ='A案--葷食國中'!AA89 -> 冷凍花椰菜 胡蘿蔔 大蒜 | I17: ='A案--葷食國中'!P89 -> 熱狗 | J17: ='A案--葷食國中'!AB89 -> 熱狗 | K17: ='A案--葷食國中'!R89 -> 時蔬 | L17: ='A案--葷食國中'!AC89 -> 蔬菜 大蒜 | M17: ='A案--葷食國中'!T89 -> 南瓜濃湯 | N17: ='A案--葷食國中'!AD89 -> 雞蛋 南瓜 毛豆 濃湯調理包 | O17: 0 | P17: ='A案--葷食國中'!C89 -> 5.3 | Q17: ='A案--葷食國中'!D89 -> 2.2 | R17: ='A案--葷食國中'!E89 -> 1.6 | S17: ='A案--葷食國中'!F89 -> 3 | T17: ='A案--葷食國中'!G89 -> 0 | U17: ='A案--葷食國中'!H89 -> 0 | V17: ='A案--葷食國中'!I89 -> 711
A18: 4月27日 | B18: ='A案--葷食國中'!B95 -> l4 | C18: ='A案--葷食國中'!J95 -> 糙米飯 | D18: ='A案--葷食國中'!Y95 -> 米 糙米 | E18: ='A案--葷食國中'!L95 -> 回鍋肉片 | F18: ='A案--葷食國中'!Z95 -> 豬後腿肉 洋蔥 胡蘿蔔 大蒜 | G18: ='A案--葷食國中'!N95 -> 香滷凍腐 | H18: ='A案--葷食國中'!AA95 -> 凍豆腐 白蘿蔔 胡蘿蔔 大蒜 | I18: ='A案--葷食國中'!P95 -> 清炒時蔬 | J18: ='A案--葷食國中'!AB95 -> 時蔬 枸杞 大蒜 | K18: ='A案--葷食國中'!R95 -> 時蔬 | L18: ='A案--葷食國中'!AC95 -> 蔬菜 大蒜 | M18: ='A案--葷食國中'!T95 -> 粉圓甜湯 | N18: ='A案--葷食國中'!AD95 -> 粉圓 二砂糖 | O18: 0 | P18: ='A案--葷食國中'!C95 -> 6 | Q18: ='A案--葷食國中'!D95 -> 2 | R18: ='A案--葷食國中'!E95 -> 2 | S18: ='A案--葷食國中'!F95 -> 3 | T18: ='A案--葷食國中'!G95 -> 0 | U18: ='A案--葷食國中'!H95 -> 0 | V18: ='A案--葷食國中'!I95 -> 755
A19: 4月28日 | B19: ='A案--葷食國中'!B101 -> l5 | C19: ='A案--葷食國中'!J101 -> 小米飯 | D19: ='A案--葷食國中'!Y101 -> 米 小米 | E19: ='A案--葷食國中'!L101 -> 照燒雞 | F19: ='A案--葷食國中'!Z101 -> 肉雞 洋蔥 胡蘿蔔 醬油 二砂糖 | G19: ='A案--葷食國中'!N101 -> 雪菜豆干 | H19: ='A案--葷食國中'!AA101 -> 豆干 雪裡蕻 大蒜 | I19: ='A案--葷食國中'!P101 -> 絞肉甘藍 | J19: ='A案--葷食國中'!AB101 -> 豬絞肉 甘藍 胡蘿蔔 大蒜 | K19: ='A案--葷食國中'!R101 -> 時蔬 | L19: ='A案--葷食國中'!AC101 -> 蔬菜 大蒜 | M19: ='A案--葷食國中'!T101 -> 海芽湯 | N19: ='A案--葷食國中'!AD101 -> 乾裙帶菜 薑 柴魚片 | O19: 0 | P19: ='A案--葷食國中'!C101 -> 5.2 | Q19: ='A案--葷食國中'!D101 -> 3 | R19: ='A案--葷食國中'!E101 -> 2.1 | S19: ='A案--葷食國中'!F101 -> 3 | T19: ='A案--葷食國中'!G101 -> 0 | U19: ='A案--葷食國中'!H101 -> 0 | V19: ='A案--葷食國中'!I101 -> 776.5
B21: 過敏警語:「本月產品含有蛋、芝麻、含麩之穀物、花生、大豆、魚類、亞硫酸鹽類及其相關製品，不適合其過敏體質者食用」

Sheet A案--葷食國小
A1: 要修正正確數值 | J1: 僅需貼上食材明細和重量，"公斤"和下一個分頁循環就會自己跑出來
A2: 111學年度下學期國民小學112年4月份葷食菜單 (A案)
A3: 食材明細（食材重量以100人份計量，營養分析以個人計量,其中肉雞包含23%骨頭之採購量，每周供應特餐一次，當日得混搭供應，國中4菜1湯，國小3菜1湯） | Z3: 統整區的檔案，連動到上方循環，後續給教育處的檔案，此處請自行隱藏
A4: 日期 | B4: 循環 | C4: 穀/份 | D4: 豆/份 | E4: 蔬/份 | F4: 油/份 | G4: 乳/份 | H4: 果/份 | I4: 熱量 | J4: 主食 | K4: 重/kg | L4: 公斤 | M4: 主菜 | N4: 重/kg | O4: 公斤 | P4: 副菜一 | Q4: 重/kg | R4: 公斤 | S4: 蔬菜 | T4: 重/kg | U4: 公斤 | V4: 湯品 | W4: 重/kg | X4: 公斤 | AA4: 主食 | AB4: 主菜 | AC4: 副菜一 | AD4: 蔬菜 | AE4: 湯品
A5: 4/6 星期四 | B5: i4 | C5: 5.5 | D5: 1.8 | E5: 1.6 | F5: 3 | G5: 0 | H5: 0 | I5: 695 | J5: 糙米飯 | M5: 咖哩絞肉 | P5: 火腿玉菜 | S5: 時蔬 | V5: 花豆甜湯 | Z5: =B5 -> i4 | AA5: =J6&" "&J7&" "&J8&" "&J9&" "&J10 -> 米 糙米 | AB5: =M6&" "&M7&" "&M8&" "&M9&" "&M10 -> 豬絞肉 馬鈴薯 胡蘿蔔 洋蔥 咖哩粉 | AC5: =P6&" "&P7&" "&P8&" "&P9&" "&P10 -> 甘藍 火腿 大蒜 | AD5: =S6&" "&S7&" "&S8&" "&S9&" "&S10 -> 蔬菜 大蒜 | AE5: =V6&" "&V7&" "&V8&" "&V9&" "&V10 -> 花豆 二砂糖
J6: 米 | K6: 7 | L6: =IF(K6,"公斤","") -> 公斤 | M6: 豬絞肉 | N6: 6 | O6: =IF(N6,"公斤","") -> 公斤 | P6: 甘藍 | Q6: 7 | R6: =IF(Q6,"公斤","") -> 公斤 | S6: 蔬菜 | T6: 7 | U6: =IF(T6,"公斤","") -> 公斤 | V6: 花豆 | W6: 2 | X6: =IF(W6,"公斤","") -> 公斤
J7: 糙米 | K7: 3 | L7: =IF(K7,"公斤","") -> 公斤 | M7: 馬鈴薯 | N7: 2 | O7: =IF(N7,"公斤","") -> 公斤 | P7: 火腿 | Q7: 0.5 | R7: =IF(Q7,"公斤","") -> 公斤 | S7: 大蒜 | T7: 0.05 | U7: =IF(T7,"公斤","") -> 公斤 | V7: 二砂糖 | W7: 1 | X7: =IF(W7,"公斤","") -> 公斤 | AC7: 6
L8: =IF(K8,"公斤","") | M8: 胡蘿蔔 | N8: 0.5 | O8: =IF(N8,"公斤","") -> 公斤 | P8: 大蒜 | Q8: 0.05 | R8: =IF(Q8,"公斤","") -> 公斤 | U8: =IF(T8,"公斤","") | X8: =IF(W8,"公斤","")
L9: =IF(K9,"公斤","") | M9: 洋蔥 | N9: 1 | O9: =IF(N9,"公斤","") -> 公斤 | R9: =IF(Q9,"公斤","") | U9: =IF(T9,"公斤","") | X9: =IF(W9,"公斤","")
L10: =IF(K10,"公斤","") | M10: 咖哩粉 | O10: =IF(N10,"公斤","") | R10: =IF(Q10,"公斤","") | U10: =IF(T10,"公斤","") | X10: =IF(W10,"公斤","")
A11: 4/7 星期五 | B11: i5 | C11: 5.2 | D11: 2.1 | E11: 1.6 | F11: 3 | G11: 0 | H11: 0 | I11: 697 | J11: 燕麥飯 | M11: 筍干燒肉 | P11: 蛋香豆薯 | S11: 時蔬 | V11: 味噌豆皮湯 | Z11: =B11 -> i5 | AA11: =J12&" "&J13&" "&J14&" "&J15&" "&J16 -> 米 燕麥 | AB11: =M12&" "&M13&" "&M14&" "&M15&" "&M16 -> 豬後腿肉 麻竹筍干 大蒜 | AC11: =P12&" "&P13&" "&P14&" "&P15&" "&P16 -> 雞蛋 豆薯 大蒜 胡蘿蔔 | AD11: =S12&" "&S13&" "&S14&" "&S15&" "&S16 -> 蔬菜 大蒜 | AE11: =V12&" "&V13&" "&V14&" "&V15&" "&V16 -> 豆皮 味噌 柴魚片
J12: 米 | K12: 10 | L12: =IF(K12,"公斤","") -> 公斤 | M12: 豬後腿肉 | N12: 6 | O12: =IF(N12,"公斤","") -> 公斤 | P12: 雞蛋 | Q12: 1.2 | R12: =IF(Q12,"公斤","") -> 公斤 | S12: 蔬菜 | T12: 7 | U12: =IF(T12,"公斤","") -> 公斤 | V12: 豆皮 | W12: 0.3 | X12: =IF(W12,"公斤","") -> 公斤
J13: 燕麥 | K13: 0.4 | L13: =IF(K13,"公斤","") -> 公斤 | M13: 麻竹筍干 | N13: 3 | O13: =IF(N13,"公斤","") -> 公斤 | P13: 豆薯 | Q13: 5 | R13: =IF(Q13,"公斤","") -> 公斤 | S13: 大蒜 | T13: 0.05 | U13: =IF(T13,"公斤","") -> 公斤 | V13: 味噌 | W13: 0.6 | X13: =IF(W13,"公斤","") -> 公斤 | AC13: 7
L14: =IF(K14,"公斤","") | M14: 大蒜 | N14: 0.05 | O14: =IF(N14,"公斤","") -> 公斤 | P14: 大蒜 | Q14: 0.05 | R14: =IF(Q14,"公斤","") -> 公斤 | U14: =IF(T14,"公斤","") | V14: 柴魚片 | W14: 0.01 | X14: =IF(W14,"公斤","") -> 公斤
L15: =IF(K15,"公斤","") | O15: =IF(N15,"公斤","") | P15: 胡蘿蔔 | Q15: 0.5 | R15: =IF(Q15,"公斤","") -> 公斤 | U15: =IF(T15,"公斤","") | X15: =IF(W15,"公斤","")
L16: =IF(K16,"公斤","") | O16: =IF(N16,"公斤","") | R16: =IF(Q16,"公斤","") | U16: =IF(T16,"公斤","") | X16: =IF(W16,"公斤","")
A17: 4/10 星期一 | B17: j1 | C17: 5.2 | D17: 2.4 | E17: 2.1 | F17: 3.2 | G17: 0 | H17: 0 | I17: 732 | J17: 白米飯 | M17: 茄汁肉絲 | P17: 洋蔥炒蛋 | S17: 時蔬 | V17: 金針湯 | Z17: =B17 -> j1 | AA17: =J18&" "&J19&" "&J20&" "&J21&" "&J22 -> 米 | AB17: =M18&" "&M19&" "&M20&" "&M21&" "&M22 -> 豬後腿肉 馬鈴薯 大番茄 大蒜 番茄醬 | AC17: =P18&" "&P19&" "&P20&" "&P21&" "&P22 -> 雞蛋 洋蔥 大蒜 | AD17: =S18&" "&S19&" "&S20&" "&S21&" "&S22 -> 蔬菜 大蒜 | AE17: =V18&" "&V19&" "&V20&" "&V21&" "&V22 -> 金針菜乾 大骨 薑 榨菜
J18: 米 | K18: 10 | L18: =IF(K18,"公斤","") -> 公斤 | M18: 豬後腿肉 | N18: 6 | O18: =IF(N18,"公斤","") -> 公斤 | P18: 雞蛋 | Q18: 3 | R18: =IF(Q18,"公斤","") -> 公斤 | S18: 蔬菜 | T18: 7 | U18: =IF(T18,"公斤","") -> 公斤 | V18: 金針菜乾 | W18: 0.1 | X18: =IF(W18,"公斤","") -> 公斤
L19: =IF(K19,"公斤","") | M19: 馬鈴薯 | N19: 2 | O19: =IF(N19,"公斤","") -> 公斤 | P19: 洋蔥 | Q19: 4 | R19: =IF(Q19,"公斤","") -> 公斤 | S19: 大蒜 | T19: 0.05 | U19: =IF(T19,"公斤","") -> 公斤 | V19: 大骨 | W19: 0.6 | X19: =IF(W19,"公斤","") -> 公斤
L20: =IF(K20,"公斤","") | M20: 大番茄 | N20: 1 | O20: =IF(N20,"公斤","") -> 公斤 | P20: 大蒜 | Q20: 0.05 | R20: =IF(Q20,"公斤","") -> 公斤 | U20: =IF(T20,"公斤","") | V20: 薑 | W20: 0.05 | X20: =IF(W20,"公斤","") -> 公斤 | AC20: 10
L21: =IF(K21,"公斤","") | M21: 大蒜 | N21: 0.05 | O21: =IF(N21,"公斤","") -> 公斤 | R21: =IF(Q21,"公斤","") | U21: =IF(T21,"公斤","") | V21: 榨菜 | W21: 1 | X21: =IF(W21,"公斤","") -> 公斤
L22: =IF(K22,"公斤","") | M22: 番茄醬 | O22: =IF(N22,"公斤","") | R22: =IF(Q22,"公斤","") | U22: =IF(T22,"公斤","") | X22: =IF(W22,"公斤","")
A23: 4/11 星期二 | B23: j2 | C23: 5 | D23: 2.5 | E23: 1.7 | F23: 3 | G23: 0 | H23: 0 | I23: =C23*70+D23*75+E23*25+F23*45 -> 715 | J23: 糙米飯 | M23: 醬瓜燒雞 | P23: 毛豆白菜 | S23: 時蔬 | V23: 海芽蛋花湯 | Z23: =B23 -> j2 | AA23: =J24&" "&J25&" "&J26&" "&J27&" "&J28 -> 米 糙米 | AB23: =M24&" "&M25&" "&M26&" "&M27&" "&M28 -> 肉雞 醃漬花胡瓜 大蒜 | AC23: =P24&" "&P25&" "&P26&" "&P27&" "&P28 -> 結球白菜 冷凍毛豆仁 胡蘿蔔 大蒜 | AD23: =S24&" "&S25&" "&S26&" "&S27&" "&S28 -> 蔬菜 大蒜 | AE23: =V24&" "&V25&" "&V26&" "&V27&" "&V28 -> 乾海帶 雞蛋 薑
J24: 米 | K24: 7 | L24: =IF(K24,"公斤","") -> 公斤 | M24: 肉雞 | N24: 9 | O24: =IF(N24,"公斤","") -> 公斤 | P24: 結球白菜 | Q24: 6.5 | R24: =IF(Q24,"公斤","") -> 公斤 | S24: 蔬菜 | T24: 7 | U24: =IF(T24,"公斤","") -> 公斤 | V24: 乾海帶 | W24: 0.1 | X24: =IF(W24,"公斤","") -> 公斤
J25: 糙米 | K25: 3 | L25: =IF(K25,"公斤","") -> 公斤 | M25: 醃漬花胡瓜 | N25: 2 | O25: =IF(N25,"公斤","") -> 公斤 | P25: 冷凍毛豆仁 | Q25: 0.5 | R25: =IF(Q25,"公斤","") -> 公斤 | S25: 大蒜 | T25: 0.05 | U25: =IF(T25,"公斤","") -> 公斤 | V25: 雞蛋 | W25: 1 | X25: =IF(W25,"公斤","") -> 公斤
L26: =IF(K26,"公斤","") | M26: 大蒜 | N26: 0.05 | O26: =IF(N26,"公斤","") -> 公斤 | P26: 胡蘿蔔 | Q26: 0.5 | R26: =IF(Q26,"公斤","") -> 公斤 | U26: =IF(T26,"公斤","") | V26: 薑 | W26: 0.05 | X26: =IF(W26,"公斤","") -> 公斤 | AC26: 11
L27: =IF(K27,"公斤","") | O27: =IF(N27,"公斤","") | P27: 大蒜 | Q27: 0.05 | R27: =IF(Q27,"公斤","") -> 公斤 | U27: =IF(T27,"公斤","") | X27: =IF(W27,"公斤","")
L28: =IF(K28,"公斤","") | O28: =IF(N28,"公斤","") | R28: =IF(Q28,"公斤","") | U28: =IF(T28,"公斤","") | X28: =IF(W28,"公斤","")
A29: 4/12 星期三 | B29: j3 | C29: 3.3 | D29: 2.8 | E29: 1.3 | F29: 3 | G29: 0 | H29: 0 | I29: =C29*70+D29*75+E29*25+F29*45 -> 608.5 | J29: 刈包特餐 | M29: 香滷肉排 | P29: 酸菜麵腸 | S29: 時蔬 | V29: 糙米粥 | Z29: =B29 -> j3 | AA29: =J30&" "&J31&" "&J32&" "&J33&" "&J34 -> 刈包 | AB29: =M30&" "&M31&" "&M32&" "&M33&" "&M34 -> 肉排 滷包 | AC29: =P30&" "&P31&" "&P32&" "&P33&" "&P34 -> 酸菜 麵腸 大蒜 | AD29: =S30&" "&S31&" "&S32&" "&S33&" "&S34 -> 蔬菜 大蒜 | AE29: =V30&" "&V31&" "&V32&" "&V33&" "&V34 -> 雞蛋 糙米 胡蘿蔔 乾香菇 時瓜
J30: 刈包 | K30: 4 | L30: =IF(K30,"公斤","") -> 公斤 | M30: 肉排 | N30: 6 | O30: =IF(N30,"公斤","") -> 公斤 | P30: 酸菜 | Q30: 3 | R30: =IF(Q30,"公斤","") -> 公斤 | S30: 蔬菜 | T30: 7 | U30: =IF(T30,"公斤","") -> 公斤 | V30: 雞蛋 | W30: 1 | X30: =IF(W30,"公斤","") -> 公斤
L31: =IF(K31,"公斤","") | M31: 滷包 | O31: =IF(N31,"公斤","") | P31: 麵腸 | Q31: 3 | R31: =IF(Q31,"公斤","") -> 公斤 | S31: 大蒜 | T31: 0.05 | U31: =IF(T31,"公斤","") -> 公斤 | V31: 糙米 | W31: 4 | X31: =IF(W31,"公斤","") -> 公斤
L32: =IF(K32,"公斤","") | O32: =IF(N32,"公斤","") | P32: 大蒜 | Q32: 0.05 | R32: =IF(Q32,"公斤","") -> 公斤 | U32: =IF(T32,"公斤","") | V32: 胡蘿蔔 | W32: 0.5 | X32: =IF(W32,"公斤","") -> 公斤 | AC32: 12
L33: =IF(K33,"公斤","") | O33: =IF(N33,"公斤","") | R33: =IF(Q33,"公斤","") | U33: =IF(T33,"公斤","") | V33: 乾香菇 | W33: 0.01 | X33: =IF(W33,"公斤","") -> 公斤
L34: =IF(K34,"公斤","") | O34: =IF(N34,"公斤","") | R34: =IF(Q34,"公斤","") | U34: =IF(T34,"公斤","") | V34: 時瓜 | W34: 2 | X34: =IF(W34,"公斤","") -> 公斤
A35: 4/13 星期四 | B35: j4 | C35: 5 | D35: 2.4 | E35: 1.3 | F35: 3 | G35: 0 | H35: 0 | I35: =C35*70+D35*75+E35*25+F35*45 -> 697.5 | J35: 糙米飯 | M35: 豆瓣魚丁 | P35: 筍干油腐 | S35: 時蔬 | V35: 仙草甜湯 | Z35: =B35 -> j4 | AA35: =J36&" "&J37&" "&J38&" "&J39&" "&J40 -> 米 糙米 | AB35: =M36&" "&M37&" "&M38&" "&M39&" "&M40 -> 鮮魚丁 白蘿蔔 胡蘿蔔 大蒜 豆瓣醬 | AC35: =P36&" "&P37&" "&P38&" "&P39&" "&P40 -> 麻竹筍干 四角油豆腐 大蒜 | AD35: =S36&" "&S37&" "&S38&" "&S39&" "&S40 -> 蔬菜 大蒜 | AE35: =V36&" "&V37&" "&V38&" "&V39&" "&V40 -> 仙草凍 二砂糖
J36: 米 | K36: 7 | L36: =IF(K36,"公斤","") -> 公斤 | M36: 鮮魚丁 | N36: 6.5 | O36: =IF(N36,"公斤","") -> 公斤 | P36: 麻竹筍干 | Q36: 2 | R36: =IF(Q36,"公斤","") -> 公斤 | S36: 蔬菜 | T36: 7 | U36: =IF(T36,"公斤","") -> 公斤 | V36: 仙草凍 | W36: 6 | X36: =IF(W36,"公斤","") -> 公斤
J37: 糙米 | K37: 3 | L37: =IF(K37,"公斤","") -> 公斤 | M37: 白蘿蔔 | N37: 3.5 | O37: =IF(N37,"公斤","") -> 公斤 | P37: 四角油豆腐 | Q37: 3 | R37: =IF(Q37,"公斤","") -> 公斤 | S37: 大蒜 | T37: 0.05 | U37: =IF(T37,"公斤","") -> 公斤 | V37: 二砂糖 | W37: 1 | X37: =IF(W37,"公斤","") -> 公斤 | AC37: 13
L38: =IF(K38,"公斤","") | M38: 胡蘿蔔 | N38: 0.5 | O38: =IF(N38,"公斤","") -> 公斤 | P38: 大蒜 | Q38: 0.05 | R38: =IF(Q38,"公斤","") -> 公斤 | U38: =IF(T38,"公斤","") | X38: =IF(W38,"公斤","")
L39: =IF(K39,"公斤","") | M39: 大蒜 | N39: 0.05 | O39: =IF(N39,"公斤","") -> 公斤 | R39: =IF(Q39,"公斤","") | U39: =IF(T39,"公斤","") | X39: =IF(W39,"公斤","")
L40: =IF(K40,"公斤","") | M40: 豆瓣醬 | O40: =IF(N40,"公斤","") | R40: =IF(Q40,"公斤","") | U40: =IF(T40,"公斤","") | X40: =IF(W40,"公斤","")
A41: 4/14 星期五 | B41: j5 | C41: 5 | D41: 2.7 | E41: 2.2 | F41: 3.2 | G41: 0 | H41: 0 | I41: =C41*70+D41*75+E41*25+F41*45 -> 751.5 | J41: 芝麻飯 | M41: 泡菜燒肉 | P41: 魚香豆干 | S41: 時蔬 | V41: 冬瓜湯 | Z41: =B41 -> j5 | AA41: =J42&" "&J43&" "&J44&" "&J45&" "&J46 -> 米 芝麻(熟) | AB41: =M42&" "&M43&" "&M44&" "&M45&" "&M46 -> 豬後腿肉 韓式泡菜 甘藍 大蒜 | AC41: =P42&" "&P43&" "&P44&" "&P45&" "&P46 -> 小魚干 豆干 油花生 大蒜 | AD41: =S42&" "&S43&" "&S44&" "&S45&" "&S46 -> 蔬菜 大蒜 | AE41: =V42&" "&V43&" "&V44&" "&V45&" "&V46 -> 冬瓜 薑 大骨
J42: 米 | K42: 10 | L42: =IF(K42,"公斤","") -> 公斤 | M42: 豬後腿肉 | N42: 6 | O42: =IF(N42,"公斤","") -> 公斤 | P42: 小魚干 | Q42: 0.2 | R42: =IF(Q42,"公斤","") -> 公斤 | S42: 蔬菜 | T42: 7 | U42: =IF(T42,"公斤","") -> 公斤 | V42: 冬瓜 | W42: 4 | X42: =IF(W42,"公斤","") -> 公斤
J43: 芝麻(熟) | K43: 0.05 | L43: =IF(K43,"公斤","") -> 公斤 | M43: 韓式泡菜 | N43: 1 | O43: =IF(N43,"公斤","") -> 公斤 | P43: 豆干 | Q43: 4 | R43: =IF(Q43,"公斤","") -> 公斤 | S43: 大蒜 | T43: 0.05 | U43: =IF(T43,"公斤","") -> 公斤 | V43: 薑 | W43: 0.05 | X43: =IF(W43,"公斤","") -> 公斤 | AC43: 14
L44: =IF(K44,"公斤","") | M44: 甘藍 | N44: 3 | O44: =IF(N44,"公斤","") -> 公斤 | P44: 油花生 | Q44: 0.1 | R44: =IF(Q44,"公斤","") -> 公斤 | U44: =IF(T44,"公斤","") | V44: 大骨 | W44: 0.6 | X44: =IF(W44,"公斤","") -> 公斤
L45: =IF(K45,"公斤","") | M45: 大蒜 | N45: 0.05 | O45: =IF(N45,"公斤","") -> 公斤 | P45: 大蒜 | Q45: 0.05 | R45: =IF(Q45,"公斤","") -> 公斤 | U45: =IF(T45,"公斤","") | X45: =IF(W45,"公斤","")
L46: =IF(K46,"公斤","") | O46: =IF(N46,"公斤","") | R46: =IF(Q46,"公斤","") | U46: =IF(T46,"公斤","") | X46: =IF(W46,"公斤","")
A47: 4/17 星期一 | B47: k1 | C47: 5 | D47: 2.8 | E47: 1 | F47: 1.9 | I47: =C47*70+F47*45+E47*25+G47*150+H47*60+D47*75 -> 670.5 | J47: 白米飯 | M47: 紅燒雞翅 | P47: 鮮菇豆腐 | S47: 時蔬 | V47: 味噌湯 | Z47: =B47 -> k1 | AA47: =J48&" "&J49&" "&J50&" "&J51&" "&J52 -> 米 | AB47: =M48&" "&M49&" "&M50&" "&M51&" "&M52 -> 三節翅 滷包 | AC47: =P48&" "&P49&" "&P50&" "&P51&" "&P52 -> 豆腐 金針菇 乾香菇 大蒜 胡蘿蔔 | AD47: =S48&" "&S49&" "&S50&" "&S51&" "&S52 -> 蔬菜 大蒜 | AE47: =V48&" "&V49&" "&V50&" "&V51&" "&V52 -> 乾裙帶菜 味噌 薑 柴魚片
J48: 米 | K48: 10 | L48: 公斤 | M48: 三節翅 | N48: 9 | O48: 公斤 | P48: 豆腐 | Q48: 4 | R48: =IF(Q48,"公斤","") -> 公斤 | S48: 蔬菜 | T48: 7 | U48: =IF(T48,"公斤","") -> 公斤 | V48: 乾裙帶菜 | W48: 0.2 | X48: =IF(W48,"公斤","") -> 公斤
M49: 滷包 | P49: 金針菇 | Q49: 2 | R49: =IF(Q49,"公斤","") -> 公斤 | S49: 大蒜 | T49: 0.05 | U49: =IF(T49,"公斤","") -> 公斤 | V49: 味噌 | W49: 0.1 | X49: =IF(W49,"公斤","") -> 公斤
P50: 乾香菇 | Q50: 0.01 | R50: =IF(Q50,"公斤","") -> 公斤 | U50: =IF(T50,"公斤","") | V50: 薑 | W50: 0.05 | X50: =IF(W50,"公斤","") -> 公斤
P51: 大蒜 | Q51: 0.05 | R51: =IF(Q51,"公斤","") -> 公斤 | U51: =IF(T51,"公斤","") | V51: 柴魚片 | X51: =IF(W51,"公斤","")
P52: 胡蘿蔔 | Q52: 0.5 | R52: =IF(Q52,"公斤","") -> 公斤 | U52: =IF(T52,"公斤","") | X52: =IF(W52,"公斤","")
A53: 4/18 星期二 | B53: k2 | C53: 5.4 | D53: 2.1 | E53: 1.4 | F53: 1.8 | I53: =C53*70+F53*45+E53*25+G53*150+H53*60+D53*75 -> 651.5 | J53: 糙米飯 | M53: 咖哩鮮魚 | P53: 蛋香刈薯 | S53: 時蔬 | V53: 金針湯 | Z53: =B53 -> k2 | AA53: =J54&" "&J55&" "&J56&" "&J57&" "&J58 -> 米 糙米 | AB53: =M54&" "&M55&" "&M56&" "&M57&" "&M58 -> 鮮魚丁 馬鈴薯 洋蔥 胡蘿蔔 咖哩粉 | AC53: =P54&" "&P55&" "&P56&" "&P57&" "&P58 -> 雞蛋 刈薯 大蒜 | AD53: =S54&" "&S55&" "&S56&" "&S57&" "&S58 -> 蔬菜 大蒜 | AE53: =V54&" "&V55&" "&V56&" "&V57&" "&V58 -> 金針菜乾 榨菜 薑 大骨
J54: 米 | K54: 7 | L54: 公斤 | M54: 鮮魚丁 | N54: 6.5 | O54: 公斤 | P54: 雞蛋 | Q54: 1 | R54: =IF(Q54,"公斤","") -> 公斤 | S54: 蔬菜 | T54: 7 | U54: =IF(T54,"公斤","") -> 公斤 | V54: 金針菜乾 | W54: 0.1 | X54: =IF(W54,"公斤","") -> 公斤
J55: 糙米 | K55: 3 | L55: 公斤 | M55: 馬鈴薯 | N55: 3.5 | O55: 公斤 | P55: 刈薯 | Q55: 4 | R55: =IF(Q55,"公斤","") -> 公斤 | S55: 大蒜 | T55: 0.05 | U55: =IF(T55,"公斤","") -> 公斤 | V55: 榨菜 | W55: 1 | X55: =IF(W55,"公斤","") -> 公斤
M56: 洋蔥 | N56: 1 | O56: 公斤 | P56: 大蒜 | Q56: 0.05 | R56: =IF(Q56,"公斤","") -> 公斤 | U56: =IF(T56,"公斤","") | V56: 薑 | W56: 0.05 | X56: =IF(W56,"公斤","") -> 公斤
M57: 胡蘿蔔 | N57: 1 | O57: 公斤 | R57: =IF(Q57,"公斤","") | U57: =IF(T57,"公斤","") | V57: 大骨 | W57: 1 | X57: =IF(W57,"公斤","") -> 公斤
M58: 咖哩粉 | R58: =IF(Q58,"公斤","") | U58: =IF(T58,"公斤","") | X58: =IF(W58,"公斤","")
A59: 4/19 星期三 | B59: k3 | C59: 5.5 | D59: 2.6 | E59: 1.4 | F59: 2 | I59: =C59*70+F59*45+E59*25+G59*150+H59*60+D59*75 -> 705 | J59: 泰式特餐 | M59: 打拋豬 | P59: 泰式魚丸 | S59: 時蔬 | V59: 冬蔭功湯 | Z59: =B59 -> k3 | AA59: =J60&" "&J61&" "&J62&" "&J63&" "&J64 -> 米 糙米 | AB59: =M60&" "&M61&" "&M62&" "&M63&" "&M64 -> 豬絞肉 洋蔥 打拋醬 魚露 大蒜 | AC59: =P60&" "&P61&" "&P62&" "&P63&" "&P64 -> 魚丸 泰式酸辣醬 | AD59: =S60&" "&S61&" "&S62&" "&S63&" "&S64 -> 蔬菜 大蒜 | AE59: =V60&" "&V61&" "&V62&" "&V63&" "&V64 -> 秀珍菇 大番茄 大骨 檸檬 香茅
J60: 米 | K60: 8 | L60: 公斤 | M60: 豬絞肉 | N60: 6 | O60: 公斤 | P60: 魚丸 | Q60: 4 | R60: =IF(Q60,"公斤","") -> 公斤 | S60: 蔬菜 | T60: 7 | U60: =IF(T60,"公斤","") -> 公斤 | V60: 秀珍菇 | W60: 1 | X60: =IF(W60,"公斤","") -> 公斤
J61: 糙米 | K61: 3 | L61: 公斤 | M61: 洋蔥 | N61: 3.5 | O61: 公斤 | P61: 泰式酸辣醬 | Q61: 0.5 | R61: =IF(Q61,"公斤","") -> 公斤 | S61: 大蒜 | T61: 0.05 | U61: =IF(T61,"公斤","") -> 公斤 | V61: 大番茄 | W61: 2 | X61: =IF(W61,"公斤","") -> 公斤
M62: 打拋醬 | O62: 公斤 | R62: =IF(Q62,"公斤","") | U62: =IF(T62,"公斤","") | V62: 大骨 | W62: 1 | X62: =IF(W62,"公斤","") -> 公斤
M63: 魚露 | O63: 公斤 | R63: =IF(Q63,"公斤","") | U63: =IF(T63,"公斤","") | V63: 檸檬 | X63: =IF(W63,"公斤","")
M64: 大蒜 | N64: 0.05 | O64: 公斤 | R64: =IF(Q64,"公斤","") | U64: =IF(T64,"公斤","") | V64: 香茅 | X64: =IF(W64,"公斤","")
A65: 4/20 星期四 | B65: k4 | C65: 5.8 | D65: 2.5 | E65: 1.7 | F65: 2.1 | I65: =C65*70+F65*45+E65*25+G65*150+H65*60+D65*75 -> 730.5 | J65: 糙米飯 | M65: 豆瓣雞丁 | P65: 肉絲豆芽 | S65: 時蔬 | V65: 綠豆湯 | Z65: =B65 -> k4 | AA65: =J66&" "&J67&" "&J68&" "&J69&" "&J70 -> 米 糙米 | AB65: =M66&" "&M67&" "&M68&" "&M69&" "&M70 -> 肉雞 豆薯 胡蘿蔔 大蒜 | AC65: =P66&" "&P67&" "&P68&" "&P69&" "&P70 -> 豬後腿肉 綠豆芽 韮菜 乾木耳 大蒜 | AD65: =S66&" "&S67&" "&S68&" "&S69&" "&S70 -> 蔬菜 大蒜 | AE65: =V66&" "&V67&" "&V68&" "&V69&" "&V70 -> 綠豆 二砂糖
J66: 米 | K66: 7 | L66: 公斤 | M66: 肉雞 | N66: 9 | O66: 公斤 | P66: 豬後腿肉 | Q66: 0.6 | R66: =IF(Q66,"公斤","") -> 公斤 | S66: 蔬菜 | T66: 7 | U66: =IF(T66,"公斤","") -> 公斤 | V66: 綠豆 | W66: 2 | X66: =IF(W66,"公斤","") -> 公斤
J67: 糙米 | K67: 3 | L67: 公斤 | M67: 豆薯 | N67: 3 | O67: 公斤 | P67: 綠豆芽 | Q67: 5 | R67: =IF(Q67,"公斤","") -> 公斤 | S67: 大蒜 | T67: 0.05 | U67: =IF(T67,"公斤","") -> 公斤 | V67: 二砂糖 | W67: 1 | X67: =IF(W67,"公斤","") -> 公斤
M68: 胡蘿蔔 | N68: 1 | O68: 公斤 | P68: 韮菜 | Q68: 0.5 | R68: =IF(Q68,"公斤","") -> 公斤 | U68: =IF(T68,"公斤","") | X68: =IF(W68,"公斤","")
M69: 大蒜 | N69: 0.05 | O69: 公斤 | P69: 乾木耳 | Q69: 0.01 | R69: =IF(Q69,"公斤","") -> 公斤 | U69: =IF(T69,"公斤","") | X69: =IF(W69,"公斤","")
P70: 大蒜 | Q70: 0.05 | R70: =IF(Q70,"公斤","") -> 公斤 | U70: =IF(T70,"公斤","") | X70: =IF(W70,"公斤","")
A71: 4/21 星期五 | B71: k5 | C71: 5 | D71: 2.2 | E71: 2.1 | F71: 2.2 | I71: =C71*70+F71*45+E71*25+G71*150+H71*60+D71*75 -> 666.5 | J71: 紅藜飯 | M71: 壽喜燒肉 | P71: 紅蔘炒蛋 | S71: 時蔬 | V71: 時瓜湯 | Z71: =B71 -> k5 | AA71: =J72&" "&J73&" "&J74&" "&J75&" "&J76 -> 米 紅藜 | AB71: =M72&" "&M73&" "&M74&" "&M75&" "&M76 -> 豬後腿肉 結球白菜 胡蘿蔔 大蒜 | AC71: =P72&" "&P73&" "&P74&" "&P75&" "&P76 -> 雞蛋 胡蘿蔔 大蒜 | AD71: =S72&" "&S73&" "&S74&" "&S75&" "&S76 -> 蔬菜 大蒜 | AE71: =V72&" "&V73&" "&V74&" "&V75&" "&V76 -> 時瓜 薑 大骨
J72: 米 | K72: 10 | L72: 公斤 | M72: 豬後腿肉 | N72: 6 | O72: 公斤 | P72: 雞蛋 | Q72: 2 | R72: =IF(Q72,"公斤","") -> 公斤 | S72: 蔬菜 | T72: 7 | U72: =IF(T72,"公斤","") -> 公斤 | V72: 時瓜 | W72: 5 | X72: =IF(W72,"公斤","") -> 公斤
J73: 紅藜 | K73: 0.05 | L73: 公斤 | M73: 結球白菜 | N73: 4 | O73: 公斤 | P73: 胡蘿蔔 | Q73: 4 | R73: =IF(Q73,"公斤","") -> 公斤 | S73: 大蒜 | T73: 0.05 | U73: =IF(T73,"公斤","") -> 公斤 | V73: 薑 | W73: 0.05 | X73: =IF(W73,"公斤","") -> 公斤
M74: 胡蘿蔔 | N74: 0.5 | O74: 公斤 | P74: 大蒜 | Q74: 0.05 | R74: =IF(Q74,"公斤","") -> 公斤 | U74: =IF(T74,"公斤","") | V74: 大骨 | W74: 1 | X74: =IF(W74,"公斤","") -> 公斤
M75: 大蒜 | N75: 0.05 | O75: 公斤 | R75: =IF(Q75,"公斤","") | U75: =IF(T75,"公斤","") | X75: =IF(W75,"公斤","")
R76: =IF(Q76,"公斤","") | U76: =IF(T76,"公斤","") | X76: =IF(W76,"公斤","")
A77: 4/24 星期一 | B77: l1 | C77: 5 | D77: 2.5 | E77: 1.7 | F77: 2.5 | I77: =C77*70+F77*45+E77*25+G77*150+H77*60+D77*75 -> 692.5 | J77: 白米飯 | M77: 花生絞肉 | P77: 豆包甘藍 | S77: 時蔬 | V77: 豆漿 | Z77: =B77 -> l1 | AA77: =J78&" "&J79&" "&J80&" "&J81&" "&J82 -> 米 | AB77: =M78&" "&M79&" "&M80&" "&M81&" "&M82 -> 豬絞肉 油花生 麵筋 大蒜 胡蘿蔔 | AC77: =P78&" "&P79&" "&P80&" "&P81&" "&P82 -> 豆包 甘藍 乾香菇 大蒜 | AD77: =S78&" "&S79&" "&S80&" "&S81&" "&S82 -> 蔬菜 大蒜 | AE77: =V78&" "&V79&" "&V80&" "&V81&" "&V82 -> 豆漿
J78: 米 | K78: 10 | L78: 公斤 | M78: 豬絞肉 | N78: 6 | O78: 公斤 | P78: 豆包 | Q78: 1.5 | R78: =IF(Q78,"公斤","") -> 公斤 | S78: 蔬菜 | T78: 7 | U78: =IF(T78,"公斤","") -> 公斤 | V78: 豆漿 | W78: 1.9 | X78: =IF(W78,"公斤","") -> 公斤
M79: 油花生 | N79: 0.1 | O79: 公斤 | P79: 甘藍 | Q79: 7 | R79: =IF(Q79,"公斤","") -> 公斤 | S79: 大蒜 | T79: 0.05 | U79: =IF(T79,"公斤","") -> 公斤 | X79: =IF(W79,"公斤","")
M80: 麵筋 | N80: 0.5 | O80: 公斤 | P80: 乾香菇 | Q80: 0.01 | R80: =IF(Q80,"公斤","") -> 公斤 | U80: =IF(T80,"公斤","") | X80: =IF(W80,"公斤","")
M81: 大蒜 | N81: 0.05 | O81: 公斤 | P81: 大蒜 | Q81: 0.05 | R81: =IF(Q81,"公斤","") -> 公斤 | U81: =IF(T81,"公斤","") | X81: =IF(W81,"公斤","")
M82: 胡蘿蔔 | N82: 1 | O82: 公斤 | R82: =IF(Q82,"公斤","") | U82: =IF(T82,"公斤","") | X82: =IF(W82,"公斤","")
A83: 4/25 星期二 | B83: l2 | C83: 5 | D83: 1.8 | E83: 1.5 | F83: 2.5 | I83: =C83*70+F83*45+E83*25+G83*150+H83*60+D83*75 -> 635 | J83: 糙米飯 | M83: 椒鹽魚排 | P83: 蛋香季豆 | S83: 時蔬 | V83: 時蔬湯 | Z83: =B83 -> l2 | AA83: =J84&" "&J85&" "&J86&" "&J87&" "&J88 -> 米 糙米 | AB83: =M84&" "&M85&" "&M86&" "&M87&" "&M88 -> 魚排 胡椒鹽 | AC83: =P84&" "&P85&" "&P86&" "&P87&" "&P88 -> 雞蛋 冷凍菜豆(莢) 胡蘿蔔 大蒜 | AD83: =S84&" "&S85&" "&S86&" "&S87&" "&S88 -> 蔬菜 大蒜 | AE83: =V84&" "&V85&" "&V86&" "&V87&" "&V88 -> 時蔬 薑 大骨
J84: 米 | K84: 7 | L84: 公斤 | M84: 魚排 | N84: 6 | O84: 公斤 | P84: 雞蛋 | Q84: 1 | R84: =IF(Q84,"公斤","") -> 公斤 | S84: 蔬菜 | T84: 7 | U84: =IF(T84,"公斤","") -> 公斤 | V84: 時蔬 | W84: 3 | X84: =IF(W84,"公斤","") -> 公斤
J85: 糙米 | K85: 3 | L85: 公斤 | M85: 胡椒鹽 | P85: 冷凍菜豆(莢) | Q85: 4 | R85: =IF(Q85,"公斤","") -> 公斤 | S85: 大蒜 | T85: 0.05 | U85: =IF(T85,"公斤","") -> 公斤 | V85: 薑 | W85: 0.05 | X85: =IF(W85,"公斤","") -> 公斤
P86: 胡蘿蔔 | Q86: 0.5 | R86: =IF(Q86,"公斤","") -> 公斤 | U86: =IF(T86,"公斤","") | V86: 大骨 | W86: 1 | X86: =IF(W86,"公斤","") -> 公斤
P87: 大蒜 | Q87: 0.05 | R87: =IF(Q87,"公斤","") -> 公斤 | U87: =IF(T87,"公斤","") | X87: =IF(W87,"公斤","")
R88: =IF(Q88,"公斤","") | U88: =IF(T88,"公斤","") | X88: =IF(W88,"公斤","")
A89: 4/26 星期三 | B89: l3 | C89: 5.3 | D89: 2 | E89: 1.6 | F89: 2.5 | I89: =C89*70+F89*45+E89*25+G89*150+H89*60+D89*75 -> 673.5 | J89: 西式特餐 | M89: 茄汁肉醬 | P89: 清炒花椰 | S89: 時蔬 | V89: 南瓜濃湯 | Z89: =B89 -> l3 | AA89: =J90&" "&J91&" "&J92&" "&J93&" "&J94 -> 麵條 | AB89: =M90&" "&M91&" "&M92&" "&M93&" "&M94 -> 豬絞肉 馬鈴薯 洋蔥 蕃茄醬 | AC89: =P90&" "&P91&" "&P92&" "&P93&" "&P94 -> 冷凍花椰菜 胡蘿蔔 大蒜 | AD89: =S90&" "&S91&" "&S92&" "&S93&" "&S94 -> 蔬菜 大蒜 | AE89: =V90&" "&V91&" "&V92&" "&V93&" "&V94 -> 雞蛋 南瓜 毛豆 濃湯調理包
J90: 麵條 | K90: 15 | L90: 公斤 | M90: 豬絞肉 | N90: 6 | O90: 公斤 | P90: 冷凍花椰菜 | Q90: 6 | R90: =IF(Q90,"公斤","") -> 公斤 | S90: 蔬菜 | T90: 7 | U90: =IF(T90,"公斤","") -> 公斤 | V90: 雞蛋 | W90: 0.3 | X90: =IF(W90,"公斤","") -> 公斤
M91: 馬鈴薯 | N91: 2 | O91: 公斤 | P91: 胡蘿蔔 | Q91: 1 | R91: =IF(Q91,"公斤","") -> 公斤 | S91: 大蒜 | T91: 0.05 | U91: =IF(T91,"公斤","") -> 公斤 | V91: 南瓜 | W91: 2 | X91: =IF(W91,"公斤","") -> 公斤
M92: 洋蔥 | N92: 1.5 | O92: 公斤 | P92: 大蒜 | Q92: 0.05 | R92: =IF(Q92,"公斤","") -> 公斤 | U92: =IF(T92,"公斤","") | V92: 毛豆 | W92: 0.5 | X92: =IF(W92,"公斤","") -> 公斤
M93: 蕃茄醬 | R93: =IF(Q93,"公斤","") | U93: =IF(T93,"公斤","") | V93: 濃湯調理包 | X93: =IF(W93,"公斤","")
R94: =IF(Q94,"公斤","") | U94: =IF(T94,"公斤","") | X94: =IF(W94,"公斤","")
A95: 4/27 星期四 | B95: l4 | C95: 6 | D95: 2 | E95: 1.5 | F95: 2.5 | I95: =C95*70+F95*45+E95*25+G95*150+H95*60+D95*75 -> 720 | J95: 糙米飯 | M95: 回鍋肉片 | P95: 香滷凍腐 | S95: 時蔬 | V95: 粉圓甜湯 | Z95: =B95 -> l4 | AA95: =J96&" "&J97&" "&J98&" "&J99&" "&J100 -> 米 糙米 | AB95: =M96&" "&M97&" "&M98&" "&M99&" "&M100 -> 豬後腿肉 洋蔥 胡蘿蔔 大蒜 | AC95: =P96&" "&P97&" "&P98&" "&P99&" "&P100 -> 凍豆腐 白蘿蔔 胡蘿蔔 大蒜 | AD95: =S96&" "&S97&" "&S98&" "&S99&" "&S100 -> 蔬菜 大蒜 | AE95: =V96&" "&V97&" "&V98&" "&V99&" "&V100 -> 粉圓 二砂糖
J96: 米 | K96: 7 | L96: 公斤 | M96: 豬後腿肉 | N96: 6 | O96: 公斤 | P96: 凍豆腐 | Q96: 3 | R96: =IF(Q96,"公斤","") -> 公斤 | S96: 蔬菜 | T96: 7 | U96: =IF(T96,"公斤","") -> 公斤 | V96: 粉圓 | W96: 2 | X96: =IF(W96,"公斤","") -> 公斤
J97: 糙米 | K97: 3 | L97: 公斤 | M97: 洋蔥 | N97: 3 | O97: 公斤 | P97: 白蘿蔔 | Q97: 3 | R97: =IF(Q97,"公斤","") -> 公斤 | S97: 大蒜 | T97: 0.05 | U97: =IF(T97,"公斤","") -> 公斤 | V97: 二砂糖 | W97: 1 | X97: =IF(W97,"公斤","") -> 公斤
M98: 胡蘿蔔 | N98: 0.5 | O98: 公斤 | P98: 胡蘿蔔 | Q98: 0.5 | R98: =IF(Q98,"公斤","") -> 公斤 | U98: =IF(T98,"公斤","") | X98: =IF(W98,"公斤","")
M99: 大蒜 | N99: 0.05 | O99: 公斤 | P99: 大蒜 | Q99: 0.05 | R99: =IF(Q99,"公斤","") -> 公斤 | U99: =IF(T99,"公斤","") | X99: =IF(W99,"公斤","")
R100: =IF(Q100,"公斤","") | U100: =IF(T100,"公斤","") | X100: =IF(W100,"公斤","")
...

Sheet A案--葷食國小月總表
B1: 111 | C1: 學年度 | D1: 國民小學 | E1: 葷食 | F1: 菜單 | G1: 循環
A2: 日期 | B2: 循環 | C2: 主食 | D2: 主食明細 | E2: 主菜 | F2: 主菜明細 | G2: 副菜一 | H2: 副菜一明細 | I2: 蔬菜 | J2: 蔬菜明細 | K2: 湯品 | L2: 湯品明細 | M2: 點心 | N2: 穀/份 | O2: 豆/份 | P2: 蔬/份 | Q2: 油/份 | R2: 乳/份 | S2: 果/份 | T2: 熱量
A3: 4月6日 | B3: ='A案--葷食國小'!B5 -> i4 | C3: ='A案--葷食國小'!J5 -> 糙米飯 | D3: ='A案--葷食國小'!AA5 -> 米 糙米 | E3: ='A案--葷食國小'!M5 -> 咖哩絞肉 | F3: ='A案--葷食國小'!AB5 -> 豬絞肉 馬鈴薯 胡蘿蔔 洋蔥 咖哩粉 | G3: ='A案--葷食國小'!P5 -> 火腿玉菜 | H3: ='A案--葷食國小'!AC5 -> 甘藍 火腿 大蒜 | I3: ='A案--葷食國小'!S5 -> 時蔬 | J3: ='A案--葷食國小'!AD5 -> 蔬菜 大蒜 | K3: ='A案--葷食國小'!V5 -> 花豆甜湯 | L3: ='A案--葷食國小'!AE5 -> 花豆 二砂糖 | M3: 0 | N3: ='A案--葷食國小'!C5 -> 5.5 | O3: ='A案--葷食國小'!D5 -> 1.8 | P3: ='A案--葷食國小'!E5 -> 1.6 | Q3: ='A案--葷食國小'!F5 -> 3 | R3: ='A案--葷食國小'!G5 -> 0 | S3: ='A案--葷食國小'!H5 -> 0 | T3: ='A案--葷食國小'!I5 -> 695
A4: 4月7日 | B4: ='A案--葷食國小'!B11 -> i5 | C4: ='A案--葷食國小'!J11 -> 燕麥飯 | D4: ='A案--葷食國小'!AA11 -> 米 燕麥 | E4: ='A案--葷食國小'!M11 -> 筍干燒肉 | F4: ='A案--葷食國小'!AB11 -> 豬後腿肉 麻竹筍干 大蒜 | G4: ='A案--葷食國小'!P11 -> 蛋香豆薯 | H4: ='A案--葷食國小'!AC11 -> 雞蛋 豆薯 大蒜 胡蘿蔔 | I4: ='A案--葷食國小'!S11 -> 時蔬 | J4: ='A案--葷食國小'!AD11 -> 蔬菜 大蒜 | K4: ='A案--葷食國小'!V11 -> 味噌豆皮湯 | L4: ='A案--葷食國小'!AE11 -> 豆皮 味噌 柴魚片 | M4: 0 | N4: ='A案--葷食國小'!C11 -> 5.2 | O4: ='A案--葷食國小'!D11 -> 2.1 | P4: ='A案--葷食國小'!E11 -> 1.6 | Q4: ='A案--葷食國小'!F11 -> 3 | R4: ='A案--葷食國小'!G11 -> 0 | S4: ='A案--葷食國小'!H11 -> 0 | T4: ='A案--葷食國小'!I11 -> 697
A5: 4月10日 | B5: ='A案--葷食國小'!B17 -> j1 | C5: ='A案--葷食國小'!J17 -> 白米飯 | D5: ='A案--葷食國小'!AA17 -> 米 | E5: ='A案--葷食國小'!M17 -> 茄汁肉絲 | F5: ='A案--葷食國小'!AB17 -> 豬後腿肉 馬鈴薯 大番茄 大蒜 番茄醬 | G5: ='A案--葷食國小'!P17 -> 洋蔥炒蛋 | H5: ='A案--葷食國小'!AC17 -> 雞蛋 洋蔥 大蒜 | I5: ='A案--葷食國小'!S17 -> 時蔬 | J5: ='A案--葷食國小'!AD17 -> 蔬菜 大蒜 | K5: ='A案--葷食國小'!V17 -> 金針湯 | L5: ='A案--葷食國小'!AE17 -> 金針菜乾 大骨 薑 榨菜 | M5: 0 | N5: ='A案--葷食國小'!C17 -> 5.2 | O5: ='A案--葷食國小'!D17 -> 2.4 | P5: ='A案--葷食國小'!E17 -> 2.1 | Q5: ='A案--葷食國小'!F17 -> 3.2 | R5: ='A案--葷食國小'!G17 -> 0 | S5: ='A案--葷食國小'!H17 -> 0 | T5: ='A案--葷食國小'!I17 -> 732
A6: 4月11日 | B6: ='A案--葷食國小'!B23 -> j2 | C6: ='A案--葷食國小'!J23 -> 糙米飯 | D6: ='A案--葷食國小'!AA23 -> 米 糙米 | E6: ='A案--葷食國小'!M23 -> 醬瓜燒雞 | F6: ='A案--葷食國小'!AB23 -> 肉雞 醃漬花胡瓜 大蒜 | G6: ='A案--葷食國小'!P23 -> 毛豆白菜 | H6: ='A案--葷食國小'!AC23 -> 結球白菜 冷凍毛豆仁 胡蘿蔔 大蒜 | I6: ='A案--葷食國小'!S23 -> 時蔬 | J6: ='A案--葷食國小'!AD23 -> 蔬菜 大蒜 | K6: ='A案--葷食國小'!V23 -> 海芽蛋花湯 | L6: ='A案--葷食國小'!AE23 -> 乾海帶 雞蛋 薑 | M6: 0 | N6: ='A案--葷食國小'!C23 -> 5 | O6: ='A案--葷食國小'!D23 -> 2.5 | P6: ='A案--葷食國小'!E23 -> 1.7 | Q6: ='A案--葷食國小'!F23 -> 3 | R6: ='A案--葷食國小'!G23 -> 0 | S6: ='A案--葷食國小'!H23 -> 0 | T6: ='A案--葷食國小'!I23 -> 715
A7: 4月12日 | B7: ='A案--葷食國小'!B29 -> j3 | C7: ='A案--葷食國小'!J29 -> 刈包特餐 | D7: ='A案--葷食國小'!AA29 -> 刈包 | E7: ='A案--葷食國小'!M29 -> 香滷肉排 | F7: ='A案--葷食國小'!AB29 -> 肉排 滷包 | G7: ='A案--葷食國小'!P29 -> 酸菜麵腸 | H7: ='A案--葷食國小'!AC29 -> 酸菜 麵腸 大蒜 | I7: ='A案--葷食國小'!S29 -> 時蔬 | J7: ='A案--葷食國小'!AD29 -> 蔬菜 大蒜 | K7: ='A案--葷食國小'!V29 -> 糙米粥 | L7: ='A案--葷食國小'!AE29 -> 雞蛋 糙米 胡蘿蔔 乾香菇 時瓜 | M7: 0 | N7: ='A案--葷食國小'!C29 -> 3.3 | O7: ='A案--葷食國小'!D29 -> 2.8 | P7: ='A案--葷食國小'!E29 -> 1.3 | Q7: ='A案--葷食國小'!F29 -> 3 | R7: ='A案--葷食國小'!G29 -> 0 | S7: ='A案--葷食國小'!H29 -> 0 | T7: ='A案--葷食國小'!I29 -> 608.5
A8: 4月13日 | B8: ='A案--葷食國小'!B35 -> j4 | C8: ='A案--葷食國小'!J35 -> 糙米飯 | D8: ='A案--葷食國小'!AA35 -> 米 糙米 | E8: ='A案--葷食國小'!M35 -> 豆瓣魚丁 | F8: ='A案--葷食國小'!AB35 -> 鮮魚丁 白蘿蔔 胡蘿蔔 大蒜 豆瓣醬 | G8: ='A案--葷食國小'!P35 -> 筍干油腐 | H8: ='A案--葷食國小'!AC35 -> 麻竹筍干 四角油豆腐 大蒜 | I8: ='A案--葷食國小'!S35 -> 時蔬 | J8: ='A案--葷食國小'!AD35 -> 蔬菜 大蒜 | K8: ='A案--葷食國小'!V35 -> 仙草甜湯 | L8: ='A案--葷食國小'!AE35 -> 仙草凍 二砂糖 | M8: 0 | N8: ='A案--葷食國小'!C35 -> 5 | O8: ='A案--葷食國小'!D35 -> 2.4 | P8: ='A案--葷食國小'!E35 -> 1.3 | Q8: ='A案--葷食國小'!F35 -> 3 | R8: ='A案--葷食國小'!G35 -> 0 | S8: ='A案--葷食國小'!H35 -> 0 | T8: ='A案--葷食國小'!I35 -> 697.5
A9: 4月14日 | B9: ='A案--葷食國小'!B41 -> j5 | C9: ='A案--葷食國小'!J41 -> 芝麻飯 | D9: ='A案--葷食國小'!AA41 -> 米 芝麻(熟) | E9: ='A案--葷食國小'!M41 -> 泡菜燒肉 | F9: ='A案--葷食國小'!AB41 -> 豬後腿肉 韓式泡菜 甘藍 大蒜 | G9: ='A案--葷食國小'!P41 -> 魚香豆干 | H9: ='A案--葷食國小'!AC41 -> 小魚干 豆干 油花生 大蒜 | I9: ='A案--葷食國小'!S41 -> 時蔬 | J9: ='A案--葷食國小'!AD41 -> 蔬菜 大蒜 | K9: ='A案--葷食國小'!V41 -> 冬瓜湯 | L9: ='A案--葷食國小'!AE41 -> 冬瓜 薑 大骨 | M9: 0 | N9: ='A案--葷食國小'!C41 -> 5 | O9: ='A案--葷食國小'!D41 -> 2.7 | P9: ='A案--葷食國小'!E41 -> 2.2 | Q9: ='A案--葷食國小'!F41 -> 3.2 | R9: ='A案--葷食國小'!G41 -> 0 | S9: ='A案--葷食國小'!H41 -> 0 | T9: ='A案--葷食國小'!I41 -> 751.5
A10: 4月17日 | B10: ='A案--葷食國小'!B47 -> k1 | C10: ='A案--葷食國小'!J47 -> 白米飯 | D10: ='A案--葷食國小'!AA47 -> 米 | E10: ='A案--葷食國小'!M47 -> 紅燒雞翅 | F10: ='A案--葷食國小'!AB47 -> 三節翅 滷包 | G10: ='A案--葷食國小'!P47 -> 鮮菇豆腐 | H10: ='A案--葷食國小'!AC47 -> 豆腐 金針菇 乾香菇 大蒜 胡蘿蔔 | I10: ='A案--葷食國小'!S47 -> 時蔬 | J10: ='A案--葷食國小'!AD47 -> 蔬菜 大蒜 | K10: ='A案--葷食國小'!V47 -> 味噌湯 | L10: ='A案--葷食國小'!AE47 -> 乾裙帶菜 味噌 薑 柴魚片 | M10: 0 | N10: ='A案--葷食國小'!C47 -> 5 | O10: ='A案--葷食國小'!D47 -> 2.8 | P10: ='A案--葷食國小'!E47 -> 1 | Q10: ='A案--葷食國小'!F47 -> 1.9 | R10: ='A案--葷食國小'!G47 -> 0 | S10: ='A案--葷食國小'!H47 -> 0 | T10: ='A案--葷食國小'!I47 -> 670.5
A11: 4月18日 | B11: ='A案--葷食國小'!B53 -> k2 | C11: ='A案--葷食國小'!J53 -> 糙米飯 | D11: ='A案--葷食國小'!AA53 -> 米 糙米 | E11: ='A案--葷食國小'!M53 -> 咖哩鮮魚 | F11: ='A案--葷食國小'!AB53 -> 鮮魚丁 馬鈴薯 洋蔥 胡蘿蔔 咖哩粉 | G11: ='A案--葷食國小'!P53 -> 蛋香刈薯 | H11: ='A案--葷食國小'!AC53 -> 雞蛋 刈薯 大蒜 | I11: ='A案--葷食國小'!S53 -> 時蔬 | J11: ='A案--葷食國小'!AD53 -> 蔬菜 大蒜 | K11: ='A案--葷食國小'!V53 -> 金針湯 | L11: ='A案--葷食國小'!AE53 -> 金針菜乾 榨菜 薑 大骨 | M11: 0 | N11: ='A案--葷食國小'!C53 -> 5.4 | O11: ='A案--葷食國小'!D53 -> 2.1 | P11: ='A案--葷食國小'!E53 -> 1.4 | Q11: ='A案--葷食國小'!F53 -> 1.8 | R11: ='A案--葷食國小'!G53 -> 0 | S11: ='A案--葷食國小'!H53 -> 0 | T11: ='A案--葷食國小'!I53 -> 651.5
A12: 4月19日 | B12: ='A案--葷食國小'!B59 -> k3 | C12: ='A案--葷食國小'!J59 -> 泰式特餐 | D12: ='A案--葷食國小'!AA59 -> 米 糙米 | E12: ='A案--葷食國小'!M59 -> 打拋豬 | F12: ='A案--葷食國小'!AB59 -> 豬絞肉 洋蔥 打拋醬 魚露 大蒜 | G12: ='A案--葷食國小'!P59 -> 泰式魚丸 | H12: ='A案--葷食國小'!AC59 -> 魚丸 泰式酸辣醬 | I12: ='A案--葷食國小'!S59 -> 時蔬 | J12: ='A案--葷食國小'!AD59 -> 蔬菜 大蒜 | K12: ='A案--葷食國小'!V59 -> 冬蔭功湯 | L12: ='A案--葷食國小'!AE59 -> 秀珍菇 大番茄 大骨 檸檬 香茅 | M12: 0 | N12: ='A案--葷食國小'!C59 -> 5.5 | O12: ='A案--葷食國小'!D59 -> 2.6 | P12: ='A案--葷食國小'!E59 -> 1.4 | Q12: ='A案--葷食國小'!F59 -> 2 | R12: ='A案--葷食國小'!G59 -> 0 | S12: ='A案--葷食國小'!H59 -> 0 | T12: ='A案--葷食國小'!I59 -> 705
A13: 4月20日 | B13: ='A案--葷食國小'!B65 -> k4 | C13: ='A案--葷食國小'!J65 -> 糙米飯 | D13: ='A案--葷食國小'!AA65 -> 米 糙米 | E13: ='A案--葷食國小'!M65 -> 豆瓣雞丁 | F13: ='A案--葷食國小'!AB65 -> 肉雞 豆薯 胡蘿蔔 大蒜 | G13: ='A案--葷食國小'!P65 -> 肉絲豆芽 | H13: ='A案--葷食國小'!AC65 -> 豬後腿肉 綠豆芽 韮菜 乾木耳 大蒜 | I13: ='A案--葷食國小'!S65 -> 時蔬 | J13: ='A案--葷食國小'!AD65 -> 蔬菜 大蒜 | K13: ='A案--葷食國小'!V65 -> 綠豆湯 | L13: ='A案--葷食國小'!AE65 -> 綠豆 二砂糖 | M13: 0 | N13: ='A案--葷食國小'!C65 -> 5.8 | O13: ='A案--葷食國小'!D65 -> 2.5 | P13: ='A案--葷食國小'!E65 -> 1.7 | Q13: ='A案--葷食國小'!F65 -> 2.1 | R13: ='A案--葷食國小'!G65 -> 0 | S13: ='A案--葷食國小'!H65 -> 0 | T13: ='A案--葷食國小'!I65 -> 730.5
A14: 4月21日 | B14: ='A案--葷食國小'!B71 -> k5 | C14: ='A案--葷食國小'!J71 -> 紅藜飯 | D14: ='A案--葷食國小'!AA71 -> 米 紅藜 | E14: ='A案--葷食國小'!M71 -> 壽喜燒肉 | F14: ='A案--葷食國小'!AB71 -> 豬後腿肉 結球白菜 胡蘿蔔 大蒜 | G14: ='A案--葷食國小'!P71 -> 紅蔘炒蛋 | H14: ='A案--葷食國小'!AC71 -> 雞蛋 胡蘿蔔 大蒜 | I14: ='A案--葷食國小'!S71 -> 時蔬 | J14: ='A案--葷食國小'!AD71 -> 蔬菜 大蒜 | K14: ='A案--葷食國小'!V71 -> 時瓜湯 | L14: ='A案--葷食國小'!AE71 -> 時瓜 薑 大骨 | M14: 0 | N14: ='A案--葷食國小'!C71 -> 5 | O14: ='A案--葷食國小'!D71 -> 2.2 | P14: ='A案--葷食國小'!E71 -> 2.1 | Q14: ='A案--葷食國小'!F71 -> 2.2 | R14: ='A案--葷食國小'!G71 -> 0 | S14: ='A案--葷食國小'!H71 -> 0 | T14: ='A案--葷食國小'!I71 -> 666.5
A15: 4月24日 | B15: ='A案--葷食國小'!B77 -> l1 | C15: ='A案--葷食國小'!J77 -> 白米飯 | D15: ='A案--葷食國小'!AA77 -> 米 | E15: ='A案--葷食國小'!M77 -> 花生絞肉 | F15: ='A案--葷食國小'!AB77 -> 豬絞肉 油花生 麵筋 大蒜 胡蘿蔔 | G15: ='A案--葷食國小'!P77 -> 豆包甘藍 | H15: ='A案--葷食國小'!AC77 -> 豆包 甘藍 乾香菇 大蒜 | I15: ='A案--葷食國小'!S77 -> 時蔬 | J15: ='A案--葷食國小'!AD77 -> 蔬菜 大蒜 | K15: ='A案--葷食國小'!V77 -> 豆漿 | L15: ='A案--葷食國小'!AE77 -> 豆漿 | M15: 0 | N15: ='A案--葷食國小'!C77 -> 5 | O15: ='A案--葷食國小'!D77 -> 2.5 | P15: ='A案--葷食國小'!E77 -> 1.7 | Q15: ='A案--葷食國小'!F77 -> 2.5 | R15: ='A案--葷食國小'!G77 -> 0 | S15: ='A案--葷食國小'!H77 -> 0 | T15: ='A案--葷食國小'!I77 -> 692.5
A16: 4月25日 | B16: ='A案--葷食國小'!B83 -> l2 | C16: ='A案--葷食國小'!J83 -> 糙米飯 | D16: ='A案--葷食國小'!AA83 -> 米 糙米 | E16: ='A案--葷食國小'!M83 -> 椒鹽魚排 | F16: ='A案--葷食國小'!AB83 -> 魚排 胡椒鹽 | G16: ='A案--葷食國小'!P83 -> 蛋香季豆 | H16: ='A案--葷食國小'!AC83 -> 雞蛋 冷凍菜豆(莢) 胡蘿蔔 大蒜 | I16: ='A案--葷食國小'!S83 -> 時蔬 | J16: ='A案--葷食國小'!AD83 -> 蔬菜 大蒜 | K16: ='A案--葷食國小'!V83 -> 時蔬湯 | L16: ='A案--葷食國小'!AE83 -> 時蔬 薑 大骨 | M16: 0 | N16: ='A案--葷食國小'!C83 -> 5 | O16: ='A案--葷食國小'!D83 -> 1.8 | P16: ='A案--葷食國小'!E83 -> 1.5 | Q16: ='A案--葷食國小'!F83 -> 2.5 | R16: ='A案--葷食國小'!G83 -> 0 | S16: ='A案--葷食國小'!H83 -> 0 | T16: ='A案--葷食國小'!I83 -> 635
A17: 4月26日 | B17: ='A案--葷食國小'!B89 -> l3 | C17: ='A案--葷食國小'!J89 -> 西式特餐 | D17: ='A案--葷食國小'!AA89 -> 麵條 | E17: ='A案--葷食國小'!M89 -> 茄汁肉醬 | F17: ='A案--葷食國小'!AB89 -> 豬絞肉 馬鈴薯 洋蔥 蕃茄醬 | G17: ='A案--葷食國小'!P89 -> 清炒花椰 | H17: ='A案--葷食國小'!AC89 -> 冷凍花椰菜 胡蘿蔔 大蒜 | I17: ='A案--葷食國小'!S89 -> 時蔬 | J17: ='A案--葷食國小'!AD89 -> 蔬菜 大蒜 | K17: ='A案--葷食國小'!V89 -> 南瓜濃湯 | L17: ='A案--葷食國小'!AE89 -> 雞蛋 南瓜 毛豆 濃湯調理包 | M17: 0 | N17: ='A案--葷食國小'!C89 -> 5.3 | O17: ='A案--葷食國小'!D89 -> 2 | P17: ='A案--葷食國小'!E89 -> 1.6 | Q17: ='A案--葷食國小'!F89 -> 2.5 | R17: ='A案--葷食國小'!G89 -> 0 | S17: ='A案--葷食國小'!H89 -> 0 | T17: ='A案--葷食國小'!I89 -> 673.5
A18: 4月27日 | B18: ='A案--葷食國小'!B95 -> l4 | C18: ='A案--葷食國小'!J95 -> 糙米飯 | D18: ='A案--葷食國小'!AA95 -> 米 糙米 | E18: ='A案--葷食國小'!M95 -> 回鍋肉片 | F18: ='A案--葷食國小'!AB95 -> 豬後腿肉 洋蔥 胡蘿蔔 大蒜 | G18: ='A案--葷食國小'!P95 -> 香滷凍腐 | H18: ='A案--葷食國小'!AC95 -> 凍豆腐 白蘿蔔 胡蘿蔔 大蒜 | I18: ='A案--葷食國小'!S95 -> 時蔬 | J18: ='A案--葷食國小'!AD95 -> 蔬菜 大蒜 | K18: ='A案--葷食國小'!V95 -> 粉圓甜湯 | L18: ='A案--葷食國小'!AE95 -> 粉圓 二砂糖 | M18: 0 | N18: ='A案--葷食國小'!C95 -> 6 | O18: ='A案--葷食國小'!D95 -> 2 | P18: ='A案--葷食國小'!E95 -> 1.5 | Q18: ='A案--葷食國小'!F95 -> 2.5 | R18: ='A案--葷食國小'!G95 -> 0 | S18: ='A案--葷食國小'!H95 -> 0 | T18: ='A案--葷食國小'!I95 -> 720
A19: 4月28日 | B19: ='A案--葷食國小'!B101 -> l5 | C19: ='A案--葷食國小'!J101 -> 小米飯 | D19: ='A案--葷食國小'!AA101 -> 米 小米 | E19: ='A案--葷食國小'!M101 -> 照燒雞 | F19: ='A案--葷食國小'!AB101 -> 肉雞 洋蔥 胡蘿蔔 醬油 二砂糖 | G19: ='A案--葷食國小'!P101 -> 雪菜豆干 | H19: ='A案--葷食國小'!AC101 -> 豆干 雪裡蕻 大蒜 | I19: ='A案--葷食國小'!S101 -> 時蔬 | J19: ='A案--葷食國小'!AD101 -> 蔬菜 大蒜 | K19: ='A案--葷食國小'!V101 -> 海芽湯 | L19: ='A案--葷食國小'!AE101 -> 乾裙帶菜 薑 柴魚片 | M19: 0 | N19: ='A案--葷食國小'!C101 -> 5.2 | O19: ='A案--葷食國小'!D101 -> 2.8 | P19: ='A案--葷食國小'!E101 -> 1.5 | Q19: ='A案--葷食國小'!F101 -> 2.5 | R19: ='A案--葷食國小'!G101 -> 0 | S19: ='A案--葷食國小'!H101 -> 0 | T19: ='A案--葷食國小'!I101 -> 724
B22: 過敏警語:「本月產品含有蛋、芝麻、含麩之穀物、花生、大豆、魚類、亞硫酸鹽類及其相關製品，不適合其過敏體質者食用」

Sheet 葷食水璉國小 
A1: 要修正正確數值 | J1: 僅需貼上食材明細和重量，"公斤"和下一個分頁循環就會自己跑出來
A2: 111學年度下學期水璉國民小學112年4月份葷食菜單 (A案)
A3: 食材明細（食材重量以100人份計量，營養分析以個人計量,其中肉雞包含23%骨頭之採購量，每周供應特餐一次，當日得混搭供應，國中4菜1湯，國小3菜1湯） | V3: 統整區的檔案，連動到上方循環，後續給教育處的檔案，此處請自行隱藏
A4: 日期 | B4: 循環 | C4: 穀/份 | D4: 豆/份 | E4: 蔬/份 | F4: 油/份 | G4: 乳/份 | H4: 果/份 | I4: 熱量 | J4: 主食 | K4: 重/kg | L4: 主菜 | M4: 重/kg | N4: 副菜一 | O4: 重/kg | P4: 蔬菜 | Q4: 重/kg | R4: 湯品 | S4: 重/kg | T4: 點心 | W4: 主食 | X4: 主菜 | Y4: 副菜一 | Z4: 蔬菜 | AA4: 湯品
A5: 4/6 星期四 | B5: i4 | C5: 5.5 | D5: 1.8 | E5: 1.6 | F5: 3 | G5: 0 | H5: 0 | I5: 695 | J5: 糙米飯 | L5: 咖哩絞肉 | N5: 火腿玉菜 | P5: 時蔬 | R5: 花豆甜湯 | T5: 保久乳 | V5: =B5 -> i4 | W5: =J6&" "&J7&" "&J8&" "&J9&" "&J10 -> 米 糙米 | X5: =L6&" "&L7&" "&L8&" "&L9&" "&L10 -> 豬絞肉 馬鈴薯 胡蘿蔔 洋蔥 咖哩粉 | Y5: =N6&" "&N7&" "&N8&" "&N9&" "&N10 -> 甘藍 火腿 大蒜 | Z5: =P6&" "&P7&" "&P8&" "&P9&" "&P10 -> 蔬菜 大蒜 | AA5: =R6&" "&R7&" "&R8&" "&R9&" "&R10 -> 花豆 二砂糖
J6: 米 | K6: 7 | L6: 豬絞肉 | M6: 6 | N6: 甘藍 | O6: 7 | P6: 蔬菜 | Q6: 7 | R6: 花豆 | S6: 2
J7: 糙米 | K7: 3 | L7: 馬鈴薯 | M7: 2 | N7: 火腿 | O7: 0.5 | P7: 大蒜 | Q7: 0.05 | R7: 二砂糖 | S7: 1 | Y7: 6
L8: 胡蘿蔔 | M8: 0.5 | N8: 大蒜 | O8: 0.05
L9: 洋蔥 | M9: 1
L10: 咖哩粉
A11: 4/7 星期五 | B11: i5 | C11: 5.2 | D11: 2.1 | E11: 1.6 | F11: 3 | G11: 0 | H11: 0 | I11: 697 | J11: 燕麥飯 | L11: 筍干燒肉 | N11: 蛋香豆薯 | P11: 時蔬 | R11: 味噌豆皮湯 | T11: 水果升級 | V11: =B11 -> i5 | W11: =J12&" "&J13&" "&J14&" "&J15&" "&J16 -> 米 燕麥 | X11: =L12&" "&L13&" "&L14&" "&L15&" "&L16 -> 豬後腿肉 麻竹筍干 大蒜 | Y11: =N12&" "&N13&" "&N14&" "&N15&" "&N16 -> 雞蛋 豆薯 大蒜 胡蘿蔔 | Z11: =P12&" "&P13&" "&P14&" "&P15&" "&P16 -> 蔬菜 大蒜 | AA11: =R12&" "&R13&" "&R14&" "&R15&" "&R16 -> 豆皮 味噌 柴魚片
J12: 米 | K12: 10 | L12: 豬後腿肉 | M12: 6 | N12: 雞蛋 | O12: 1.2 | P12: 蔬菜 | Q12: 7 | R12: 豆皮 | S12: 0.3
J13: 燕麥 | K13: 0.4 | L13: 麻竹筍干 | M13: 3 | N13: 豆薯 | O13: 5 | P13: 大蒜 | Q13: 0.05 | R13: 味噌 | S13: 0.6 | Y13: 7
L14: 大蒜 | M14: 0.05 | N14: 大蒜 | O14: 0.05 | R14: 柴魚片 | S14: 0.01
N15: 胡蘿蔔 | O15: 0.5
A17: 4/10 星期一 | B17: j1 | C17: 5.2 | D17: 2.4 | E17: 2.1 | F17: 3.2 | G17: 0 | H17: 0 | I17: 732 | J17: 白米飯 | L17: 茄汁肉絲 | N17: 洋蔥炒蛋 | P17: 時蔬 | R17: 金針湯 | T17: 果汁 | V17: =B17 -> j1 | W17: =J18&" "&J19&" "&J20&" "&J21&" "&J22 -> 米 | X17: =L18&" "&L19&" "&L20&" "&L21&" "&L22 -> 豬後腿肉 馬鈴薯 大番茄 大蒜 番茄醬 | Y17: =N18&" "&N19&" "&N20&" "&N21&" "&N22 -> 雞蛋 洋蔥 大蒜 | Z17: =P18&" "&P19&" "&P20&" "&P21&" "&P22 -> 蔬菜 大蒜 | AA17: =R18&" "&R19&" "&R20&" "&R21&" "&R22 -> 金針菜乾 大骨 薑 榨菜
J18: 米 | K18: 10 | L18: 豬後腿肉 | M18: 6 | N18: 雞蛋 | O18: 3 | P18: 蔬菜 | Q18: 7 | R18: 金針菜乾 | S18: 0.1
L19: 馬鈴薯 | M19: 2 | N19: 洋蔥 | O19: 4 | P19: 大蒜 | Q19: 0.05 | R19: 大骨 | S19: 0.6
L20: 大番茄 | M20: 1 | N20: 大蒜 | O20: 0.05 | R20: 薑 | S20: 0.05 | Y20: 10
L21: 大蒜 | M21: 0.05 | R21: 榨菜 | S21: 1
L22: 番茄醬
A23: 4/11 星期二 | B23: j2 | C23: 5 | D23: 2.5 | E23: 1.7 | F23: 3 | G23: 0 | H23: 0 | I23: 715 | J23: 糙米飯 | L23: 醬瓜燒雞 | N23: 毛豆白菜 | P23: 時蔬 | R23: 海芽蛋花湯 | T23: 醬燒肉包 | V23: =B23 -> j2 | W23: =J24&" "&J25&" "&J26&" "&J27&" "&J28 -> 米 糙米 | X23: =L24&" "&L25&" "&L26&" "&L27&" "&L28 -> 肉雞 醃漬花胡瓜 大蒜 | Y23: =N24&" "&N25&" "&N26&" "&N27&" "&N28 -> 結球白菜 冷凍毛豆仁 胡蘿蔔 大蒜 | Z23: =P24&" "&P25&" "&P26&" "&P27&" "&P28 -> 蔬菜 大蒜 | AA23: =R24&" "&R25&" "&R26&" "&R27&" "&R28 -> 乾海帶 雞蛋 薑
J24: 米 | K24: 7 | L24: 肉雞 | M24: 9 | N24: 結球白菜 | O24: 6.5 | P24: 蔬菜 | Q24: 7 | R24: 乾海帶 | S24: 0.1
J25: 糙米 | K25: 3 | L25: 醃漬花胡瓜 | M25: 2 | N25: 冷凍毛豆仁 | O25: 0.5 | P25: 大蒜 | Q25: 0.05 | R25: 雞蛋 | S25: 1
L26: 大蒜 | M26: 0.05 | N26: 胡蘿蔔 | O26: 0.5 | R26: 薑 | S26: 0.05 | Y26: 11
N27: 大蒜 | O27: 0.05
A29: 4/12 星期三 | B29: j3 | C29: 3.3 | D29: 2.8 | E29: 1.3 | F29: 3 | G29: 0 | H29: 0 | I29: 608.5 | J29: 刈包特餐 | L29: 香滷肉排 | N29: 酸菜麵腸 | P29: 時蔬 | R29: 糙米粥 | T29: 水果升級 | V29: =B29 -> j3 | W29: =J30&" "&J31&" "&J32&" "&J33&" "&J34 -> 刈包 | X29: =L30&" "&L31&" "&L32&" "&L33&" "&L34 -> 肉排 滷包 | Y29: =N30&" "&N31&" "&N32&" "&N33&" "&N34 -> 酸菜 麵腸 大蒜 | Z29: =P30&" "&P31&" "&P32&" "&P33&" "&P34 -> 蔬菜 大蒜 | AA29: =R30&" "&R31&" "&R32&" "&R33&" "&R34 -> 雞蛋 糙米 胡蘿蔔 乾香菇 時瓜
J30: 刈包 | K30: 4 | L30: 肉排 | M30: 6 | N30: 酸菜 | O30: 3 | P30: 蔬菜 | Q30: 7 | R30: 雞蛋 | S30: 1
L31: 滷包 | N31: 麵腸 | O31: 3 | P31: 大蒜 | Q31: 0.05 | R31: 糙米 | S31: 4
N32: 大蒜 | O32: 0.05 | R32: 胡蘿蔔 | S32: 0.5 | Y32: 12
R33: 乾香菇 | S33: 0.01
R34: 時瓜 | S34: 2
A35: 4/13 星期四 | B35: j4 | C35: 5 | D35: 2.4 | E35: 1.3 | F35: 3 | G35: 0 | H35: 0 | I35: 697.5 | J35: 糙米飯 | L35: 豆瓣魚丁 | N35: 筍干油腐 | P35: 時蔬 | R35: 仙草甜湯 | T35: 地瓜包 | V35: =B35 -> j4 | W35: =J36&" "&J37&" "&J38&" "&J39&" "&J40 -> 米 糙米 | X35: =L36&" "&L37&" "&L38&" "&L39&" "&L40 -> 鮮魚丁 白蘿蔔 胡蘿蔔 大蒜 豆瓣醬 | Y35: =N36&" "&N37&" "&N38&" "&N39&" "&N40 -> 麻竹筍干 四角油豆腐 大蒜 | Z35: =P36&" "&P37&" "&P38&" "&P39&" "&P40 -> 蔬菜 大蒜 | AA35: =R36&" "&R37&" "&R38&" "&R39&" "&R40 -> 仙草凍 二砂糖
J36: 米 | K36: 7 | L36: 鮮魚丁 | M36: 6.5 | N36: 麻竹筍干 | O36: 2 | P36: 蔬菜 | Q36: 7 | R36: 仙草凍 | S36: 6
J37: 糙米 | K37: 3 | L37: 白蘿蔔 | M37: 3.5 | N37: 四角油豆腐 | O37: 3 | P37: 大蒜 | Q37: 0.05 | R37: 二砂糖 | S37: 1 | Y37: 13
L38: 胡蘿蔔 | M38: 0.5 | N38: 大蒜 | O38: 0.05
L39: 大蒜 | M39: 0.05
L40: 豆瓣醬
A41: 4/14 星期五 | B41: j5 | C41: 5 | D41: 2.7 | E41: 2.2 | F41: 3.2 | G41: 0 | H41: 0 | I41: 751.5 | J41: 芝麻飯 | L41: 泡菜燒肉 | N41: 魚香豆干 | P41: 時蔬 | R41: 冬瓜湯 | T41: 紅豆包 | V41: =B41 -> j5 | W41: =J42&" "&J43&" "&J44&" "&J45&" "&J46 -> 米 芝麻(熟) | X41: =L42&" "&L43&" "&L44&" "&L45&" "&L46 -> 豬後腿肉 韓式泡菜 甘藍 大蒜 | Y41: =N42&" "&N43&" "&N44&" "&N45&" "&N46 -> 小魚干 豆干 油花生 大蒜 | Z41: =P42&" "&P43&" "&P44&" "&P45&" "&P46 -> 蔬菜 大蒜 | AA41: =R42&" "&R43&" "&R44&" "&R45&" "&R46 -> 冬瓜 薑 大骨
J42: 米 | K42: 10 | L42: 豬後腿肉 | M42: 6 | N42: 小魚干 | O42: 0.2 | P42: 蔬菜 | Q42: 7 | R42: 冬瓜 | S42: 4
J43: 芝麻(熟) | K43: 0.05 | L43: 韓式泡菜 | M43: 1 | N43: 豆干 | O43: 4 | P43: 大蒜 | Q43: 0.05 | R43: 薑 | S43: 0.05 | Y43: 14
L44: 甘藍 | M44: 3 | N44: 油花生 | O44: 0.1 | R44: 大骨 | S44: 0.6
L45: 大蒜 | M45: 0.05 | N45: 大蒜 | O45: 0.05
A47: 4/17 星期一 | B47: k1 | C47: 5 | D47: 2.8 | E47: 1 | F47: 1.9 | I47: =C47*70+F47*45+E47*25+G47*150+H47*60+D47*75 -> 670.5 | J47: 白米飯 | L47: 紅燒雞翅 | N47: 鮮菇豆腐 | P47: 時蔬 | R47: 味噌湯 | T47: 果汁 | V47: =B47 -> k1 | W47: =J48&" "&J49&" "&J50&" "&J51&" "&J52 -> 米 | X47: =L48&" "&L49&" "&L50&" "&L51&" "&L52 -> 三節翅 滷包 | Y47: =N48&" "&N49&" "&N50&" "&N51&" "&N52 -> 豆腐 金針菇 乾香菇 大蒜 胡蘿蔔 | Z47: =P48&" "&P49&" "&P50&" "&P51&" "&P52 -> 蔬菜 大蒜 | AA47: =R48&" "&R49&" "&R50&" "&R51&" "&R52 -> 乾裙帶菜 味噌 薑 柴魚片
J48: 米 | K48: 10 | L48: 三節翅 | M48: 9 | N48: 豆腐 | O48: 4 | P48: 蔬菜 | Q48: 7 | R48: 乾裙帶菜 | S48: 0.2
L49: 滷包 | N49: 金針菇 | O49: 2 | P49: 大蒜 | Q49: 0.05 | R49: 味噌 | S49: 0.1
N50: 乾香菇 | O50: 0.01 | R50: 薑 | S50: 0.05
N51: 大蒜 | O51: 0.05 | R51: 柴魚片
N52: 胡蘿蔔 | O52: 0.5
A53: 4/18 星期二 | B53: k2 | C53: 5.4 | D53: 2.1 | E53: 1.4 | F53: 1.8 | I53: =C53*70+F53*45+E53*25+G53*150+H53*60+D53*75 -> 651.5 | J53: 糙米飯 | L53: 咖哩鮮魚 | N53: 蛋香刈薯 | P53: 時蔬 | R53: 金針湯 | T53: 奶皇包 | V53: =B53 -> k2 | W53: =J54&" "&J55&" "&J56&" "&J57&" "&J58 -> 米 糙米 | X53: =L54&" "&L55&" "&L56&" "&L57&" "&L58 -> 鮮魚丁 馬鈴薯 洋蔥 胡蘿蔔 咖哩粉 | Y53: =N54&" "&N55&" "&N56&" "&N57&" "&N58 -> 雞蛋 刈薯 大蒜 | Z53: =P54&" "&P55&" "&P56&" "&P57&" "&P58 -> 蔬菜 大蒜 | AA53: =R54&" "&R55&" "&R56&" "&R57&" "&R58 -> 金針菜乾 榨菜 薑 大骨
J54: 米 | K54: 7 | L54: 鮮魚丁 | M54: 6.5 | N54: 雞蛋 | O54: 1 | P54: 蔬菜 | Q54: 7 | R54: 金針菜乾 | S54: 0.1
J55: 糙米 | K55: 3 | L55: 馬鈴薯 | M55: 3.5 | N55: 刈薯 | O55: 4 | P55: 大蒜 | Q55: 0.05 | R55: 榨菜 | S55: 1
L56: 洋蔥 | M56: 1 | N56: 大蒜 | O56: 0.05 | R56: 薑 | S56: 0.05
L57: 胡蘿蔔 | M57: 1 | R57: 大骨 | S57: 1
L58: 咖哩粉
A59: 4/19 星期三 | B59: k3 | C59: 5.5 | D59: 2.6 | E59: 1.4 | F59: 2 | I59: =C59*70+F59*45+E59*25+G59*150+H59*60+D59*75 -> 705 | J59: 泰式特餐 | L59: 打拋豬 | N59: 泰式魚丸 | P59: 時蔬 | R59: 冬蔭功湯 | T59: 水果升級 | V59: =B59 -> k3 | W59: =J60&" "&J61&" "&J62&" "&J63&" "&J64 -> 米 糙米 | X59: =L60&" "&L61&" "&L62&" "&L63&" "&L64 -> 豬絞肉 洋蔥 打拋醬 魚露 大蒜 | Y59: =N60&" "&N61&" "&N62&" "&N63&" "&N64 -> 魚丸 泰式酸辣醬 | Z59: =P60&" "&P61&" "&P62&" "&P63&" "&P64 -> 蔬菜 大蒜 | AA59: =R60&" "&R61&" "&R62&" "&R63&" "&R64 -> 秀珍菇 大番茄 大骨 檸檬 香茅
J60: 米 | K60: 8 | L60: 豬絞肉 | M60: 6 | N60: 魚丸 | O60: 4 | P60: 蔬菜 | Q60: 7 | R60: 秀珍菇 | S60: 1
J61: 糙米 | K61: 3 | L61: 洋蔥 | M61: 3.5 | N61: 泰式酸辣醬 | O61: 0.5 | P61: 大蒜 | Q61: 0.05 | R61: 大番茄 | S61: 2
L62: 打拋醬 | R62: 大骨 | S62: 1
L63: 魚露 | R63: 檸檬
L64: 大蒜 | M64: 0.05 | R64: 香茅
A65: 4/20 星期四 | B65: k4 | C65: 5.8 | D65: 2.5 | E65: 1.7 | F65: 2.1 | I65: =C65*70+F65*45+E65*25+G65*150+H65*60+D65*75 -> 730.5 | J65: 糙米飯 | L65: 豆瓣雞丁 | N65: 肉絲豆芽 | P65: 時蔬 | R65: 綠豆湯 | T65: 餡餅 | V65: =B65 -> k4 | W65: =J66&" "&J67&" "&J68&" "&J69&" "&J70 -> 米 糙米 | X65: =L66&" "&L67&" "&L68&" "&L69&" "&L70 -> 肉雞 豆薯 胡蘿蔔 大蒜 | Y65: =N66&" "&N67&" "&N68&" "&N69&" "&N70 -> 豬後腿肉 綠豆芽 韮菜 乾木耳 大蒜 | Z65: =P66&" "&P67&" "&P68&" "&P69&" "&P70 -> 蔬菜 大蒜 | AA65: =R66&" "&R67&" "&R68&" "&R69&" "&R70 -> 綠豆 二砂糖
J66: 米 | K66: 7 | L66: 肉雞 | M66: 9 | N66: 豬後腿肉 | O66: 0.6 | P66: 蔬菜 | Q66: 7 | R66: 綠豆 | S66: 2
J67: 糙米 | K67: 3 | L67: 豆薯 | M67: 3 | N67: 綠豆芽 | O67: 5 | P67: 大蒜 | Q67: 0.05 | R67: 二砂糖 | S67: 1
L68: 胡蘿蔔 | M68: 1 | N68: 韮菜 | O68: 0.5
L69: 大蒜 | M69: 0.05 | N69: 乾木耳 | O69: 0.01
N70: 大蒜 | O70: 0.05
A71: 4/21 星期五 | B71: k5 | C71: 5 | D71: 2.2 | E71: 2.1 | F71: 2.2 | I71: =C71*70+F71*45+E71*25+G71*150+H71*60+D71*75 -> 666.5 | J71: 紅藜飯 | L71: 壽喜燒肉 | N71: 紅蔘炒蛋 | P71: 時蔬 | R71: 時瓜湯 | T71: 保久乳 | V71: =B71 -> k5 | W71: =J72&" "&J73&" "&J74&" "&J75&" "&J76 -> 米 紅藜 | X71: =L72&" "&L73&" "&L74&" "&L75&" "&L76 -> 豬後腿肉 結球白菜 胡蘿蔔 大蒜 | Y71: =N72&" "&N73&" "&N74&" "&N75&" "&N76 -> 雞蛋 胡蘿蔔 大蒜 | Z71: =P72&" "&P73&" "&P74&" "&P75&" "&P76 -> 蔬菜 大蒜 | AA71: =R72&" "&R73&" "&R74&" "&R75&" "&R76 -> 時瓜 薑 大骨
J72: 米 | K72: 10 | L72: 豬後腿肉 | M72: 6 | N72: 雞蛋 | O72: 2 | P72: 蔬菜 | Q72: 7 | R72: 時瓜 | S72: 5
J73: 紅藜 | K73: 0.05 | L73: 結球白菜 | M73: 4 | N73: 胡蘿蔔 | O73: 4 | P73: 大蒜 | Q73: 0.05 | R73: 薑 | S73: 0.05
L74: 胡蘿蔔 | M74: 0.5 | N74: 大蒜 | O74: 0.05 | R74: 大骨 | S74: 1
L75: 大蒜 | M75: 0.05
A77: 4/24 星期一 | B77: l1 | C77: 5 | D77: 2.5 | E77: 1.7 | F77: 2.5 | I77: =C77*70+F77*45+E77*25+G77*150+H77*60+D77*75 -> 692.5 | J77: 白米飯 | L77: 花生絞肉 | N77: 豆包甘藍 | P77: 時蔬 | R77: 鮮菇紫菜湯 | T77: 豆漿 | V77: =B77 -> l1 | W77: =J78&" "&J79&" "&J80&" "&J81&" "&J82 -> 米 | X77: =L78&" "&L79&" "&L80&" "&L81&" "&L82 -> 豬絞肉 油花生 麵筋 大蒜 胡蘿蔔 | Y77: =N78&" "&N79&" "&N80&" "&N81&" "&N82 -> 豆包 甘藍 乾香菇 大蒜 | Z77: =P78&" "&P79&" "&P80&" "&P81&" "&P82 -> 蔬菜 大蒜 | AA77: =R78&" "&R79&" "&R80&" "&R81&" "&R82 -> 紫菜 鮮香菇 薑 柴魚片
J78: 米 | K78: 10 | L78: 豬絞肉 | M78: 6 | N78: 豆包 | O78: 1.5 | P78: 蔬菜 | Q78: 7 | R78: 紫菜 | S78: 0.1
L79: 油花生 | M79: 0.1 | N79: 甘藍 | O79: 7 | P79: 大蒜 | Q79: 0.05 | R79: 鮮香菇 | S79: 1.5
L80: 麵筋 | M80: 0.5 | N80: 乾香菇 | O80: 0.01 | R80: 薑 | S80: 0.05
L81: 大蒜 | M81: 0.05 | N81: 大蒜 | O81: 0.05 | R81: 柴魚片 | S81: 0.01
L82: 胡蘿蔔 | M82: 1
A83: 4/25 星期二 | B83: l2 | C83: 5 | D83: 1.8 | E83: 1.5 | F83: 2.5 | I83: =C83*70+F83*45+E83*25+G83*150+H83*60+D83*75 -> 635 | J83: 糙米飯 | L83: 椒鹽魚排 | N83: 蛋香季豆 | P83: 時蔬 | R83: 時蔬湯 | T83: 紅豆包 | V83: =B83 -> l2 | W83: =J84&" "&J85&" "&J86&" "&J87&" "&J88 -> 米 糙米 | X83: =L84&" "&L85&" "&L86&" "&L87&" "&L88 -> 魚排 胡椒鹽 | Y83: =N84&" "&N85&" "&N86&" "&N87&" "&N88 -> 雞蛋 冷凍菜豆(莢) 胡蘿蔔 大蒜 | Z83: =P84&" "&P85&" "&P86&" "&P87&" "&P88 -> 蔬菜 大蒜 | AA83: =R84&" "&R85&" "&R86&" "&R87&" "&R88 -> 時蔬 薑 大骨
J84: 米 | K84: 7 | L84: 魚排 | M84: 6 | N84: 雞蛋 | O84: 1 | P84: 蔬菜 | Q84: 7 | R84: 時蔬 | S84: 3
J85: 糙米 | K85: 3 | L85: 胡椒鹽 | N85: 冷凍菜豆(莢) | O85: 4 | P85: 大蒜 | Q85: 0.05 | R85: 薑 | S85: 0.05
N86: 胡蘿蔔 | O86: 0.5 | R86: 大骨 | S86: 1
N87: 大蒜 | O87: 0.05
A89: 4/26 星期三 | B89: l3 | C89: 5.3 | D89: 2 | E89: 1.6 | F89: 2.5 | I89: =C89*70+F89*45+E89*25+G89*150+H89*60+D89*75 -> 673.5 | J89: 西式特餐 | L89: 茄汁肉醬 | N89: 清炒花椰 | P89: 時蔬 | R89: 南瓜濃湯 | T89: 水果升級 | V89: =B89 -> l3 | W89: =J90&" "&J91&" "&J92&" "&J93&" "&J94 -> 麵條 | X89: =L90&" "&L91&" "&L92&" "&L93&" "&L94 -> 豬絞肉 馬鈴薯 洋蔥 蕃茄醬 | Y89: =N90&" "&N91&" "&N92&" "&N93&" "&N94 -> 冷凍花椰菜 胡蘿蔔 大蒜 | Z89: =P90&" "&P91&" "&P92&" "&P93&" "&P94 -> 蔬菜 大蒜 | AA89: =R90&" "&R91&" "&R92&" "&R93&" "&R94 -> 雞蛋 南瓜 毛豆 濃湯調理包
J90: 麵條 | K90: 15 | L90: 豬絞肉 | M90: 6 | N90: 冷凍花椰菜 | O90: 6 | P90: 蔬菜 | Q90: 7 | R90: 雞蛋 | S90: 0.3
L91: 馬鈴薯 | M91: 2 | N91: 胡蘿蔔 | O91: 1 | P91: 大蒜 | Q91: 0.05 | R91: 南瓜 | S91: 2
L92: 洋蔥 | M92: 1.5 | N92: 大蒜 | O92: 0.05 | R92: 毛豆 | S92: 0.5
L93: 蕃茄醬 | R93: 濃湯調理包
A95: 4/27 星期四 | B95: l4 | C95: 6 | D95: 2 | E95: 1.5 | F95: 2.5 | I95: =C95*70+F95*45+E95*25+G95*150+H95*60+D95*75 -> 720 | J95: 糙米飯 | L95: 回鍋肉片 | N95: 香滷凍腐 | P95: 時蔬 | R95: 粉圓甜湯 | T95: 銀絲卷 | V95: =B95 -> l4 | W95: =J96&" "&J97&" "&J98&" "&J99&" "&J100 -> 米 糙米 | X95: =L96&" "&L97&" "&L98&" "&L99&" "&L100 -> 豬後腿肉 洋蔥 胡蘿蔔 大蒜 | Y95: =N96&" "&N97&" "&N98&" "&N99&" "&N100 -> 凍豆腐 白蘿蔔 胡蘿蔔 大蒜 | Z95: =P96&" "&P97&" "&P98&" "&P99&" "&P100 -> 蔬菜 大蒜 | AA95: =R96&" "&R97&" "&R98&" "&R99&" "&R100 -> 粉圓 二砂糖
J96: 米 | K96: 7 | L96: 豬後腿肉 | M96: 6 | N96: 凍豆腐 | O96: 3 | P96: 蔬菜 | Q96: 7 | R96: 粉圓 | S96: 2
J97: 糙米 | K97: 3 | L97: 洋蔥 | M97: 3 | N97: 白蘿蔔 | O97: 3 | P97: 大蒜 | Q97: 0.05 | R97: 二砂糖 | S97: 1
L98: 胡蘿蔔 | M98: 0.5 | N98: 胡蘿蔔 | O98: 0.5
L99: 大蒜 | M99: 0.05 | N99: 大蒜 | O99: 0.05
A101: 4/28 星期五 | B101: l5 | C101: 5.2 | D101: 2.8 | E101: 1.5 | F101: 2.5 | I101: =C101*70+F101*45+E101*25+G101*150+H101*60+D101*75 -> 724 | J101: 小米飯 | L101: 照燒雞 | N101: 雪菜豆干 | P101: 時蔬 | R101: 海芽湯 | T101: 餡餅 | V101: =B101 -> l5 | W101: =J102&" "&J103&" "&J104&" "&J105&" "&J106 -> 米 小米 | X101: =L102&" "&L103&" "&L104&" "&L105&" "&L106 -> 肉雞 洋蔥 胡蘿蔔 醬油 二砂糖 | Y101: =N102&" "&N103&" "&N104&" "&N105&" "&N106 -> 豆干 雪裡蕻 大蒜 | Z101: =P102&" "&P103&" "&P104&" "&P105&" "&P106 -> 蔬菜 大蒜 | AA101: =R102&" "&R103&" "&R104&" "&R105&" "&R106 -> 乾裙帶菜 薑 柴魚片
J102: 米 | K102: 10 | L102: 肉雞 | M102: 9 | N102: 豆干 | O102: 2 | P102: 蔬菜 | Q102: 7 | R102: 乾裙帶菜 | S102: 0.1
J103: 小米 | K103: 0.4 | L103: 洋蔥 | M103: 2 | N103: 雪裡蕻 | O103: 3 | P103: 大蒜 | Q103: 0.05 | R103: 薑 | S103: 0.05
L104: 胡蘿蔔 | M104: 0.5 | N104: 大蒜 | O104: 0.05 | R104: 柴魚片 | S104: 0.01
L105: 醬油
L106: 二砂糖
A107: 過敏警語:「本月產品含有蛋、芝麻、含麩之穀物、花生、大豆、魚類、亞硫酸鹽類及其相關製品，不適合其過敏體質者食用」
...

Sheet 葷食水璉國小月總表
B1: 111 | C1: 學年度 | D1: 國民小學 | E1: 葷食 | F1: 菜單 | G1: 循環
A2: 日期 | B2: 循環 | C2: 主食 | D2: 主食明細 | E2: 主菜 | F2: 主菜明細 | G2: 副菜一 | H2: 副菜一明細 | I2: 蔬菜 | J2: 蔬菜明細 | K2: 湯品 | L2: 湯品明細 | M2: 點心 | N2: 穀/份 | O2: 豆/份 | P2: 蔬/份 | Q2: 油/份 | R2: 乳/份 | S2: 果/份 | T2: 熱量
A3: 4月6日 | B3: ='A案--葷食國小'!B5 -> i4 | C3: ='A案--葷食國小'!J5 -> 糙米飯 | D3: ='A案--葷食國小'!AA5 -> 米 糙米 | E3: ='A案--葷食國小'!M5 -> 咖哩絞肉 | F3: ='A案--葷食國小'!AB5 -> 豬絞肉 馬鈴薯 胡蘿蔔 洋蔥 咖哩粉 | G3: ='A案--葷食國小'!P5 -> 火腿玉菜 | H3: ='A案--葷食國小'!AC5 -> 甘藍 火腿 大蒜 | I3: ='A案--葷食國小'!S5 -> 時蔬 | J3: ='A案--葷食國小'!AD5 -> 蔬菜 大蒜 | K3: ='A案--葷食國小'!V5 -> 花豆甜湯 | L3: ='A案--葷食國小'!AE5 -> 花豆 二砂糖 | M3: 保久乳 | N3: ='A案--葷食國小'!C5 -> 5.5 | O3: ='A案--葷食國小'!D5 -> 1.8 | P3: ='A案--葷食國小'!E5 -> 1.6 | Q3: ='A案--葷食國小'!F5 -> 3 | R3: ='A案--葷食國小'!G5 -> 0 | S3: ='A案--葷食國小'!H5 -> 0 | T3: ='A案--葷食國小'!I5 -> 695
A4: 4月7日 | B4: ='A案--葷食國小'!B11 -> i5 | C4: ='A案--葷食國小'!J11 -> 燕麥飯 | D4: ='A案--葷食國小'!AA11 -> 米 燕麥 | E4: ='A案--葷食國小'!M11 -> 筍干燒肉 | F4: ='A案--葷食國小'!AB11 -> 豬後腿肉 麻竹筍干 大蒜 | G4: ='A案--葷食國小'!P11 -> 蛋香豆薯 | H4: ='A案--葷食國小'!AC11 -> 雞蛋 豆薯 大蒜 胡蘿蔔 | I4: ='A案--葷食國小'!S11 -> 時蔬 | J4: ='A案--葷食國小'!AD11 -> 蔬菜 大蒜 | K4: ='A案--葷食國小'!V11 -> 味噌豆皮湯 | L4: ='A案--葷食國小'!AE11 -> 豆皮 味噌 柴魚片 | M4: 水果升級 | N4: ='A案--葷食國小'!C11 -> 5.2 | O4: ='A案--葷食國小'!D11 -> 2.1 | P4: ='A案--葷食國小'!E11 -> 1.6 | Q4: ='A案--葷食國小'!F11 -> 3 | R4: ='A案--葷食國小'!G11 -> 0 | S4: ='A案--葷食國小'!H11 -> 0 | T4: ='A案--葷食國小'!I11 -> 697
A5: 4月10日 | B5: ='A案--葷食國小'!B17 -> j1 | C5: ='A案--葷食國小'!J17 -> 白米飯 | D5: ='A案--葷食國小'!AA17 -> 米 | E5: ='A案--葷食國小'!M17 -> 茄汁肉絲 | F5: ='A案--葷食國小'!AB17 -> 豬後腿肉 馬鈴薯 大番茄 大蒜 番茄醬 | G5: ='A案--葷食國小'!P17 -> 洋蔥炒蛋 | H5: ='A案--葷食國小'!AC17 -> 雞蛋 洋蔥 大蒜 | I5: ='A案--葷食國小'!S17 -> 時蔬 | J5: ='A案--葷食國小'!AD17 -> 蔬菜 大蒜 | K5: ='A案--葷食國小'!V17 -> 金針湯 | L5: ='A案--葷食國小'!AE17 -> 金針菜乾 大骨 薑 榨菜 | M5: 果汁 | N5: ='A案--葷食國小'!C17 -> 5.2 | O5: ='A案--葷食國小'!D17 -> 2.4 | P5: ='A案--葷食國小'!E17 -> 2.1 | Q5: ='A案--葷食國小'!F17 -> 3.2 | R5: ='A案--葷食國小'!G17 -> 0 | S5: ='A案--葷食國小'!H17 -> 0 | T5: ='A案--葷食國小'!I17 -> 732
A6: 4月11日 | B6: ='A案--葷食國小'!B23 -> j2 | C6: ='A案--葷食國小'!J23 -> 糙米飯 | D6: ='A案--葷食國小'!AA23 -> 米 糙米 | E6: ='A案--葷食國小'!M23 -> 醬瓜燒雞 | F6: ='A案--葷食國小'!AB23 -> 肉雞 醃漬花胡瓜 大蒜 | G6: ='A案--葷食國小'!P23 -> 毛豆白菜 | H6: ='A案--葷食國小'!AC23 -> 結球白菜 冷凍毛豆仁 胡蘿蔔 大蒜 | I6: ='A案--葷食國小'!S23 -> 時蔬 | J6: ='A案--葷食國小'!AD23 -> 蔬菜 大蒜 | K6: ='A案--葷食國小'!V23 -> 海芽蛋花湯 | L6: ='A案--葷食國小'!AE23 -> 乾海帶 雞蛋 薑 | M6: 醬燒肉包 | N6: ='A案--葷食國小'!C23 -> 5 | O6: ='A案--葷食國小'!D23 -> 2.5 | P6: ='A案--葷食國小'!E23 -> 1.7 | Q6: ='A案--葷食國小'!F23 -> 3 | R6: ='A案--葷食國小'!G23 -> 0 | S6: ='A案--葷食國小'!H23 -> 0 | T6: ='A案--葷食國小'!I23 -> 715
A7: 4月12日 | B7: ='A案--葷食國小'!B29 -> j3 | C7: ='A案--葷食國小'!J29 -> 刈包特餐 | D7: ='A案--葷食國小'!AA29 -> 刈包 | E7: ='A案--葷食國小'!M29 -> 香滷肉排 | F7: ='A案--葷食國小'!AB29 -> 肉排 滷包 | G7: ='A案--葷食國小'!P29 -> 酸菜麵腸 | H7: ='A案--葷食國小'!AC29 -> 酸菜 麵腸 大蒜 | I7: ='A案--葷食國小'!S29 -> 時蔬 | J7: ='A案--葷食國小'!AD29 -> 蔬菜 大蒜 | K7: ='A案--葷食國小'!V29 -> 糙米粥 | L7: ='A案--葷食國小'!AE29 -> 雞蛋 糙米 胡蘿蔔 乾香菇 時瓜 | M7: 水果升級 | N7: ='A案--葷食國小'!C29 -> 3.3 | O7: ='A案--葷食國小'!D29 -> 2.8 | P7: ='A案--葷食國小'!E29 -> 1.3 | Q7: ='A案--葷食國小'!F29 -> 3 | R7: ='A案--葷食國小'!G29 -> 0 | S7: ='A案--葷食國小'!H29 -> 0 | T7: ='A案--葷食國小'!I29 -> 608.5
A8: 4月13日 | B8: ='A案--葷食國小'!B35 -> j4 | C8: ='A案--葷食國小'!J35 -> 糙米飯 | D8: ='A案--葷食國小'!AA35 -> 米 糙米 | E8: ='A案--葷食國小'!M35 -> 豆瓣魚丁 | F8: ='A案--葷食國小'!AB35 -> 鮮魚丁 白蘿蔔 胡蘿蔔 大蒜 豆瓣醬 | G8: ='A案--葷食國小'!P35 -> 筍干油腐 | H8: ='A案--葷食國小'!AC35 -> 麻竹筍干 四角油豆腐 大蒜 | I8: ='A案--葷食國小'!S35 -> 時蔬 | J8: ='A案--葷食國小'!AD35 -> 蔬菜 大蒜 | K8: ='A案--葷食國小'!V35 -> 仙草甜湯 | L8: ='A案--葷食國小'!AE35 -> 仙草凍 二砂糖 | M8: 地瓜包 | N8: ='A案--葷食國小'!C35 -> 5 | O8: ='A案--葷食國小'!D35 -> 2.4 | P8: ='A案--葷食國小'!E35 -> 1.3 | Q8: ='A案--葷食國小'!F35 -> 3 | R8: ='A案--葷食國小'!G35 -> 0 | S8: ='A案--葷食國小'!H35 -> 0 | T8: ='A案--葷食國小'!I35 -> 697.5
A9: 4月14日 | B9: ='A案--葷食國小'!B41 -> j5 | C9: ='A案--葷食國小'!J41 -> 芝麻飯 | D9: ='A案--葷食國小'!AA41 -> 米 芝麻(熟) | E9: ='A案--葷食國小'!M41 -> 泡菜燒肉 | F9: ='A案--葷食國小'!AB41 -> 豬後腿肉 韓式泡菜 甘藍 大蒜 | G9: ='A案--葷食國小'!P41 -> 魚香豆干 | H9: ='A案--葷食國小'!AC41 -> 小魚干 豆干 油花生 大蒜 | I9: ='A案--葷食國小'!S41 -> 時蔬 | J9: ='A案--葷食國小'!AD41 -> 蔬菜 大蒜 | K9: ='A案--葷食國小'!V41 -> 冬瓜湯 | L9: ='A案--葷食國小'!AE41 -> 冬瓜 薑 大骨 | M9: 紅豆包 | N9: ='A案--葷食國小'!C41 -> 5 | O9: ='A案--葷食國小'!D41 -> 2.7 | P9: ='A案--葷食國小'!E41 -> 2.2 | Q9: ='A案--葷食國小'!F41 -> 3.2 | R9: ='A案--葷食國小'!G41 -> 0 | S9: ='A案--葷食國小'!H41 -> 0 | T9: ='A案--葷食國小'!I41 -> 751.5
A10: 4月17日 | B10: ='A案--葷食國小'!B47 -> k1 | C10: ='A案--葷食國小'!J47 -> 白米飯 | D10: ='A案--葷食國小'!AA47 -> 米 | E10: ='A案--葷食國小'!M47 -> 紅燒雞翅 | F10: ='A案--葷食國小'!AB47 -> 三節翅 滷包 | G10: ='A案--葷食國小'!P47 -> 鮮菇豆腐 | H10: ='A案--葷食國小'!AC47 -> 豆腐 金針菇 乾香菇 大蒜 胡蘿蔔 | I10: ='A案--葷食國小'!S47 -> 時蔬 | J10: ='A案--葷食國小'!AD47 -> 蔬菜 大蒜 | K10: ='A案--葷食國小'!V47 -> 味噌湯 | L10: ='A案--葷食國小'!AE47 -> 乾裙帶菜 味噌 薑 柴魚片 | M10: 果汁 | N10: ='A案--葷食國小'!C47 -> 5 | O10: ='A案--葷食國小'!D47 -> 2.8 | P10: ='A案--葷食國小'!E47 -> 1 | Q10: ='A案--葷食國小'!F47 -> 1.9 | R10: ='A案--葷食國小'!G47 -> 0 | S10: ='A案--葷食國小'!H47 -> 0 | T10: ='A案--葷食國小'!I47 -> 670.5
A11: 4月18日 | B11: ='A案--葷食國小'!B53 -> k2 | C11: ='A案--葷食國小'!J53 -> 糙米飯 | D11: ='A案--葷食國小'!AA53 -> 米 糙米 | E11: ='A案--葷食國小'!M53 -> 咖哩鮮魚 | F11: ='A案--葷食國小'!AB53 -> 鮮魚丁 馬鈴薯 洋蔥 胡蘿蔔 咖哩粉 | G11: ='A案--葷食國小'!P53 -> 蛋香刈薯 | H11: ='A案--葷食國小'!AC53 -> 雞蛋 刈薯 大蒜 | I11: ='A案--葷食國小'!S53 -> 時蔬 | J11: ='A案--葷食國小'!AD53 -> 蔬菜 大蒜 | K11: ='A案--葷食國小'!V53 -> 金針湯 | L11: ='A案--葷食國小'!AE53 -> 金針菜乾 榨菜 薑 大骨 | M11: 奶皇包 | N11: ='A案--葷食國小'!C53 -> 5.4 | O11: ='A案--葷食國小'!D53 -> 2.1 | P11: ='A案--葷食國小'!E53 -> 1.4 | Q11: ='A案--葷食國小'!F53 -> 1.8 | R11: ='A案--葷食國小'!G53 -> 0 | S11: ='A案--葷食國小'!H53 -> 0 | T11: ='A案--葷食國小'!I53 -> 651.5
A12: 4月19日 | B12: ='A案--葷食國小'!B59 -> k3 | C12: ='A案--葷食國小'!J59 -> 泰式特餐 | D12: ='A案--葷食國小'!AA59 -> 米 糙米 | E12: ='A案--葷食國小'!M59 -> 打拋豬 | F12: ='A案--葷食國小'!AB59 -> 豬絞肉 洋蔥 打拋醬 魚露 大蒜 | G12: ='A案--葷食國小'!P59 -> 泰式魚丸 | H12: ='A案--葷食國小'!AC59 -> 魚丸 泰式酸辣醬 | I12: ='A案--葷食國小'!S59 -> 時蔬 | J12: ='A案--葷食國小'!AD59 -> 蔬菜 大蒜 | K12: ='A案--葷食國小'!V59 -> 冬蔭功湯 | L12: ='A案--葷食國小'!AE59 -> 秀珍菇 大番茄 大骨 檸檬 香茅 | M12: 水果升級 | N12: ='A案--葷食國小'!C59 -> 5.5 | O12: ='A案--葷食國小'!D59 -> 2.6 | P12: ='A案--葷食國小'!E59 -> 1.4 | Q12: ='A案--葷食國小'!F59 -> 2 | R12: ='A案--葷食國小'!G59 -> 0 | S12: ='A案--葷食國小'!H59 -> 0 | T12: ='A案--葷食國小'!I59 -> 705
A13: 4月20日 | B13: ='A案--葷食國小'!B65 -> k4 | C13: ='A案--葷食國小'!J65 -> 糙米飯 | D13: ='A案--葷食國小'!AA65 -> 米 糙米 | E13: ='A案--葷食國小'!M65 -> 豆瓣雞丁 | F13: ='A案--葷食國小'!AB65 -> 肉雞 豆薯 胡蘿蔔 大蒜 | G13: ='A案--葷食國小'!P65 -> 肉絲豆芽 | H13: ='A案--葷食國小'!AC65 -> 豬後腿肉 綠豆芽 韮菜 乾木耳 大蒜 | I13: ='A案--葷食國小'!S65 -> 時蔬 | J13: ='A案--葷食國小'!AD65 -> 蔬菜 大蒜 | K13: ='A案--葷食國小'!V65 -> 綠豆湯 | L13: ='A案--葷食國小'!AE65 -> 綠豆 二砂糖 | M13: 餡餅 | N13: ='A案--葷食國小'!C65 -> 5.8 | O13: ='A案--葷食國小'!D65 -> 2.5 | P13: ='A案--葷食國小'!E65 -> 1.7 | Q13: ='A案--葷食國小'!F65 -> 2.1 | R13: ='A案--葷食國小'!G65 -> 0 | S13: ='A案--葷食國小'!H65 -> 0 | T13: ='A案--葷食國小'!I65 -> 730.5
A14: 4月21日 | B14: ='A案--葷食國小'!B71 -> k5 | C14: ='A案--葷食國小'!J71 -> 紅藜飯 | D14: ='A案--葷食國小'!AA71 -> 米 紅藜 | E14: ='A案--葷食國小'!M71 -> 壽喜燒肉 | F14: ='A案--葷食國小'!AB71 -> 豬後腿肉 結球白菜 胡蘿蔔 大蒜 | G14: ='A案--葷食國小'!P71 -> 紅蔘炒蛋 | H14: ='A案--葷食國小'!AC71 -> 雞蛋 胡蘿蔔 大蒜 | I14: ='A案--葷食國小'!S71 -> 時蔬 | J14: ='A案--葷食國小'!AD71 -> 蔬菜 大蒜 | K14: ='A案--葷食國小'!V71 -> 時瓜湯 | L14: ='A案--葷食國小'!AE71 -> 時瓜 薑 大骨 | M14: 保久乳 | N14: ='A案--葷食國小'!C71 -> 5 | O14: ='A案--葷食國小'!D71 -> 2.2 | P14: ='A案--葷食國小'!E71 -> 2.1 | Q14: ='A案--葷食國小'!F71 -> 2.2 | R14: ='A案--葷食國小'!G71 -> 0 | S14: ='A案--葷食國小'!H71 -> 0 | T14: ='A案--葷食國小'!I71 -> 666.5
A15: 4月24日 | B15: ='A案--葷食國小'!B77 -> l1 | C15: ='A案--葷食國小'!J77 -> 白米飯 | D15: ='A案--葷食國小'!AA77 -> 米 | E15: ='A案--葷食國小'!M77 -> 花生絞肉 | F15: ='A案--葷食國小'!AB77 -> 豬絞肉 油花生 麵筋 大蒜 胡蘿蔔 | G15: ='A案--葷食國小'!P77 -> 豆包甘藍 | H15: ='A案--葷食國小'!AC77 -> 豆包 甘藍 乾香菇 大蒜 | I15: ='A案--葷食國小'!S77 -> 時蔬 | J15: ='A案--葷食國小'!AD77 -> 蔬菜 大蒜 | K15: ='A案--葷食國小'!V77 -> 豆漿 | L15: ='A案--葷食國小'!AE77 -> 豆漿 | M15: 豆漿 | N15: ='A案--葷食國小'!C77 -> 5 | O15: ='A案--葷食國小'!D77 -> 2.5 | P15: ='A案--葷食國小'!E77 -> 1.7 | Q15: ='A案--葷食國小'!F77 -> 2.5 | R15: ='A案--葷食國小'!G77 -> 0 | S15: ='A案--葷食國小'!H77 -> 0 | T15: ='A案--葷食國小'!I77 -> 692.5
A16: 4月25日 | B16: ='A案--葷食國小'!B83 -> l2 | C16: ='A案--葷食國小'!J83 -> 糙米飯 | D16: ='A案--葷食國小'!AA83 -> 米 糙米 | E16: ='A案--葷食國小'!M83 -> 椒鹽魚排 | F16: ='A案--葷食國小'!AB83 -> 魚排 胡椒鹽 | G16: ='A案--葷食國小'!P83 -> 蛋香季豆 | H16: ='A案--葷食國小'!AC83 -> 雞蛋 冷凍菜豆(莢) 胡蘿蔔 大蒜 | I16: ='A案--葷食國小'!S83 -> 時蔬 | J16: ='A案--葷食國小'!AD83 -> 蔬菜 大蒜 | K16: ='A案--葷食國小'!V83 -> 時蔬湯 | L16: ='A案--葷食國小'!AE83 -> 時蔬 薑 大骨 | M16: 紅豆包 | N16: ='A案--葷食國小'!C83 -> 5 | O16: ='A案--葷食國小'!D83 -> 1.8 | P16: ='A案--葷食國小'!E83 -> 1.5 | Q16: ='A案--葷食國小'!F83 -> 2.5 | R16: ='A案--葷食國小'!G83 -> 0 | S16: ='A案--葷食國小'!H83 -> 0 | T16: ='A案--葷食國小'!I83 -> 635
A17: 4月26日 | B17: ='A案--葷食國小'!B89 -> l3 | C17: ='A案--葷食國小'!J89 -> 西式特餐 | D17: ='A案--葷食國小'!AA89 -> 麵條 | E17: ='A案--葷食國小'!M89 -> 茄汁肉醬 | F17: ='A案--葷食國小'!AB89 -> 豬絞肉 馬鈴薯 洋蔥 蕃茄醬 | G17: ='A案--葷食國小'!P89 -> 清炒花椰 | H17: ='A案--葷食國小'!AC89 -> 冷凍花椰菜 胡蘿蔔 大蒜 | I17: ='A案--葷食國小'!S89 -> 時蔬 | J17: ='A案--葷食國小'!AD89 -> 蔬菜 大蒜 | K17: ='A案--葷食國小'!V89 -> 南瓜濃湯 | L17: ='A案--葷食國小'!AE89 -> 雞蛋 南瓜 毛豆 濃湯調理包 | M17: 水果升級 | N17: ='A案--葷食國小'!C89 -> 5.3 | O17: ='A案--葷食國小'!D89 -> 2 | P17: ='A案--葷食國小'!E89 -> 1.6 | Q17: ='A案--葷食國小'!F89 -> 2.5 | R17: ='A案--葷食國小'!G89 -> 0 | S17: ='A案--葷食國小'!H89 -> 0 | T17: ='A案--葷食國小'!I89 -> 673.5
A18: 4月27日 | B18: ='A案--葷食國小'!B95 -> l4 | C18: ='A案--葷食國小'!J95 -> 糙米飯 | D18: ='A案--葷食國小'!AA95 -> 米 糙米 | E18: ='A案--葷食國小'!M95 -> 回鍋肉片 | F18: ='A案--葷食國小'!AB95 -> 豬後腿肉 洋蔥 胡蘿蔔 大蒜 | G18: ='A案--葷食國小'!P95 -> 香滷凍腐 | H18: ='A案--葷食國小'!AC95 -> 凍豆腐 白蘿蔔 胡蘿蔔 大蒜 | I18: ='A案--葷食國小'!S95 -> 時蔬 | J18: ='A案--葷食國小'!AD95 -> 蔬菜 大蒜 | K18: ='A案--葷食國小'!V95 -> 粉圓甜湯 | L18: ='A案--葷食國小'!AE95 -> 粉圓 二砂糖 | M18: 銀絲卷 | N18: ='A案--葷食國小'!C95 -> 6 | O18: ='A案--葷食國小'!D95 -> 2 | P18: ='A案--葷食國小'!E95 -> 1.5 | Q18: ='A案--葷食國小'!F95 -> 2.5 | R18: ='A案--葷食國小'!G95 -> 0 | S18: ='A案--葷食國小'!H95 -> 0 | T18: ='A案--葷食國小'!I95 -> 720
A19: 4月28日 | B19: ='A案--葷食國小'!B101 -> l5 | C19: ='A案--葷食國小'!J101 -> 小米飯 | D19: ='A案--葷食國小'!AA101 -> 米 小米 | E19: ='A案--葷食國小'!M101 -> 照燒雞 | F19: ='A案--葷食國小'!AB101 -> 肉雞 洋蔥 胡蘿蔔 醬油 二砂糖 | G19: ='A案--葷食國小'!P101 -> 雪菜豆干 | H19: ='A案--葷食國小'!AC101 -> 豆干 雪裡蕻 大蒜 | I19: ='A案--葷食國小'!S101 -> 時蔬 | J19: ='A案--葷食國小'!AD101 -> 蔬菜 大蒜 | K19: ='A案--葷食國小'!V101 -> 海芽湯 | L19: ='A案--葷食國小'!AE101 -> 乾裙帶菜 薑 柴魚片 | M19: 餡餅 | N19: ='A案--葷食國小'!C101 -> 5.2 | O19: ='A案--葷食國小'!D101 -> 2.8 | P19: ='A案--葷食國小'!E101 -> 1.5 | Q19: ='A案--葷食國小'!F101 -> 2.5 | R19: ='A案--葷食國小'!G101 -> 0 | S19: ='A案--葷食國小'!H101 -> 0 | T19: ='A案--葷食國小'!I101 -> 724
B22: 過敏警語:「本月產品含有蛋、芝麻、含麩之穀物、花生、大豆、魚類、亞硫酸鹽類及其相關製品，不適合其過敏體質者食用」

Sheet f-j素食國中
A1: 要修正正確數值 | I1: 僅需貼上食材明細和重量，"公斤"和下一個分頁循環就會自己跑出來
A2: 食材明細（食材重量以100人份計量，營養分析以個人計量,其中肉雞包含23%骨頭之採購量，每周供應特餐一次，當日得混搭供應，國中4菜1湯，國小3菜1湯） | AB2: 統整區的檔案，連動到上方循環，後續給教育處的檔案，此處請自行隱藏
A3: 111學年度下學期國民中學112年4月份素食菜單 (A案)
A4: 日期 | B4: 循環 | C4: 穀/份 | D4: 豆/份 | E4: 蔬/份 | F4: 油/份 | G4: 乳/份 | H4: 果/份 | I4: 熱量 | J4: 主食 | K4: 重/kg | L4: 公斤 | M4: 主菜 | N4: 重/kg | O4: 公斤 | P4: 副菜一 | Q4: 重/kg | R4: 公斤 | S4: 副菜二 | T4: 重/kg | U4: 公斤 | V4: 蔬菜 | W4: 重/kg | X4: 公斤 | Y4: 湯品 | Z4: 重/kg | AA4: 公斤 | AC4: 主食 | AD4: 主菜 | AE4: 副菜一 | AF4: 副菜二 | AG4: 蔬菜 | AH4: 湯品
A5: 4/6 星期四 | B5: i4 | C5: 5.3 | D5: 2.6 | E5: 2.5 | F5: 3.1 | G5: 0 | H5: 0 | I5: 738 | J5: 糙米飯 | M5: 咖哩豆干 | P5: 火腿玉菜 | S5: 若絲季豆 | V5: 時蔬 | Y5: 花豆甜湯 | AB5: =B5 -> i4 | AC5: =J6&" "&J7&" "&J8&" "&J9&" "&J10 -> 米 糙米 | AD5: =M6&" "&M7&" "&M8&" "&M9&" "&M10 -> 豆干 馬鈴薯 胡蘿蔔 芹菜 咖哩粉 | AE5: =P6&" "&P7&" "&P8&" "&P9&" "&P10 -> 甘藍 火腿 薑 | AF5: =S6&" "&S7&" "&S8&" "&S9&" "&S10 -> 素肉 冷凍菜豆(莢) 薑 | AG5: =V6&" "&V7&" "&V8&" "&V9&" "&V10 -> 蔬菜 薑 | AH5: =Y6&" "&Y7&" "&Y8&" "&Y9&" "&Y10 -> 花豆 二砂糖
J6: 米 | K6: 7 | L6: =IF(K6,"公斤","") -> 公斤 | M6: 豆干 | N6: 7 | O6: =IF(N6,"公斤","") -> 公斤 | P6: 甘藍 | Q6: 5 | R6: =IF(Q6,"公斤","") -> 公斤 | S6: 素肉 | T6: 0.6 | U6: =IF(T6,"公斤","") -> 公斤 | V6: 蔬菜 | W6: 7 | X6: =IF(W6,"公斤","") -> 公斤 | Y6: 花豆 | Z6: 2 | AA6: =IF(Z6,"公斤","") -> 公斤
J7: 糙米 | K7: 3 | L7: =IF(K7,"公斤","") -> 公斤 | M7: 馬鈴薯 | N7: 2 | O7: =IF(N7,"公斤","") -> 公斤 | P7: 火腿 | Q7: 1 | R7: =IF(Q7,"公斤","") -> 公斤 | S7: 冷凍菜豆(莢) | T7: 5 | U7: =IF(T7,"公斤","") -> 公斤 | V7: 薑 | W7: 0.05 | X7: =IF(W7,"公斤","") -> 公斤 | Y7: 二砂糖 | Z7: 1 | AA7: =IF(Z7,"公斤","") -> 公斤
L8: =IF(K8,"公斤","") | M8: 胡蘿蔔 | N8: 0.5 | O8: =IF(N8,"公斤","") -> 公斤 | P8: 薑 | Q8: 0.05 | R8: =IF(Q8,"公斤","") -> 公斤 | S8: 薑 | T8: 0.05 | U8: =IF(T8,"公斤","") -> 公斤 | X8: =IF(W8,"公斤","") | AA8: =IF(Z8,"公斤","") | AE8: 6
L9: =IF(K9,"公斤","") | M9: 芹菜 | N9: 1 | O9: =IF(N9,"公斤","") -> 公斤 | R9: =IF(Q9,"公斤","") | U9: =IF(T9,"公斤","") | X9: =IF(W9,"公斤","") | AA9: =IF(Z9,"公斤","")
L10: =IF(K10,"公斤","") | M10: 咖哩粉 | O10: =IF(N10,"公斤","") | R10: =IF(Q10,"公斤","") | U10: =IF(T10,"公斤","") | X10: =IF(W10,"公斤","") | AA10: =IF(Z10,"公斤","")
A11: 4/7 星期五 | B11: i5 | C11: 5.5 | D11: 2.8 | E11: 1.8 | F11: 3 | G11: 0 | H11: 0 | I11: 763 | J11: 燕麥飯 | M11: 筍干麵輪 | P11: 蛋香豆薯 | S11: 蔬菜佃煮 | V11: 時蔬 | Y11: 味噌豆皮湯 | AB11: =B11 -> i5 | AC11: =J12&" "&J13&" "&J14&" "&J15&" "&J16 -> 米 燕麥 | AD11: =M12&" "&M13&" "&M14&" "&M15&" "&M16 -> 麵輪 麻竹筍干 薑 | AE11: =P12&" "&P13&" "&P14&" "&P15&" "&P16 -> 雞蛋 豆薯 薑 胡蘿蔔 | AF11: =S12&" "&S13&" "&S14&" "&S15&" "&S16 -> 白蘿蔔 四角油豆腐 甜玉米 味醂 | AG11: =V12&" "&V13&" "&V14&" "&V15&" "&V16 -> 蔬菜 薑 | AH11: =Y12&" "&Y13&" "&Y14&" "&Y15&" "&Y16 -> 豆皮 味噌
J12: 米 | K12: 10 | L12: =IF(K12,"公斤","") -> 公斤 | M12: 麵輪 | N12: 3.5 | O12: =IF(N12,"公斤","") -> 公斤 | P12: 雞蛋 | Q12: 5.5 | R12: =IF(Q12,"公斤","") -> 公斤 | S12: 白蘿蔔 | T12: 3 | U12: =IF(T12,"公斤","") -> 公斤 | V12: 蔬菜 | W12: 7 | X12: =IF(W12,"公斤","") -> 公斤 | Y12: 豆皮 | Z12: 0.3 | AA12: =IF(Z12,"公斤","") -> 公斤
J13: 燕麥 | K13: 0.4 | L13: =IF(K13,"公斤","") -> 公斤 | M13: 麻竹筍干 | N13: 2 | O13: =IF(N13,"公斤","") -> 公斤 | P13: 豆薯 | Q13: 5 | R13: =IF(Q13,"公斤","") -> 公斤 | S13: 四角油豆腐 | T13: 3 | U13: =IF(T13,"公斤","") -> 公斤 | V13: 薑 | W13: 0.05 | X13: =IF(W13,"公斤","") -> 公斤 | Y13: 味噌 | Z13: 0.6 | AA13: =IF(Z13,"公斤","") -> 公斤 | AE13: 7
L14: =IF(K14,"公斤","") | M14: 薑 | N14: 0.05 | O14: =IF(N14,"公斤","") -> 公斤 | P14: 薑 | Q14: 0.05 | R14: =IF(Q14,"公斤","") -> 公斤 | S14: 甜玉米 | T14: 3 | U14: =IF(T14,"公斤","") -> 公斤 | X14: =IF(W14,"公斤","") | AA14: =IF(Z14,"公斤","")
L15: =IF(K15,"公斤","") | O15: =IF(N15,"公斤","") | P15: 胡蘿蔔 | Q15: 0.5 | R15: =IF(Q15,"公斤","") -> 公斤 | S15: 味醂 | T15: 0.01 | U15: =IF(T15,"公斤","") -> 公斤 | X15: =IF(W15,"公斤","") | AA15: =IF(Z15,"公斤","")
L16: =IF(K16,"公斤","") | O16: =IF(N16,"公斤","") | R16: =IF(Q16,"公斤","") | U16: =IF(T16,"公斤","") | X16: =IF(W16,"公斤","") | AA16: =IF(Z16,"公斤","")
A17: 4/10 星期一 | B17: j1 | C17: 5.3 | D17: 3.1 | E17: 1.9 | F17: 3.2 | G17: 0 | H17: 0 | I17: 750 | J17: 白米飯 | M17: 茄汁凍腐 | P17: 塔香炒蛋 | S17: 絞若豆芽 | V17: 時蔬 | Y17: 金針湯 | AB17: =B17 -> j1 | AC17: =J18&" "&J19&" "&J20&" "&J21&" "&J22 -> 米 | AD17: =M18&" "&M19&" "&M20&" "&M21&" "&M22 -> 凍豆腐 馬鈴薯 大番茄 薑 番茄醬 | AE17: =P18&" "&P19&" "&P20&" "&P21&" "&P22 -> 雞蛋 九層塔 薑 鮮香菇 | AF17: =S18&" "&S19&" "&S20&" "&S21&" "&S22 -> 綠豆芽 素肉 胡蘿蔔 薑 | AG17: =V18&" "&V19&" "&V20&" "&V21&" "&V22 -> 蔬菜 薑 | AH17: =Y18&" "&Y19&" "&Y20&" "&Y21&" "&Y22 -> 金針菜乾 薑 榨菜
J18: 米 | K18: 10 | L18: =IF(K18,"公斤","") -> 公斤 | M18: 凍豆腐 | N18: 8 | O18: =IF(N18,"公斤","") -> 公斤 | P18: 雞蛋 | Q18: 5.5 | R18: =IF(Q18,"公斤","") -> 公斤 | S18: 綠豆芽 | T18: 5 | U18: =IF(T18,"公斤","") -> 公斤 | V18: 蔬菜 | W18: 7 | X18: =IF(W18,"公斤","") -> 公斤 | Y18: 金針菜乾 | Z18: 0.1 | AA18: =IF(Z18,"公斤","") -> 公斤
L19: =IF(K19,"公斤","") | M19: 馬鈴薯 | N19: 1 | O19: =IF(N19,"公斤","") -> 公斤 | P19: 九層塔 | Q19: 0.02 | R19: =IF(Q19,"公斤","") -> 公斤 | S19: 素肉 | T19: 0.6 | U19: =IF(T19,"公斤","") -> 公斤 | V19: 薑 | W19: 0.05 | X19: =IF(W19,"公斤","") -> 公斤 | Y19: 薑 | Z19: 0.05 | AA19: =IF(Z19,"公斤","") -> 公斤
L20: =IF(K20,"公斤","") | M20: 大番茄 | N20: 1 | O20: =IF(N20,"公斤","") -> 公斤 | P20: 薑 | Q20: 0.05 | R20: =IF(Q20,"公斤","") -> 公斤 | S20: 胡蘿蔔 | T20: 0.5 | U20: =IF(T20,"公斤","") -> 公斤 | X20: =IF(W20,"公斤","") | Y20: 榨菜 | Z20: 1 | AA20: =IF(Z20,"公斤","") -> 公斤 | AE20: 10
L21: =IF(K21,"公斤","") | M21: 薑 | N21: 0.05 | O21: =IF(N21,"公斤","") -> 公斤 | P21: 鮮香菇 | Q21: 1 | R21: =IF(Q21,"公斤","") -> 公斤 | S21: 薑 | T21: 0.05 | U21: =IF(T21,"公斤","") -> 公斤 | X21: =IF(W21,"公斤","") | AA21: =IF(Z21,"公斤","")
L22: =IF(K22,"公斤","") | M22: 番茄醬 | O22: =IF(N22,"公斤","") | R22: =IF(Q22,"公斤","") | U22: =IF(T22,"公斤","") | X22: =IF(W22,"公斤","") | AA22: =IF(Z22,"公斤","")
A23: 4/11 星期二 | B23: j2 | C23: 5 | D23: 2.7 | E23: 2.3 | F23: 3 | G23: 0 | H23: 0 | I23: 715 | J23: 糙米飯 | M23: 醬瓜豆干 | P23: 毛豆白菜 | S23: 清炒花椰 | V23: 時蔬 | Y23: 海芽蛋花湯 | AB23: =B23 -> j2 | AC23: =J24&" "&J25&" "&J26&" "&J27&" "&J28 -> 米 糙米 | AD23: =M24&" "&M25&" "&M26&" "&M27&" "&M28 -> 豆干 醃漬花胡瓜 薑 | AE23: =P24&" "&P25&" "&P26&" "&P27&" "&P28 -> 結球白菜 冷凍毛豆仁 胡蘿蔔 薑 | AF23: =S24&" "&S25&" "&S26&" "&S27&" "&S28 -> 冷凍花椰菜 胡蘿蔔 薑 素肉 | AG23: =V24&" "&V25&" "&V26&" "&V27&" "&V28 -> 蔬菜 薑 | AH23: =Y24&" "&Y25&" "&Y26&" "&Y27&" "&Y28 -> 乾海帶 雞蛋 薑
J24: 米 | K24: 7 | L24: =IF(K24,"公斤","") -> 公斤 | M24: 豆干 | N24: 6 | O24: =IF(N24,"公斤","") -> 公斤 | P24: 結球白菜 | Q24: 4 | R24: =IF(Q24,"公斤","") -> 公斤 | S24: 冷凍花椰菜 | T24: 6 | U24: =IF(T24,"公斤","") -> 公斤 | V24: 蔬菜 | W24: 7 | X24: =IF(W24,"公斤","") -> 公斤 | Y24: 乾海帶 | Z24: 0.1 | AA24: =IF(Z24,"公斤","") -> 公斤
J25: 糙米 | K25: 3 | L25: =IF(K25,"公斤","") -> 公斤 | M25: 醃漬花胡瓜 | N25: 2 | O25: =IF(N25,"公斤","") -> 公斤 | P25: 冷凍毛豆仁 | Q25: 1.5 | R25: =IF(Q25,"公斤","") -> 公斤 | S25: 胡蘿蔔 | T25: 0.5 | U25: =IF(T25,"公斤","") -> 公斤 | V25: 薑 | W25: 0.05 | X25: =IF(W25,"公斤","") -> 公斤 | Y25: 雞蛋 | Z25: 1 | AA25: =IF(Z25,"公斤","") -> 公斤 | AE25: 11
L26: =IF(K26,"公斤","") | M26: 薑 | N26: 0.05 | O26: =IF(N26,"公斤","") -> 公斤 | P26: 胡蘿蔔 | Q26: 0.5 | R26: =IF(Q26,"公斤","") -> 公斤 | S26: 薑 | T26: 0.05 | U26: =IF(T26,"公斤","") -> 公斤 | X26: =IF(W26,"公斤","") | Y26: 薑 | Z26: 0.05 | AA26: =IF(Z26,"公斤","") -> 公斤
L27: =IF(K27,"公斤","") | O27: =IF(N27,"公斤","") | P27: 薑 | Q27: 0.05 | R27: =IF(Q27,"公斤","") -> 公斤 | S27: 素肉 | T27: 0.6 | U27: =IF(T27,"公斤","") -> 公斤 | X27: =IF(W27,"公斤","") | AA27: =IF(Z27,"公斤","")
L28: =IF(K28,"公斤","") | O28: =IF(N28,"公斤","") | R28: =IF(Q28,"公斤","") | U28: =IF(T28,"公斤","") | X28: =IF(W28,"公斤","") | AA28: =IF(Z28,"公斤","")
A29: 4/12 星期三 | B29: j3 | C29: 4 | D29: 3 | E29: 2 | F29: 3 | G29: 0 | H29: 0 | I29: 653 | J29: 刈包特餐 | M29: 美味素排 | P29: 酸菜麵腸 | S29: 清炒玉菜 | V29: 時蔬 | Y29: 糙米粥 | AB29: =B29 -> j3 | AC29: =J30&" "&J31&" "&J32&" "&J33&" "&J34 -> 刈包 | AD29: =M30&" "&M31&" "&M32&" "&M33&" "&M34 -> 素排 | AE29: =P30&" "&P31&" "&P32&" "&P33&" "&P34 -> 酸菜 麵腸 薑 | AF29: =S30&" "&S31&" "&S32&" "&S33&" "&S34 -> 甘藍 胡蘿蔔 薑 | AG29: =V30&" "&V31&" "&V32&" "&V33&" "&V34 -> 蔬菜 薑 | AH29: =Y30&" "&Y31&" "&Y32&" "&Y33&" "&Y34 -> 雞蛋 糙米 胡蘿蔔 乾香菇 時瓜
J30: 刈包 | K30: 4 | L30: =IF(K30,"公斤","") -> 公斤 | M30: 素排 | N30: 6 | O30: =IF(N30,"公斤","") -> 公斤 | P30: 酸菜 | Q30: 3 | R30: =IF(Q30,"公斤","") -> 公斤 | S30: 甘藍 | T30: 7 | U30: =IF(T30,"公斤","") -> 公斤 | V30: 蔬菜 | W30: 7 | X30: =IF(W30,"公斤","") -> 公斤 | Y30: 雞蛋 | Z30: 1 | AA30: =IF(Z30,"公斤","") -> 公斤
L31: =IF(K31,"公斤","") | O31: =IF(N31,"公斤","") | P31: 麵腸 | Q31: 3 | R31: =IF(Q31,"公斤","") -> 公斤 | S31: 胡蘿蔔 | T31: 0.5 | U31: =IF(T31,"公斤","") -> 公斤 | V31: 薑 | W31: 0.05 | X31: =IF(W31,"公斤","") -> 公斤 | Y31: 糙米 | Z31: 4 | AA31: =IF(Z31,"公斤","") -> 公斤 | AE31: 12
L32: =IF(K32,"公斤","") | O32: =IF(N32,"公斤","") | P32: 薑 | Q32: 0.05 | R32: =IF(Q32,"公斤","") -> 公斤 | S32: 薑 | T32: 0.05 | U32: =IF(T32,"公斤","") -> 公斤 | X32: =IF(W32,"公斤","") | Y32: 胡蘿蔔 | Z32: 0.5 | AA32: =IF(Z32,"公斤","") -> 公斤
L33: =IF(K33,"公斤","") | O33: =IF(N33,"公斤","") | R33: =IF(Q33,"公斤","") | U33: =IF(T33,"公斤","") | X33: =IF(W33,"公斤","") | Y33: 乾香菇 | Z33: 0.01 | AA33: =IF(Z33,"公斤","") -> 公斤
L34: =IF(K34,"公斤","") | O34: =IF(N34,"公斤","") | R34: =IF(Q34,"公斤","") | U34: =IF(T34,"公斤","") | X34: =IF(W34,"公斤","") | Y34: 時瓜 | Z34: 2 | AA34: =IF(Z34,"公斤","") -> 公斤
A35: 4/13 星期四 | B35: j4 | C35: 6.4 | D35: 3 | E35: 1.6 | F35: 3 | G35: 0 | H35: 0 | I35: 790 | J35: 糙米飯 | M35: 豆瓣百頁 | P35: 筍干油腐 | S35: 塔香海茸 | V35: 時蔬 | Y35: 仙草甜湯 | AB35: =B35 -> j4 | AC35: =J36&" "&J37&" "&J38&" "&J39&" "&J40 -> 米 糙米 | AD35: =M36&" "&M37&" "&M38&" "&M39&" "&M40 -> 百頁豆腐 白蘿蔔 胡蘿蔔 薑 豆瓣醬 | AE35: =P36&" "&P37&" "&P38&" "&P39&" "&P40 -> 麻竹筍干 四角油豆腐 薑 | AF35: =S36&" "&S37&" "&S38&" "&S39&" "&S40 -> 素肉 海帶茸 九層塔 薑 | AG35: =V36&" "&V37&" "&V38&" "&V39&" "&V40 -> 蔬菜 薑 | AH35: =Y36&" "&Y37&" "&Y38&" "&Y39&" "&Y40 -> 仙草凍 二砂糖
J36: 米 | K36: 7 | L36: =IF(K36,"公斤","") -> 公斤 | M36: 百頁豆腐 | N36: 7 | O36: =IF(N36,"公斤","") -> 公斤 | P36: 麻竹筍干 | Q36: 2 | R36: =IF(Q36,"公斤","") -> 公斤 | S36: 素肉 | T36: 0.6 | U36: =IF(T36,"公斤","") -> 公斤 | V36: 蔬菜 | W36: 7 | X36: =IF(W36,"公斤","") -> 公斤 | Y36: 仙草凍 | Z36: 6 | AA36: =IF(Z36,"公斤","") -> 公斤
J37: 糙米 | K37: 3 | L37: =IF(K37,"公斤","") -> 公斤 | M37: 白蘿蔔 | N37: 2 | O37: =IF(N37,"公斤","") -> 公斤 | P37: 四角油豆腐 | Q37: 5.5 | R37: =IF(Q37,"公斤","") -> 公斤 | S37: 海帶茸 | T37: 2 | U37: =IF(T37,"公斤","") -> 公斤 | V37: 薑 | W37: 0.05 | X37: =IF(W37,"公斤","") -> 公斤 | Y37: 二砂糖 | Z37: 1 | AA37: =IF(Z37,"公斤","") -> 公斤
L38: =IF(K38,"公斤","") | M38: 胡蘿蔔 | N38: 0.5 | O38: =IF(N38,"公斤","") -> 公斤 | P38: 薑 | Q38: 0.05 | R38: =IF(Q38,"公斤","") -> 公斤 | S38: 九層塔 | T38: 0.05 | U38: =IF(T38,"公斤","") -> 公斤 | X38: =IF(W38,"公斤","") | AA38: =IF(Z38,"公斤","") | AE38: 13
L39: =IF(K39,"公斤","") | M39: 薑 | N39: 0.05 | O39: =IF(N39,"公斤","") -> 公斤 | R39: =IF(Q39,"公斤","") | S39: 薑 | T39: 0.05 | U39: =IF(T39,"公斤","") -> 公斤 | X39: =IF(W39,"公斤","") | AA39: =IF(Z39,"公斤","")
L40: =IF(K40,"公斤","") | M40: 豆瓣醬 | O40: =IF(N40,"公斤","") | R40: =IF(Q40,"公斤","") | U40: =IF(T40,"公斤","") | X40: =IF(W40,"公斤","") | AA40: =IF(Z40,"公斤","")
A41: 4/14 星期五 | B41: j5 | C41: 5 | D41: 3.4 | E41: 2.2 | F41: 3.2 | G41: 0 | H41: 0 | I41: 782 | J41: 芝麻飯 | M41: 泡菜豆包 | P41: 花生豆干 | S41: 若絲時蔬 | V41: 時蔬 | Y41: 冬瓜湯 | AB41: =B41 -> j5 | AC41: =J42&" "&J43&" "&J44&" "&J45&" "&J46 -> 米 芝麻(熟) | AD41: =M42&" "&M43&" "&M44&" "&M45&" "&M46 -> 豆包 韓式泡菜 甘藍 薑 | AE41: =P42&" "&P43&" "&P44&" "&P45&" "&P46 -> 豆干 油花生 薑 | AF41: =S42&" "&S43&" "&S44&" "&S45&" "&S46 -> 時蔬 胡蘿蔔 薑 素肉 | AG41: =V42&" "&V43&" "&V44&" "&V45&" "&V46 -> 蔬菜 薑 | AH41: =Y42&" "&Y43&" "&Y44&" "&Y45&" "&Y46 -> 冬瓜 薑
J42: 米 | K42: 10 | L42: =IF(K42,"公斤","") -> 公斤 | M42: 豆包 | N42: 4.5 | O42: =IF(N42,"公斤","") -> 公斤 | P42: 豆干 | Q42: 4 | R42: =IF(Q42,"公斤","") -> 公斤 | S42: 時蔬 | T42: 6 | U42: =IF(T42,"公斤","") -> 公斤 | V42: 蔬菜 | W42: 7 | X42: =IF(W42,"公斤","") -> 公斤 | Y42: 冬瓜 | Z42: 4 | AA42: =IF(Z42,"公斤","") -> 公斤
J43: 芝麻(熟) | K43: 0.05 | L43: =IF(K43,"公斤","") -> 公斤 | M43: 韓式泡菜 | N43: 1 | O43: =IF(N43,"公斤","") -> 公斤 | P43: 油花生 | Q43: 0.1 | R43: =IF(Q43,"公斤","") -> 公斤 | S43: 胡蘿蔔 | T43: 0.5 | U43: =IF(T43,"公斤","") -> 公斤 | V43: 薑 | W43: 0.05 | X43: =IF(W43,"公斤","") -> 公斤 | Y43: 薑 | Z43: 0.05 | AA43: =IF(Z43,"公斤","") -> 公斤 | AE43: 14
L44: =IF(K44,"公斤","") | M44: 甘藍 | N44: 3 | O44: =IF(N44,"公斤","") -> 公斤 | P44: 薑 | Q44: 0.05 | R44: =IF(Q44,"公斤","") -> 公斤 | S44: 薑 | T44: 0.05 | U44: =IF(T44,"公斤","") -> 公斤 | X44: =IF(W44,"公斤","") | AA44: =IF(Z44,"公斤","")
L45: =IF(K45,"公斤","") | M45: 薑 | N45: 0.05 | O45: =IF(N45,"公斤","") -> 公斤 | R45: =IF(Q45,"公斤","") | S45: 素肉 | T45: 0.3 | U45: =IF(T45,"公斤","") -> 公斤 | X45: =IF(W45,"公斤","") | AA45: =IF(Z45,"公斤","")
L46: =IF(K46,"公斤","") | O46: =IF(N46,"公斤","") | R46: =IF(Q46,"公斤","") | U46: =IF(T46,"公斤","") | X46: =IF(W46,"公斤","") | AA46: =IF(Z46,"公斤","")
A47: 4/17 星期一 | B47: k1 | C47: 5 | D47: 2.8 | E47: 1.5 | F47: 2.2 | I47: 696.5 | J47: 白米飯 | M47: 紅燒豆包 | P47: 鮮菇豆腐 | S47: 乾煸季豆 | V47: 時蔬 | Y47: 味噌湯 | AB47: =B47 -> k1 | AC47: =J48&" "&J49&" "&J50&" "&J51&" "&J52 -> 米 | AD47: =M48&" "&M49&" "&M50&" "&M51&" "&M52 -> 豆包 滷包 | AE47: =P48&" "&P49&" "&P50&" "&P51&" "&P52 -> 豆腐 金針菇 乾香菇 薑 胡蘿蔔 | AF47: =S48&" "&S49&" "&S50&" "&S51&" "&S52 -> 素肉 冷凍菜豆(莢) 薑 | AG47: =V48&" "&V49&" "&V50&" "&V51&" "&V52 -> 蔬菜 薑 | AH47: =Y48&" "&Y49&" "&Y50&" "&Y51&" "&Y52 -> 乾裙帶菜 味噌 薑
J48: 米 | K48: 10 | L48: 公斤 | M48: 豆包 | N48: 6 | O48: 公斤 | P48: 豆腐 | Q48: 4 | R48: 公斤 | S48: 素肉 | T48: 0.3 | U48: 公斤 | V48: 蔬菜 | W48: 7 | X48: 公斤 | Y48: 乾裙帶菜 | Z48: 0.2 | AA48: 公斤
M49: 滷包 | P49: 金針菇 | Q49: 2 | R49: 公斤 | S49: 冷凍菜豆(莢) | T49: 5 | U49: 公斤 | V49: 薑 | W49: 0.05 | X49: 公斤 | Y49: 味噌 | Z49: 0.1 | AA49: 公斤
P50: 乾香菇 | Q50: 0.01 | R50: 公斤 | S50: 薑 | T50: 0.05 | U50: 公斤 | Y50: 薑 | Z50: 0.05 | AA50: 公斤
P51: 薑 | Q51: 0.05 | R51: 公斤
P52: 胡蘿蔔 | Q52: 0.5 | R52: 公斤
A53: 4/18 星期二 | B53: k2 | C53: 5.4 | D53: 2.7 | E53: 1.9 | F53: 2.3 | I53: 731.5 | J53: 糙米飯 | M53: 咖哩凍腐 | P53: 蛋香刈薯 | S53: 回鍋豆干 | V53: 時蔬 | Y53: 金針湯 | AB53: =B53 -> k2 | AC53: =J54&" "&J55&" "&J56&" "&J57&" "&J58 -> 米 糙米 | AD53: =M54&" "&M55&" "&M56&" "&M57&" "&M58 -> 凍豆腐 馬鈴薯 芹菜 胡蘿蔔 咖哩粉 | AE53: =P54&" "&P55&" "&P56&" "&P57&" "&P58 -> 雞蛋 刈薯 薑 | AF53: =S54&" "&S55&" "&S56&" "&S57&" "&S58 -> 豆干 甘藍 乾木耳 薑 | AG53: =V54&" "&V55&" "&V56&" "&V57&" "&V58 -> 蔬菜 薑 | AH53: =Y54&" "&Y55&" "&Y56&" "&Y57&" "&Y58 -> 金針菜乾 榨菜 薑 素羊肉
J54: 米 | K54: 7 | L54: 公斤 | M54: 凍豆腐 | N54: 8 | O54: 公斤 | P54: 雞蛋 | Q54: 5.5 | R54: 公斤 | S54: 豆干 | T54: 2.7 | U54: 公斤 | V54: 蔬菜 | W54: 7 | X54: 公斤 | Y54: 金針菜乾 | Z54: 0.1 | AA54: 公斤
J55: 糙米 | K55: 3 | L55: 公斤 | M55: 馬鈴薯 | N55: 3.5 | O55: 公斤 | P55: 刈薯 | Q55: 4 | R55: 公斤 | S55: 甘藍 | T55: 4 | U55: 公斤 | V55: 薑 | W55: 0.05 | X55: 公斤 | Y55: 榨菜 | Z55: 1 | AA55: 公斤
M56: 芹菜 | N56: 1 | O56: 公斤 | P56: 薑 | Q56: 0.05 | R56: 公斤 | S56: 乾木耳 | T56: 0.01 | U56: 公斤 | Y56: 薑 | Z56: 0.05 | AA56: 公斤
M57: 胡蘿蔔 | N57: 1 | O57: 公斤 | S57: 薑 | T57: 0.05 | U57: 公斤 | Y57: 素羊肉 | Z57: 1 | AA57: 公斤
M58: 咖哩粉
A59: 4/19 星期三 | B59: k3 | C59: 5.5 | D59: 2.5 | E59: 2.2 | F59: 2.4 | I59: 735.5 | J59: 泰式特餐 | M59: 打拋豆干 | P59: 泰式百頁 | S59: 清炒高麗菜 | V59: 時蔬 | Y59: 冬蔭功湯 | AB59: =B59 -> k3 | AC59: =J60&" "&J61&" "&J62&" "&J63&" "&J64 -> 米 糙米 | AD59: =M60&" "&M61&" "&M62&" "&M63&" "&M64 -> 豆干 芹菜 打拋醬 素魚露 薑 | AE59: =P60&" "&P61&" "&P62&" "&P63&" "&P64 -> 百頁豆腐 泰式酸辣醬 | AF59: =S60&" "&S61&" "&S62&" "&S63&" "&S64 -> 甘藍 薑 乾香菇 | AG59: =V60&" "&V61&" "&V62&" "&V63&" "&V64 -> 蔬菜 薑 | AH59: =Y60&" "&Y61&" "&Y62&" "&Y63&" "&Y64 -> 秀珍菇 大番茄 素羊肉 檸檬 香茅
J60: 米 | K60: 8 | L60: 公斤 | M60: 豆干 | N60: 6 | O60: 公斤 | P60: 百頁豆腐 | Q60: 7 | R60: 公斤 | S60: 甘藍 | T60: 7 | U60: 公斤 | V60: 蔬菜 | W60: 7 | X60: 公斤 | Y60: 秀珍菇 | Z60: 1 | AA60: 公斤
J61: 糙米 | K61: 3 | L61: 公斤 | M61: 芹菜 | N61: 3.5 | O61: 公斤 | P61: 泰式酸辣醬 | Q61: 0.5 | R61: 公斤 | S61: 薑 | T61: 0.05 | U61: 公斤 | V61: 薑 | W61: 0.05 | X61: 公斤 | Y61: 大番茄 | Z61: 2 | AA61: 公斤
M62: 打拋醬 | O62: 公斤 | S62: 乾香菇 | T62: 0.01 | U62: 公斤 | Y62: 素羊肉 | Z62: 1 | AA62: 公斤
M63: 素魚露 | O63: 公斤 | Y63: 檸檬
M64: 薑 | N64: 0.05 | O64: 公斤 | Y64: 香茅
A65: 4/20 星期四 | B65: k4 | C65: 5.8 | D65: 2.5 | E65: 1.9 | F65: 2.2 | I65: 740 | J65: 糙米飯 | M65: 豆瓣麵腸 | P65: 若絲豆芽 | S65: 香滷油腐 | V65: 時蔬 | Y65: 綠豆湯 | AB65: =B65 -> k4 | AC65: =J66&" "&J67&" "&J68&" "&J69&" "&J70 -> 米 糙米 | AD65: =M66&" "&M67&" "&M68&" "&M69&" "&M70 -> 麵腸 豆薯 胡蘿蔔 薑 | AE65: =P66&" "&P67&" "&P68&" "&P69&" "&P70 -> 素肉 綠豆芽 乾木耳 薑 | AF65: =S66&" "&S67&" "&S68&" "&S69&" "&S70 -> 四角油豆腐 麻竹筍干 滷包 薑 | AG65: =V66&" "&V67&" "&V68&" "&V69&" "&V70 -> 蔬菜 薑 | AH65: =Y66&" "&Y67&" "&Y68&" "&Y69&" "&Y70 -> 綠豆 二砂糖
J66: 米 | K66: 7 | L66: 公斤 | M66: 麵腸 | N66: 5.3 | O66: 公斤 | P66: 素肉 | Q66: 0.6 | R66: 公斤 | S66: 四角油豆腐 | T66: 3 | U66: 公斤 | V66: 蔬菜 | W66: 7 | X66: 公斤 | Y66: 綠豆 | Z66: 2 | AA66: 公斤
J67: 糙米 | K67: 3 | L67: 公斤 | M67: 豆薯 | N67: 3 | O67: 公斤 | P67: 綠豆芽 | Q67: 5 | R67: 公斤 | S67: 麻竹筍干 | T67: 3 | U67: 公斤 | V67: 薑 | W67: 0.05 | X67: 公斤 | Y67: 二砂糖 | Z67: 1 | AA67: 公斤
M68: 胡蘿蔔 | N68: 1 | O68: 公斤 | P68: 乾木耳 | Q68: 0.01 | R68: 公斤 | S68: 滷包
M69: 薑 | N69: 0.05 | O69: 公斤 | P69: 薑 | Q69: 0.05 | R69: 公斤 | S69: 薑 | T69: 0.05 | U69: 公斤
A71: 4/21 星期五 | B71: k5 | C71: 5 | D71: 2.5 | E71: 2.4 | F71: 2.5 | I71: 710 | J71: 紅藜飯 | M71: 壽喜豆包 | P71: 紅蔘炒蛋 | S71: 菇拌海帶 | V71: 時蔬 | Y71: 時瓜湯 | AB71: =B71 -> k5 | AC71: =J72&" "&J73&" "&J74&" "&J75&" "&J76 -> 米 紅藜 | AD71: =M72&" "&M73&" "&M74&" "&M75&" "&M76 -> 豆包 結球白菜 胡蘿蔔 薑 | AE71: =P72&" "&P73&" "&P74&" "&P75&" "&P76 -> 雞蛋 胡蘿蔔 薑 | AF71: =S72&" "&S73&" "&S74&" "&S75&" "&S76 -> 乾裙帶菜 金針菇 薑 | AG71: =V72&" "&V73&" "&V74&" "&V75&" "&V76 -> 蔬菜 薑 | AH71: =Y72&" "&Y73&" "&Y74&" "&Y75&" "&Y76 -> 時瓜 薑 素羊肉
J72: 米 | K72: 10 | L72: 公斤 | M72: 豆包 | N72: 6 | O72: 公斤 | P72: 雞蛋 | Q72: 2.7 | R72: 公斤 | S72: 乾裙帶菜 | T72: 1 | U72: 公斤 | V72: 蔬菜 | W72: 7 | X72: 公斤 | Y72: 時瓜 | Z72: 5 | AA72: 公斤
J73: 紅藜 | K73: 0.05 | L73: 公斤 | M73: 結球白菜 | N73: 4 | O73: 公斤 | P73: 胡蘿蔔 | Q73: 4 | R73: 公斤 | S73: 金針菇 | T73: 1 | U73: 公斤 | V73: 薑 | W73: 0.05 | X73: 公斤 | Y73: 薑 | Z73: 0.05 | AA73: 公斤
M74: 胡蘿蔔 | N74: 0.5 | O74: 公斤 | S74: 薑 | T74: 0.05 | U74: 公斤 | Y74: 素羊肉 | Z74: 1 | AA74: 公斤
M75: 薑 | N75: 0.05 | O75: 公斤 | P75: 薑 | Q75: 0.05 | R75: 公斤
A77: 4/24 星期一 | B77: l1 | C77: 5.6 | D77: 2.8 | E77: 2 | F77: 3 | I77: 787 | J77: 白米飯 | M77: 花生干丁 | P77: 豆包甘藍 | S77: 蔬香冬粉 | V77: 時蔬 | Y77: 豆漿 | AB77: =B77 -> l1 | AC77: =J78&" "&J79&" "&J80&" "&J81&" "&J82 -> 米 | AD77: =M78&" "&M79&" "&M80&" "&M81&" "&M82 -> 豆干 油花生 麵筋 薑 胡蘿蔔 | AE77: =P78&" "&P79&" "&P80&" "&P81&" "&P82 -> 豆包 甘藍 乾香菇 薑 | AF77: =S78&" "&S79&" "&S80&" "&S81&" "&S82 -> 雞蛋 冬粉 蔬菜 乾木耳 薑 | AG77: =V78&" "&V79&" "&V80&" "&V81&" "&V82 -> 蔬菜 薑 | AH77: =Y78&" "&Y79&" "&Y80&" "&Y81&" "&Y82 -> 豆漿
J78: 米 | K78: 10 | L78: 公斤 | M78: 豆干 | N78: 6 | O78: 公斤 | P78: 豆包 | Q78: 1.5 | R78: 公斤 | S78: 雞蛋 | T78: 2.7 | U78: 公斤 | V78: 蔬菜 | W78: 7 | X78: 公斤 | Y78: 豆漿 | Z78: 1.9 | AA78: 公斤
M79: 油花生 | N79: 0.1 | O79: 公斤 | P79: 甘藍 | Q79: 7 | R79: 公斤 | S79: 冬粉 | T79: 1 | U79: 公斤 | V79: 薑 | W79: 0.05 | X79: 公斤 | AA79: 公斤
M80: 麵筋 | N80: 0.5 | O80: 公斤 | P80: 乾香菇 | Q80: 0.01 | R80: 公斤 | S80: 蔬菜 | T80: 3 | U80: 公斤 | AA80: 公斤
M81: 薑 | N81: 0.05 | O81: 公斤 | P81: 薑 | Q81: 0.05 | R81: 公斤 | S81: 乾木耳 | T81: 0.01 | U81: 公斤
M82: 胡蘿蔔 | N82: 1 | O82: 公斤 | S82: 薑 | T82: 0.05 | U82: 公斤
A83: 4/25 星期二 | B83: l2 | C83: 5 | D83: 2.8 | E83: 1.6 | F83: 3 | I83: 735 | J83: 糙米飯 | M83: 美味素排 | P83: 蛋香季豆 | S83: 麻婆豆腐 | V83: 時蔬 | Y83: 時蔬湯 | AB83: =B83 -> l2 | AC83: =J84&" "&J85&" "&J86&" "&J87&" "&J88 -> 米 糙米 | AD83: =M84&" "&M85&" "&M86&" "&M87&" "&M88 -> 素排 | AE83: =P84&" "&P85&" "&P86&" "&P87&" "&P88 -> 雞蛋 冷凍菜豆(莢) 胡蘿蔔 薑 | AF83: =S84&" "&S85&" "&S86&" "&S87&" "&S88 -> 豆腐 素肉 薑 豆瓣醬 胡蘿蔔 | AG83: =V84&" "&V85&" "&V86&" "&V87&" "&V88 -> 蔬菜 薑 | AH83: =Y84&" "&Y85&" "&Y86&" "&Y87&" "&Y88 -> 時蔬 薑 素羊肉
J84: 米 | K84: 7 | L84: 公斤 | M84: 素排 | N84: 6 | O84: 公斤 | P84: 雞蛋 | Q84: 2.7 | R84: 公斤 | S84: 豆腐 | T84: 4 | U84: 公斤 | V84: 蔬菜 | W84: 7 | X84: 公斤 | Y84: 時蔬 | Z84: 3 | AA84: 公斤
J85: 糙米 | K85: 3 | L85: 公斤 | P85: 冷凍菜豆(莢) | Q85: 4 | R85: 公斤 | S85: 素肉 | T85: 0.3 | U85: 公斤 | V85: 薑 | W85: 0.05 | X85: 公斤 | Y85: 薑 | Z85: 0.05 | AA85: 公斤
P86: 胡蘿蔔 | Q86: 0.5 | R86: 公斤 | S86: 薑 | T86: 0.05 | U86: 公斤 | Y86: 素羊肉 | Z86: 1 | AA86: 公斤
P87: 薑 | Q87: 0.05 | R87: 公斤 | S87: 豆瓣醬 | T87: 0.1 | U87: 公斤
S88: 胡蘿蔔 | T88: 0.5 | U88: 公斤
A89: 4/26 星期三 | B89: l3 | C89: 5.3 | D89: 2.5 | E89: 1.6 | F89: 3 | I89: 733.5 | J89: 西式特餐 | M89: 茄汁若醬 | P89: 豆皮花椰 | S89: 熱狗 | V89: 時蔬 | Y89: 南瓜濃湯 | AB89: =B89 -> l3 | AC89: =J90&" "&J91&" "&J92&" "&J93&" "&J94 -> 麵條 | AD89: =M90&" "&M91&" "&M92&" "&M93&" "&M94 -> 素肉 馬鈴薯 芹菜 蕃茄醬 | AE89: =P90&" "&P91&" "&P92&" "&P93&" "&P94 -> 冷凍花椰菜 胡蘿蔔 薑 豆皮 | AF89: =S90&" "&S91&" "&S92&" "&S93&" "&S94 -> 素熱狗 | AG89: =V90&" "&V91&" "&V92&" "&V93&" "&V94 -> 蔬菜 薑 | AH89: =Y90&" "&Y91&" "&Y92&" "&Y93&" "&Y94 -> 雞蛋 南瓜 毛豆
J90: 麵條 | K90: 15 | L90: 公斤 | M90: 素肉 | N90: 1.8 | O90: 公斤 | P90: 冷凍花椰菜 | Q90: 6 | R90: 公斤 | S90: 素熱狗 | T90: 2 | U90: 公斤 | V90: 蔬菜 | W90: 7 | X90: 公斤 | Y90: 雞蛋 | Z90: 0.3 | AA90: 公斤
M91: 馬鈴薯 | N91: 2 | O91: 公斤 | P91: 胡蘿蔔 | Q91: 1 | R91: 公斤 | V91: 薑 | W91: 0.05 | X91: 公斤 | Y91: 南瓜 | Z91: 2 | AA91: 公斤
M92: 芹菜 | N92: 1.5 | O92: 公斤 | P92: 薑 | Q92: 0.05 | R92: 公斤 | Y92: 毛豆 | Z92: 0.5 | AA92: 公斤
M93: 蕃茄醬 | P93: 豆皮 | Q93: 1.2 | R93: 公斤
A95: 4/27 星期四 | B95: l4 | C95: 6 | D95: 2.5 | E95: 2.1 | F95: 3 | I95: 795 | J95: 糙米飯 | M95: 回鍋豆包 | P95: 香滷凍腐 | S95: 清炒時蔬 | V95: 時蔬 | Y95: 粉圓甜湯 | AB95: =B95 -> l4 | AC95: =J96&" "&J97&" "&J98&" "&J99&" "&J100 -> 米 糙米 | AD95: =M96&" "&M97&" "&M98&" "&M99&" "&M100 -> 豆包 胡蘿蔔 芹菜 薑 | AE95: =P96&" "&P97&" "&P98&" "&P99&" "&P100 -> 凍豆腐 白蘿蔔 胡蘿蔔 薑 | AF95: =S96&" "&S97&" "&S98&" "&S99&" "&S100 -> 時蔬 枸杞 薑 | AG95: =V96&" "&V97&" "&V98&" "&V99&" "&V100 -> 蔬菜 薑 | AH95: =Y96&" "&Y97&" "&Y98&" "&Y99&" "&Y100 -> 粉圓 二砂糖
J96: 米 | K96: 7 | L96: 公斤 | M96: 豆包 | N96: 6 | O96: 公斤 | P96: 凍豆腐 | Q96: 4 | R96: 公斤 | S96: 時蔬 | T96: 5 | U96: 公斤 | V96: 蔬菜 | W96: 7 | X96: 公斤 | Y96: 粉圓 | Z96: 2 | AA96: 公斤
J97: 糙米 | K97: 3 | L97: 公斤 | M97: 胡蘿蔔 | N97: 1 | O97: 公斤 | P97: 白蘿蔔 | Q97: 3 | R97: 公斤 | S97: 枸杞 | T97: 0.05 | U97: 公斤 | V97: 薑 | W97: 0.05 | X97: 公斤 | Y97: 二砂糖 | Z97: 1 | AA97: 公斤
M98: 芹菜 | N98: 4 | O98: 公斤 | P98: 胡蘿蔔 | Q98: 0.5 | R98: 公斤 | S98: 薑 | T98: 0.05 | U98: 公斤
M99: 薑 | N99: 0.05 | O99: 公斤 | P99: 薑 | Q99: 0.05 | R99: 公斤
A101: 4/28 星期五 | B101: l5 | C101: 5.2 | D101: 2.5 | E101: 2 | F101: 3 | I101: 736.5 | J101: 小米飯 | M101: 照燒油腐 | P101: 雪菜豆干 | S101: 絞肉甘藍 | V101: 時蔬 | Y101: 海芽湯 | AB101: =B101 -> l5 | AC101: =J102&" "&J103&" "&J104&" "&J105&" "&J106 -> 米 小米 | AD101: =M102&" "&M103&" "&M104&" "&M105&" "&M106 -> 四角油豆腐 芹菜 胡蘿蔔 醬油 二砂糖 | AE101: =P102&" "&P103&" "&P104&" "&P105&" "&P106 -> 豆干 雪裡蕻 薑 | AF101: =S102&" "&S103&" "&S104&" "&S105&" "&S106 -> 素肉 甘藍 胡蘿蔔 薑 | AG101: =V102&" "&V103&" "&V104&" "&V105&" "&V106 -> 蔬菜 薑 | AH101: =Y102&" "&Y103&" "&Y104&" "&Y105&" "&Y106 -> 乾裙帶菜 薑
J102: 米 | K102: 10 | L102: 公斤 | M102: 四角油豆腐 | N102: 8.2 | O102: 公斤 | P102: 豆干 | Q102: 2 | R102: 公斤 | S102: 素肉 | T102: 0.6 | U102: 公斤 | V102: 蔬菜 | W102: 7 | X102: 公斤 | Y102: 乾裙帶菜 | Z102: 0.1 | AA102: 公斤
J103: 小米 | K103: 0.4 | L103: 公斤 | M103: 芹菜 | N103: 1 | O103: 公斤 | P103: 雪裡蕻 | Q103: 3 | R103: 公斤 | S103: 甘藍 | T103: 6 | U103: 公斤 | V103: 薑 | W103: 0.05 | X103: 公斤 | Y103: 薑 | Z103: 0.05 | AA103: 公斤
M104: 胡蘿蔔 | N104: 0.5 | O104: 公斤 | P104: 薑 | Q104: 0.05 | R104: 公斤 | S104: 胡蘿蔔 | T104: 0.5 | U104: 公斤
...

Sheet f-j素食國中月總表
B1: 111 | C1: 學年度 | D1: 國民中學 | E1: 素食 | F1: 菜單 | G1: 循環
A2: 日期 | B2: 循環 | C2: 主食 | D2: 主食明細 | E2: 主菜 | F2: 主菜明細 | G2: 副菜一 | H2: 副菜一明細 | I2: 副菜二 | J2: 副菜二明細 | K2: 蔬菜 | L2: 蔬菜明細 | M2: 湯品 | N2: 湯品明細 | O2: 點心 | P2: 穀/份 | Q2: 豆/份 | R2: 蔬/份 | S2: 油/份 | T2: 乳/份 | U2: 果/份 | V2: 熱量
A3: 4月6日 | B3: ='f-j素食國中'!B5 -> i4 | C3: ='f-j素食國中'!J5 -> 糙米飯 | D3: ='f-j素食國中'!AC5 -> 米 糙米 | E3: ='f-j素食國中'!M5 -> 咖哩豆干 | F3: ='f-j素食國中'!AD5 -> 豆干 馬鈴薯 胡蘿蔔 芹菜 咖哩粉 | G3: ='f-j素食國中'!P5 -> 火腿玉菜 | H3: ='f-j素食國中'!AE5 -> 甘藍 火腿 薑 | I3: ='f-j素食國中'!S5 -> 若絲季豆 | J3: ='f-j素食國中'!AF5 -> 素肉 冷凍菜豆(莢) 薑 | K3: ='f-j素食國中'!V5 -> 時蔬 | L3: ='f-j素食國中'!AG5 -> 蔬菜 薑 | M3: ='f-j素食國中'!Y5 -> 花豆甜湯 | N3: ='f-j素食國中'!AH5 -> 花豆 二砂糖 | O3: 0 | P3: ='f-j素食國中'!C5 -> 5.3 | Q3: ='f-j素食國中'!D5 -> 2.6 | R3: ='f-j素食國中'!E5 -> 2.5 | S3: ='f-j素食國中'!F5 -> 3.1 | T3: ='f-j素食國中'!G5 -> 0 | U3: ='f-j素食國中'!H5 -> 0 | V3: ='f-j素食國中'!I5 -> 738
A4: 4月7日 | B4: ='f-j素食國中'!B11 -> i5 | C4: ='f-j素食國中'!J11 -> 燕麥飯 | D4: ='f-j素食國中'!AC11 -> 米 燕麥 | E4: ='f-j素食國中'!M11 -> 筍干麵輪 | F4: ='f-j素食國中'!AD11 -> 麵輪 麻竹筍干 薑 | G4: ='f-j素食國中'!P11 -> 蛋香豆薯 | H4: ='f-j素食國中'!AE11 -> 雞蛋 豆薯 薑 胡蘿蔔 | I4: ='f-j素食國中'!S11 -> 蔬菜佃煮 | J4: ='f-j素食國中'!AF11 -> 白蘿蔔 四角油豆腐 甜玉米 味醂 | K4: ='f-j素食國中'!V11 -> 時蔬 | L4: ='f-j素食國中'!AG11 -> 蔬菜 薑 | M4: ='f-j素食國中'!Y11 -> 味噌豆皮湯 | N4: ='f-j素食國中'!AH11 -> 豆皮 味噌 | O4: 0 | P4: ='f-j素食國中'!C11 -> 5.5 | Q4: ='f-j素食國中'!D11 -> 2.8 | R4: ='f-j素食國中'!E11 -> 1.8 | S4: ='f-j素食國中'!F11 -> 3 | T4: ='f-j素食國中'!G11 -> 0 | U4: ='f-j素食國中'!H11 -> 0 | V4: ='f-j素食國中'!I11 -> 763
A5: 4月10日 | B5: ='f-j素食國中'!B17 -> j1 | C5: ='f-j素食國中'!J17 -> 白米飯 | D5: ='f-j素食國中'!AC17 -> 米 | E5: ='f-j素食國中'!M17 -> 茄汁凍腐 | F5: ='f-j素食國中'!AD17 -> 凍豆腐 馬鈴薯 大番茄 薑 番茄醬 | G5: ='f-j素食國中'!P17 -> 塔香炒蛋 | H5: ='f-j素食國中'!AE17 -> 雞蛋 九層塔 薑 鮮香菇 | I5: ='f-j素食國中'!S17 -> 絞若豆芽 | J5: ='f-j素食國中'!AF17 -> 綠豆芽 素肉 胡蘿蔔 薑 | K5: ='f-j素食國中'!V17 -> 時蔬 | L5: ='f-j素食國中'!AG17 -> 蔬菜 薑 | M5: ='f-j素食國中'!Y17 -> 金針湯 | N5: ='f-j素食國中'!AH17 -> 金針菜乾 薑 榨菜 | O5: 0 | P5: ='f-j素食國中'!C17 -> 5.3 | Q5: ='f-j素食國中'!D17 -> 3.1 | R5: ='f-j素食國中'!E17 -> 1.9 | S5: ='f-j素食國中'!F17 -> 3.2 | T5: ='f-j素食國中'!G17 -> 0 | U5: ='f-j素食國中'!H17 -> 0 | V5: ='f-j素食國中'!I17 -> 750
A6: 4月11日 | B6: ='f-j素食國中'!B23 -> j2 | C6: ='f-j素食國中'!J23 -> 糙米飯 | D6: ='f-j素食國中'!AC23 -> 米 糙米 | E6: ='f-j素食國中'!M23 -> 醬瓜豆干 | F6: ='f-j素食國中'!AD23 -> 豆干 醃漬花胡瓜 薑 | G6: ='f-j素食國中'!P23 -> 毛豆白菜 | H6: ='f-j素食國中'!AE23 -> 結球白菜 冷凍毛豆仁 胡蘿蔔 薑 | I6: ='f-j素食國中'!S23 -> 清炒花椰 | J6: ='f-j素食國中'!AF23 -> 冷凍花椰菜 胡蘿蔔 薑 素肉 | K6: ='f-j素食國中'!V23 -> 時蔬 | L6: ='f-j素食國中'!AG23 -> 蔬菜 薑 | M6: ='f-j素食國中'!Y23 -> 海芽蛋花湯 | N6: ='f-j素食國中'!AH23 -> 乾海帶 雞蛋 薑 | O6: 0 | P6: ='f-j素食國中'!C23 -> 5 | Q6: ='f-j素食國中'!D23 -> 2.7 | R6: ='f-j素食國中'!E23 -> 2.3 | S6: ='f-j素食國中'!F23 -> 3 | T6: ='f-j素食國中'!G23 -> 0 | U6: ='f-j素食國中'!H23 -> 0 | V6: ='f-j素食國中'!I23 -> 715
A7: 4月12日 | B7: ='f-j素食國中'!B29 -> j3 | C7: ='f-j素食國中'!J29 -> 刈包特餐 | D7: ='f-j素食國中'!AC29 -> 刈包 | E7: ='f-j素食國中'!M29 -> 美味素排 | F7: ='f-j素食國中'!AD29 -> 素排 | G7: ='f-j素食國中'!P29 -> 酸菜麵腸 | H7: ='f-j素食國中'!AE29 -> 酸菜 麵腸 薑 | I7: ='f-j素食國中'!S29 -> 清炒玉菜 | J7: ='f-j素食國中'!AF29 -> 甘藍 胡蘿蔔 薑 | K7: ='f-j素食國中'!V29 -> 時蔬 | L7: ='f-j素食國中'!AG29 -> 蔬菜 薑 | M7: ='f-j素食國中'!Y29 -> 糙米粥 | N7: ='f-j素食國中'!AH29 -> 雞蛋 糙米 胡蘿蔔 乾香菇 時瓜 | O7: 0 | P7: ='f-j素食國中'!C29 -> 4 | Q7: ='f-j素食國中'!D29 -> 3 | R7: ='f-j素食國中'!E29 -> 2 | S7: ='f-j素食國中'!F29 -> 3 | T7: ='f-j素食國中'!G29 -> 0 | U7: ='f-j素食國中'!H29 -> 0 | V7: ='f-j素食國中'!I29 -> 653
A8: 4月13日 | B8: ='f-j素食國中'!B35 -> j4 | C8: ='f-j素食國中'!J35 -> 糙米飯 | D8: ='f-j素食國中'!AC35 -> 米 糙米 | E8: ='f-j素食國中'!M35 -> 豆瓣百頁 | F8: ='f-j素食國中'!AD35 -> 百頁豆腐 白蘿蔔 胡蘿蔔 薑 豆瓣醬 | G8: ='f-j素食國中'!P35 -> 筍干油腐 | H8: ='f-j素食國中'!AE35 -> 麻竹筍干 四角油豆腐 薑 | I8: ='f-j素食國中'!S35 -> 塔香海茸 | J8: ='f-j素食國中'!AF35 -> 素肉 海帶茸 九層塔 薑 | K8: ='f-j素食國中'!V35 -> 時蔬 | L8: ='f-j素食國中'!AG35 -> 蔬菜 薑 | M8: ='f-j素食國中'!Y35 -> 仙草甜湯 | N8: ='f-j素食國中'!AH35 -> 仙草凍 二砂糖 | O8: 0 | P8: ='f-j素食國中'!C35 -> 6.4 | Q8: ='f-j素食國中'!D35 -> 3 | R8: ='f-j素食國中'!E35 -> 1.6 | S8: ='f-j素食國中'!F35 -> 3 | T8: ='f-j素食國中'!G35 -> 0 | U8: ='f-j素食國中'!H35 -> 0 | V8: ='f-j素食國中'!I35 -> 790
A9: 4月14日 | B9: ='f-j素食國中'!B41 -> j5 | C9: ='f-j素食國中'!J41 -> 芝麻飯 | D9: ='f-j素食國中'!AC41 -> 米 芝麻(熟) | E9: ='f-j素食國中'!M41 -> 泡菜豆包 | F9: ='f-j素食國中'!AD41 -> 豆包 韓式泡菜 甘藍 薑 | G9: ='f-j素食國中'!P41 -> 花生豆干 | H9: ='f-j素食國中'!AE41 -> 豆干 油花生 薑 | I9: ='f-j素食國中'!S41 -> 若絲時蔬 | J9: ='f-j素食國中'!AF41 -> 時蔬 胡蘿蔔 薑 素肉 | K9: ='f-j素食國中'!V41 -> 時蔬 | L9: ='f-j素食國中'!AG41 -> 蔬菜 薑 | M9: ='f-j素食國中'!Y41 -> 冬瓜湯 | N9: ='f-j素食國中'!AH41 -> 冬瓜 薑 | O9: 0 | P9: ='f-j素食國中'!C41 -> 5 | Q9: ='f-j素食國中'!D41 -> 3.4 | R9: ='f-j素食國中'!E41 -> 2.2 | S9: ='f-j素食國中'!F41 -> 3.2 | T9: ='f-j素食國中'!G41 -> 0 | U9: ='f-j素食國中'!H41 -> 0 | V9: ='f-j素食國中'!I41 -> 782
A10: 4月17日 | B10: ='f-j素食國中'!B47 -> k1 | C10: ='f-j素食國中'!J47 -> 白米飯 | D10: ='f-j素食國中'!AC47 -> 米 | E10: ='f-j素食國中'!M47 -> 紅燒豆包 | F10: ='f-j素食國中'!AD47 -> 豆包 滷包 | G10: ='f-j素食國中'!P47 -> 鮮菇豆腐 | H10: ='f-j素食國中'!AE47 -> 豆腐 金針菇 乾香菇 薑 胡蘿蔔 | I10: ='f-j素食國中'!S47 -> 乾煸季豆 | J10: ='f-j素食國中'!AF47 -> 素肉 冷凍菜豆(莢) 薑 | K10: ='f-j素食國中'!V47 -> 時蔬 | L10: ='f-j素食國中'!AG47 -> 蔬菜 薑 | M10: ='f-j素食國中'!Y47 -> 味噌湯 | N10: ='f-j素食國中'!AH47 -> 乾裙帶菜 味噌 薑 | O10: 0 | P10: ='f-j素食國中'!C47 -> 5 | Q10: ='f-j素食國中'!D47 -> 2.8 | R10: ='f-j素食國中'!E47 -> 1.5 | S10: ='f-j素食國中'!F47 -> 2.2 | T10: ='f-j素食國中'!G47 -> 0 | U10: ='f-j素食國中'!H47 -> 0 | V10: ='f-j素食國中'!I47 -> 696.5
A11: 4月18日 | B11: ='f-j素食國中'!B53 -> k2 | C11: ='f-j素食國中'!J53 -> 糙米飯 | D11: ='f-j素食國中'!AC53 -> 米 糙米 | E11: ='f-j素食國中'!M53 -> 咖哩凍腐 | F11: ='f-j素食國中'!AD53 -> 凍豆腐 馬鈴薯 芹菜 胡蘿蔔 咖哩粉 | G11: ='f-j素食國中'!P53 -> 蛋香刈薯 | H11: ='f-j素食國中'!AE53 -> 雞蛋 刈薯 薑 | I11: ='f-j素食國中'!S53 -> 回鍋豆干 | J11: ='f-j素食國中'!AF53 -> 豆干 甘藍 乾木耳 薑 | K11: ='f-j素食國中'!V53 -> 時蔬 | L11: ='f-j素食國中'!AG53 -> 蔬菜 薑 | M11: ='f-j素食國中'!Y53 -> 金針湯 | N11: ='f-j素食國中'!AH53 -> 金針菜乾 榨菜 薑 素羊肉 | O11: 0 | P11: ='f-j素食國中'!C53 -> 5.4 | Q11: ='f-j素食國中'!D53 -> 2.7 | R11: ='f-j素食國中'!E53 -> 1.9 | S11: ='f-j素食國中'!F53 -> 2.3 | T11: ='f-j素食國中'!G53 -> 0 | U11: ='f-j素食國中'!H53 -> 0 | V11: ='f-j素食國中'!I53 -> 731.5
A12: 4月19日 | B12: ='f-j素食國中'!B59 -> k3 | C12: ='f-j素食國中'!J59 -> 泰式特餐 | D12: ='f-j素食國中'!AC59 -> 米 糙米 | E12: ='f-j素食國中'!M59 -> 打拋豆干 | F12: ='f-j素食國中'!AD59 -> 豆干 芹菜 打拋醬 素魚露 薑 | G12: ='f-j素食國中'!P59 -> 泰式百頁 | H12: ='f-j素食國中'!AE59 -> 百頁豆腐 泰式酸辣醬 | I12: ='f-j素食國中'!S59 -> 清炒高麗菜 | J12: ='f-j素食國中'!AF59 -> 甘藍 薑 乾香菇 | K12: ='f-j素食國中'!V59 -> 時蔬 | L12: ='f-j素食國中'!AG59 -> 蔬菜 薑 | M12: ='f-j素食國中'!Y59 -> 冬蔭功湯 | N12: ='f-j素食國中'!AH59 -> 秀珍菇 大番茄 素羊肉 檸檬 香茅 | O12: 0 | P12: ='f-j素食國中'!C59 -> 5.5 | Q12: ='f-j素食國中'!D59 -> 2.5 | R12: ='f-j素食國中'!E59 -> 2.2 | S12: ='f-j素食國中'!F59 -> 2.4 | T12: ='f-j素食國中'!G59 -> 0 | U12: ='f-j素食國中'!H59 -> 0 | V12: ='f-j素食國中'!I59 -> 735.5
A13: 4月20日 | B13: ='f-j素食國中'!B65 -> k4 | C13: ='f-j素食國中'!J65 -> 糙米飯 | D13: ='f-j素食國中'!AC65 -> 米 糙米 | E13: ='f-j素食國中'!M65 -> 豆瓣麵腸 | F13: ='f-j素食國中'!AD65 -> 麵腸 豆薯 胡蘿蔔 薑 | G13: ='f-j素食國中'!P65 -> 若絲豆芽 | H13: ='f-j素食國中'!AE65 -> 素肉 綠豆芽 乾木耳 薑 | I13: ='f-j素食國中'!S65 -> 香滷油腐 | J13: ='f-j素食國中'!AF65 -> 四角油豆腐 麻竹筍干 滷包 薑 | K13: ='f-j素食國中'!V65 -> 時蔬 | L13: ='f-j素食國中'!AG65 -> 蔬菜 薑 | M13: ='f-j素食國中'!Y65 -> 綠豆湯 | N13: ='f-j素食國中'!AH65 -> 綠豆 二砂糖 | O13: 0 | P13: ='f-j素食國中'!C65 -> 5.8 | Q13: ='f-j素食國中'!D65 -> 2.5 | R13: ='f-j素食國中'!E65 -> 1.9 | S13: ='f-j素食國中'!F65 -> 2.2 | T13: ='f-j素食國中'!G65 -> 0 | U13: ='f-j素食國中'!H65 -> 0 | V13: ='f-j素食國中'!I65 -> 740
A14: 4月21日 | B14: ='f-j素食國中'!B71 -> k5 | C14: ='f-j素食國中'!J71 -> 紅藜飯 | D14: ='f-j素食國中'!AC71 -> 米 紅藜 | E14: ='f-j素食國中'!M71 -> 壽喜豆包 | F14: ='f-j素食國中'!AD71 -> 豆包 結球白菜 胡蘿蔔 薑 | G14: ='f-j素食國中'!P71 -> 紅蔘炒蛋 | H14: ='f-j素食國中'!AE71 -> 雞蛋 胡蘿蔔 薑 | I14: ='f-j素食國中'!S71 -> 菇拌海帶 | J14: ='f-j素食國中'!AF71 -> 乾裙帶菜 金針菇 薑 | K14: ='f-j素食國中'!V71 -> 時蔬 | L14: ='f-j素食國中'!AG71 -> 蔬菜 薑 | M14: ='f-j素食國中'!Y71 -> 時瓜湯 | N14: ='f-j素食國中'!AH71 -> 時瓜 薑 素羊肉 | O14: 0 | P14: ='f-j素食國中'!C71 -> 5 | Q14: ='f-j素食國中'!D71 -> 2.5 | R14: ='f-j素食國中'!E71 -> 2.4 | S14: ='f-j素食國中'!F71 -> 2.5 | T14: ='f-j素食國中'!G71 -> 0 | U14: ='f-j素食國中'!H71 -> 0 | V14: ='f-j素食國中'!I71 -> 710
A15: 4月24日 | B15: ='f-j素食國中'!B77 -> l1 | C15: ='f-j素食國中'!J77 -> 白米飯 | D15: ='f-j素食國中'!AC77 -> 米 | E15: ='f-j素食國中'!M77 -> 花生干丁 | F15: ='f-j素食國中'!AD77 -> 豆干 油花生 麵筋 薑 胡蘿蔔 | G15: ='f-j素食國中'!P77 -> 豆包甘藍 | H15: ='f-j素食國中'!AE77 -> 豆包 甘藍 乾香菇 薑 | I15: ='f-j素食國中'!S77 -> 蔬香冬粉 | J15: ='f-j素食國中'!AF77 -> 雞蛋 冬粉 蔬菜 乾木耳 薑 | K15: ='f-j素食國中'!V77 -> 時蔬 | L15: ='f-j素食國中'!AG77 -> 蔬菜 薑 | M15: ='f-j素食國中'!Y77 -> 豆漿 | N15: ='f-j素食國中'!AH77 -> 豆漿 | O15: 0 | P15: ='f-j素食國中'!C77 -> 5.6 | Q15: ='f-j素食國中'!D77 -> 2.8 | R15: ='f-j素食國中'!E77 -> 2 | S15: ='f-j素食國中'!F77 -> 3 | T15: ='f-j素食國中'!G77 -> 0 | U15: ='f-j素食國中'!H77 -> 0 | V15: ='f-j素食國中'!I77 -> 787
A16: 4月25日 | B16: ='f-j素食國中'!B83 -> l2 | C16: ='f-j素食國中'!J83 -> 糙米飯 | D16: ='f-j素食國中'!AC83 -> 米 糙米 | E16: ='f-j素食國中'!M83 -> 美味素排 | F16: ='f-j素食國中'!AD83 -> 素排 | G16: ='f-j素食國中'!P83 -> 蛋香季豆 | H16: ='f-j素食國中'!AE83 -> 雞蛋 冷凍菜豆(莢) 胡蘿蔔 薑 | I16: ='f-j素食國中'!S83 -> 麻婆豆腐 | J16: ='f-j素食國中'!AF83 -> 豆腐 素肉 薑 豆瓣醬 胡蘿蔔 | K16: ='f-j素食國中'!V83 -> 時蔬 | L16: ='f-j素食國中'!AG83 -> 蔬菜 薑 | M16: ='f-j素食國中'!Y83 -> 時蔬湯 | N16: ='f-j素食國中'!AH83 -> 時蔬 薑 素羊肉 | O16: 0 | P16: ='f-j素食國中'!C83 -> 5 | Q16: ='f-j素食國中'!D83 -> 2.8 | R16: ='f-j素食國中'!E83 -> 1.6 | S16: ='f-j素食國中'!F83 -> 3 | T16: ='f-j素食國中'!G83 -> 0 | U16: ='f-j素食國中'!H83 -> 0 | V16: ='f-j素食國中'!I83 -> 735
A17: 4月26日 | B17: ='f-j素食國中'!B89 -> l3 | C17: ='f-j素食國中'!J89 -> 西式特餐 | D17: ='f-j素食國中'!AC89 -> 麵條 | E17: ='f-j素食國中'!M89 -> 茄汁若醬 | F17: ='f-j素食國中'!AD89 -> 素肉 馬鈴薯 芹菜 蕃茄醬 | G17: ='f-j素食國中'!P89 -> 豆皮花椰 | H17: ='f-j素食國中'!AE89 -> 冷凍花椰菜 胡蘿蔔 薑 豆皮 | I17: ='f-j素食國中'!S89 -> 熱狗 | J17: ='f-j素食國中'!AF89 -> 素熱狗 | K17: ='f-j素食國中'!V89 -> 時蔬 | L17: ='f-j素食國中'!AG89 -> 蔬菜 薑 | M17: ='f-j素食國中'!Y89 -> 南瓜濃湯 | N17: ='f-j素食國中'!AH89 -> 雞蛋 南瓜 毛豆 | O17: 0 | P17: ='f-j素食國中'!C89 -> 5.3 | Q17: ='f-j素食國中'!D89 -> 2.5 | R17: ='f-j素食國中'!E89 -> 1.6 | S17: ='f-j素食國中'!F89 -> 3 | T17: ='f-j素食國中'!G89 -> 0 | U17: ='f-j素食國中'!H89 -> 0 | V17: ='f-j素食國中'!I89 -> 733.5
A18: 4月27日 | B18: ='f-j素食國中'!B95 -> l4 | C18: ='f-j素食國中'!J95 -> 糙米飯 | D18: ='f-j素食國中'!AC95 -> 米 糙米 | E18: ='f-j素食國中'!M95 -> 回鍋豆包 | F18: ='f-j素食國中'!AD95 -> 豆包 胡蘿蔔 芹菜 薑 | G18: ='f-j素食國中'!P95 -> 香滷凍腐 | H18: ='f-j素食國中'!AE95 -> 凍豆腐 白蘿蔔 胡蘿蔔 薑 | I18: ='f-j素食國中'!S95 -> 清炒時蔬 | J18: ='f-j素食國中'!AF95 -> 時蔬 枸杞 薑 | K18: ='f-j素食國中'!V95 -> 時蔬 | L18: ='f-j素食國中'!AG95 -> 蔬菜 薑 | M18: ='f-j素食國中'!Y95 -> 粉圓甜湯 | N18: ='f-j素食國中'!AH95 -> 粉圓 二砂糖 | O18: 0 | P18: ='f-j素食國中'!C95 -> 6 | Q18: ='f-j素食國中'!D95 -> 2.5 | R18: ='f-j素食國中'!E95 -> 2.1 | S18: ='f-j素食國中'!F95 -> 3 | T18: ='f-j素食國中'!G95 -> 0 | U18: ='f-j素食國中'!H95 -> 0 | V18: ='f-j素食國中'!I95 -> 795
A19: 4月28日 | B19: ='f-j素食國中'!B101 -> l5 | C19: ='f-j素食國中'!J101 -> 小米飯 | D19: ='f-j素食國中'!AC101 -> 米 小米 | E19: ='f-j素食國中'!M101 -> 照燒油腐 | F19: ='f-j素食國中'!AD101 -> 四角油豆腐 芹菜 胡蘿蔔 醬油 二砂糖 | G19: ='f-j素食國中'!P101 -> 雪菜豆干 | H19: ='f-j素食國中'!AE101 -> 豆干 雪裡蕻 薑 | I19: ='f-j素食國中'!S101 -> 絞肉甘藍 | J19: ='f-j素食國中'!AF101 -> 素肉 甘藍 胡蘿蔔 薑 | K19: ='f-j素食國中'!V101 -> 時蔬 | L19: ='f-j素食國中'!AG101 -> 蔬菜 薑 | M19: ='f-j素食國中'!Y101 -> 海芽湯 | N19: ='f-j素食國中'!AH101 -> 乾裙帶菜 薑 | O19: 0 | P19: ='f-j素食國中'!C101 -> 5.2 | Q19: ='f-j素食國中'!D101 -> 2.5 | R19: ='f-j素食國中'!E101 -> 2 | S19: ='f-j素食國中'!F101 -> 3 | T19: ='f-j素食國中'!G101 -> 0 | U19: ='f-j素食國中'!H101 -> 0 | V19: ='f-j素食國中'!I101 -> 736.5
B21: 過敏警語:「本月產品含有蛋、芝麻、含麩之穀物、花生、大豆、魚類、亞硫酸鹽類及其相關製品，不適合其過敏體質者食用」

Sheet f-j素食國小
A1: 要修正正確數值 | J1: 僅需貼上食材明細和重量，"公斤"和下一個分頁循環就會自己跑出來
A2: 111學年度下學期國民小學112年4月份素食菜單 (A案)
A3: 食材明細（食材重量以100人份計量，營養分析以個人計量,其中肉雞包含23%骨頭之採購量，每周供應特餐一次，當日得混搭供應，國中4菜1湯，國小3菜1湯） | X3: 統整區的檔案，連動到上方循環，後續給教育處的檔案，此處請自行隱藏
A4: 日期 | B4: 循環 | C4: 穀/份 | D4: 豆/份 | E4: 蔬/份 | F4: 油/份 | G4: 乳/份 | H4: 果/份 | I4: 熱量 | J4: 主食 | K4: 重/kg | L4: 主菜 | M4: 重/kg | N4: 副菜一 | O4: 重/kg | P4: 蔬菜 | Q4: 重/kg | R4: 湯品 | S4: 重/kg | Y4: 主食 | Z4: 主菜 | AA4: 副菜一 | AB4: 蔬菜 | AC4: 湯品
A5: 4/6 星期四 | B5: i4 | C5: 5.3 | D5: 2.6 | E5: 2.5 | F5: 3.1 | G5: 0 | H5: 0 | I5: =C5*70+D5*75+E5*25+F5*45 -> 768 | J5: 糙米飯 | L5: 咖哩豆干 | N5: 火腿玉菜 | P5: 時蔬 | R5: 花豆甜湯 | X5: =B5 -> i4 | Y5: =J6&" "&J7&" "&J8&" "&J9&" "&J10 -> 米 糙米 | Z5: =L6&" "&L7&" "&L8&" "&L9&" "&L10 -> 豆干 馬鈴薯 胡蘿蔔 芹菜 咖哩粉 | AA5: =N6&" "&N7&" "&N8&" "&N9&" "&N10 -> 甘藍 火腿 薑 | AB5: =P6&" "&P7&" "&P8&" "&P9&" "&P10 -> 蔬菜 薑 | AC5: =R6&" "&R7&" "&R8&" "&R9&" "&R10 -> 花豆 二砂糖
J6: 米 | K6: 7 | L6: 豆干 | M6: 7 | N6: 甘藍 | O6: 5 | P6: 蔬菜 | Q6: 7 | R6: 花豆 | S6: 2
J7: 糙米 | K7: 3 | L7: 馬鈴薯 | M7: 2 | N7: 火腿 | O7: 1 | P7: 薑 | Q7: 0.05 | R7: 二砂糖 | S7: 1 | AA7: 6
L8: 胡蘿蔔 | M8: 0.5 | N8: 薑 | O8: 0.05
L9: 芹菜 | M9: 1
L10: 咖哩粉
A11: 4/7 星期五 | B11: i5 | C11: 5.5 | D11: 2.8 | E11: 1.8 | F11: 3 | G11: 0 | H11: 0 | I11: =C11*70+D11*75+E11*25+F11*45 -> 775 | J11: 燕麥飯 | L11: 筍干麵輪 | N11: 蛋香豆薯 | P11: 時蔬 | R11: 味噌豆皮湯 | X11: =B11 -> i5 | Y11: =J12&" "&J13&" "&J14&" "&J15&" "&J16 -> 米 燕麥 | Z11: =L12&" "&L13&" "&L14&" "&L15&" "&L16 -> 麵輪 麻竹筍干 薑 | AA11: =N12&" "&N13&" "&N14&" "&N15&" "&N16 -> 雞蛋 豆薯 薑 胡蘿蔔 | AB11: =P12&" "&P13&" "&P14&" "&P15&" "&P16 -> 蔬菜 薑 | AC11: =R12&" "&R13&" "&R14&" "&R15&" "&R16 -> 豆皮 味噌
J12: 米 | K12: 10 | L12: 麵輪 | M12: 3.5 | N12: 雞蛋 | O12: 5.5 | P12: 蔬菜 | Q12: 7 | R12: 豆皮 | S12: 0.3
J13: 燕麥 | K13: 0.4 | L13: 麻竹筍干 | M13: 2 | N13: 豆薯 | O13: 5 | P13: 薑 | Q13: 0.05 | R13: 味噌 | S13: 0.6 | AA13: 7
L14: 薑 | M14: 0.05 | N14: 薑 | O14: 0.05
N15: 胡蘿蔔 | O15: 0.5
A17: 4/10 星期一 | B17: j1 | C17: 5.1 | D17: 2 | E17: 1.8 | F17: 3 | G17: 0 | H17: 0 | I17: 687 | J17: 白米飯 | L17: 茄汁凍腐 | N17: 塔香炒蛋 | P17: 時蔬 | R17: 金針湯 | X17: =B17 -> j1 | Y17: =J18&" "&J19&" "&J20&" "&J21&" "&J22 -> 米 | Z17: =L18&" "&L19&" "&L20&" "&L21&" "&L22 -> 凍豆腐 馬鈴薯 大番茄 薑 番茄醬 | AA17: =N18&" "&N19&" "&N20&" "&N21&" "&N22 -> 雞蛋 九層塔 薑 鮮香菇 | AB17: =P18&" "&P19&" "&P20&" "&P21&" "&P22 -> 蔬菜 薑 | AC17: =R18&" "&R19&" "&R20&" "&R21&" "&R22 -> 金針菜乾 薑 榨菜
J18: 米 | K18: 10 | L18: 凍豆腐 | M18: 8 | N18: 雞蛋 | O18: 5.5 | P18: 蔬菜 | Q18: 7 | R18: 金針菜乾 | S18: 0.1
L19: 馬鈴薯 | M19: 1 | N19: 九層塔 | O19: 0.02 | P19: 薑 | Q19: 0.05 | R19: 薑 | S19: 0.05 | AA19: 10
L20: 大番茄 | M20: 1 | N20: 薑 | O20: 0.05 | R20: 榨菜 | S20: 1
L21: 薑 | M21: 0.05 | N21: 鮮香菇 | O21: 1
L22: 番茄醬 | X22: =B23 -> j2 | Y22: =J24&" "&J25&" "&J26&" "&J27&" "&J28 -> 米 糙米 | Z22: =L24&" "&L25&" "&L26&" "&L27&" "&L28 -> 豆干 醃漬花胡瓜 薑 | AA22: =N24&" "&N25&" "&N26&" "&N27&" "&N28 -> 結球白菜 冷凍毛豆仁 胡蘿蔔 薑 | AB22: =P24&" "&P25&" "&P26&" "&P27&" "&P28 -> 蔬菜 薑 | AC22: =R24&" "&R25&" "&R26&" "&R27&" "&R28 -> 乾海帶 雞蛋 薑
A23: 4/11 星期二 | B23: j2 | C23: 5 | D23: 1.3 | E23: 1.5 | F23: 3 | G23: 0 | H23: 0 | I23: =C23*70+D23*75+E23*25+F23*45 -> 620 | J23: 糙米飯 | L23: 醬瓜豆干 | N23: 毛豆白菜 | P23: 時蔬 | R23: 海芽蛋花湯
J24: 米 | K24: 7 | L24: 豆干 | M24: 6 | N24: 結球白菜 | O24: 4 | P24: 蔬菜 | Q24: 7 | R24: 乾海帶 | S24: 0.1
J25: 糙米 | K25: 3 | L25: 醃漬花胡瓜 | M25: 2 | N25: 冷凍毛豆仁 | O25: 1.5 | P25: 薑 | Q25: 0.05 | R25: 雞蛋 | S25: 1 | AA25: 11
L26: 薑 | M26: 0.05 | N26: 胡蘿蔔 | O26: 0.5 | R26: 薑 | S26: 0.05
N27: 薑 | O27: 0.05
X28: =B29 -> j3 | Y28: =J30&" "&J31&" "&J32&" "&J33&" "&J34 -> 刈包 | Z28: =L30&" "&L31&" "&L32&" "&L33&" "&L34 -> 素排 | AA28: =N30&" "&N31&" "&N32&" "&N33&" "&N34 -> 酸菜 麵腸 薑 | AB28: =P30&" "&P31&" "&P32&" "&P33&" "&P34 -> 蔬菜 薑 | AC28: =R30&" "&R31&" "&R32&" "&R33&" "&R34 -> 雞蛋 糙米 胡蘿蔔 乾香菇 時瓜
A29: 4/12 星期三 | B29: j3 | C29: 3.3 | D29: 3.4 | E29: 1.3 | F29: 3 | G29: 0 | H29: 0 | I29: =C29*70+D29*75+E29*25+F29*45 -> 653.5 | J29: 刈包特餐 | L29: 美味素排 | N29: 酸菜麵腸 | P29: 時蔬 | R29: 糙米粥
J30: 刈包 | K30: 4 | L30: 素排 | M30: 6 | N30: 酸菜 | O30: 3 | P30: 蔬菜 | Q30: 7 | R30: 雞蛋 | S30: 1
N31: 麵腸 | O31: 3 | P31: 薑 | Q31: 0.05 | R31: 糙米 | S31: 4 | AA31: 12
N32: 薑 | O32: 0.05 | R32: 胡蘿蔔 | S32: 0.5
R33: 乾香菇 | S33: 0.01
R34: 時瓜 | S34: 2 | X34: =B35 -> j4 | Y34: =J36&" "&J37&" "&J38&" "&J39&" "&J40 -> 米 糙米 | Z34: =L36&" "&L37&" "&L38&" "&L39&" "&L40 -> 百頁豆腐 白蘿蔔 胡蘿蔔 薑 豆瓣醬 | AA34: =N36&" "&N37&" "&N38&" "&N39&" "&N40 -> 麻竹筍干 四角油豆腐 薑 | AB34: =P36&" "&P37&" "&P38&" "&P39&" "&P40 -> 蔬菜 薑 | AC34: =R36&" "&R37&" "&R38&" "&R39&" "&R40 -> 仙草凍 二砂糖
A35: 4/13 星期四 | B35: j4 | C35: 5 | D35: 2 | E35: 1.2 | F35: 3 | G35: 0 | H35: 0 | I35: =C35*70+D35*75+E35*25+F35*45 -> 665 | J35: 糙米飯 | L35: 豆瓣百頁 | N35: 筍干油腐 | P35: 時蔬 | R35: 仙草甜湯
J36: 米 | K36: 7 | L36: 百頁豆腐 | M36: 7 | N36: 麻竹筍干 | O36: 2 | P36: 蔬菜 | Q36: 7 | R36: 仙草凍 | S36: 6
J37: 糙米 | K37: 3 | L37: 白蘿蔔 | M37: 2 | N37: 四角油豆腐 | O37: 5.5 | P37: 薑 | Q37: 0.05 | R37: 二砂糖 | S37: 1 | AA37: 13
L38: 胡蘿蔔 | M38: 0.5 | N38: 薑 | O38: 0.05
L39: 薑 | M39: 0.05
L40: 豆瓣醬 | X40: =B41 -> j5 | Y40: =J42&" "&J43&" "&J44&" "&J45&" "&J46 -> 米 芝麻(熟) | Z40: =L42&" "&L43&" "&L44&" "&L45&" "&L46 -> 豆包 韓式泡菜 甘藍 薑 | AA40: =N42&" "&N43&" "&N44&" "&N45&" "&N46 -> 豆干 油花生 薑 | AB40: =P42&" "&P43&" "&P44&" "&P45&" "&P46 -> 蔬菜 薑 | AC40: =R42&" "&R43&" "&R44&" "&R45&" "&R46 -> 冬瓜 薑
A41: 4/14 星期五 | B41: j5 | C41: 5 | D41: 2.1 | E41: 2.2 | F41: 3.2 | G41: 0 | H41: 0 | I41: =C41*70+D41*75+E41*25+F41*45 -> 706.5 | J41: 芝麻飯 | L41: 泡菜豆包 | N41: 花生豆干 | P41: 時蔬 | R41: 冬瓜湯
J42: 米 | K42: 10 | L42: 豆包 | M42: 4.5 | N42: 豆干 | O42: 4 | P42: 蔬菜 | Q42: 7 | R42: 冬瓜 | S42: 4
J43: 芝麻(熟) | K43: 0.05 | L43: 韓式泡菜 | M43: 1 | N43: 油花生 | O43: 0.1 | P43: 薑 | Q43: 0.05 | R43: 薑 | S43: 0.05 | AA43: 14
L44: 甘藍 | M44: 3 | N44: 薑 | O44: 0.05
L45: 薑 | M45: 0.05
X46: =B47 -> k1 | Y46: =J48&" "&J49&" "&J50&" "&J51&" "&J52 -> 米 | Z46: =L48&" "&L49&" "&L50&" "&L51&" "&L52 -> 豆包 滷包 | AA46: =N48&" "&N49&" "&N50&" "&N51&" "&N52 -> 豆腐 金針菇 乾香菇 薑 胡蘿蔔 | AB46: =P48&" "&P49&" "&P50&" "&P51&" "&P52 -> 蔬菜 薑 | AC46: =R48&" "&R49&" "&R50&" "&R51&" "&R52 -> 乾裙帶菜 味噌 薑
A47: 4/17 星期一 | B47: k1 | C47: 5 | D47: 2.5 | E47: 1 | F47: 1.8 | I47: 643.5 | J47: 白米飯 | L47: 紅燒豆包 | N47: 鮮菇豆腐 | P47: 時蔬 | R47: 味噌湯
J48: 米 | K48: 10 | L48: 豆包 | M48: 6 | N48: 豆腐 | O48: 4 | P48: 蔬菜 | Q48: 7 | R48: 乾裙帶菜 | S48: 0.2
L49: 滷包 | N49: 金針菇 | O49: 2 | P49: 薑 | Q49: 0.05 | R49: 味噌 | S49: 0.1
N50: 乾香菇 | O50: 0.01 | R50: 薑 | S50: 0.05 | X50: =B53 -> k2 | Y50: =J54&" "&J55&" "&J56&" "&J57&" "&J58 -> 米 糙米 | Z50: =L54&" "&L55&" "&L56&" "&L57&" "&L58 -> 凍豆腐 馬鈴薯 芹菜 胡蘿蔔 咖哩粉 | AA50: =N54&" "&N55&" "&N56&" "&N57&" "&N58 -> 雞蛋 刈薯 薑 | AB50: =P54&" "&P55&" "&P56&" "&P57&" "&P58 -> 蔬菜 薑 | AC50: =R54&" "&R55&" "&R56&" "&R57&" "&R58 -> 金針菜乾 榨菜 薑 素羊肉
N51: 薑 | O51: 0.05
N52: 胡蘿蔔 | O52: 0.5
A53: 4/18 星期二 | B53: k2 | C53: 5.4 | D53: 2 | E53: 1.5 | F53: 1.8 | I53: 646.5 | J53: 糙米飯 | L53: 咖哩凍腐 | N53: 蛋香刈薯 | P53: 時蔬 | R53: 金針湯
J54: 米 | K54: 7 | L54: 凍豆腐 | M54: 8 | N54: 雞蛋 | O54: 5.5 | P54: 蔬菜 | Q54: 7 | R54: 金針菜乾 | S54: 0.1
J55: 糙米 | K55: 3 | L55: 馬鈴薯 | M55: 3.5 | N55: 刈薯 | O55: 4 | P55: 薑 | Q55: 0.05 | R55: 榨菜 | S55: 1
L56: 芹菜 | M56: 1 | N56: 薑 | O56: 0.05 | R56: 薑 | S56: 0.05 | X56: =B59 -> k3 | Y56: =J60&" "&J61&" "&J62&" "&J63&" "&J64 -> 米 糙米 | Z56: =L60&" "&L61&" "&L62&" "&L63&" "&L64 -> 豆干 芹菜 打拋醬 素魚露 薑 | AA56: =N60&" "&N61&" "&N62&" "&N63&" "&N64 -> 百頁豆腐 泰式酸辣醬 | AB56: =P60&" "&P61&" "&P62&" "&P63&" "&P64 -> 蔬菜 薑 | AC56: =R60&" "&R61&" "&R62&" "&R63&" "&R64 -> 秀珍菇 大番茄 素羊肉 檸檬 香茅
L57: 胡蘿蔔 | M57: 1 | R57: 素羊肉 | S57: 1
L58: 咖哩粉
A59: 4/19 星期三 | B59: k3 | C59: 5.5 | D59: 2.5 | E59: 1.5 | F59: 2 | I59: 700 | J59: 泰式特餐 | L59: 打拋豆干 | N59: 泰式百頁 | P59: 時蔬 | R59: 冬蔭功湯
J60: 米 | K60: 8 | L60: 豆干 | M60: 6 | N60: 百頁豆腐 | O60: 7 | P60: 蔬菜 | Q60: 7 | R60: 秀珍菇 | S60: 1
J61: 糙米 | K61: 3 | L61: 芹菜 | M61: 3.5 | N61: 泰式酸辣醬 | O61: 0.5 | P61: 薑 | Q61: 0.05 | R61: 大番茄 | S61: 2
L62: 打拋醬 | R62: 素羊肉 | S62: 1 | X62: =B65 -> k4 | Y62: =J66&" "&J67&" "&J68&" "&J69&" "&J70 -> 米 糙米 | Z62: =L66&" "&L67&" "&L68&" "&L69&" "&L70 -> 麵腸 豆薯 胡蘿蔔 薑 | AA62: =N66&" "&N67&" "&N68&" "&N69&" "&N70 -> 素肉 綠豆芽 乾木耳 薑 | AB62: =P66&" "&P67&" "&P68&" "&P69&" "&P70 -> 蔬菜 薑 | AC62: =R66&" "&R67&" "&R68&" "&R69&" "&R70 -> 綠豆 二砂糖
L63: 素魚露 | R63: 檸檬
L64: 薑 | M64: 0.05 | R64: 香茅
A65: 4/20 星期四 | B65: k4 | C65: 5.8 | D65: 2 | E65: 1.6 | F65: 1.8 | I65: 677 | J65: 糙米飯 | L65: 豆瓣麵腸 | N65: 若絲豆芽 | P65: 時蔬 | R65: 綠豆湯
J66: 米 | K66: 7 | L66: 麵腸 | M66: 5.3 | N66: 素肉 | O66: 0.6 | P66: 蔬菜 | Q66: 7 | R66: 綠豆 | S66: 2
J67: 糙米 | K67: 3 | L67: 豆薯 | M67: 3 | N67: 綠豆芽 | O67: 5 | P67: 薑 | Q67: 0.05 | R67: 二砂糖 | S67: 1
L68: 胡蘿蔔 | M68: 1 | N68: 乾木耳 | O68: 0.01 | X68: =B71 -> k5 | Y68: =J72&" "&J73&" "&J74&" "&J75&" "&J76 -> 米 紅藜 | Z68: =L72&" "&L73&" "&L74&" "&L75&" "&L76 -> 豆包 結球白菜 胡蘿蔔 薑 | AA68: =N72&" "&N73&" "&N74&" "&N75&" "&N76 -> 雞蛋 胡蘿蔔 薑 | AB68: =P72&" "&P73&" "&P74&" "&P75&" "&P76 -> 蔬菜 薑 | AC68: =R72&" "&R73&" "&R74&" "&R75&" "&R76 -> 時瓜 薑 素羊肉
L69: 薑 | M69: 0.05 | N69: 薑 | O69: 0.05
A71: 4/21 星期五 | B71: k5 | C71: 5 | D71: 2.5 | E71: 2.2 | F71: 2.4 | I71: 700.5 | J71: 紅藜飯 | L71: 壽喜豆包 | N71: 紅蔘炒蛋 | P71: 時蔬 | R71: 時瓜湯
J72: 米 | K72: 10 | L72: 豆包 | M72: 6 | N72: 雞蛋 | O72: 2.7 | P72: 蔬菜 | Q72: 7 | R72: 時瓜 | S72: 5
J73: 紅藜 | K73: 0.05 | L73: 結球白菜 | M73: 4 | N73: 胡蘿蔔 | O73: 4 | P73: 薑 | Q73: 0.05 | R73: 薑 | S73: 0.05
L74: 胡蘿蔔 | M74: 0.5 | N74: 薑 | O74: 0.05 | R74: 素羊肉 | S74: 1 | X74: =B77 -> l1 | Y74: =J78&" "&J79&" "&J80&" "&J81&" "&J82 -> 米 | Z74: =L78&" "&L79&" "&L80&" "&L81&" "&L82 -> 豆干 油花生 麵筋 薑 胡蘿蔔 | AA74: =N78&" "&N79&" "&N80&" "&N81&" "&N82 -> 豆包 甘藍 乾香菇 薑 | AB74: =P78&" "&P79&" "&P80&" "&P81&" "&P82 -> 蔬菜 薑 | AC74: =R78&" "&R79&" "&R80&" "&R81&" "&R82 -> 紫菜 金針菇 薑
L75: 薑 | M75: 0.05
A77: 4/24 星期一 | B77: l1 | C77: 5 | D77: 2.3 | E77: 1.7 | F77: 2.5 | I77: 677.5 | J77: 白米飯 | L77: 花生干丁 | N77: 豆包甘藍 | P77: 時蔬 | R77: 鮮菇紫菜湯
J78: 米 | K78: 10 | L78: 豆干 | M78: 6 | N78: 豆包 | O78: 1.5 | P78: 蔬菜 | Q78: 7 | R78: 紫菜 | S78: 0.1
L79: 油花生 | M79: 0.1 | N79: 甘藍 | O79: 7 | P79: 薑 | Q79: 0.05 | R79: 金針菇 | S79: 1.5
L80: 麵筋 | M80: 0.5 | N80: 乾香菇 | O80: 0.01 | R80: 薑 | S80: 0.05 | X80: =B83 -> l2 | Y80: =J84&" "&J85&" "&J86&" "&J87&" "&J88 -> 米 糙米 | Z80: =L84&" "&L85&" "&L86&" "&L87&" "&L88 -> 素排 | AA80: =N84&" "&N85&" "&N86&" "&N87&" "&N88 -> 雞蛋 冷凍菜豆(莢) 胡蘿蔔 薑 | AB80: =P84&" "&P85&" "&P86&" "&P87&" "&P88 -> 蔬菜 薑 | AC80: =R84&" "&R85&" "&R86&" "&R87&" "&R88 -> 時蔬 薑 素羊肉
L81: 薑 | M81: 0.05 | N81: 薑 | O81: 0.05
L82: 胡蘿蔔 | M82: 1
A83: 4/25 星期二 | B83: l2 | C83: 5 | D83: 2 | E83: 1.5 | F83: 2.5 | I83: 650 | J83: 糙米飯 | L83: 美味素排 | N83: 蛋香季豆 | P83: 時蔬 | R83: 時蔬湯
J84: 米 | K84: 7 | L84: 素排 | M84: 6 | N84: 雞蛋 | O84: 2.7 | P84: 蔬菜 | Q84: 7 | R84: 時蔬 | S84: 3
J85: 糙米 | K85: 3 | N85: 冷凍菜豆(莢) | O85: 4 | P85: 薑 | Q85: 0.05 | R85: 薑 | S85: 0.05
N86: 胡蘿蔔 | O86: 0.5 | R86: 素羊肉 | S86: 1 | X86: =B89 -> l3 | Y86: =J90&" "&J91&" "&J92&" "&J93&" "&J94 -> 麵條 | Z86: =L90&" "&L91&" "&L92&" "&L93&" "&L94 -> 素肉 馬鈴薯 芹菜 蕃茄醬 | AA86: =N90&" "&N91&" "&N92&" "&N93&" "&N94 -> 冷凍花椰菜 胡蘿蔔 薑 豆皮 | AB86: =P90&" "&P91&" "&P92&" "&P93&" "&P94 -> 蔬菜 薑 | AC86: =R90&" "&R91&" "&R92&" "&R93&" "&R94 -> 雞蛋 南瓜 毛豆
N87: 薑 | O87: 0.05
A89: 4/26 星期三 | B89: l3 | C89: 5.3 | D89: 2 | E89: 1.6 | F89: 2.5 | I89: 673.5 | J89: 西式特餐 | L89: 茄汁若醬 | N89: 豆皮花椰 | P89: 時蔬 | R89: 南瓜濃湯
J90: 麵條 | K90: 15 | L90: 素肉 | M90: 1.8 | N90: 冷凍花椰菜 | O90: 6 | P90: 蔬菜 | Q90: 7 | R90: 雞蛋 | S90: 0.3
L91: 馬鈴薯 | M91: 2 | N91: 胡蘿蔔 | O91: 1 | P91: 薑 | Q91: 0.05 | R91: 南瓜 | S91: 2
L92: 芹菜 | M92: 1.5 | N92: 薑 | O92: 0.05 | R92: 毛豆 | S92: 0.5 | X92: =B95 -> l4 | Y92: =J96&" "&J97&" "&J98&" "&J99&" "&J100 -> 米 糙米 | Z92: =L96&" "&L97&" "&L98&" "&L99&" "&L100 -> 豆包 胡蘿蔔 芹菜 薑 | AA92: =N96&" "&N97&" "&N98&" "&N99&" "&N100 -> 凍豆腐 白蘿蔔 胡蘿蔔 薑 | AB92: =P96&" "&P97&" "&P98&" "&P99&" "&P100 -> 蔬菜 薑 | AC92: =R96&" "&R97&" "&R98&" "&R99&" "&R100 -> 粉圓 二砂糖
L93: 蕃茄醬 | N93: 豆皮 | O93: 1.2
A95: 4/27 星期四 | B95: l4 | C95: 6 | D95: 2.5 | E95: 1.6 | F95: 2.5 | I95: 760 | J95: 糙米飯 | L95: 回鍋豆包 | N95: 香滷凍腐 | P95: 時蔬 | R95: 粉圓甜湯
J96: 米 | K96: 7 | L96: 豆包 | M96: 6 | N96: 凍豆腐 | O96: 4 | P96: 蔬菜 | Q96: 7 | R96: 粉圓 | S96: 2
J97: 糙米 | K97: 3 | L97: 胡蘿蔔 | M97: 1 | N97: 白蘿蔔 | O97: 3 | P97: 薑 | Q97: 0.05 | R97: 二砂糖 | S97: 1
L98: 芹菜 | M98: 4 | N98: 胡蘿蔔 | O98: 0.5 | X98: =B101 -> l5 | Y98: =J102&" "&J103&" "&J104&" "&J105&" "&J106 -> 米 小米 | Z98: =L102&" "&L103&" "&L104&" "&L105&" "&L106 -> 四角油豆腐 芹菜 胡蘿蔔 醬油 二砂糖 | AA98: =N102&" "&N103&" "&N104&" "&N105&" "&N106 -> 豆干 雪裡蕻 薑 | AB98: =P102&" "&P103&" "&P104&" "&P105&" "&P106 -> 蔬菜 薑 | AC98: =R102&" "&R103&" "&R104&" "&R105&" "&R106 -> 乾裙帶菜 薑
L99: 薑 | M99: 0.05 | N99: 薑 | O99: 0.05
A101: 4/28 星期五 | B101: l5 | C101: 5.2 | D101: 2 | E101: 1.4 | F101: 2.5 | I101: 661.5 | J101: 小米飯 | L101: 照燒油腐 | N101: 雪菜豆干 | P101: 時蔬 | R101: 海芽湯
J102: 米 | K102: 10 | L102: 四角油豆腐 | M102: 8.2 | N102: 豆干 | O102: 2 | P102: 蔬菜 | Q102: 7 | R102: 乾裙帶菜 | S102: 0.1
J103: 小米 | K103: 0.4 | L103: 芹菜 | M103: 1 | N103: 雪裡蕻 | O103: 3 | P103: 薑 | Q103: 0.05 | R103: 薑 | S103: 0.05
L104: 胡蘿蔔 | M104: 0.5 | N104: 薑 | O104: 0.05 | X104: =#REF! -> #REF! | Y104: =#REF!&" "&#REF!&" "&#REF!&" "&#REF!&" "&#REF! -> #REF! | Z104: =#REF!&" "&#REF!&" "&#REF!&" "&#REF!&" "&#REF! -> #REF! | AA104: =#REF!&" "&#REF!&" "&#REF!&" "&#REF!&" "&#REF! -> #REF! | AB104: =#REF!&" "&#REF!&" "&#REF!&" "&#REF!&" "&#REF! -> #REF! | AC104: =#REF!&" "&#REF!&" "&#REF!&" "&#REF!&" "&#REF! -> #REF!
L105: 醬油
L106: 二砂糖
...

Sheet f-j素食國小月總表
B1: 111 | C1: 學年度 | D1: 國民小學 | E1: 素食 | F1: 菜單 | G1: 循環
A2: 日期 | B2: 循環 | C2: 主食 | D2: 主食明細 | E2: 主菜 | F2: 主菜明細 | G2: 副菜一 | H2: 副菜一明細 | I2: 蔬菜 | J2: 蔬菜明細 | K2: 湯品 | L2: 湯品明細 | M2: 點心 | N2: 穀/份 | O2: 豆/份 | P2: 蔬/份 | Q2: 油/份 | R2: 乳/份 | S2: 果/份 | T2: 熱量
A3: 4月6日 | B3: ='f-j素食國小'!B5 -> i4 | C3: ='f-j素食國小'!J5 -> 糙米飯 | D3: ='f-j素食國小'!Y5 -> 米 糙米 | E3: ='f-j素食國小'!L5 -> 咖哩豆干 | F3: ='f-j素食國小'!Z5 -> 豆干 馬鈴薯 胡蘿蔔 芹菜 咖哩粉 | G3: ='f-j素食國小'!N5 -> 火腿玉菜 | H3: ='f-j素食國小'!AA5 -> 甘藍 火腿 薑 | I3: ='f-j素食國小'!P5 -> 時蔬 | J3: ='f-j素食國小'!AB5 -> 蔬菜 薑 | K3: ='f-j素食國小'!R5 -> 花豆甜湯 | L3: ='f-j素食國小'!AC5 -> 花豆 二砂糖 | M3: 0 | N3: ='f-j素食國小'!C5 -> 5.3 | O3: ='f-j素食國小'!D5 -> 2.6 | P3: ='f-j素食國小'!E5 -> 2.5 | Q3: ='f-j素食國小'!F5 -> 3.1 | R3: ='f-j素食國小'!G5 -> 0 | S3: ='f-j素食國小'!H5 -> 0 | T3: ='f-j素食國小'!I5 -> 768
A4: 4月7日 | B4: ='f-j素食國小'!B11 -> i5 | C4: ='f-j素食國小'!J11 -> 燕麥飯 | D4: ='f-j素食國小'!Y11 -> 米 燕麥 | E4: ='f-j素食國小'!L11 -> 筍干麵輪 | F4: ='f-j素食國小'!Z11 -> 麵輪 麻竹筍干 薑 | G4: ='f-j素食國小'!N11 -> 蛋香豆薯 | H4: ='f-j素食國小'!AA11 -> 雞蛋 豆薯 薑 胡蘿蔔 | I4: ='f-j素食國小'!P11 -> 時蔬 | J4: ='f-j素食國小'!AB11 -> 蔬菜 薑 | K4: ='f-j素食國小'!R11 -> 味噌豆皮湯 | L4: ='f-j素食國小'!AC11 -> 豆皮 味噌 | M4: 0 | N4: ='f-j素食國小'!C11 -> 5.5 | O4: ='f-j素食國小'!D11 -> 2.8 | P4: ='f-j素食國小'!E11 -> 1.8 | Q4: ='f-j素食國小'!F11 -> 3 | R4: ='f-j素食國小'!G11 -> 0 | S4: ='f-j素食國小'!H11 -> 0 | T4: ='f-j素食國小'!I11 -> 775
A5: 4月10日 | B5: ='f-j素食國小'!B17 -> j1 | C5: ='f-j素食國小'!J17 -> 白米飯 | D5: ='f-j素食國小'!Y17 -> 米 | E5: ='f-j素食國小'!L17 -> 茄汁凍腐 | F5: ='f-j素食國小'!Z17 -> 凍豆腐 馬鈴薯 大番茄 薑 番茄醬 | G5: ='f-j素食國小'!N17 -> 塔香炒蛋 | H5: ='f-j素食國小'!AA17 -> 雞蛋 九層塔 薑 鮮香菇 | I5: ='f-j素食國小'!P17 -> 時蔬 | J5: ='f-j素食國小'!AB17 -> 蔬菜 薑 | K5: ='f-j素食國小'!R17 -> 金針湯 | L5: ='f-j素食國小'!AC17 -> 金針菜乾 薑 榨菜 | M5: 0 | N5: ='f-j素食國小'!C17 -> 5.1 | O5: ='f-j素食國小'!D17 -> 2 | P5: ='f-j素食國小'!E17 -> 1.8 | Q5: ='f-j素食國小'!F17 -> 3 | R5: ='f-j素食國小'!G17 -> 0 | S5: ='f-j素食國小'!H17 -> 0 | T5: ='f-j素食國小'!I17 -> 687
A6: 4月11日 | B6: ='f-j素食國小'!B23 -> j2 | C6: ='f-j素食國小'!J23 -> 糙米飯 | D6: ='f-j素食國小'!Y22 -> 米 糙米 | E6: ='f-j素食國小'!L23 -> 醬瓜豆干 | F6: ='f-j素食國小'!Z22 -> 豆干 醃漬花胡瓜 薑 | G6: ='f-j素食國小'!N23 -> 毛豆白菜 | H6: ='f-j素食國小'!AA22 -> 結球白菜 冷凍毛豆仁 胡蘿蔔 薑 | I6: ='f-j素食國小'!P23 -> 時蔬 | J6: ='f-j素食國小'!AB22 -> 蔬菜 薑 | K6: ='f-j素食國小'!R23 -> 海芽蛋花湯 | L6: ='f-j素食國小'!AC22 -> 乾海帶 雞蛋 薑 | M6: 0 | N6: ='f-j素食國小'!C23 -> 5 | O6: ='f-j素食國小'!D23 -> 1.3 | P6: ='f-j素食國小'!E23 -> 1.5 | Q6: ='f-j素食國小'!F23 -> 3 | R6: ='f-j素食國小'!G23 -> 0 | S6: ='f-j素食國小'!H23 -> 0 | T6: ='f-j素食國小'!I23 -> 620
A7: 4月12日 | B7: ='f-j素食國小'!B29 -> j3 | C7: ='f-j素食國小'!J29 -> 刈包特餐 | D7: ='f-j素食國小'!Y28 -> 刈包 | E7: ='f-j素食國小'!L29 -> 美味素排 | F7: ='f-j素食國小'!Z28 -> 素排 | G7: ='f-j素食國小'!N29 -> 酸菜麵腸 | H7: ='f-j素食國小'!AA28 -> 酸菜 麵腸 薑 | I7: ='f-j素食國小'!P29 -> 時蔬 | J7: ='f-j素食國小'!AB28 -> 蔬菜 薑 | K7: ='f-j素食國小'!R29 -> 糙米粥 | L7: ='f-j素食國小'!AC28 -> 雞蛋 糙米 胡蘿蔔 乾香菇 時瓜 | M7: 0 | N7: ='f-j素食國小'!C29 -> 3.3 | O7: ='f-j素食國小'!D29 -> 3.4 | P7: ='f-j素食國小'!E29 -> 1.3 | Q7: ='f-j素食國小'!F29 -> 3 | R7: ='f-j素食國小'!G29 -> 0 | S7: ='f-j素食國小'!H29 -> 0 | T7: ='f-j素食國小'!I29 -> 653.5
A8: 4月13日 | B8: ='f-j素食國小'!B35 -> j4 | C8: ='f-j素食國小'!J35 -> 糙米飯 | D8: ='f-j素食國小'!Y34 -> 米 糙米 | E8: ='f-j素食國小'!L35 -> 豆瓣百頁 | F8: ='f-j素食國小'!Z34 -> 百頁豆腐 白蘿蔔 胡蘿蔔 薑 豆瓣醬 | G8: ='f-j素食國小'!N35 -> 筍干油腐 | H8: ='f-j素食國小'!AA34 -> 麻竹筍干 四角油豆腐 薑 | I8: ='f-j素食國小'!P35 -> 時蔬 | J8: ='f-j素食國小'!AB34 -> 蔬菜 薑 | K8: ='f-j素食國小'!R35 -> 仙草甜湯 | L8: ='f-j素食國小'!AC34 -> 仙草凍 二砂糖 | M8: 0 | N8: ='f-j素食國小'!C35 -> 5 | O8: ='f-j素食國小'!D35 -> 2 | P8: ='f-j素食國小'!E35 -> 1.2 | Q8: ='f-j素食國小'!F35 -> 3 | R8: ='f-j素食國小'!G35 -> 0 | S8: ='f-j素食國小'!H35 -> 0 | T8: ='f-j素食國小'!I35 -> 665
A9: 4月14日 | B9: ='f-j素食國小'!B41 -> j5 | C9: ='f-j素食國小'!J41 -> 芝麻飯 | D9: ='f-j素食國小'!Y40 -> 米 芝麻(熟) | E9: ='f-j素食國小'!L41 -> 泡菜豆包 | F9: ='f-j素食國小'!Z40 -> 豆包 韓式泡菜 甘藍 薑 | G9: ='f-j素食國小'!N41 -> 花生豆干 | H9: ='f-j素食國小'!AA40 -> 豆干 油花生 薑 | I9: ='f-j素食國小'!P41 -> 時蔬 | J9: ='f-j素食國小'!AB40 -> 蔬菜 薑 | K9: ='f-j素食國小'!R41 -> 冬瓜湯 | L9: ='f-j素食國小'!AC40 -> 冬瓜 薑 | M9: 0 | N9: ='f-j素食國小'!C41 -> 5 | O9: ='f-j素食國小'!D41 -> 2.1 | P9: ='f-j素食國小'!E41 -> 2.2 | Q9: ='f-j素食國小'!F41 -> 3.2 | R9: ='f-j素食國小'!G41 -> 0 | S9: ='f-j素食國小'!H41 -> 0 | T9: ='f-j素食國小'!I41 -> 706.5
A10: 4月17日 | B10: ='f-j素食國小'!B47 -> k1 | C10: ='f-j素食國小'!J47 -> 白米飯 | D10: ='f-j素食國小'!Y46 -> 米 | E10: ='f-j素食國小'!L47 -> 紅燒豆包 | F10: ='f-j素食國小'!Z46 -> 豆包 滷包 | G10: ='f-j素食國小'!N47 -> 鮮菇豆腐 | H10: ='f-j素食國小'!AA46 -> 豆腐 金針菇 乾香菇 薑 胡蘿蔔 | I10: ='f-j素食國小'!P47 -> 時蔬 | J10: ='f-j素食國小'!AB46 -> 蔬菜 薑 | K10: ='f-j素食國小'!R47 -> 味噌湯 | L10: ='f-j素食國小'!AC46 -> 乾裙帶菜 味噌 薑 | M10: 0 | N10: ='f-j素食國小'!C47 -> 5 | O10: ='f-j素食國小'!D47 -> 2.5 | P10: ='f-j素食國小'!E47 -> 1 | Q10: ='f-j素食國小'!F47 -> 1.8 | R10: ='f-j素食國小'!G47 -> 0 | S10: ='f-j素食國小'!H47 -> 0 | T10: ='f-j素食國小'!I47 -> 643.5
A11: 4月18日 | B11: ='f-j素食國小'!B53 -> k2 | C11: ='f-j素食國小'!J53 -> 糙米飯 | D11: ='f-j素食國小'!Y50 -> 米 糙米 | E11: ='f-j素食國小'!L53 -> 咖哩凍腐 | F11: ='f-j素食國小'!Z50 -> 凍豆腐 馬鈴薯 芹菜 胡蘿蔔 咖哩粉 | G11: ='f-j素食國小'!N53 -> 蛋香刈薯 | H11: ='f-j素食國小'!AA50 -> 雞蛋 刈薯 薑 | I11: ='f-j素食國小'!P53 -> 時蔬 | J11: ='f-j素食國小'!AB50 -> 蔬菜 薑 | K11: ='f-j素食國小'!R53 -> 金針湯 | L11: ='f-j素食國小'!AC50 -> 金針菜乾 榨菜 薑 素羊肉 | M11: 0 | N11: ='f-j素食國小'!C53 -> 5.4 | O11: ='f-j素食國小'!D53 -> 2 | P11: ='f-j素食國小'!E53 -> 1.5 | Q11: ='f-j素食國小'!F53 -> 1.8 | R11: ='f-j素食國小'!G53 -> 0 | S11: ='f-j素食國小'!H53 -> 0 | T11: ='f-j素食國小'!I53 -> 646.5
A12: 4月19日 | B12: ='f-j素食國小'!B59 -> k3 | C12: ='f-j素食國小'!J59 -> 泰式特餐 | D12: ='f-j素食國小'!Y56 -> 米 糙米 | E12: ='f-j素食國小'!L59 -> 打拋豆干 | F12: ='f-j素食國小'!Z56 -> 豆干 芹菜 打拋醬 素魚露 薑 | G12: ='f-j素食國小'!N59 -> 泰式百頁 | H12: ='f-j素食國小'!AA56 -> 百頁豆腐 泰式酸辣醬 | I12: ='f-j素食國小'!P59 -> 時蔬 | J12: ='f-j素食國小'!AB56 -> 蔬菜 薑 | K12: ='f-j素食國小'!R59 -> 冬蔭功湯 | L12: ='f-j素食國小'!AC56 -> 秀珍菇 大番茄 素羊肉 檸檬 香茅 | M12: 0 | N12: ='f-j素食國小'!C59 -> 5.5 | O12: ='f-j素食國小'!D59 -> 2.5 | P12: ='f-j素食國小'!E59 -> 1.5 | Q12: ='f-j素食國小'!F59 -> 2 | R12: ='f-j素食國小'!G59 -> 0 | S12: ='f-j素食國小'!H59 -> 0 | T12: ='f-j素食國小'!I59 -> 700
A13: 4月20日 | B13: ='f-j素食國小'!B65 -> k4 | C13: ='f-j素食國小'!J65 -> 糙米飯 | D13: ='f-j素食國小'!Y62 -> 米 糙米 | E13: ='f-j素食國小'!L65 -> 豆瓣麵腸 | F13: ='f-j素食國小'!Z62 -> 麵腸 豆薯 胡蘿蔔 薑 | G13: ='f-j素食國小'!N65 -> 若絲豆芽 | H13: ='f-j素食國小'!AA62 -> 素肉 綠豆芽 乾木耳 薑 | I13: ='f-j素食國小'!P65 -> 時蔬 | J13: ='f-j素食國小'!AB62 -> 蔬菜 薑 | K13: ='f-j素食國小'!R65 -> 綠豆湯 | L13: ='f-j素食國小'!AC62 -> 綠豆 二砂糖 | M13: 0 | N13: ='f-j素食國小'!C65 -> 5.8 | O13: ='f-j素食國小'!D65 -> 2 | P13: ='f-j素食國小'!E65 -> 1.6 | Q13: ='f-j素食國小'!F65 -> 1.8 | R13: ='f-j素食國小'!G65 -> 0 | S13: ='f-j素食國小'!H65 -> 0 | T13: ='f-j素食國小'!I65 -> 677
A14: 4月21日 | B14: ='f-j素食國小'!B71 -> k5 | C14: ='f-j素食國小'!J71 -> 紅藜飯 | D14: ='f-j素食國小'!Y68 -> 米 紅藜 | E14: ='f-j素食國小'!L71 -> 壽喜豆包 | F14: ='f-j素食國小'!Z68 -> 豆包 結球白菜 胡蘿蔔 薑 | G14: ='f-j素食國小'!N71 -> 紅蔘炒蛋 | H14: ='f-j素食國小'!AA68 -> 雞蛋 胡蘿蔔 薑 | I14: ='f-j素食國小'!P71 -> 時蔬 | J14: ='f-j素食國小'!AB68 -> 蔬菜 薑 | K14: ='f-j素食國小'!R71 -> 時瓜湯 | L14: ='f-j素食國小'!AC68 -> 時瓜 薑 素羊肉 | M14: 0 | N14: ='f-j素食國小'!C71 -> 5 | O14: ='f-j素食國小'!D71 -> 2.5 | P14: ='f-j素食國小'!E71 -> 2.2 | Q14: ='f-j素食國小'!F71 -> 2.4 | R14: ='f-j素食國小'!G71 -> 0 | S14: ='f-j素食國小'!H71 -> 0 | T14: ='f-j素食國小'!I71 -> 700.5
A15: 4月24日 | B15: ='f-j素食國小'!B77 -> l1 | C15: ='f-j素食國小'!J77 -> 白米飯 | D15: ='f-j素食國小'!Y74 -> 米 | E15: ='f-j素食國小'!L77 -> 花生干丁 | F15: ='f-j素食國小'!Z74 -> 豆干 油花生 麵筋 薑 胡蘿蔔 | G15: ='f-j素食國小'!N77 -> 豆包甘藍 | H15: ='f-j素食國小'!AA74 -> 豆包 甘藍 乾香菇 薑 | I15: ='f-j素食國小'!P77 -> 時蔬 | J15: ='f-j素食國小'!AB74 -> 蔬菜 薑 | K15: ='f-j素食國小'!R77 -> 鮮菇紫菜湯 | L15: ='f-j素食國小'!AC74 -> 紫菜 金針菇 薑 | M15: 0 | N15: ='f-j素食國小'!C77 -> 5 | O15: ='f-j素食國小'!D77 -> 2.3 | P15: ='f-j素食國小'!E77 -> 1.7 | Q15: ='f-j素食國小'!F77 -> 2.5 | R15: ='f-j素食國小'!G77 -> 0 | S15: ='f-j素食國小'!H77 -> 0 | T15: ='f-j素食國小'!I77 -> 677.5
A16: 4月25日 | B16: ='f-j素食國小'!B83 -> l2 | C16: ='f-j素食國小'!J83 -> 糙米飯 | D16: ='f-j素食國小'!Y80 -> 米 糙米 | E16: ='f-j素食國小'!L83 -> 美味素排 | F16: ='f-j素食國小'!Z80 -> 素排 | G16: ='f-j素食國小'!N83 -> 蛋香季豆 | H16: ='f-j素食國小'!AA80 -> 雞蛋 冷凍菜豆(莢) 胡蘿蔔 薑 | I16: ='f-j素食國小'!P83 -> 時蔬 | J16: ='f-j素食國小'!AB80 -> 蔬菜 薑 | K16: ='f-j素食國小'!R83 -> 時蔬湯 | L16: ='f-j素食國小'!AC80 -> 時蔬 薑 素羊肉 | M16: 0 | N16: ='f-j素食國小'!C83 -> 5 | O16: ='f-j素食國小'!D83 -> 2 | P16: ='f-j素食國小'!E83 -> 1.5 | Q16: ='f-j素食國小'!F83 -> 2.5 | R16: ='f-j素食國小'!G83 -> 0 | S16: ='f-j素食國小'!H83 -> 0 | T16: ='f-j素食國小'!I83 -> 650
A17: 4月26日 | B17: ='f-j素食國小'!B89 -> l3 | C17: ='f-j素食國小'!J89 -> 西式特餐 | D17: ='f-j素食國小'!Y86 -> 麵條 | E17: ='f-j素食國小'!L89 -> 茄汁若醬 | F17: ='f-j素食國小'!Z86 -> 素肉 馬鈴薯 芹菜 蕃茄醬 | G17: ='f-j素食國小'!N89 -> 豆皮花椰 | H17: ='f-j素食國小'!AA86 -> 冷凍花椰菜 胡蘿蔔 薑 豆皮 | I17: ='f-j素食國小'!P89 -> 時蔬 | J17: ='f-j素食國小'!AB86 -> 蔬菜 薑 | K17: ='f-j素食國小'!R89 -> 南瓜濃湯 | L17: ='f-j素食國小'!AC86 -> 雞蛋 南瓜 毛豆 | M17: 0 | N17: ='f-j素食國小'!C89 -> 5.3 | O17: ='f-j素食國小'!D89 -> 2 | P17: ='f-j素食國小'!E89 -> 1.6 | Q17: ='f-j素食國小'!F89 -> 2.5 | R17: ='f-j素食國小'!G89 -> 0 | S17: ='f-j素食國小'!H89 -> 0 | T17: ='f-j素食國小'!I89 -> 673.5
A18: 4月27日 | B18: ='f-j素食國小'!B95 -> l4 | C18: ='f-j素食國小'!J95 -> 糙米飯 | D18: ='f-j素食國小'!Y92 -> 米 糙米 | E18: ='f-j素食國小'!L95 -> 回鍋豆包 | F18: ='f-j素食國小'!Z92 -> 豆包 胡蘿蔔 芹菜 薑 | G18: ='f-j素食國小'!N95 -> 香滷凍腐 | H18: ='f-j素食國小'!AA92 -> 凍豆腐 白蘿蔔 胡蘿蔔 薑 | I18: ='f-j素食國小'!P95 -> 時蔬 | J18: ='f-j素食國小'!AB92 -> 蔬菜 薑 | K18: ='f-j素食國小'!R95 -> 粉圓甜湯 | L18: ='f-j素食國小'!AC92 -> 粉圓 二砂糖 | M18: 0 | N18: ='f-j素食國小'!C95 -> 6 | O18: ='f-j素食國小'!D95 -> 2.5 | P18: ='f-j素食國小'!E95 -> 1.6 | Q18: ='f-j素食國小'!F95 -> 2.5 | R18: ='f-j素食國小'!G95 -> 0 | S18: ='f-j素食國小'!H95 -> 0 | T18: ='f-j素食國小'!I95 -> 760
A19: 4月28日 | B19: ='f-j素食國小'!B101 -> l5 | C19: ='f-j素食國小'!J101 -> 小米飯 | D19: ='f-j素食國小'!Y98 -> 米 小米 | E19: ='f-j素食國小'!L101 -> 照燒油腐 | F19: ='f-j素食國小'!Z98 -> 四角油豆腐 芹菜 胡蘿蔔 醬油 二砂糖 | G19: ='f-j素食國小'!N101 -> 雪菜豆干 | H19: ='f-j素食國小'!AA98 -> 豆干 雪裡蕻 薑 | I19: ='f-j素食國小'!P101 -> 時蔬 | J19: ='f-j素食國小'!AB98 -> 蔬菜 薑 | K19: ='f-j素食國小'!R101 -> 海芽湯 | L19: ='f-j素食國小'!AC98 -> 乾裙帶菜 薑 | M19: 0 | N19: ='f-j素食國小'!C101 -> 5.2 | O19: ='f-j素食國小'!D101 -> 2 | P19: ='f-j素食國小'!E101 -> 1.4 | Q19: ='f-j素食國小'!F101 -> 2.5 | R19: ='f-j素食國小'!G101 -> 0 | S19: ='f-j素食國小'!H101 -> 0 | T19: ='f-j素食國小'!I101 -> 661.5
B21: 過敏警語:「本月產品含有蛋、芝麻、含麩之穀物、花生、大豆、魚類、亞硫酸鹽類及其相關製品，不適合其過敏體質者食用」
