Workbook

Sheet f-j葷食國小
A1: 要修正正確數值 | I1: 僅需貼上食材明細和重量，"公斤"和下一個分頁循環就會自己跑出來
A2: 食材明細（食材重量以100人份計量，營養分析以個人計量,其中肉雞包含23%骨頭之採購量，每周供應特餐一次，當日得混搭供應，國中4菜1湯，國小3菜1湯） | Y2: 統整區的檔案，連動到上方循環，後續給教育處的檔案，此處請自行隱藏
A3: 循環 | B3: 穀/份 | C3: 豆/份 | D3: 蔬/份 | E3: 油/份 | F3: 乳/份 | G3: 果/份 | H3: 熱量 | I3: 主食 | J3: 重/kg | K3: 公斤 | L3: 主菜 | M3: 重/kg | N3: 公斤 | O3: 副菜一 | P3: 重/kg | Q3: 公斤 | R3: 蔬菜 | S3: 重/kg | T3: 公斤 | U3: 湯品 | V3: 重/kg | W3: 公斤 | Z3: 主食 | AA3: 主菜 | AB3: 副菜一 | AC3: 蔬菜 | AD3: 湯品
A4: f3 | B4: 5.2 | C4: 2.9 | D4: 1.1 | E4: 2.5 | G4: 0.1 | H4: =B4*70+E4*45+D4*25+F4*150+G4*60+C4*75 -> 727.5 | I4: 拌飯特餐 | L4: 鳳梨雞丁 | O4: 拌飯配料 | R4: 時蔬 | U4: 三絲羹湯 | Y4: =A4 -> f3 | Z4: =I5&" "&I6&" "&I7&" "&I8&" "&I9 -> 米 | AA4: =L5&" "&L6&" "&L7&" "&L8&" "&L9 -> 肉雞 鳳梨罐頭 甜椒 洋蔥 | AB4: =O5&" "&O6&" "&O7&" "&O8&" "&O9 -> 豬絞肉 胡蘿蔔 甘藍 冷凍玉米粒 肉鬆 | AC4: =R5&" "&R6&" "&R7&" "&R8&" "&R9 -> 蔬菜 大蒜 | AD4: =U5&" "&U6&" "&U7&" "&U8&" "&U9 -> 脆筍 胡蘿蔔 雞蛋 乾木耳
I5: 米 | J5: 10 | K5: =IF(J5,"公斤","") -> 公斤 | L5: 肉雞 | M5: 9 | N5: =IF(M5,"公斤","") -> 公斤 | O5: 豬絞肉 | P5: 1.5 | Q5: =IF(P5,"公斤","") -> 公斤 | R5: 蔬菜 | S5: 7 | T5: =IF(S5,"公斤","") -> 公斤 | U5: 脆筍 | V5: 1.5 | W5: =IF(V5,"公斤","") -> 公斤
K6: =IF(J6,"公斤","") | L6: 鳳梨罐頭 | M6: 1.5 | N6: =IF(M6,"公斤","") -> 公斤 | O6: 胡蘿蔔 | P6: 0.5 | Q6: =IF(P6,"公斤","") -> 公斤 | R6: 大蒜 | S6: 0.05 | T6: =IF(S6,"公斤","") -> 公斤 | U6: 胡蘿蔔 | V6: 0.5 | W6: =IF(V6,"公斤","") -> 公斤
K7: =IF(J7,"公斤","") | L7: 甜椒 | M7: 0.7 | N7: =IF(M7,"公斤","") -> 公斤 | O7: 甘藍 | P7: 1.5 | Q7: =IF(P7,"公斤","") -> 公斤 | T7: =IF(S7,"公斤","") | U7: 雞蛋 | V7: 1 | W7: =IF(V7,"公斤","") -> 公斤
K8: =IF(J8,"公斤","") | L8: 洋蔥 | M8: 2 | N8: =IF(M8,"公斤","") -> 公斤 | O8: 冷凍玉米粒 | P8: 1.5 | Q8: =IF(P8,"公斤","") -> 公斤 | T8: =IF(S8,"公斤","") | U8: 乾木耳 | V8: 0.01 | W8: =IF(V8,"公斤","") -> 公斤
K9: =IF(J9,"公斤","") | N9: =IF(M9,"公斤","") | O9: 肉鬆 | P9: 0.3 | Q9: =IF(P9,"公斤","") -> 公斤 | T9: =IF(S9,"公斤","") | W9: =IF(V9,"公斤","")
A10: f4 | B10: 6.3 | C10: 2.8 | D10: 1.5 | E10: 2.5 | G10: 0 | H10: =B10*70+E10*45+D10*25+F10*150+G10*60+C10*75 -> 801 | I10: 糙米飯 | L10: 打拋豬 | O10: 芹香干片 | R10: 時蔬 | U10: 西米露湯 | Y10: =A10 -> f4 | Z10: =I11&" "&I12&" "&I13&" "&I14&" "&I15 -> 米 糙米 | AA10: =L11&" "&L12&" "&L13&" "&L14&" "&L15 -> 豬絞肉 豆薯 九層塔 洋蔥 大番茄 | AB10: =O11&" "&O12&" "&O13&" "&O14&" "&O15 -> 豆干 芹菜 秀珍菇 大蒜 | AC10: =R11&" "&R12&" "&R13&" "&R14&" "&R15 -> 蔬菜 大蒜 | AD10: =U11&" "&U12&" "&U13&" "&U14&" "&U15 -> 西谷米 二砂糖 椰漿
I11: 米 | J11: 7 | K11: =IF(J11,"公斤","") -> 公斤 | L11: 豬絞肉 | M11: 6 | N11: =IF(M11,"公斤","") -> 公斤 | O11: 豆干 | P11: 4.5 | Q11: =IF(P11,"公斤","") -> 公斤 | R11: 蔬菜 | S11: 7 | T11: =IF(S11,"公斤","") -> 公斤 | U11: 西谷米 | V11: 2 | W11: =IF(V11,"公斤","") -> 公斤
I12: 糙米 | J12: 3 | K12: =IF(J12,"公斤","") -> 公斤 | L12: 豆薯 | M12: 3 | N12: =IF(M12,"公斤","") -> 公斤 | O12: 芹菜 | P12: 1 | Q12: =IF(P12,"公斤","") -> 公斤 | R12: 大蒜 | S12: 0.05 | T12: =IF(S12,"公斤","") -> 公斤 | U12: 二砂糖 | V12: 1 | W12: =IF(V12,"公斤","") -> 公斤
K13: =IF(J13,"公斤","") | L13: 九層塔 | M13: 0.2 | N13: =IF(M13,"公斤","") -> 公斤 | O13: 秀珍菇 | P13: 1 | Q13: =IF(P13,"公斤","") -> 公斤 | T13: =IF(S13,"公斤","") | U13: 椰漿 | V13: 2 | W13: =IF(V13,"公斤","") -> 公斤
K14: =IF(J14,"公斤","") | L14: 洋蔥 | M14: 1 | N14: =IF(M14,"公斤","") -> 公斤 | O14: 大蒜 | P14: 0.05 | Q14: =IF(P14,"公斤","") -> 公斤 | T14: =IF(S14,"公斤","") | W14: =IF(V14,"公斤","")
K15: =IF(J15,"公斤","") | L15: 大番茄 | M15: 2 | N15: =IF(M15,"公斤","") -> 公斤 | Q15: =IF(P15,"公斤","") | T15: =IF(S15,"公斤","") | W15: =IF(V15,"公斤","")
A16: f5 | B16: 5.2 | C16: 2.5 | D16: 1.7 | E16: 2.5 | G16: 0 | H16: =B16*70+E16*45+D16*25+F16*150+G16*60+C16*75 -> 706.5 | I16: 麥仁飯 | L16: 照燒肉丁 | O16: 蛋香白菜 | R16: 時蔬 | U16: 紫菜湯 | Y16: =A16 -> f5 | Z16: =I17&" "&I18&" "&I19&" "&I20&" "&I21 -> 米 大麥仁 | AA16: =L17&" "&L18&" "&L19&" "&L20&" "&L21 -> 豬後腿肉 洋蔥 胡蘿蔔 醬油 二砂糖 | AB16: =O17&" "&O18&" "&O19&" "&O20&" "&O21 -> 雞蛋 結球白菜 胡蘿蔔 大蒜 | AC16: =R17&" "&R18&" "&R19&" "&R20&" "&R21 -> 蔬菜 大蒜 | AD16: =U17&" "&U18&" "&U19&" "&U20&" "&U21 -> 紫菜 柴魚片 薑
I17: 米 | J17: 10 | K17: =IF(J17,"公斤","") -> 公斤 | L17: 豬後腿肉 | M17: 6 | N17: =IF(M17,"公斤","") -> 公斤 | O17: 雞蛋 | P17: 0.6 | Q17: =IF(P17,"公斤","") -> 公斤 | R17: 蔬菜 | S17: 7 | T17: =IF(S17,"公斤","") -> 公斤 | U17: 紫菜 | V17: 0.15 | W17: =IF(V17,"公斤","") -> 公斤
I18: 大麥仁 | J18: 0.4 | K18: =IF(J18,"公斤","") -> 公斤 | L18: 洋蔥 | M18: 2 | N18: =IF(M18,"公斤","") -> 公斤 | O18: 結球白菜 | P18: 7 | Q18: =IF(P18,"公斤","") -> 公斤 | R18: 大蒜 | S18: 0.05 | T18: =IF(S18,"公斤","") -> 公斤 | U18: 柴魚片 | V18: 0.01 | W18: =IF(V18,"公斤","") -> 公斤
K19: =IF(J19,"公斤","") | L19: 胡蘿蔔 | M19: 0.5 | N19: =IF(M19,"公斤","") -> 公斤 | O19: 胡蘿蔔 | P19: 0.5 | Q19: =IF(P19,"公斤","") -> 公斤 | T19: =IF(S19,"公斤","") | U19: 薑 | V19: 0.05 | W19: =IF(V19,"公斤","") -> 公斤
K20: =IF(J20,"公斤","") | L20: 醬油 | N20: =IF(M20,"公斤","") | O20: 大蒜 | P20: 0.05 | Q20: =IF(P20,"公斤","") -> 公斤 | T20: =IF(S20,"公斤","") | W20: =IF(V20,"公斤","")
K21: =IF(J21,"公斤","") | L21: 二砂糖 | N21: =IF(M21,"公斤","") | Q21: =IF(P21,"公斤","") | T21: =IF(S21,"公斤","") | W21: =IF(V21,"公斤","")
A22: g1 | B22: 5.8 | C22: 3.4 | D22: 1.1 | E22: 2.5 | G22: 0 | H22: =B22*70+E22*45+D22*25+F22*150+G22*60+C22*75 -> 801 | I22: 白米飯 | L22: 回鍋肉片 | N22: =IF(M22,"公斤","") | O22: 螞蟻上樹 | R22: 時蔬 | U22: 四神湯 | Y22: =A22 -> g1 | Z22: =I23&" "&I24&" "&I25&" "&I26&" "&I27 -> 米 | AA22: =L23&" "&L24&" "&L25&" "&L26&" "&L27 -> 豬後腿肉 洋蔥 胡蘿蔔 大蒜 甜麵醬 | AB22: =O23&" "&O24&" "&O25&" "&O26&" "&O27 -> 冬粉 豬絞肉 結球白菜 胡蘿蔔 乾木耳 | AC22: =R23&" "&R24&" "&R25&" "&R26&" "&R27 -> 蔬菜 大蒜 | AD22: =U23&" "&U24&" "&U25&" "&U26&" "&U27 -> 四神 豬大排
I23: 米 | J23: 10 | K23: =IF(J23,"公斤","") -> 公斤 | L23: 豬後腿肉 | M23: 6 | N23: =IF(M23,"公斤","") -> 公斤 | O23: 冬粉 | P23: 1.2 | Q23: =IF(P23,"公斤","") -> 公斤 | R23: 蔬菜 | S23: 7 | T23: =IF(S23,"公斤","") -> 公斤 | U23: 四神 | V23: 1.5 | W23: =IF(V23,"公斤","") -> 公斤
K24: =IF(J24,"公斤","") | L24: 洋蔥 | M24: 3 | N24: =IF(M24,"公斤","") -> 公斤 | O24: 豬絞肉 | P24: 0.6 | Q24: =IF(P24,"公斤","") -> 公斤 | R24: 大蒜 | S24: 0.05 | T24: =IF(S24,"公斤","") -> 公斤 | U24: 豬大排 | V24: 1.5 | W24: =IF(V24,"公斤","") -> 公斤
K25: =IF(J25,"公斤","") | L25: 胡蘿蔔 | M25: 0.5 | N25: =IF(M25,"公斤","") -> 公斤 | O25: 結球白菜 | P25: 2 | Q25: =IF(P25,"公斤","") -> 公斤 | T25: =IF(S25,"公斤","") | W25: =IF(V25,"公斤","")
K26: =IF(J26,"公斤","") | L26: 大蒜 | M26: 0.05 | N26: =IF(M26,"公斤","") -> 公斤 | O26: 胡蘿蔔 | P26: 0.5 | Q26: =IF(P26,"公斤","") -> 公斤 | T26: =IF(S26,"公斤","") | W26: =IF(V26,"公斤","")
K27: =IF(J27,"公斤","") | L27: 甜麵醬 | N27: =IF(M27,"公斤","") | O27: 乾木耳 | P27: 0.01 | Q27: =IF(P27,"公斤","") -> 公斤 | T27: =IF(S27,"公斤","") | W27: =IF(V27,"公斤","")
A28: g2 | B28: 5.3 | C28: 3 | D28: 1 | E28: 2 | G28: 0 | H28: =B28*70+E28*45+D28*25+F28*150+G28*60+C28*75 -> 711 | I28: 糙米飯 | L28: 咖哩雞 | O28: 雙色花椰 | R28: 時蔬 | U28: 味噌海芽湯 | Y28: =A28 -> g2 | Z28: =I29&" "&I30&" "&I31&" "&I32&" "&I33 -> 米 糙米 | AA28: =L29&" "&L30&" "&L31&" "&L32&" "&L33 -> 肉雞 馬鈴薯 洋蔥 胡蘿蔔 咖哩粉 | AB28: =O29&" "&O30&" "&O31&" "&O32&" "&O33 -> 豬絞肉 冷凍花椰菜 胡蘿蔔 大蒜 | AC28: =R29&" "&R30&" "&R31&" "&R32&" "&R33 -> 蔬菜 大蒜 | AD28: =U29&" "&U30&" "&U31&" "&U32&" "&U33 -> 乾海帶 味噌 薑
I29: 米 | J29: 7 | K29: =IF(J29,"公斤","") -> 公斤 | L29: 肉雞 | M29: 9 | N29: =IF(M29,"公斤","") -> 公斤 | O29: 豬絞肉 | P29: 1 | Q29: =IF(P29,"公斤","") -> 公斤 | R29: 蔬菜 | S29: 7 | T29: =IF(S29,"公斤","") -> 公斤 | U29: 乾海帶 | V29: 0.15 | W29: =IF(V29,"公斤","") -> 公斤
I30: 糙米 | J30: 3 | K30: =IF(J30,"公斤","") -> 公斤 | L30: 馬鈴薯 | M30: 2 | N30: =IF(M30,"公斤","") -> 公斤 | O30: 冷凍花椰菜 | P30: 6 | Q30: =IF(P30,"公斤","") -> 公斤 | R30: 大蒜 | S30: 0.05 | T30: =IF(S30,"公斤","") -> 公斤 | U30: 味噌 | V30: 0.3 | W30: =IF(V30,"公斤","") -> 公斤
K31: =IF(J31,"公斤","") | L31: 洋蔥 | M31: 1 | N31: =IF(M31,"公斤","") -> 公斤 | O31: 胡蘿蔔 | P31: 0.5 | Q31: =IF(P31,"公斤","") -> 公斤 | T31: =IF(S31,"公斤","") | U31: 薑 | V31: 0.05 | W31: =IF(V31,"公斤","") -> 公斤
K32: =IF(J32,"公斤","") | L32: 胡蘿蔔 | M32: 1 | N32: =IF(M32,"公斤","") -> 公斤 | O32: 大蒜 | P32: 0.05 | Q32: =IF(P32,"公斤","") -> 公斤 | T32: =IF(S32,"公斤","") | W32: =IF(V32,"公斤","")
K33: =IF(J33,"公斤","") | L33: 咖哩粉 | N33: =IF(M33,"公斤","") | Q33: =IF(P33,"公斤","") | T33: =IF(S33,"公斤","") | W33: =IF(V33,"公斤","")
A34: g3 | B34: 2.5 | C34: 2.4 | D34: 1.4 | E34: 2 | G34: 0 | H34: =B34*70+E34*45+D34*25+F34*150+G34*60+C34*75 -> 480 | I34: 越南特餐 | L34: 美味雞翅 | O34: 特餐配料 | R34: 時蔬 | U34: 特餐湯底 | Y34: =A34 -> g3 | Z34: =I35&" "&I36&" "&I37&" "&I38&" "&I39 -> 米粉 | AA34: =L35&" "&L36&" "&L37&" "&L38&" "&L39 -> 三節翅 薑 滷包 | AB34: =O35&" "&O36&" "&O37&" "&O38&" "&O39 -> 豬後腿肉 甘藍 胡蘿蔔 九層塔 魚露 | AC34: =R35&" "&R36&" "&R37&" "&R38&" "&R39 -> 蔬菜 大蒜 | AD34: =U35&" "&U36&" "&U37&" "&U38&" "&U39 -> 白蘿蔔 胡蘿蔔 大骨 檸檬 南薑
I35: 米粉 | J35: 5 | K35: =IF(J35,"公斤","") -> 公斤 | L35: 三節翅 | M35: 9 | N35: =IF(M35,"公斤","") -> 公斤 | O35: 豬後腿肉 | P35: 2 | Q35: =IF(P35,"公斤","") -> 公斤 | R35: 蔬菜 | S35: 7 | T35: =IF(S35,"公斤","") -> 公斤 | U35: 白蘿蔔 | V35: 3 | W35: =IF(V35,"公斤","") -> 公斤
K36: =IF(J36,"公斤","") | L36: 薑 | M36: 0.05 | N36: =IF(M36,"公斤","") -> 公斤 | O36: 甘藍 | P36: 3 | Q36: =IF(P36,"公斤","") -> 公斤 | R36: 大蒜 | S36: 0.05 | T36: =IF(S36,"公斤","") -> 公斤 | U36: 胡蘿蔔 | V36: 0.5 | W36: =IF(V36,"公斤","") -> 公斤
K37: =IF(J37,"公斤","") | L37: 滷包 | N37: =IF(M37,"公斤","") | O37: 胡蘿蔔 | P37: 0.5 | Q37: =IF(P37,"公斤","") -> 公斤 | T37: =IF(S37,"公斤","") | U37: 大骨 | V37: 0.6 | W37: =IF(V37,"公斤","") -> 公斤
K38: =IF(J38,"公斤","") | N38: =IF(M38,"公斤","") | O38: 九層塔 | P38: 0.1 | Q38: =IF(P38,"公斤","") -> 公斤 | T38: =IF(S38,"公斤","") | U38: 檸檬 | W38: =IF(V38,"公斤","")
K39: =IF(J39,"公斤","") | N39: =IF(M39,"公斤","") | O39: 魚露 | Q39: =IF(P39,"公斤","") | T39: =IF(S39,"公斤","") | U39: 南薑 | W39: =IF(V39,"公斤","")
A40: g4 | B40: 5.8 | C40: 2.4 | D40: 1.2 | E40: 2 | G40: 0 | H40: =B40*70+E40*45+D40*25+F40*150+G40*60+C40*75 -> 706 | I40: 糙米飯 | L40: 塔香蔬菜龍虎斑 | O40: 蜜汁豆干 | R40: 時蔬 | U40: 銀耳甜湯 | Y40: =A40 -> g4 | Z40: =I41&" "&I42&" "&I43&" "&I44&" "&I45 -> 米 糙米 | AA40: =L41&" "&L42&" "&L43&" "&L44&" "&L45 -> 石斑魚丁 冷凍玉米筍 洋蔥 九層塔 大蒜 | AB40: =O41&" "&O42&" "&O43&" "&O44&" "&O45 -> 芝麻(熟) 豆干 大蒜 滷包 | AC40: =R41&" "&R42&" "&R43&" "&R44&" "&R45 -> 蔬菜 大蒜 | AD40: =U41&" "&U42&" "&U43&" "&U44&" "&U45 -> 乾銀耳 二砂糖 枸杞
...

Sheet f-j葷食國小月總表
B1: 111 | C1: 學年度 | D1: 國民小學 | E1: 葷食 | F1: 菜單 | G1: 循環
A2: 日期 | B2: 循環 | C2: 主食 | D2: 主食明細 | E2: 主菜 | F2: 主菜明細 | G2: 副菜一 | H2: 副菜一明細 | I2: 蔬菜 | J2: 蔬菜明細 | K2: 湯品 | L2: 湯品明細 | M2: 點心 | N2: 穀/份 | O2: 豆/份 | P2: 蔬/份 | Q2: 油/份 | R2: 乳/份 | S2: 果/份 | T2: 熱量
A3: 44986 | B3: ='f-j葷食國小'!A4 -> f3 | C3: ='f-j葷食國小'!I4 -> 拌飯特餐 | D3: ='f-j葷食國小'!Z4 -> 米 | E3: ='f-j葷食國小'!L4 -> 鳳梨雞丁 | F3: ='f-j葷食國小'!AA4 -> 肉雞 鳳梨罐頭 甜椒 洋蔥 | G3: ='f-j葷食國小'!O4 -> 拌飯配料 | H3: ='f-j葷食國小'!AB4 -> 豬絞肉 胡蘿蔔 甘藍 冷凍玉米粒 肉鬆 | I3: ='f-j葷食國小'!R4 -> 時蔬 | J3: ='f-j葷食國小'!AC4 -> 蔬菜 大蒜 | K3: ='f-j葷食國小'!U4 -> 三絲羹湯 | L3: ='f-j葷食國小'!AD4 -> 脆筍 胡蘿蔔 雞蛋 乾木耳 | M3: 小饅頭餅乾 | N3: ='f-j葷食國小'!B4 -> 5.2 | O3: ='f-j葷食國小'!C4 -> 2.9 | P3: ='f-j葷食國小'!D4 -> 1.1 | Q3: ='f-j葷食國小'!E4 -> 2.5 | R3: ='f-j葷食國小'!F4 -> 0 | S3: ='f-j葷食國小'!G4 -> 0.1 | T3: ='f-j葷食國小'!H4 -> 727.5
A4: =A3+1 -> 44987 | B4: ='f-j葷食國小'!A10 -> f4 | C4: ='f-j葷食國小'!I10 -> 糙米飯 | D4: ='f-j葷食國小'!Z10 -> 米 糙米 | E4: ='f-j葷食國小'!L10 -> 打拋豬 | F4: ='f-j葷食國小'!AA10 -> 豬絞肉 豆薯 九層塔 洋蔥 大番茄 | G4: ='f-j葷食國小'!O10 -> 芹香干片 | H4: ='f-j葷食國小'!AB10 -> 豆干 芹菜 秀珍菇 大蒜 | I4: ='f-j葷食國小'!R10 -> 時蔬 | J4: ='f-j葷食國小'!AC10 -> 蔬菜 大蒜 | K4: ='f-j葷食國小'!U10 -> 西米露湯 | L4: ='f-j葷食國小'!AD10 -> 西谷米 二砂糖 椰漿 | M4: 小餐包 | N4: ='f-j葷食國小'!B10 -> 6.3 | O4: ='f-j葷食國小'!C10 -> 2.8 | P4: ='f-j葷食國小'!D10 -> 1.5 | Q4: ='f-j葷食國小'!E10 -> 2.5 | R4: ='f-j葷食國小'!F10 -> 0 | S4: ='f-j葷食國小'!G10 -> 0 | T4: ='f-j葷食國小'!H10 -> 801
A5: =A4+1 -> 44988 | B5: ='f-j葷食國小'!A16 -> f5 | C5: ='f-j葷食國小'!I16 -> 麥仁飯 | D5: ='f-j葷食國小'!Z16 -> 米 大麥仁 | E5: ='f-j葷食國小'!L16 -> 照燒肉丁 | F5: ='f-j葷食國小'!AA16 -> 豬後腿肉 洋蔥 胡蘿蔔 醬油 二砂糖 | G5: ='f-j葷食國小'!O16 -> 蛋香白菜 | H5: ='f-j葷食國小'!AB16 -> 雞蛋 結球白菜 胡蘿蔔 大蒜 | I5: ='f-j葷食國小'!R16 -> 時蔬 | J5: ='f-j葷食國小'!AC16 -> 蔬菜 大蒜 | K5: ='f-j葷食國小'!U16 -> 紫菜湯 | L5: ='f-j葷食國小'!AD16 -> 紫菜 柴魚片 薑 | M5: 小饅頭餅乾 | N5: ='f-j葷食國小'!B16 -> 5.2 | O5: ='f-j葷食國小'!C16 -> 2.5 | P5: ='f-j葷食國小'!D16 -> 1.7 | Q5: ='f-j葷食國小'!E16 -> 2.5 | R5: ='f-j葷食國小'!F16 -> 0 | S5: ='f-j葷食國小'!G16 -> 0 | T5: ='f-j葷食國小'!H16 -> 706.5
A6: =A5+3 -> 44991 | B6: ='f-j葷食國小'!A22 -> g1 | C6: ='f-j葷食國小'!I22 -> 白米飯 | D6: ='f-j葷食國小'!Z22 -> 米 | E6: ='f-j葷食國小'!L22 -> 回鍋肉片 | F6: ='f-j葷食國小'!AA22 -> 豬後腿肉 洋蔥 胡蘿蔔 大蒜 甜麵醬 | G6: ='f-j葷食國小'!O22 -> 螞蟻上樹 | H6: ='f-j葷食國小'!AB22 -> 冬粉 豬絞肉 結球白菜 胡蘿蔔 乾木耳 | I6: ='f-j葷食國小'!R22 -> 時蔬 | J6: ='f-j葷食國小'!AC22 -> 蔬菜 大蒜 | K6: ='f-j葷食國小'!U22 -> 四神湯 | L6: ='f-j葷食國小'!AD22 -> 四神 豬大排 | M6: 營養口糧 | N6: ='f-j葷食國小'!B22 -> 5.8 | O6: ='f-j葷食國小'!C22 -> 3.4 | P6: ='f-j葷食國小'!D22 -> 1.1 | Q6: ='f-j葷食國小'!E22 -> 2.5 | R6: ='f-j葷食國小'!F22 -> 0 | S6: ='f-j葷食國小'!G22 -> 0 | T6: ='f-j葷食國小'!H22 -> 801
A7: =A6+1 -> 44992 | B7: ='f-j葷食國小'!A28 -> g2 | C7: ='f-j葷食國小'!I28 -> 糙米飯 | D7: ='f-j葷食國小'!Z28 -> 米 糙米 | E7: ='f-j葷食國小'!L28 -> 咖哩雞 | F7: ='f-j葷食國小'!AA28 -> 肉雞 馬鈴薯 洋蔥 胡蘿蔔 咖哩粉 | G7: ='f-j葷食國小'!O28 -> 雙色花椰 | H7: ='f-j葷食國小'!AB28 -> 豬絞肉 冷凍花椰菜 胡蘿蔔 大蒜 | I7: ='f-j葷食國小'!R28 -> 時蔬 | J7: ='f-j葷食國小'!AC28 -> 蔬菜 大蒜 | K7: ='f-j葷食國小'!U28 -> 味噌海芽湯 | L7: ='f-j葷食國小'!AD28 -> 乾海帶 味噌 薑 | M7: 營養口糧 | N7: ='f-j葷食國小'!B28 -> 5.3 | O7: ='f-j葷食國小'!C28 -> 3 | P7: ='f-j葷食國小'!D28 -> 1 | Q7: ='f-j葷食國小'!E28 -> 2 | R7: ='f-j葷食國小'!F28 -> 0 | S7: ='f-j葷食國小'!G28 -> 0 | T7: ='f-j葷食國小'!H28 -> 711
A8: =A7+1 -> 44993 | B8: ='f-j葷食國小'!A34 -> g3 | C8: ='f-j葷食國小'!I34 -> 越南特餐 | D8: ='f-j葷食國小'!Z34 -> 米粉 | E8: ='f-j葷食國小'!L34 -> 美味雞翅 | F8: ='f-j葷食國小'!AA34 -> 三節翅 薑 滷包 | G8: ='f-j葷食國小'!O34 -> 特餐配料 | H8: ='f-j葷食國小'!AB34 -> 豬後腿肉 甘藍 胡蘿蔔 九層塔 魚露 | I8: ='f-j葷食國小'!R34 -> 時蔬 | J8: ='f-j葷食國小'!AC34 -> 蔬菜 大蒜 | K8: ='f-j葷食國小'!U34 -> 特餐湯底 | L8: ='f-j葷食國小'!AD34 -> 白蘿蔔 胡蘿蔔 大骨 檸檬 南薑 | M8: 小餐包 | N8: ='f-j葷食國小'!B34 -> 2.5 | O8: ='f-j葷食國小'!C34 -> 2.4 | P8: ='f-j葷食國小'!D34 -> 1.4 | Q8: ='f-j葷食國小'!E34 -> 2 | R8: ='f-j葷食國小'!F34 -> 0 | S8: ='f-j葷食國小'!G34 -> 0 | T8: ='f-j葷食國小'!H34 -> 480
A9: =A8+1 -> 44994 | B9: ='f-j葷食國小'!A40 -> g4 | C9: ='f-j葷食國小'!I40 -> 糙米飯 | D9: ='f-j葷食國小'!Z40 -> 米 糙米 | E9: ='f-j葷食國小'!L40 -> 塔香蔬菜龍虎斑 | F9: ='f-j葷食國小'!AA40 -> 石斑魚丁 冷凍玉米筍 洋蔥 九層塔 大蒜 | G9: ='f-j葷食國小'!O40 -> 蜜汁豆干 | H9: ='f-j葷食國小'!AB40 -> 芝麻(熟) 豆干 大蒜 滷包 | I9: ='f-j葷食國小'!R40 -> 時蔬 | J9: ='f-j葷食國小'!AC40 -> 蔬菜 大蒜 | K9: ='f-j葷食國小'!U40 -> 銀耳甜湯 | L9: ='f-j葷食國小'!AD40 -> 乾銀耳 二砂糖 枸杞 | M9: 小饅頭餅乾 | N9: ='f-j葷食國小'!B40 -> 5.8 | O9: ='f-j葷食國小'!C40 -> 2.4 | P9: ='f-j葷食國小'!D40 -> 1.2 | Q9: ='f-j葷食國小'!E40 -> 2 | R9: ='f-j葷食國小'!F40 -> 0 | S9: ='f-j葷食國小'!G40 -> 0 | T9: ='f-j葷食國小'!H40 -> 706
A10: =A9+1 -> 44995 | B10: ='f-j葷食國小'!A46 -> g5 | C10: ='f-j葷食國小'!I46 -> 小米飯 | D10: ='f-j葷食國小'!Z46 -> 米 小米 | E10: ='f-j葷食國小'!L46 -> 海結滷肉 | F10: ='f-j葷食國小'!AA46 -> 豬後腿肉 乾海帶 胡蘿蔔 大蒜 | G10: ='f-j葷食國小'!O46 -> 麻婆豆腐 | H10: ='f-j葷食國小'!AB46 -> 豆腐 豬絞肉 大蒜 豆瓣醬 | I10: ='f-j葷食國小'!R46 -> 時蔬 | J10: ='f-j葷食國小'!AC46 -> 蔬菜 大蒜 | K10: ='f-j葷食國小'!U46 -> 鮮菇湯 | L10: ='f-j葷食國小'!AD46 -> 鮮香菇 豬大排 薑 胡蘿蔔 | M10: 小餐包 | N10: ='f-j葷食國小'!B46 -> 5.2 | O10: ='f-j葷食國小'!C46 -> 2.9 | P10: ='f-j葷食國小'!D46 -> 1.5 | Q10: ='f-j葷食國小'!E46 -> 2.5 | R10: ='f-j葷食國小'!F46 -> 0 | S10: ='f-j葷食國小'!G46 -> 0 | T10: ='f-j葷食國小'!H46 -> 731.5
A11: =A10+3 -> 44998 | B11: ='f-j葷食國小'!A52 -> h1 | C11: ='f-j葷食國小'!I52 -> 白米飯 | D11: ='f-j葷食國小'!Z52 -> 米 | E11: ='f-j葷食國小'!L52 -> 京醬肉絲 | F11: ='f-j葷食國小'!AA52 -> 豬後腿肉 豆薯 胡蘿蔔 甜麵醬 大蒜 | G11: ='f-j葷食國小'!O52 -> 吻仔魚炒蛋 | H11: ='f-j葷食國小'!AB52 -> 雞蛋 吻仔魚(加工) 大蒜 胡蘿蔔 | I11: ='f-j葷食國小'!R52 -> 時蔬 | J11: ='f-j葷食國小'!AC52 -> 蔬菜 大蒜 | K11: ='f-j葷食國小'!U52 -> 紫菜湯 | L11: ='f-j葷食國小'!AD52 -> 紫菜 柴魚片 薑 | M11: 豆奶 | N11: ='f-j葷食國小'!B52 -> 5.4 | O11: ='f-j葷食國小'!C52 -> 2.8 | P11: ='f-j葷食國小'!D52 -> 1 | Q11: ='f-j葷食國小'!E52 -> 3 | R11: ='f-j葷食國小'!F52 -> 0 | S11: ='f-j葷食國小'!G52 -> 0 | T11: ='f-j葷食國小'!H52 -> 748
A12: =A11+1 -> 44999 | B12: ='f-j葷食國小'!A58 -> h2 | C12: ='f-j葷食國小'!I58 -> 糙米飯 | D12: ='f-j葷食國小'!Z58 -> 米 糙米 | E12: ='f-j葷食國小'!L58 -> 醬瓜燒雞 | F12: ='f-j葷食國小'!AA58 -> 肉雞 醃漬花胡瓜 胡蘿蔔 大蒜 | G12: ='f-j葷食國小'!O58 -> 銀蘿黑輪 | H12: ='f-j葷食國小'!AB58 -> 白蘿蔔 黑輪 柴魚片 | I12: ='f-j葷食國小'!R58 -> 時蔬 | J12: ='f-j葷食國小'!AC58 -> 蔬菜 大蒜 | K12: ='f-j葷食國小'!U58 -> 番茄蛋花湯 | L12: ='f-j葷食國小'!AD58 -> 雞蛋 大番茄 薑 | M12: 小饅頭餅乾 | N12: ='f-j葷食國小'!B58 -> 5.2 | O12: ='f-j葷食國小'!C58 -> 2.9 | P12: ='f-j葷食國小'!D58 -> 1.6 | Q12: ='f-j葷食國小'!E58 -> 3 | R12: ='f-j葷食國小'!F58 -> 0 | S12: ='f-j葷食國小'!G58 -> 0 | T12: ='f-j葷食國小'!H58 -> 756.5
A13: =A12+1 -> 45000 | B13: ='f-j葷食國小'!A64 -> h3 | C13: ='f-j葷食國小'!I64 -> 油飯特餐 | D13: ='f-j葷食國小'!Z64 -> 米 糯米 | E13: ='f-j葷食國小'!L64 -> 香滷肉排 | F13: ='f-j葷食國小'!AA64 -> 肉排 滷包 | G13: ='f-j葷食國小'!O64 -> 油飯配料 | H13: ='f-j葷食國小'!AB64 -> 豬後腿肉 乾香菇 脆筍 紅蔥頭 | I13: ='f-j葷食國小'!R64 -> 時蔬 | J13: ='f-j葷食國小'!AC64 -> 蔬菜 大蒜 | K13: ='f-j葷食國小'!U64 -> 時瓜魚丸湯 | L13: ='f-j葷食國小'!AD64 -> 魚丸 時瓜 薑 | M13: 小餐包 | N13: ='f-j葷食國小'!B64 -> 5.2 | O13: ='f-j葷食國小'!C64 -> 2.8 | P13: ='f-j葷食國小'!D64 -> 1.4 | Q13: ='f-j葷食國小'!E64 -> 3 | R13: ='f-j葷食國小'!F64 -> 0 | S13: ='f-j葷食國小'!G64 -> 0 | T13: ='f-j葷食國小'!H64 -> 744
A14: =A13+1 -> 45001 | B14: ='f-j葷食國小'!A70 -> h4 | C14: ='f-j葷食國小'!I70 -> 糙米飯 | D14: ='f-j葷食國小'!Z70 -> 米 糙米 | E14: ='f-j葷食國小'!L70 -> 豆薯燒肉 | F14: ='f-j葷食國小'!AA70 -> 豬後腿肉 豆薯 胡蘿蔔 大蒜 | G14: ='f-j葷食國小'!O70 -> 鐵板豆腐 | H14: ='f-j葷食國小'!AB70 -> 豆腐 甜椒 豬絞肉 大蒜 | I14: ='f-j葷食國小'!R70 -> 時蔬 | J14: ='f-j葷食國小'!AC70 -> 蔬菜 大蒜 | K14: ='f-j葷食國小'!U70 -> 綠豆粉圓湯 | L14: ='f-j葷食國小'!AD70 -> 綠豆 二砂糖 粉圓 | M14: 小饅頭餅乾 | N14: ='f-j葷食國小'!B70 -> 6.7 | O14: ='f-j葷食國小'!C70 -> 2.5 | P14: ='f-j葷食國小'!D70 -> 1 | Q14: ='f-j葷食國小'!E70 -> 3 | R14: ='f-j葷食國小'!F70 -> 0 | S14: ='f-j葷食國小'!G70 -> 0 | T14: ='f-j葷食國小'!H70 -> 816.5
A15: =A14+1 -> 45002 | B15: ='f-j葷食國小'!A76 -> h5 | C15: ='f-j葷食國小'!I76 -> 紫米飯 | D15: ='f-j葷食國小'!Z76 -> 米 黑秈糯米 | E15: ='f-j葷食國小'!L76 -> 鮮燴魷魚 | F15: ='f-j葷食國小'!AA76 -> 阿根廷魷 豬後腿肉 脆筍 胡蘿蔔 鵪鶉蛋 | G15: ='f-j葷食國小'!O76 -> 豆包豆芽 | H15: ='f-j葷食國小'!AB76 -> 豆包 豆芽菜 胡蘿蔔 韮菜 大蒜 | I15: ='f-j葷食國小'!R76 -> 時蔬 | J15: ='f-j葷食國小'!AC76 -> 蔬菜 大蒜 | K15: ='f-j葷食國小'!U76 -> 針菇湯 | L15: ='f-j葷食國小'!AD76 -> 胡蘿蔔 金針菇 豬大排 薑 | M15: 小餐包 | N15: ='f-j葷食國小'!B76 -> 5.2 | O15: ='f-j葷食國小'!C76 -> 2.7 | P15: ='f-j葷食國小'!D76 -> 1.6 | Q15: ='f-j葷食國小'!E76 -> 3 | R15: ='f-j葷食國小'!F76 -> 0 | S15: ='f-j葷食國小'!G76 -> 0 | T15: ='f-j葷食國小'!H76 -> 741.5
A16: =A15+3 -> 45005 | B16: ='f-j葷食國小'!A82 -> i1 | C16: ='f-j葷食國小'!I82 -> 白米飯 | D16: ='f-j葷食國小'!Z82 -> 米 | E16: ='f-j葷食國小'!L82 -> 黑椒肉片 | F16: ='f-j葷食國小'!AA82 -> 豬後腿肉 甜椒 大蒜 黑胡椒 | G16: ='f-j葷食國小'!O82 -> 番茄炒蛋 | H16: ='f-j葷食國小'!AB82 -> 雞蛋 大番茄 大蒜 | I16: ='f-j葷食國小'!R82 -> 時蔬 | J16: ='f-j葷食國小'!AC82 -> 蔬菜 大蒜 | K16: ='f-j葷食國小'!U82 -> 白菜湯 | L16: ='f-j葷食國小'!AD82 -> 結球白菜 豬大排 薑 | M16: 營養口糧 | N16: ='f-j葷食國小'!B82 -> 5 | O16: ='f-j葷食國小'!C82 -> 3.2 | P16: ='f-j葷食國小'!D82 -> 2.4 | Q16: ='f-j葷食國小'!E82 -> 3 | R16: ='f-j葷食國小'!F82 -> 0 | S16: ='f-j葷食國小'!G82 -> 0 | T16: ='f-j葷食國小'!H82 -> 785
A17: =A16+1 -> 45006 | B17: ='f-j葷食國小'!A88 -> i2 | C17: ='f-j葷食國小'!I88 -> 糙米飯 | D17: ='f-j葷食國小'!Z88 -> 米 糙米 | E17: ='f-j葷食國小'!L88 -> 紅燒雞翅 | F17: ='f-j葷食國小'!AA88 -> 三節翅 大蒜 滷包 | G17: ='f-j葷食國小'!O88 -> 火腿玉菜 | H17: ='f-j葷食國小'!AB88 -> 甘藍 火腿 大蒜 | I17: ='f-j葷食國小'!R88 -> 時蔬 | J17: ='f-j葷食國小'!AC88 -> 蔬菜 大蒜 | K17: ='f-j葷食國小'!U88 -> 虱目魚皮湯 | L17: ='f-j葷食國小'!AD88 -> 虱目魚皮 薑 | M17: 營養口糧 | N17: ='f-j葷食國小'!B88 -> 5 | O17: ='f-j葷食國小'!C88 -> 4.2 | P17: ='f-j葷食國小'!D88 -> 1.2 | Q17: ='f-j葷食國小'!E88 -> 3 | R17: ='f-j葷食國小'!F88 -> 0 | S17: ='f-j葷食國小'!G88 -> 0 | T17: ='f-j葷食國小'!H88 -> 830
A18: =A17+1 -> 45007 | B18: ='f-j葷食國小'!A94 -> i3 | C18: ='f-j葷食國小'!I94 -> 西式特餐 | D18: ='f-j葷食國小'!Z94 -> 麵條 | E18: ='f-j葷食國小'!L94 -> 椒鹽魚排 | F18: ='f-j葷食國小'!AA94 -> 魚排 胡椒鹽 | G18: ='f-j葷食國小'!O94 -> 西式配料 | H18: ='f-j葷食國小'!AB94 -> 豬絞肉 洋蔥 胡蘿蔔 芹菜 蕃茄醬 | I18: ='f-j葷食國小'!R94 -> 時蔬 | J18: ='f-j葷食國小'!AC94 -> 蔬菜 大蒜 | K18: ='f-j葷食國小'!U94 -> 花椰濃湯 | L18: ='f-j葷食國小'!AD94 -> 雞蛋 冷凍花椰菜 玉米濃湯包 | M18: 小餐包 | N18: ='f-j葷食國小'!B94 -> 6 | O18: ='f-j葷食國小'!C94 -> 3 | P18: ='f-j葷食國小'!D94 -> 1.4 | Q18: ='f-j葷食國小'!E94 -> 3 | R18: ='f-j葷食國小'!F94 -> 0 | S18: ='f-j葷食國小'!G94 -> 0 | T18: ='f-j葷食國小'!H94 -> 815
A19: =A18+1 -> 45008 | B19: ='f-j葷食國小'!A100 -> i4 | C19: ='f-j葷食國小'!I100 -> 糙米飯 | D19: ='f-j葷食國小'!Z100 -> 米 糙米 | E19: ='f-j葷食國小'!L100 -> 咖哩雞 | F19: ='f-j葷食國小'!AA100 -> 肉雞 馬鈴薯 胡蘿蔔 洋蔥 咖哩粉 | G19: ='f-j葷食國小'!O100 -> 針菇豆腐 | H19: ='f-j葷食國小'!AB100 -> 豆腐 金針菇 豬絞肉 大蒜 | I19: ='f-j葷食國小'!R100 -> 時蔬 | J19: ='f-j葷食國小'!AC100 -> 蔬菜 大蒜 | K19: ='f-j葷食國小'!U100 -> 仙草甜湯 | L19: ='f-j葷食國小'!AD100 -> 仙草凍 二砂糖 | M19: 小饅頭餅乾 | N19: ='f-j葷食國小'!B100 -> 5.3 | O19: ='f-j葷食國小'!C100 -> 2.6 | P19: ='f-j葷食國小'!D100 -> 2.5 | Q19: ='f-j葷食國小'!E100 -> 3.1 | R19: ='f-j葷食國小'!F100 -> 0 | S19: ='f-j葷食國小'!G100 -> 0 | T19: ='f-j葷食國小'!H100 -> 768
A20: =A19+1 -> 45009 | B20: ='f-j葷食國小'!A106 -> i5 | C20: ='f-j葷食國小'!I106 -> 燕麥飯 | D20: ='f-j葷食國小'!Z106 -> 米 燕麥 | E20: ='f-j葷食國小'!L106 -> 筍干燒肉 | F20: ='f-j葷食國小'!AA106 -> 豬後腿肉 麻竹筍干 大蒜 | G20: ='f-j葷食國小'!O106 -> 鮮燴時蔬 | H20: ='f-j葷食國小'!AB106 -> 冷凍玉米筍 鵪鶉蛋 秀珍菇 胡蘿蔔 大蒜 | I20: ='f-j葷食國小'!R106 -> 時蔬 | J20: ='f-j葷食國小'!AC106 -> 蔬菜 大蒜 | K20: ='f-j葷食國小'!U106 -> 味噌豆皮湯 | L20: ='f-j葷食國小'!AD106 -> 豆皮 味噌 柴魚片 | M20: 小餐包 | N20: ='f-j葷食國小'!B106 -> 5.5 | O20: ='f-j葷食國小'!C106 -> 2.8 | P20: ='f-j葷食國小'!D106 -> 1.8 | Q20: ='f-j葷食國小'!E106 -> 3 | R20: ='f-j葷食國小'!F106 -> 0 | S20: ='f-j葷食國小'!G106 -> 0 | T20: ='f-j葷食國小'!H106 -> 775
A21: =A20+1 -> 45010 | B21: ='f-j葷食國小'!A112 -> f2 | C21: ='f-j葷食國小'!I112 -> 糙米飯 | D21: ='f-j葷食國小'!Z112 -> 米 糙米 | E21: ='f-j葷食國小'!L112 -> 花生肉片 | F21: ='f-j葷食國小'!AA112 -> 豬後腿肉 胡蘿蔔 花胡瓜 油花生 大蒜 | G21: ='f-j葷食國小'!O112 -> 碎脯豆干 | H21: ='f-j葷食國小'!AB112 -> 豆干 蘿蔔乾 大蒜 | I21: ='f-j葷食國小'!R112 -> 時蔬 | J21: ='f-j葷食國小'!AC112 -> 蔬菜 大蒜 | K21: ='f-j葷食國小'!U112 -> 蘿蔔湯 | L21: ='f-j葷食國小'!AD112 -> 白蘿蔔 豬大排 薑 | M21: 小饅頭餅乾 | N21: ='f-j葷食國小'!B112 -> 5 | O21: ='f-j葷食國小'!C112 -> 2.6 | P21: ='f-j葷食國小'!D112 -> 1.7 | Q21: ='f-j葷食國小'!E112 -> 2 | R21: ='f-j葷食國小'!F112 -> 0 | S21: ='f-j葷食國小'!G112 -> 0 | T21: ='f-j葷食國小'!H112 -> 677.5
A22: =A21+2 -> 45012 | B22: ='f-j葷食國小'!A118 -> j1 | C22: ='f-j葷食國小'!I118 -> 白米飯 | D22: ='f-j葷食國小'!Z118 -> 米 | E22: ='f-j葷食國小'!L118 -> 茄汁肉絲 | F22: ='f-j葷食國小'!AA118 -> 豬後腿肉 馬鈴薯 大番茄 大蒜 番茄醬 | G22: ='f-j葷食國小'!O118 -> 吻仔魚炒蛋 | H22: ='f-j葷食國小'!AB118 -> 雞蛋 吻仔魚(加工) 大蒜 胡蘿蔔 | I22: ='f-j葷食國小'!R118 -> 時蔬 | J22: ='f-j葷食國小'!AC118 -> 蔬菜 大蒜 | K22: ='f-j葷食國小'!U118 -> 金針湯 | L22: ='f-j葷食國小'!AD118 -> 金針菜乾 豬大排 薑 榨菜 | M22: 營養口糧 | N22: ='f-j葷食國小'!B118 -> 5.3 | O22: ='f-j葷食國小'!C118 -> 3.1 | P22: ='f-j葷食國小'!D118 -> 1.9 | Q22: ='f-j葷食國小'!E118 -> 3.2 | R22: ='f-j葷食國小'!F118 -> 0 | S22: ='f-j葷食國小'!G118 -> 0 | T22: ='f-j葷食國小'!H118 -> 795
A23: =A22+1 -> 45013 | B23: ='f-j葷食國小'!A124 -> j2 | C23: ='f-j葷食國小'!I124 -> 糙米飯 | D23: ='f-j葷食國小'!Z124 -> 米 糙米 | E23: ='f-j葷食國小'!L124 -> 醬瓜燒雞 | F23: ='f-j葷食國小'!AA124 -> 肉雞 醃漬花胡瓜 大蒜 | G23: ='f-j葷食國小'!O124 -> 絞肉豆芽 | H23: ='f-j葷食國小'!AB124 -> 綠豆芽 豬絞肉 韮菜 胡蘿蔔 大蒜 | I23: ='f-j葷食國小'!R124 -> 時蔬 | J23: ='f-j葷食國小'!AC124 -> 蔬菜 大蒜 | K23: ='f-j葷食國小'!U124 -> 海芽蛋花湯 | L23: ='f-j葷食國小'!AD124 -> 乾海帶 雞蛋 薑 | M23: 營養口糧 | N23: ='f-j葷食國小'!B124 -> 5 | O23: ='f-j葷食國小'!C124 -> 2.7 | P23: ='f-j葷食國小'!D124 -> 2.3 | Q23: ='f-j葷食國小'!E124 -> 3 | R23: ='f-j葷食國小'!F124 -> 0 | S23: ='f-j葷食國小'!G124 -> 0 | T23: ='f-j葷食國小'!H124 -> 745
A24: =A23+1 -> 45014 | B24: ='f-j葷食國小'!A130 -> j3 | C24: ='f-j葷食國小'!I130 -> 刈包特餐 | D24: ='f-j葷食國小'!Z130 -> 刈包 | E24: ='f-j葷食國小'!L130 -> 香滷肉排 | F24: ='f-j葷食國小'!AA130 -> 肉排 滷包 | G24: ='f-j葷食國小'!O130 -> 酸菜麵腸 | H24: ='f-j葷食國小'!AB130 -> 酸菜 麵腸 大蒜 | I24: ='f-j葷食國小'!R130 -> 時蔬 | J24: ='f-j葷食國小'!AC130 -> 蔬菜 大蒜 | K24: ='f-j葷食國小'!U130 -> 糙米粥 | L24: ='f-j葷食國小'!AD130 -> 雞蛋 糙米 胡蘿蔔 乾香菇 蒲瓜 | M24: 小餐包 | N24: ='f-j葷食國小'!B130 -> 4 | O24: ='f-j葷食國小'!C130 -> 3 | P24: ='f-j葷食國小'!D130 -> 2 | Q24: ='f-j葷食國小'!E130 -> 3 | R24: ='f-j葷食國小'!F130 -> 0 | S24: ='f-j葷食國小'!G130 -> 0 | T24: ='f-j葷食國小'!H130 -> 690
A25: =A24+1 -> 45015 | B25: ='f-j葷食國小'!A136 -> j4 | C25: ='f-j葷食國小'!I136 -> 糙米飯 | D25: ='f-j葷食國小'!Z136 -> 米 糙米 | E25: ='f-j葷食國小'!L136 -> 梅粉魚排 | F25: ='f-j葷食國小'!AA136 -> 魚排 梅子粉 | G25: ='f-j葷食國小'!O136 -> 筍干油腐 | H25: ='f-j葷食國小'!AB136 -> 麻竹筍干 四角油豆腐 大蒜 | I25: ='f-j葷食國小'!R136 -> 時蔬 | J25: ='f-j葷食國小'!AC136 -> 蔬菜 大蒜 | K25: ='f-j葷食國小'!U136 -> 紅豆湯 | L25: ='f-j葷食國小'!AD136 -> 紅豆 二砂糖 | M25: 小饅頭餅乾 | N25: ='f-j葷食國小'!B136 -> 6.4 | O25: ='f-j葷食國小'!C136 -> 3 | P25: ='f-j葷食國小'!D136 -> 1.6 | Q25: ='f-j葷食國小'!E136 -> 3 | R25: ='f-j葷食國小'!F136 -> 0 | S25: ='f-j葷食國小'!G136 -> 0 | T25: ='f-j葷食國小'!H136 -> 848
A26: =A25+1 -> 45016 | B26: ='f-j葷食國小'!A142 -> j5 | C26: ='f-j葷食國小'!I142 -> 芝麻飯 | D26: ='f-j葷食國小'!Z142 -> 米 芝麻(熟) | E26: ='f-j葷食國小'!L142 -> 泡菜燒肉 | F26: ='f-j葷食國小'!AA142 -> 豬後腿肉 韓式泡菜 甘藍 大蒜 | G26: ='f-j葷食國小'!O142 -> 魚香豆干 | H26: ='f-j葷食國小'!AB142 -> 小魚干 豆干 油花生 大蒜 | I26: ='f-j葷食國小'!R142 -> 時蔬 | J26: ='f-j葷食國小'!AC142 -> 蔬菜 大蒜 | K26: ='f-j葷食國小'!U142 -> 冬瓜湯 | L26: ='f-j葷食國小'!AD142 -> 冬瓜 薑 貢丸 | M26: 小餐包 | N26: ='f-j葷食國小'!B142 -> 5 | O26: ='f-j葷食國小'!C142 -> 3.4 | P26: ='f-j葷食國小'!D142 -> 2.2 | Q26: ='f-j葷食國小'!E142 -> 3.2 | R26: ='f-j葷食國小'!F142 -> 0 | S26: ='f-j葷食國小'!G142 -> 0 | T26: ='f-j葷食國小'!H142 -> 804
A29: 過敏警語:「本月產品含有蛋、芝麻、含麩之穀物、花生、大豆、魚類、亞硫酸鹽類及其相關製品，不適合其過敏體質者食用」
A30: 說明： | B30: 一、每周三、五蔬菜為有機蔬菜。
B31: 二、本菜單豬骨會以雞骨取代。
B32: 三、配合清明連假，3/25補行上課以f2循環供應。
B33: 四、為配合中央政府石斑魚專案政策，g4主菜改為塔香蔬菜龍虎斑供應。
B34: 五、為配合農委會三章一Q政策及避免食材重複，h5主菜改為鮮燴魷魚，j2副菜一改為肉絲白菜，j4主菜改為梅粉魚排供應。

Sheet f-j素食國小
A1: 要修正正確數值 | I1: 僅需貼上食材明細和重量，"公斤"和下一個分頁循環就會自己跑出來
A2: 食材明細（食材重量以100人份計量，營養分析以個人計量,其中肉雞包含23%骨頭之採購量，每周供應特餐一次，當日得混搭供應，國中4菜1湯，國小3菜1湯） | Y2: 統整區的檔案，連動到上方循環，後續給教育處的檔案，此處請自行隱藏
A3: 循環 | B3: 穀/份 | C3: 豆/份 | D3: 蔬/份 | E3: 油/份 | F3: 乳/份 | G3: 果/份 | H3: 熱量 | I3: 主食 | J3: 重/kg | K3: 公斤 | L3: 主菜 | M3: 重/kg | N3: 公斤 | O3: 副菜一 | P3: 重/kg | Q3: 公斤 | R3: 蔬菜 | S3: 重/kg | T3: 公斤 | U3: 湯品 | V3: 重/kg | W3: 公斤 | Z3: 主食 | AA3: 主菜 | AB3: 副菜一 | AC3: 蔬菜 | AD3: 湯品
A4: f3 | B4: 5.2 | C4: 2.3 | D4: 1.2 | E4: 2 | G4: 0 | H4: =B4*70+E4*45+D4*25+F4*150+G4*60+C4*75 -> 656.5 | I4: 拌飯特餐 | L4: 鳳梨素肉 | O4: 拌飯配料 | R4: 時蔬 | U4: 三絲羹湯 | Y4: =A4 -> f3 | Z4: =I5&" "&I6&" "&I7&" "&I8&" "&I9 -> 米 | AA4: =L5&" "&L6&" "&L7&" "&L8&" "&L9 -> 素肉 鳳梨罐頭 甜椒 | AB4: =O5&" "&O6&" "&O7&" "&O8&" "&O9 -> 豆包 胡蘿蔔 甘藍 冷凍玉米粒 素火腿 | AC4: =R5&" "&R6&" "&R7&" "&R8&" "&R9 -> 蔬菜 薑 | AD4: =U5&" "&U6&" "&U7&" "&U8&" "&U9 -> 脆筍 胡蘿蔔 雞蛋 乾木耳
I5: 米 | J5: 10 | K5: =IF(J5,"公斤","") -> 公斤 | L5: 素肉 | M5: 1.2 | N5: =IF(M5,"公斤","") -> 公斤 | O5: 豆包 | P5: 3 | Q5: =IF(P5,"公斤","") -> 公斤 | R5: 蔬菜 | S5: 7 | T5: =IF(S5,"公斤","") -> 公斤 | U5: 脆筍 | V5: 1 | W5: =IF(V5,"公斤","") -> 公斤
K6: =IF(J6,"公斤","") | L6: 鳳梨罐頭 | M6: 1.5 | N6: =IF(M6,"公斤","") -> 公斤 | O6: 胡蘿蔔 | P6: 0.5 | Q6: =IF(P6,"公斤","") -> 公斤 | R6: 薑 | S6: 0.05 | T6: =IF(S6,"公斤","") -> 公斤 | U6: 胡蘿蔔 | V6: 0.5 | W6: =IF(V6,"公斤","") -> 公斤
K7: =IF(J7,"公斤","") | L7: 甜椒 | M7: 2 | N7: =IF(M7,"公斤","") -> 公斤 | O7: 甘藍 | P7: 1.5 | Q7: =IF(P7,"公斤","") -> 公斤 | T7: =IF(S7,"公斤","") | U7: 雞蛋 | V7: 1.7 | W7: =IF(V7,"公斤","") -> 公斤
K8: =IF(J8,"公斤","") | N8: =IF(M8,"公斤","") | O8: 冷凍玉米粒 | P8: 1.5 | Q8: =IF(P8,"公斤","") -> 公斤 | T8: =IF(S8,"公斤","") | U8: 乾木耳 | V8: 0.01 | W8: =IF(V8,"公斤","") -> 公斤
K9: =IF(J9,"公斤","") | N9: =IF(M9,"公斤","") | O9: 素火腿 | P9: 0.7 | Q9: =IF(P9,"公斤","") -> 公斤 | T9: =IF(S9,"公斤","") | W9: =IF(V9,"公斤","")
A10: f4 | B10: 6.3 | C10: 2.6 | D10: 1.3 | E10: 2 | G10: 0 | H10: =B10*70+E10*45+D10*25+F10*150+G10*60+C10*75 -> 758.5 | I10: 糙米飯 | L10: 打拋麵腸 | O10: 芹香干片 | R10: 時蔬 | U10: 西米露湯 | Y10: =A10 -> f4 | Z10: =I11&" "&I12&" "&I13&" "&I14&" "&I15 -> 米 糙米 | AA10: =L11&" "&L12&" "&L13&" "&L14&" "&L15 -> 麵腸 豆薯 九層塔 大番茄 | AB10: =O11&" "&O12&" "&O13&" "&O14&" "&O15 -> 豆干 芹菜 秀珍菇 薑 | AC10: =R11&" "&R12&" "&R13&" "&R14&" "&R15 -> 蔬菜 薑 | AD10: =U11&" "&U12&" "&U13&" "&U14&" "&U15 -> 西谷米 二砂糖 椰漿
I11: 米 | J11: 7 | K11: =IF(J11,"公斤","") -> 公斤 | L11: 麵腸 | M11: 5.3 | N11: =IF(M11,"公斤","") -> 公斤 | O11: 豆干 | P11: 4 | Q11: =IF(P11,"公斤","") -> 公斤 | R11: 蔬菜 | S11: 7 | T11: =IF(S11,"公斤","") -> 公斤 | U11: 西谷米 | V11: 2 | W11: =IF(V11,"公斤","") -> 公斤
I12: 糙米 | J12: 3 | K12: =IF(J12,"公斤","") -> 公斤 | L12: 豆薯 | M12: 3 | N12: =IF(M12,"公斤","") -> 公斤 | O12: 芹菜 | P12: 0.5 | Q12: =IF(P12,"公斤","") -> 公斤 | R12: 薑 | S12: 0.05 | T12: =IF(S12,"公斤","") -> 公斤 | U12: 二砂糖 | V12: 1 | W12: =IF(V12,"公斤","") -> 公斤
K13: =IF(J13,"公斤","") | L13: 九層塔 | M13: 0.2 | N13: =IF(M13,"公斤","") -> 公斤 | O13: 秀珍菇 | P13: 1 | Q13: =IF(P13,"公斤","") -> 公斤 | T13: =IF(S13,"公斤","") | U13: 椰漿 | V13: 2 | W13: =IF(V13,"公斤","") -> 公斤
K14: =IF(J14,"公斤","") | L14: 大番茄 | M14: 2 | N14: =IF(M14,"公斤","") -> 公斤 | O14: 薑 | P14: 0.05 | Q14: =IF(P14,"公斤","") -> 公斤 | T14: =IF(S14,"公斤","") | W14: =IF(V14,"公斤","")
K15: =IF(J15,"公斤","") | N15: =IF(M15,"公斤","") | Q15: =IF(P15,"公斤","") | T15: =IF(S15,"公斤","") | W15: =IF(V15,"公斤","")
A16: f5 | B16: 5.2 | C16: 2.5 | D16: 2 | E16: 1 | G16: 0 | H16: =B16*70+E16*45+D16*25+F16*150+G16*60+C16*75 -> 646.5 | I16: 麥仁飯 | L16: 照燒油腐 | O16: 蛋香白菜 | R16: 時蔬 | U16: 紫菜湯 | Y16: =A16 -> f5 | Z16: =I17&" "&I18&" "&I19&" "&I20&" "&I21 -> 米 大麥仁 | AA16: =L17&" "&L18&" "&L19&" "&L20&" "&L21 -> 四角油豆腐 芹菜 胡蘿蔔 醬油 二砂糖 | AB16: =O17&" "&O18&" "&O19&" "&O20&" "&O21 -> 雞蛋 結球白菜 胡蘿蔔 薑 | AC16: =R17&" "&R18&" "&R19&" "&R20&" "&R21 -> 蔬菜 薑 | AD16: =U17&" "&U18&" "&U19&" "&U20&" "&U21 -> 紫菜 薑
I17: 米 | J17: 10 | K17: =IF(J17,"公斤","") -> 公斤 | L17: 四角油豆腐 | M17: 5.5 | N17: =IF(M17,"公斤","") -> 公斤 | O17: 雞蛋 | P17: 5.5 | Q17: =IF(P17,"公斤","") -> 公斤 | R17: 蔬菜 | S17: 7 | T17: =IF(S17,"公斤","") -> 公斤 | U17: 紫菜 | V17: 0.15 | W17: =IF(V17,"公斤","") -> 公斤
I18: 大麥仁 | J18: 0.4 | K18: =IF(J18,"公斤","") -> 公斤 | L18: 芹菜 | M18: 2 | N18: =IF(M18,"公斤","") -> 公斤 | O18: 結球白菜 | P18: 4 | Q18: =IF(P18,"公斤","") -> 公斤 | R18: 薑 | S18: 0.05 | T18: =IF(S18,"公斤","") -> 公斤 | U18: 薑 | V18: 0.05 | W18: =IF(V18,"公斤","") -> 公斤
K19: =IF(J19,"公斤","") | L19: 胡蘿蔔 | M19: 0.5 | N19: =IF(M19,"公斤","") -> 公斤 | O19: 胡蘿蔔 | P19: 0.5 | Q19: =IF(P19,"公斤","") -> 公斤 | T19: =IF(S19,"公斤","") | W19: =IF(V19,"公斤","")
K20: =IF(J20,"公斤","") | L20: 醬油 | N20: =IF(M20,"公斤","") | O20: 薑 | P20: 0.05 | Q20: =IF(P20,"公斤","") -> 公斤 | T20: =IF(S20,"公斤","") | W20: =IF(V20,"公斤","")
K21: =IF(J21,"公斤","") | L21: 二砂糖 | N21: =IF(M21,"公斤","") | Q21: =IF(P21,"公斤","") | T21: =IF(S21,"公斤","") | W21: =IF(V21,"公斤","")
A22: g1 | B22: 5.8 | C22: 3.3 | D22: 1.2 | E22: 2 | G22: 0 | H22: =B22*70+E22*45+D22*25+F22*150+G22*60+C22*75 -> 773.5 | I22: 白米飯 | L22: 回鍋豆包 | N22: =IF(M22,"公斤","") | O22: 螞蟻上樹 | R22: 時蔬 | U22: 四神湯 | Y22: =A22 -> g1 | Z22: =I23&" "&I24&" "&I25&" "&I26&" "&I27 -> 米 | AA22: =L23&" "&L24&" "&L25&" "&L26&" "&L27 -> 豆包 芹菜 胡蘿蔔 薑 甜麵醬 | AB22: =O23&" "&O24&" "&O25&" "&O26&" "&O27 -> 冬粉 素肉 結球白菜 胡蘿蔔 乾木耳 | AC22: =R23&" "&R24&" "&R25&" "&R26&" "&R27 -> 蔬菜 薑 | AD22: =U23&" "&U24&" "&U25&" "&U26&" "&U27 -> 四神 素羊肉
I23: 米 | J23: 10 | K23: =IF(J23,"公斤","") -> 公斤 | L23: 豆包 | M23: 6 | N23: =IF(M23,"公斤","") -> 公斤 | O23: 冬粉 | P23: 1.2 | Q23: =IF(P23,"公斤","") -> 公斤 | R23: 蔬菜 | S23: 7 | T23: =IF(S23,"公斤","") -> 公斤 | U23: 四神 | V23: 1.5 | W23: =IF(V23,"公斤","") -> 公斤
K24: =IF(J24,"公斤","") | L24: 芹菜 | M24: 3 | N24: =IF(M24,"公斤","") -> 公斤 | O24: 素肉 | P24: 0.4 | Q24: =IF(P24,"公斤","") -> 公斤 | R24: 薑 | S24: 0.05 | T24: =IF(S24,"公斤","") -> 公斤 | U24: 素羊肉 | V24: 1 | W24: =IF(V24,"公斤","") -> 公斤
K25: =IF(J25,"公斤","") | L25: 胡蘿蔔 | M25: 0.5 | N25: =IF(M25,"公斤","") -> 公斤 | O25: 結球白菜 | P25: 2 | Q25: =IF(P25,"公斤","") -> 公斤 | T25: =IF(S25,"公斤","") | W25: =IF(V25,"公斤","")
K26: =IF(J26,"公斤","") | L26: 薑 | M26: 0.05 | N26: =IF(M26,"公斤","") -> 公斤 | O26: 胡蘿蔔 | P26: 0.5 | Q26: =IF(P26,"公斤","") -> 公斤 | T26: =IF(S26,"公斤","") | W26: =IF(V26,"公斤","")
K27: =IF(J27,"公斤","") | L27: 甜麵醬 | N27: =IF(M27,"公斤","") | O27: 乾木耳 | P27: 0.01 | Q27: =IF(P27,"公斤","") -> 公斤 | T27: =IF(S27,"公斤","") | W27: =IF(V27,"公斤","")
A28: g2 | B28: 5.3 | C28: 2.2 | D28: 1 | E28: 2 | G28: 0 | H28: =B28*70+E28*45+D28*25+F28*150+G28*60+C28*75 -> 651 | I28: 糙米飯 | L28: 咖哩油腐 | O28: 雙色花椰 | R28: 時蔬 | U28: 味噌海芽湯 | Y28: =A28 -> g2 | Z28: =I29&" "&I30&" "&I31&" "&I32&" "&I33 -> 米 糙米 | AA28: =L29&" "&L30&" "&L31&" "&L32&" "&L33 -> 四角油豆腐 馬鈴薯 胡蘿蔔 咖哩粉 | AB28: =O29&" "&O30&" "&O31&" "&O32&" "&O33 -> 冷凍花椰菜 胡蘿蔔 薑 | AC28: =R29&" "&R30&" "&R31&" "&R32&" "&R33 -> 蔬菜 薑 | AD28: =U29&" "&U30&" "&U31&" "&U32&" "&U33 -> 乾海帶 味噌 薑
I29: 米 | J29: 7 | K29: =IF(J29,"公斤","") -> 公斤 | L29: 四角油豆腐 | M29: 5.5 | N29: =IF(M29,"公斤","") -> 公斤 | O29: 冷凍花椰菜 | P29: 6 | Q29: =IF(P29,"公斤","") -> 公斤 | R29: 蔬菜 | S29: 7 | T29: =IF(S29,"公斤","") -> 公斤 | U29: 乾海帶 | V29: 0.15 | W29: =IF(V29,"公斤","") -> 公斤
I30: 糙米 | J30: 3 | K30: =IF(J30,"公斤","") -> 公斤 | L30: 馬鈴薯 | M30: 2 | N30: =IF(M30,"公斤","") -> 公斤 | O30: 胡蘿蔔 | P30: 0.5 | Q30: =IF(P30,"公斤","") -> 公斤 | R30: 薑 | S30: 0.05 | T30: =IF(S30,"公斤","") -> 公斤 | U30: 味噌 | V30: 0.3 | W30: =IF(V30,"公斤","") -> 公斤
K31: =IF(J31,"公斤","") | L31: 胡蘿蔔 | M31: 0.5 | N31: =IF(M31,"公斤","") -> 公斤 | O31: 薑 | P31: 0.05 | Q31: =IF(P31,"公斤","") -> 公斤 | T31: =IF(S31,"公斤","") | U31: 薑 | V31: 0.05 | W31: =IF(V31,"公斤","") -> 公斤
K32: =IF(J32,"公斤","") | L32: 咖哩粉 | N32: =IF(M32,"公斤","") | Q32: =IF(P32,"公斤","") | T32: =IF(S32,"公斤","") | W32: =IF(V32,"公斤","")
K33: =IF(J33,"公斤","") | N33: =IF(M33,"公斤","") | Q33: =IF(P33,"公斤","") | T33: =IF(S33,"公斤","") | W33: =IF(V33,"公斤","")
A34: g3 | B34: 2.5 | C34: 2 | D34: 1.1 | E34: 2 | G34: 0 | H34: =B34*70+E34*45+D34*25+F34*150+G34*60+C34*75 -> 442.5 | I34: 越南特餐 | L34: 美味素排 | O34: 特餐配料 | R34: 時蔬 | U34: 特餐湯底 | Y34: =A34 -> g3 | Z34: =I35&" "&I36&" "&I37&" "&I38&" "&I39 -> 米粉 | AA34: =L35&" "&L36&" "&L37&" "&L38&" "&L39 -> 素排 | AB34: =O35&" "&O36&" "&O37&" "&O38&" "&O39 -> 豆干 甘藍 胡蘿蔔 九層塔 | AC34: =R35&" "&R36&" "&R37&" "&R38&" "&R39 -> 蔬菜 薑 | AD34: =U35&" "&U36&" "&U37&" "&U38&" "&U39 -> 白蘿蔔 胡蘿蔔 檸檬 南薑
I35: 米粉 | J35: 5 | K35: =IF(J35,"公斤","") -> 公斤 | L35: 素排 | M35: 6 | N35: =IF(M35,"公斤","") -> 公斤 | O35: 豆干 | P35: 4 | Q35: =IF(P35,"公斤","") -> 公斤 | R35: 蔬菜 | S35: 7 | T35: =IF(S35,"公斤","") -> 公斤 | U35: 白蘿蔔 | V35: 3 | W35: =IF(V35,"公斤","") -> 公斤
K36: =IF(J36,"公斤","") | N36: =IF(M36,"公斤","") | O36: 甘藍 | P36: 2 | Q36: =IF(P36,"公斤","") -> 公斤 | R36: 薑 | S36: 0.05 | T36: =IF(S36,"公斤","") -> 公斤 | U36: 胡蘿蔔 | V36: 0.5 | W36: =IF(V36,"公斤","") -> 公斤
K37: =IF(J37,"公斤","") | N37: =IF(M37,"公斤","") | O37: 胡蘿蔔 | P37: 0.5 | Q37: =IF(P37,"公斤","") -> 公斤 | T37: =IF(S37,"公斤","") | U37: 檸檬 | W37: =IF(V37,"公斤","")
K38: =IF(J38,"公斤","") | N38: =IF(M38,"公斤","") | O38: 九層塔 | P38: 0.1 | Q38: =IF(P38,"公斤","") -> 公斤 | T38: =IF(S38,"公斤","") | U38: 南薑 | W38: =IF(V38,"公斤","")
K39: =IF(J39,"公斤","") | N39: =IF(M39,"公斤","") | Q39: =IF(P39,"公斤","") | T39: =IF(S39,"公斤","") | W39: =IF(V39,"公斤","")
A40: g4 | B40: 5.8 | C40: 2.3 | D40: 1.2 | E40: 2 | G40: 0 | H40: =B40*70+E40*45+D40*25+F40*150+G40*60+C40*75 -> 698.5 | I40: 糙米飯 | L40: 塔香蔬菜麵腸 | O40: 蜜汁豆干 | R40: 時蔬 | U40: 銀耳甜湯 | Y40: =A40 -> g4 | Z40: =I41&" "&I42&" "&I43&" "&I44&" "&I45 -> 米 糙米 | AA40: =L41&" "&L42&" "&L43&" "&L44&" "&L45 -> 麵腸 冷凍玉米筍 芹菜 九層塔 薑 | AB40: =O41&" "&O42&" "&O43&" "&O44&" "&O45 -> 芝麻(熟) 豆干 薑 滷包 | AC40: =R41&" "&R42&" "&R43&" "&R44&" "&R45 -> 蔬菜 薑 | AD40: =U41&" "&U42&" "&U43&" "&U44&" "&U45 -> 乾銀耳 二砂糖 枸杞
...

Sheet f-j素食國小月總表
B1: 111 | C1: 學年度 | D1: 國民小學 | E1: 素食 | F1: 菜單 | G1: 循環
A2: 日期 | B2: 循環 | C2: 主食 | D2: 主食明細 | E2: 主菜 | F2: 主菜明細 | G2: 副菜一 | H2: 副菜一明細 | I2: 蔬菜 | J2: 蔬菜明細 | K2: 湯品 | L2: 湯品明細 | M2: 點心 | N2: 穀/份 | O2: 豆/份 | P2: 蔬/份 | Q2: 油/份 | R2: 乳/份 | S2: 果/份 | T2: 熱量
A3: 44986 | B3: ='f-j素食國小'!A4 -> f3 | C3: ='f-j素食國小'!I4 -> 拌飯特餐 | D3: ='f-j素食國小'!Z4 -> 米 | E3: ='f-j素食國小'!L4 -> 鳳梨素肉 | F3: ='f-j素食國小'!AA4 -> 素肉 鳳梨罐頭 甜椒 | G3: ='f-j素食國小'!O4 -> 拌飯配料 | H3: ='f-j素食國小'!AB4 -> 豆包 胡蘿蔔 甘藍 冷凍玉米粒 素火腿 | I3: ='f-j素食國小'!R4 -> 時蔬 | J3: ='f-j素食國小'!AC4 -> 蔬菜 薑 | K3: ='f-j素食國小'!U4 -> 三絲羹湯 | L3: ='f-j素食國小'!AD4 -> 脆筍 胡蘿蔔 雞蛋 乾木耳 | M3: 小饅頭餅乾 | N3: ='f-j素食國小'!B4 -> 5.2 | O3: ='f-j素食國小'!C4 -> 2.3 | P3: ='f-j素食國小'!D4 -> 1.2 | Q3: ='f-j素食國小'!E4 -> 2 | R3: ='f-j素食國小'!F4 -> 0 | S3: ='f-j素食國小'!G4 -> 0 | T3: ='f-j素食國小'!H4 -> 656.5
A4: =A3+1 -> 44987 | B4: ='f-j素食國小'!A10 -> f4 | C4: ='f-j素食國小'!I10 -> 糙米飯 | D4: ='f-j素食國小'!Z10 -> 米 糙米 | E4: ='f-j素食國小'!L10 -> 打拋麵腸 | F4: ='f-j素食國小'!AA10 -> 麵腸 豆薯 九層塔 大番茄 | G4: ='f-j素食國小'!O10 -> 芹香干片 | H4: ='f-j素食國小'!AB10 -> 豆干 芹菜 秀珍菇 薑 | I4: ='f-j素食國小'!R10 -> 時蔬 | J4: ='f-j素食國小'!AC10 -> 蔬菜 薑 | K4: ='f-j素食國小'!U10 -> 西米露湯 | L4: ='f-j素食國小'!AD10 -> 西谷米 二砂糖 椰漿 | M4: 小餐包 | N4: ='f-j素食國小'!B10 -> 6.3 | O4: ='f-j素食國小'!C10 -> 2.6 | P4: ='f-j素食國小'!D10 -> 1.3 | Q4: ='f-j素食國小'!E10 -> 2 | R4: ='f-j素食國小'!F10 -> 0 | S4: ='f-j素食國小'!G10 -> 0 | T4: ='f-j素食國小'!H10 -> 758.5
A5: =A4+1 -> 44988 | B5: ='f-j素食國小'!A16 -> f5 | C5: ='f-j素食國小'!I16 -> 麥仁飯 | D5: ='f-j素食國小'!Z16 -> 米 大麥仁 | E5: ='f-j素食國小'!L16 -> 照燒油腐 | F5: ='f-j素食國小'!AA16 -> 四角油豆腐 芹菜 胡蘿蔔 醬油 二砂糖 | G5: ='f-j素食國小'!O16 -> 蛋香白菜 | H5: ='f-j素食國小'!AB16 -> 雞蛋 結球白菜 胡蘿蔔 薑 | I5: ='f-j素食國小'!R16 -> 時蔬 | J5: ='f-j素食國小'!AC16 -> 蔬菜 薑 | K5: ='f-j素食國小'!U16 -> 紫菜湯 | L5: ='f-j素食國小'!AD16 -> 紫菜 薑 | M5: 小饅頭餅乾 | N5: ='f-j素食國小'!B16 -> 5.2 | O5: ='f-j素食國小'!C16 -> 2.5 | P5: ='f-j素食國小'!D16 -> 2 | Q5: ='f-j素食國小'!E16 -> 1 | R5: ='f-j素食國小'!F16 -> 0 | S5: ='f-j素食國小'!G16 -> 0 | T5: ='f-j素食國小'!H16 -> 646.5
A6: =A5+3 -> 44991 | B6: ='f-j素食國小'!A22 -> g1 | C6: ='f-j素食國小'!I22 -> 白米飯 | D6: ='f-j素食國小'!Z22 -> 米 | E6: ='f-j素食國小'!L22 -> 回鍋豆包 | F6: ='f-j素食國小'!AA22 -> 豆包 芹菜 胡蘿蔔 薑 甜麵醬 | G6: ='f-j素食國小'!O22 -> 螞蟻上樹 | H6: ='f-j素食國小'!AB22 -> 冬粉 素肉 結球白菜 胡蘿蔔 乾木耳 | I6: ='f-j素食國小'!R22 -> 時蔬 | J6: ='f-j素食國小'!AC22 -> 蔬菜 薑 | K6: ='f-j素食國小'!U22 -> 四神湯 | L6: ='f-j素食國小'!AD22 -> 四神 素羊肉 | M6: 營養口糧 | N6: ='f-j素食國小'!B22 -> 5.8 | O6: ='f-j素食國小'!C22 -> 3.3 | P6: ='f-j素食國小'!D22 -> 1.2 | Q6: ='f-j素食國小'!E22 -> 2 | R6: ='f-j素食國小'!F22 -> 0 | S6: ='f-j素食國小'!G22 -> 0 | T6: ='f-j素食國小'!H22 -> 773.5
A7: =A6+1 -> 44992 | B7: ='f-j素食國小'!A28 -> g2 | C7: ='f-j素食國小'!I28 -> 糙米飯 | D7: ='f-j素食國小'!Z28 -> 米 糙米 | E7: ='f-j素食國小'!L28 -> 咖哩油腐 | F7: ='f-j素食國小'!AA28 -> 四角油豆腐 馬鈴薯 胡蘿蔔 咖哩粉 | G7: ='f-j素食國小'!O28 -> 雙色花椰 | H7: ='f-j素食國小'!AB28 -> 冷凍花椰菜 胡蘿蔔 薑 | I7: ='f-j素食國小'!R28 -> 時蔬 | J7: ='f-j素食國小'!AC28 -> 蔬菜 薑 | K7: ='f-j素食國小'!U28 -> 味噌海芽湯 | L7: ='f-j素食國小'!AD28 -> 乾海帶 味噌 薑 | M7: 營養口糧 | N7: ='f-j素食國小'!B28 -> 5.3 | O7: ='f-j素食國小'!C28 -> 2.2 | P7: ='f-j素食國小'!D28 -> 1 | Q7: ='f-j素食國小'!E28 -> 2 | R7: ='f-j素食國小'!F28 -> 0 | S7: ='f-j素食國小'!G28 -> 0 | T7: ='f-j素食國小'!H28 -> 651
A8: =A7+1 -> 44993 | B8: ='f-j素食國小'!A34 -> g3 | C8: ='f-j素食國小'!I34 -> 越南特餐 | D8: ='f-j素食國小'!Z34 -> 米粉 | E8: ='f-j素食國小'!L34 -> 美味素排 | F8: ='f-j素食國小'!AA34 -> 素排 | G8: ='f-j素食國小'!O34 -> 特餐配料 | H8: ='f-j素食國小'!AB34 -> 豆干 甘藍 胡蘿蔔 九層塔 | I8: ='f-j素食國小'!R34 -> 時蔬 | J8: ='f-j素食國小'!AC34 -> 蔬菜 薑 | K8: ='f-j素食國小'!U34 -> 特餐湯底 | L8: ='f-j素食國小'!AD34 -> 白蘿蔔 胡蘿蔔 檸檬 南薑 | M8: 小餐包 | N8: ='f-j素食國小'!B34 -> 2.5 | O8: ='f-j素食國小'!C34 -> 2 | P8: ='f-j素食國小'!D34 -> 1.1 | Q8: ='f-j素食國小'!E34 -> 2 | R8: ='f-j素食國小'!F34 -> 0 | S8: ='f-j素食國小'!G34 -> 0 | T8: ='f-j素食國小'!H34 -> 442.5
A9: =A8+1 -> 44994 | B9: ='f-j素食國小'!A40 -> g4 | C9: ='f-j素食國小'!I40 -> 糙米飯 | D9: ='f-j素食國小'!Z40 -> 米 糙米 | E9: ='f-j素食國小'!L40 -> 塔香蔬菜麵腸 | F9: ='f-j素食國小'!AA40 -> 麵腸 冷凍玉米筍 芹菜 九層塔 薑 | G9: ='f-j素食國小'!O40 -> 蜜汁豆干 | H9: ='f-j素食國小'!AB40 -> 芝麻(熟) 豆干 薑 滷包 | I9: ='f-j素食國小'!R40 -> 時蔬 | J9: ='f-j素食國小'!AC40 -> 蔬菜 薑 | K9: ='f-j素食國小'!U40 -> 銀耳甜湯 | L9: ='f-j素食國小'!AD40 -> 乾銀耳 二砂糖 枸杞 | M9: 小饅頭餅乾 | N9: ='f-j素食國小'!B40 -> 5.8 | O9: ='f-j素食國小'!C40 -> 2.3 | P9: ='f-j素食國小'!D40 -> 1.2 | Q9: ='f-j素食國小'!E40 -> 2 | R9: ='f-j素食國小'!F40 -> 0 | S9: ='f-j素食國小'!G40 -> 0 | T9: ='f-j素食國小'!H40 -> 698.5
A10: =A9+1 -> 44995 | B10: ='f-j素食國小'!A46 -> g5 | C10: ='f-j素食國小'!I46 -> 小米飯 | D10: ='f-j素食國小'!Z46 -> 米 小米 | E10: ='f-j素食國小'!L46 -> 海結豆干 | F10: ='f-j素食國小'!AA46 -> 豆干 乾海帶 胡蘿蔔 薑 | G10: ='f-j素食國小'!O46 -> 家常豆腐 | H10: ='f-j素食國小'!AB46 -> 豆腐 甜椒 薑 豆瓣醬 | I10: ='f-j素食國小'!R46 -> 時蔬 | J10: ='f-j素食國小'!AC46 -> 蔬菜 薑 | K10: ='f-j素食國小'!U46 -> 鮮菇湯 | L10: ='f-j素食國小'!AD46 -> 鮮香菇 素羊肉 薑 胡蘿蔔 | M10: 小餐包 | N10: ='f-j素食國小'!B46 -> 5.2 | O10: ='f-j素食國小'!C46 -> 2.5 | P10: ='f-j素食國小'!D46 -> 1.6 | Q10: ='f-j素食國小'!E46 -> 2 | R10: ='f-j素食國小'!F46 -> 0 | S10: ='f-j素食國小'!G46 -> 0 | T10: ='f-j素食國小'!H46 -> 681.5
A11: =A10+3 -> 44998 | B11: ='f-j素食國小'!A52 -> h1 | C11: ='f-j素食國小'!I52 -> 白米飯 | D11: ='f-j素食國小'!Z52 -> 米 | E11: ='f-j素食國小'!L52 -> 京醬豆干 | F11: ='f-j素食國小'!AA52 -> 豆干 豆薯 胡蘿蔔 甜麵醬 薑 | G11: ='f-j素食國小'!O52 -> 鮮菇炒蛋 | H11: ='f-j素食國小'!AB52 -> 雞蛋 鮮香菇 薑 | I11: ='f-j素食國小'!R52 -> 時蔬 | J11: ='f-j素食國小'!AC52 -> 蔬菜 薑 | K11: ='f-j素食國小'!U52 -> 紫菜湯 | L11: ='f-j素食國小'!AD52 -> 紫菜 薑 | M11: 豆奶 | N11: ='f-j素食國小'!B52 -> 5.4 | O11: ='f-j素食國小'!C52 -> 2.5 | P11: ='f-j素食國小'!D52 -> 1 | Q11: ='f-j素食國小'!E52 -> 3 | R11: ='f-j素食國小'!F52 -> 0 | S11: ='f-j素食國小'!G52 -> 0 | T11: ='f-j素食國小'!H52 -> 725.5
A12: =A11+1 -> 44999 | B12: ='f-j素食國小'!A58 -> h2 | C12: ='f-j素食國小'!I58 -> 糙米飯 | D12: ='f-j素食國小'!Z58 -> 米 糙米 | E12: ='f-j素食國小'!L58 -> 醬燒麵腸 | F12: ='f-j素食國小'!AA58 -> 麵腸 醃漬花胡瓜 胡蘿蔔 薑 | G12: ='f-j素食國小'!O58 -> 銀蘿黑輪 | H12: ='f-j素食國小'!AB58 -> 白蘿蔔 素黑輪 薑 | I12: ='f-j素食國小'!R58 -> 時蔬 | J12: ='f-j素食國小'!AC58 -> 蔬菜 薑 | K12: ='f-j素食國小'!U58 -> 番茄蛋花湯 | L12: ='f-j素食國小'!AD58 -> 雞蛋 大番茄 薑 | M12: 小饅頭餅乾 | N12: ='f-j素食國小'!B58 -> 5.2 | O12: ='f-j素食國小'!C58 -> 2.2 | P12: ='f-j素食國小'!D58 -> 1.6 | Q12: ='f-j素食國小'!E58 -> 3 | R12: ='f-j素食國小'!F58 -> 0 | S12: ='f-j素食國小'!G58 -> 0 | T12: ='f-j素食國小'!H58 -> 704
A13: =A12+1 -> 45000 | B13: ='f-j素食國小'!A64 -> h3 | C13: ='f-j素食國小'!I64 -> 油飯特餐 | D13: ='f-j素食國小'!Z64 -> 米 糯米 | E13: ='f-j素食國小'!L64 -> 香滷油腐 | F13: ='f-j素食國小'!AA64 -> 四角油豆腐 | G13: ='f-j素食國小'!O64 -> 油飯配料 | H13: ='f-j素食國小'!AB64 -> 豆干 乾香菇 脆筍 | I13: ='f-j素食國小'!R64 -> 時蔬 | J13: ='f-j素食國小'!AC64 -> 蔬菜 薑 | K13: ='f-j素食國小'!U64 -> 時瓜素丸湯 | L13: ='f-j素食國小'!AD64 -> 素丸 時瓜 薑 | M13: 小餐包 | N13: ='f-j素食國小'!B64 -> 5.2 | O13: ='f-j素食國小'!C64 -> 2 | P13: ='f-j素食國小'!D64 -> 1.3 | Q13: ='f-j素食國小'!E64 -> 3 | R13: ='f-j素食國小'!F64 -> 0 | S13: ='f-j素食國小'!G64 -> 0 | T13: ='f-j素食國小'!H64 -> 681.5
A14: =A13+1 -> 45001 | B14: ='f-j素食國小'!A70 -> h4 | C14: ='f-j素食國小'!I70 -> 糙米飯 | D14: ='f-j素食國小'!Z70 -> 米 糙米 | E14: ='f-j素食國小'!L70 -> 豆薯豆干 | F14: ='f-j素食國小'!AA70 -> 豆干 豆薯 胡蘿蔔 薑 | G14: ='f-j素食國小'!O70 -> 鐵板豆腐 | H14: ='f-j素食國小'!AB70 -> 豆腐 甜椒 薑 | I14: ='f-j素食國小'!R70 -> 時蔬 | J14: ='f-j素食國小'!AC70 -> 蔬菜 薑 | K14: ='f-j素食國小'!U70 -> 綠豆粉圓湯 | L14: ='f-j素食國小'!AD70 -> 綠豆 二砂糖 粉圓 | M14: 小饅頭餅乾 | N14: ='f-j素食國小'!B70 -> 6.7 | O14: ='f-j素食國小'!C70 -> 2.5 | P14: ='f-j素食國小'!D70 -> 1 | Q14: ='f-j素食國小'!E70 -> 3.1 | R14: ='f-j素食國小'!F70 -> 0 | S14: ='f-j素食國小'!G70 -> 0 | T14: ='f-j素食國小'!H70 -> 821
A15: =A14+1 -> 45002 | B15: ='f-j素食國小'!A76 -> h5 | C15: ='f-j素食國小'!I76 -> 紫米飯 | D15: ='f-j素食國小'!Z76 -> 米 黑秈糯米 | E15: ='f-j素食國小'!L76 -> 沙茶麵腸 | F15: ='f-j素食國小'!AA76 -> 麵腸 芹菜 薑 素沙茶醬 鵪鶉蛋 | G15: ='f-j素食國小'!O76 -> 豆包豆芽 | H15: ='f-j素食國小'!AB76 -> 豆包 豆芽菜 胡蘿蔔 薑 | I15: ='f-j素食國小'!R76 -> 時蔬 | J15: ='f-j素食國小'!AC76 -> 蔬菜 薑 | K15: ='f-j素食國小'!U76 -> 針菇湯 | L15: ='f-j素食國小'!AD76 -> 胡蘿蔔 金針菇 薑 素羊肉 | M15: 小餐包 | N15: ='f-j素食國小'!B76 -> 5.2 | O15: ='f-j素食國小'!C76 -> 2.7 | P15: ='f-j素食國小'!D76 -> 1.7 | Q15: ='f-j素食國小'!E76 -> 3 | R15: ='f-j素食國小'!F76 -> 0 | S15: ='f-j素食國小'!G76 -> 0 | T15: ='f-j素食國小'!H76 -> 744
A16: =A15+3 -> 45005 | B16: ='f-j素食國小'!A82 -> i1 | C16: ='f-j素食國小'!I82 -> 白米飯 | D16: ='f-j素食國小'!Z82 -> 米 | E16: ='f-j素食國小'!L82 -> 黑椒麵腸 | F16: ='f-j素食國小'!AA82 -> 麵腸 甜椒 薑 黑胡椒 | G16: ='f-j素食國小'!O82 -> 番茄炒蛋 | H16: ='f-j素食國小'!AB82 -> 雞蛋 大番茄 薑 | I16: ='f-j素食國小'!R82 -> 時蔬 | J16: ='f-j素食國小'!AC82 -> 蔬菜 薑 | K16: ='f-j素食國小'!U82 -> 白菜湯 | L16: ='f-j素食國小'!AD82 -> 結球白菜 薑 素羊肉 | M16: 營養口糧 | N16: ='f-j素食國小'!B82 -> 5 | O16: ='f-j素食國小'!C82 -> 3.2 | P16: ='f-j素食國小'!D82 -> 2.4 | Q16: ='f-j素食國小'!E82 -> 3 | R16: ='f-j素食國小'!F82 -> 0 | S16: ='f-j素食國小'!G82 -> 0 | T16: ='f-j素食國小'!H82 -> 785
A17: =A16+1 -> 45006 | B17: ='f-j素食國小'!A88 -> i2 | C17: ='f-j素食國小'!I88 -> 糙米飯 | D17: ='f-j素食國小'!Z88 -> 米 糙米 | E17: ='f-j素食國小'!L88 -> 美味素排 | F17: ='f-j素食國小'!AA88 -> 素排 | G17: ='f-j素食國小'!O88 -> 火腿玉菜 | H17: ='f-j素食國小'!AB88 -> 甘藍 火腿 薑 | I17: ='f-j素食國小'!R88 -> 時蔬 | J17: ='f-j素食國小'!AC88 -> 蔬菜 薑 | K17: ='f-j素食國小'!U88 -> 紫菜素丸湯 | L17: ='f-j素食國小'!AD88 -> 紫菜 薑 素丸 | M17: 營養口糧 | N17: ='f-j素食國小'!B88 -> 5 | O17: ='f-j素食國小'!C88 -> 4.2 | P17: ='f-j素食國小'!D88 -> 1.2 | Q17: ='f-j素食國小'!E88 -> 3 | R17: ='f-j素食國小'!F88 -> 0 | S17: ='f-j素食國小'!G88 -> 0 | T17: ='f-j素食國小'!H88 -> 830
A18: =A17+1 -> 45007 | B18: ='f-j素食國小'!A94 -> i3 | C18: ='f-j素食國小'!I94 -> 西式特餐 | D18: ='f-j素食國小'!Z94 -> 麵條 | E18: ='f-j素食國小'!L94 -> 美味豆包 | F18: ='f-j素食國小'!AA94 -> 豆包 | G18: ='f-j素食國小'!O94 -> 西式配料 | H18: ='f-j素食國小'!AB94 -> 素肉 大番茄 胡蘿蔔 芹菜 蕃茄醬 | I18: ='f-j素食國小'!R94 -> 時蔬 | J18: ='f-j素食國小'!AC94 -> 蔬菜 薑 | K18: ='f-j素食國小'!U94 -> 花椰濃湯 | L18: ='f-j素食國小'!AD94 -> 雞蛋 冷凍花椰菜 玉米濃湯包 | M18: 小餐包 | N18: ='f-j素食國小'!B94 -> 6 | O18: ='f-j素食國小'!C94 -> 3 | P18: ='f-j素食國小'!D94 -> 1.4 | Q18: ='f-j素食國小'!E94 -> 3 | R18: ='f-j素食國小'!F94 -> 0 | S18: ='f-j素食國小'!G94 -> 0 | T18: ='f-j素食國小'!H94 -> 815
A19: =A18+1 -> 45008 | B19: ='f-j素食國小'!A100 -> i4 | C19: ='f-j素食國小'!I100 -> 糙米飯 | D19: ='f-j素食國小'!Z100 -> 米 糙米 | E19: ='f-j素食國小'!L100 -> 咖哩豆干 | F19: ='f-j素食國小'!AA100 -> 豆干 馬鈴薯 胡蘿蔔 芹菜 咖哩粉 | G19: ='f-j素食國小'!O100 -> 甜椒豆腐 | H19: ='f-j素食國小'!AB100 -> 豆腐 金針菇 甜椒 薑 | I19: ='f-j素食國小'!R100 -> 時蔬 | J19: ='f-j素食國小'!AC100 -> 蔬菜 薑 | K19: ='f-j素食國小'!U100 -> 仙草甜湯 | L19: ='f-j素食國小'!AD100 -> 仙草凍 二砂糖 | M19: 小饅頭餅乾 | N19: ='f-j素食國小'!B100 -> 5.3 | O19: ='f-j素食國小'!C100 -> 2.6 | P19: ='f-j素食國小'!D100 -> 2.5 | Q19: ='f-j素食國小'!E100 -> 3.1 | R19: ='f-j素食國小'!F100 -> 0 | S19: ='f-j素食國小'!G100 -> 0 | T19: ='f-j素食國小'!H100 -> 768
A20: =A19+1 -> 45009 | B20: ='f-j素食國小'!A106 -> i5 | C20: ='f-j素食國小'!I106 -> 燕麥飯 | D20: ='f-j素食國小'!Z106 -> 米 燕麥 | E20: ='f-j素食國小'!L106 -> 筍干麵輪 | F20: ='f-j素食國小'!AA106 -> 麵輪 麻竹筍干 薑 | G20: ='f-j素食國小'!O106 -> 鮮燴時蔬 | H20: ='f-j素食國小'!AB106 -> 冷凍玉米筍 鵪鶉蛋 脆筍 秀珍菇 薑 | I20: ='f-j素食國小'!R106 -> 時蔬 | J20: ='f-j素食國小'!AC106 -> 蔬菜 薑 | K20: ='f-j素食國小'!U106 -> 味噌豆皮湯 | L20: ='f-j素食國小'!AD106 -> 豆皮 味噌 | M20: 小餐包 | N20: ='f-j素食國小'!B106 -> 5.5 | O20: ='f-j素食國小'!C106 -> 2.8 | P20: ='f-j素食國小'!D106 -> 1.8 | Q20: ='f-j素食國小'!E106 -> 3 | R20: ='f-j素食國小'!F106 -> 0 | S20: ='f-j素食國小'!G106 -> 0 | T20: ='f-j素食國小'!H106 -> 775
A21: =A20+1 -> 45010 | B21: ='f-j素食國小'!A112 -> f2 | C21: ='f-j素食國小'!I112 -> 糙米飯 | D21: ='f-j素食國小'!Z112 -> 米 糙米 | E21: ='f-j素食國小'!L112 -> 花生麵腸 | F21: ='f-j素食國小'!AA112 -> 麵腸 胡蘿蔔 花胡瓜 油花生 薑 | G21: ='f-j素食國小'!O112 -> 碎脯豆干 | H21: ='f-j素食國小'!AB112 -> 豆干 蘿蔔乾 薑 | I21: ='f-j素食國小'!R112 -> 時蔬 | J21: ='f-j素食國小'!AC112 -> 蔬菜 薑 | K21: ='f-j素食國小'!U112 -> 蘿蔔湯 | L21: ='f-j素食國小'!AD112 -> 白蘿蔔 薑 素羊肉 | M21: 小饅頭餅乾 | N21: ='f-j素食國小'!B112 -> 5 | O21: ='f-j素食國小'!C112 -> 2 | P21: ='f-j素食國小'!D112 -> 1.7 | Q21: ='f-j素食國小'!E112 -> 2.5 | R21: ='f-j素食國小'!F112 -> 0 | S21: ='f-j素食國小'!G112 -> 0 | T21: ='f-j素食國小'!H112 -> 655
A22: =A21+2 -> 45012 | B22: ='f-j素食國小'!A118 -> j1 | C22: ='f-j素食國小'!I118 -> 白米飯 | D22: ='f-j素食國小'!Z118 -> 米 | E22: ='f-j素食國小'!L118 -> 茄汁凍腐 | F22: ='f-j素食國小'!AA118 -> 凍豆腐 馬鈴薯 大番茄 薑 番茄醬 | G22: ='f-j素食國小'!O118 -> 塔香炒蛋 | H22: ='f-j素食國小'!AB118 -> 雞蛋 九層塔 薑 鮮香菇 | I22: ='f-j素食國小'!R118 -> 時蔬 | J22: ='f-j素食國小'!AC118 -> 蔬菜 薑 | K22: ='f-j素食國小'!U118 -> 金針湯 | L22: ='f-j素食國小'!AD118 -> 金針菜乾 薑 榨菜 素羊肉 | M22: 營養口糧 | N22: ='f-j素食國小'!B118 -> 5.3 | O22: ='f-j素食國小'!C118 -> 3.1 | P22: ='f-j素食國小'!D118 -> 1.9 | Q22: ='f-j素食國小'!E118 -> 3.2 | R22: ='f-j素食國小'!F118 -> 0 | S22: ='f-j素食國小'!G118 -> 0 | T22: ='f-j素食國小'!H118 -> 795
A23: =A22+1 -> 45013 | B23: ='f-j素食國小'!A124 -> j2 | C23: ='f-j素食國小'!I124 -> 糙米飯 | D23: ='f-j素食國小'!Z124 -> 米 糙米 | E23: ='f-j素食國小'!L124 -> 醬瓜豆干 | F23: ='f-j素食國小'!AA124 -> 豆干 醃漬花胡瓜 薑 | G23: ='f-j素食國小'!O124 -> 絞若豆芽 | H23: ='f-j素食國小'!AB124 -> 綠豆芽 素肉 胡蘿蔔 薑 | I23: ='f-j素食國小'!R124 -> 時蔬 | J23: ='f-j素食國小'!AC124 -> 蔬菜 薑 | K23: ='f-j素食國小'!U124 -> 海芽蛋花湯 | L23: ='f-j素食國小'!AD124 -> 乾海帶 雞蛋 薑 | M23: 營養口糧 | N23: ='f-j素食國小'!B124 -> 5 | O23: ='f-j素食國小'!C124 -> 2.7 | P23: ='f-j素食國小'!D124 -> 2.3 | Q23: ='f-j素食國小'!E124 -> 3 | R23: ='f-j素食國小'!F124 -> 0 | S23: ='f-j素食國小'!G124 -> 0 | T23: ='f-j素食國小'!H124 -> 745
A24: =A23+1 -> 45014 | B24: ='f-j素食國小'!A130 -> j3 | C24: ='f-j素食國小'!I130 -> 刈包特餐 | D24: ='f-j素食國小'!Z130 -> 刈包 | E24: ='f-j素食國小'!L130 -> 美味素排 | F24: ='f-j素食國小'!AA130 -> 素排 | G24: ='f-j素食國小'!O130 -> 酸菜麵腸 | H24: ='f-j素食國小'!AB130 -> 酸菜 麵腸 薑 | I24: ='f-j素食國小'!R130 -> 時蔬 | J24: ='f-j素食國小'!AC130 -> 蔬菜 薑 | K24: ='f-j素食國小'!U130 -> 糙米粥 | L24: ='f-j素食國小'!AD130 -> 雞蛋 糙米 胡蘿蔔 乾香菇 蒲瓜 | M24: 小餐包 | N24: ='f-j素食國小'!B130 -> 4 | O24: ='f-j素食國小'!C130 -> 3 | P24: ='f-j素食國小'!D130 -> 2 | Q24: ='f-j素食國小'!E130 -> 3 | R24: ='f-j素食國小'!F130 -> 0 | S24: ='f-j素食國小'!G130 -> 0 | T24: ='f-j素食國小'!H130 -> 690
A25: =A24+1 -> 45015 | B25: ='f-j素食國小'!A136 -> j4 | C25: ='f-j素食國小'!I136 -> 糙米飯 | D25: ='f-j素食國小'!Z136 -> 米 糙米 | E25: ='f-j素食國小'!L136 -> 滷煎蒸炒滑蛋 | F25: ='f-j素食國小'!AA136 -> 雞蛋 | G25: ='f-j素食國小'!O136 -> 筍干油腐 | H25: ='f-j素食國小'!AB136 -> 麻竹筍干 四角油豆腐 薑 | I25: ='f-j素食國小'!R136 -> 時蔬 | J25: ='f-j素食國小'!AC136 -> 蔬菜 薑 | K25: ='f-j素食國小'!U136 -> 紅豆湯 | L25: ='f-j素食國小'!AD136 -> 紅豆 二砂糖 | M25: 小饅頭餅乾 | N25: ='f-j素食國小'!B136 -> 6.4 | O25: ='f-j素食國小'!C136 -> 3 | P25: ='f-j素食國小'!D136 -> 1.6 | Q25: ='f-j素食國小'!E136 -> 3 | R25: ='f-j素食國小'!F136 -> 0 | S25: ='f-j素食國小'!G136 -> 0 | T25: ='f-j素食國小'!H136 -> 848
A26: =A25+1 -> 45016 | B26: ='f-j素食國小'!A142 -> j5 | C26: ='f-j素食國小'!I142 -> 芝麻飯 | D26: ='f-j素食國小'!Z142 -> 米 芝麻(熟) | E26: ='f-j素食國小'!L142 -> 泡菜豆包 | F26: ='f-j素食國小'!AA142 -> 豆包 韓式泡菜 甘藍 薑 | G26: ='f-j素食國小'!O142 -> 花生豆干 | H26: ='f-j素食國小'!AB142 -> 豆干 油花生 薑 | I26: ='f-j素食國小'!R142 -> 時蔬 | J26: ='f-j素食國小'!AC142 -> 蔬菜 薑 | K26: ='f-j素食國小'!U142 -> 冬瓜湯 | L26: ='f-j素食國小'!AD142 -> 冬瓜 薑 素丸 | M26: 小餐包 | N26: ='f-j素食國小'!B142 -> 5 | O26: ='f-j素食國小'!C142 -> 3.4 | P26: ='f-j素食國小'!D142 -> 2.2 | Q26: ='f-j素食國小'!E142 -> 3.2 | R26: ='f-j素食國小'!F142 -> 0 | S26: ='f-j素食國小'!G142 -> 0 | T26: ='f-j素食國小'!H142 -> 804
A29: 過敏警語:「本月產品含有蛋、芝麻、含麩之穀物、花生、大豆、魚類、亞硫酸鹽類及其相關製品，不適合其過敏體質者食用」
A30: 說明： | B30: 一、每周三、五蔬菜為有機蔬菜。
B31: 二、配合清明連假，3/25補行上課以f2循環供應。
B32: 三、為配合中央政府石斑魚專案政策，g4主菜改為塔香蔬菜麵腸供應。
B33: 四、為配合農委會三章一Q政策及避免食材重複，h5主菜改為沙茶麵腸，j4主菜改為滷煎蒸炒滑蛋供應。
