Workbook

Sheet 國中
A1: 111 | E1: 110 | F1: 學年度 | G1: 第二學期 | H1: 國民中學 | I1: 6 | J1: 月 | K1: 素食菜單 | L1: 津吉 | O1: =TODAY() -> 44712
A2: 日期 | B2: 星期 | C2: 循環 | D2: 主食 | E2: 主食食材明細 | F2: 主菜 | G2: 主菜食材明細 | H2: 副菜一 | I2: 副菜一食材明細 | K2: 副菜二 | L2: 副菜二食材明細 | M2: 蔬菜 | N2: 湯品 | O2: 湯品食材明細 | P2: 全穀雜糧* | Q2: 油脂與堅果種子* | R2: 蔬菜* | S2: 乳品* | T2: 水果* | U2: 豆蛋* | V2: 熱量* | W2: 鈣 | X2: 鈉
A3: =DATE(A1,I1,6) -> 40700 | B3: =IF(A3="","",RIGHT(TEXT(WEEKDAY(A3),"[$-404]aaaa;@"),1)) -> 一 | C3: R1 | D3: 白米飯 | E3: 米 | F3: 洋芋絞若 | G3: 素絞肉 馬鈴薯 薑 | H3: 豆皮豆芽 | I3: 豆皮 豆芽菜 乾香菇 薑 | K3: 蛋香玉菜 | L3: 雞蛋 高麗菜 紅蘿蔔 薑 | M3: 蔬菜 | N3: 紫菜湯 | O3: 乾海帶 薑 | P3: 4.8 | Q3: 2.5 | R3: 1.9 | U3: 2.9 | V3: =P3*70+Q3*45+R3*25+U3*75 -> 713.5 | W3: 155 | X3: 117
A4: =IF(A3="","",IF(MONTH(A3)<>MONTH(A3+1),"",A3+1)) -> 40701 | B4: =IF(A4="","",RIGHT(TEXT(WEEKDAY(A4),"[$-404]aaaa;@"),1)) -> 二 | C4: R2 | D4: 糙米飯 | E4: 米 糙米 | F4: 滷蛋 | G4: 雞蛋 | H4: 蘿蔔油腐 | I4: 白蘿蔔 油豆腐 薑 | K4: 羅勒海帶 | L4: 杏鮑菇 乾海帶 薑 羅勒 | M4: 蔬菜 | N4: 蛋花蔬湯 | O4: 雞蛋 時蔬 薑 | P4: 5 | Q4: 3 | R4: 1.7 | U4: 3 | V4: =P4*70+Q4*45+R4*25+U4*75 -> 752.5 | W4: 166 | X4: 490
A5: =IF(A4="","",IF(MONTH(A4)<>MONTH(A4+1),"",A4+1)) -> 40702 | B5: =IF(A5="","",RIGHT(TEXT(WEEKDAY(A5),"[$-404]aaaa;@"),1)) -> 三 | C5: R3 | D5: 拌飯特餐 | E5: 米 糙米 | F5: 咖哩毛豆 | G5: 毛豆 馬鈴薯 胡蘿蔔 咖哩粉 | H5: 拌飯配料 | I5: 素絞肉 三色豆 薑黃粉 | K5: 五香豆干 | L5: 豆干 薑 | M5: 蔬菜 | N5: 時瓜湯 | O5: 時瓜 紅蘿蔔 薑 | P5: 5 | Q5: 2.6 | R5: 1.8 | U5: 3 | V5: =P5*70+Q5*45+R5*25+U5*75 -> 737 | W5: 146 | X5: 665
A6: =IF(A5="","",IF(MONTH(A5)<>MONTH(A5+1),"",A5+1)) -> 40703 | B6: =IF(A6="","",RIGHT(TEXT(WEEKDAY(A6),"[$-404]aaaa;@"),1)) -> 四 | C6: R4 | D6: 糙米飯 | E6: 米 糙米 | F6: 香滷豆包 | G6: 豆包 | H6: 蔬香佐蛋 | I6: 雞蛋 時蔬 紅蘿蔔 薑 | K6: 清炒瓜苗 | L6: 隼人瓜苗 紅蘿蔔 薑 | M6: 蔬菜 | N6: 豆漿 | O6: 黃豆 紅砂糖 | P6: 5.8 | Q6: 2.4 | R6: 2.2 | T6: 1 | U6: 2.6 | V6: =P6*70+Q6*45+R6*25+U6*75 -> 764 | W6: 233 | X6: 216
A7: =IF(A6="","",IF(MONTH(A6)<>MONTH(A6+1),"",A6+1)) -> 40704 | B7: =IF(A7="","",RIGHT(TEXT(WEEKDAY(A7),"[$-404]aaaa;@"),1)) -> 五 | C7: R5 | D7: 芝麻飯 | E7: 米 芝麻(熟) | F7: 瓜仔麵筋 | G7: 醬瓜 麵筋 薑 | H7: 清炒花椰 | I7: 冷凍花椰菜 紅蘿蔔 薑 | K7: 香滷豆腐 | L7: 豆腐 滷包 薑 | M7: 蔬菜 | N7: 蘿蔔湯 | O7: 白蘿蔔 紅蘿蔔 | P7: 5.5 | Q7: 2.5 | R7: 2.1 | U7: 2.5 | V7: =P7*70+Q7*45+R7*25+U7*75 -> 737.5 | W7: 262 | X7: 115
A8: =IF(A7="","",IF(MONTH(A7)<>MONTH(A7+1),"",A7+3)) -> 40707 | B8: =IF(A8="","",RIGHT(TEXT(WEEKDAY(A8),"[$-404]aaaa;@"),1)) -> 一 | C8: S1 | D8: 白米飯 | E8: 米 | F8: 豉香油腐 | G8: 油豆腐 白蘿蔔 胡蘿蔔 豆豉 薑 | H8: 豆皮豆芽 | I8: 豆皮 豆芽菜 乾香菇 薑 | K8: 蜜汁豆干 | L8: 豆干 滷包 | M8: 蔬菜 | N8: 金針湯 | O8: 乾金針 榨菜 | P8: 6 | Q8: 2.6 | R8: 1.4 | U8: 2.8 | V8: =P8*70+Q8*45+R8*25+U8*75 -> 782 | W8: 190 | X8: 100
A9: =IF(A8="","",IF(MONTH(A8)<>MONTH(A8+1),"",A8+1)) -> 40708 | B9: =IF(A9="","",RIGHT(TEXT(WEEKDAY(A9),"[$-404]aaaa;@"),1)) -> 二 | C9: S2 | D9: 糙米飯 | E9: 米 糙米 | F9: 香滷麵腸 | G9: 麵腸 | H9: 茄汁豆腐 | I9: 豆腐 番茄醬 | K9: 蔬香冬粉 | L9: 雞蛋 冬粉 時蔬 乾木耳 薑 | M9: 蔬菜 | N9: 時瓜湯 | O9: 時瓜 紅蘿蔔 薑 | P9: 5.2 | Q9: 2.5 | R9: 1.6 | U9: 3.3 | V9: =P9*70+Q9*45+R9*25+U9*75 -> 764 | W9: 245 | X9: 326
A10: =IF(A9="","",IF(MONTH(A9)<>MONTH(A9+1),"",A9+1)) -> 40709 | B10: =IF(A10="","",RIGHT(TEXT(WEEKDAY(A10),"[$-404]aaaa;@"),1)) -> 三 | C10: S3 | D10: 炊粉特餐 | E10: 米粉 | F10: 滷蛋 | G10: 雞蛋 | H10: 炊粉配料 | I10: 素絞肉 紅蘿蔔 乾香菇 時蔬 薑 | K10: 包子 | L10: 冷凍包子 | M10: 蔬菜 | N10: 大滷湯 | O10: 蛋 筍絲 時蔬 紅蘿蔔 乾木耳 | P10: 5.5 | Q10: 3 | R10: 1.7 | U10: 2.1 | V10: =P10*70+Q10*45+R10*25+U10*75 -> 720 | W10: 152 | X10: 186
A11: =IF(A10="","",IF(MONTH(A10)<>MONTH(A10+1),"",A10+1)) -> 40710 | B11: =IF(A11="","",RIGHT(TEXT(WEEKDAY(A11),"[$-404]aaaa;@"),1)) -> 四 | C11: S4 | D11: 糙米飯 | E11: 米 糙米 | F11: 洋芋毛豆 | G11: 毛豆 馬鈴薯 紅蘿蔔 薑 | H11: 枸杞甘藍 | I11: 甘藍 枸杞 薑 | K11: 三色炒蛋 | L11: 雞蛋 三色豆 | M11: 蔬菜 | N11: 冬瓜西米露 | O11: 冬瓜糖磚 西谷米 紅砂糖 | P11: 5.6 | Q11: 2.9 | R11: 2 | T11: 1 | U11: 2.4 | V11: =P11*70+Q11*45+R11*25+U11*75 -> 752.5 | W11: 159 | X11: 145
A12: =IF(A11="","",IF(MONTH(A11)<>MONTH(A11+1),"",A11+1)) -> 40711 | B12: =IF(A12="","",RIGHT(TEXT(WEEKDAY(A12),"[$-404]aaaa;@"),1)) -> 五 | C12: S5 | D12: 小米飯 | E12: 米 小米 | F12: 花生麵筋 | G12: 熟花生 麵筋 薑 | H12: 豆皮海帶 | I12: 海帶 豆皮 薑 | K12: 清炒瓜苗 | L12: 隼人瓜苗 紅蘿蔔 薑 | M12: 蔬菜 | N12: 時蔬湯 | O12: 時蔬 紅蘿蔔 薑 | P12: 5.2 | Q12: 2.5 | R12: 2.1 | U12: 3.2 | V12: =P12*70+Q12*45+R12*25+U12*75 -> 769 | W12: 331 | X12: 146
A13: =IF(A12="","",IF(MONTH(A12)<>MONTH(A12+1),"",A12+3)) -> 40714 | B13: =IF(A13="","",RIGHT(TEXT(WEEKDAY(A13),"[$-404]aaaa;@"),1)) -> 一 | C13: T1 | D13: 白米飯 | E13: 米 | F13: 咖哩毛豆 | G13: 毛豆 馬鈴薯 胡蘿蔔 咖哩粉 | H13: 蛋香紅仁 | I13: 雞蛋 紅蘿蔔 薑 | K13: 香滷豆干 | L13: 豆干 滷包 | M13: 蔬菜 | N13: 海芽湯 | O13: 乾海帶 薑 | P13: 5 | Q13: 2.8 | R13: 2 | U13: 3 | V13: =P13*70+Q13*45+R13*25+U13*75 -> 751 | W13: 332 | X13: 235
A14: =IF(A13="","",IF(MONTH(A13)<>MONTH(A13+1),"",A13+1)) -> 40715 | B14: =IF(A14="","",RIGHT(TEXT(WEEKDAY(A14),"[$-404]aaaa;@"),1)) -> 二 | C14: T2 | D14: 糙米飯 | E14: 米 糙米 | F14: 塔香豆包 | G14: 豆包 乾海帶 九層塔 薑 | H14: 清炒瓜苗 | I14: 隼人瓜苗 紅蘿蔔 薑 | K14: 豆皮時蔬 | L14: 豆皮 時蔬 乾木耳 薑 | M14: 蔬菜 | N14: 時瓜湯 | O14: 時瓜 紅蘿蔔 薑 | P14: 5.6 | Q14: 2.8 | R14: 1.7 | U14: 2.4 | V14: =P14*70+Q14*45+R14*25+U14*75 -> 740.5 | W14: 363 | X14: 249
A15: =IF(A14="","",IF(MONTH(A14)<>MONTH(A14+1),"",A14+1)) -> 40716 | B15: =IF(A15="","",RIGHT(TEXT(WEEKDAY(A15),"[$-404]aaaa;@"),1)) -> 三 | C15: T3 | D15: 油飯特餐 | E15: 米 糯米 | F15: 滷蛋 | G15: 雞蛋 | H15: 油飯配料 | I15: 素絞肉 蘿蔔乾 乾香菇 薑 | K15: 家常豆腐 | L15: 豆腐 紅蘿蔔 薑 | M15: 蔬菜 | N15: 味噌湯 | O15: 乾海帶 味噌 | P15: 5.2 | Q15: 2.8 | R15: 1.5 | U15: 2.9 | V15: =P15*70+Q15*45+R15*25+U15*75 -> 745 | W15: 359 | X15: 222
A16: =IF(A15="","",IF(MONTH(A15)<>MONTH(A15+1),"",A15+1)) -> 40717 | B16: =IF(A16="","",RIGHT(TEXT(WEEKDAY(A16),"[$-404]aaaa;@"),1)) -> 四 | C16: T4 | D16: 糙米飯 | E16: 米 糙米 | F16: 鐵板油腐 | G16: 油豆腐 麻竹筍干 乾木耳 薑 | H16: 脆拌海帶 | I16: 海帶 豆皮 薑 | K16: 蛋香白菜 | L16: 雞蛋 圓白菜 乾木耳 薑 | M16: 蔬菜 | N16: 粉圓甜湯 | O16: 粉圓 紅砂糖 | P16: 5.9 | Q16: 2.8 | R16: 2.5 | T16: 1 | U16: 2.5 | V16: =P16*70+Q16*45+R16*25+U16*75 -> 789 | W16: 348 | X16: 202
A17: =IF(A16="","",IF(MONTH(A16)<>MONTH(A16+1),"",A16+1)) -> 40718 | B17: =IF(A17="","",RIGHT(TEXT(WEEKDAY(A17),"[$-404]aaaa;@"),1)) -> 五 | C17: T5 | D17: 紫米飯 | E17: 米 紫米 | F17: 醬瓜麵腸 | G17: 麵腸 醬瓜 薑 | H17: 螞蟻上樹 | I17: 素絞肉 冬粉 紅蘿蔔 乾木耳 薑 | K17: 泡菜凍腐 | L17: 凍豆腐 韓式泡菜 薑 | M17: 蔬菜 | N17: 時蔬湯 | O17: 時蔬 紅蘿蔔 薑 | P17: 5.4 | Q17: 2 | R17: 1.6 | U17: 2.5 | V17: =P17*70+Q17*45+R17*25+U17*75 -> 695.5 | W17: 330 | X17: 176
A18: =IF(A17="","",IF(MONTH(A17)<>MONTH(A17+1),"",A17+3)) -> 40721 | B18: =IF(A18="","",RIGHT(TEXT(WEEKDAY(A18),"[$-404]aaaa;@"),1)) -> 一 | C18: A1 | D18: 白米飯 | E18: 米 | F18: 黑椒毛豆 | G18: 毛豆 黑胡椒粒 | H18: 蜜汁豆干 | I18: 豆干 滷包 | K18: 紅仁炒蛋 | L18: 雞蛋 紅蘿蔔 薑 | M18: 蔬菜 | N18: 蘿蔔湯 | O18: 白蘿蔔 紅蘿蔔 | P18: 5 | Q18: 1.7 | R18: 1.9 | U18: 3.3 | V18: =P18*70+Q18*45+R18*25+U18*75 -> 721.5 | W18: 351 | X18: 148
A19: =IF(A18="","",IF(MONTH(A18)<>MONTH(A18+1),"",A18+1)) -> 40722 | B19: =IF(A19="","",RIGHT(TEXT(WEEKDAY(A19),"[$-404]aaaa;@"),1)) -> 二 | C19: A2 | D19: 糙米飯 | E19: 米 糙米 | F19: 鮮菇麵筋 | G19: 鮮菇 麵筋 薑 | H19: 豆皮芽菜 | I19: 豆皮 豆芽菜 乾香菇 薑 | K19: 蔬香冬粉 | L19: 蛋 冬粉 紅蘿蔔 乾木耳 薑 | M19: 蔬菜 | N19: 味噌湯 | O19: 乾海帶 味噌 | P19: 5 | Q19: 1.5 | R19: 1.8 | U19: 2.7 | V19: =P19*70+Q19*45+R19*25+U19*75 -> 665 | W19: 592 | X19: 150
A20: =IF(A19="","",IF(MONTH(A19)<>MONTH(A19+1),"",A19+1)) -> 40723 | B20: =IF(A20="","",RIGHT(TEXT(WEEKDAY(A20),"[$-404]aaaa;@"),1)) -> 三 | C20: A3 | D20: 麵食特餐 | E20: 義大利麵 | F20: 茄汁絞若 | G20: 素絞肉 洋芋 紅蘿蔔 蕃茄醬 | H20: 清炒花椰 | I20: 冷凍花椰菜 胡蘿蔔 薑 | K20: 小餐包 | L20: 小餐包 | M20: 蔬菜 | N20: 玉米濃湯 | O20: 蛋 玉米粒 玉米醬罐頭 玉米濃湯粉 | P20: 5.6 | Q20: 2.5 | R20: 2.2 | U20: 2.5 | V20: =P20*70+Q20*45+R20*25+U20*75 -> 747 | W20: 304 | X20: 129
A21: =IF(A20="","",IF(MONTH(A20)<>MONTH(A20+1),"",A20+1)) -> 40724 | B21: =IF(A21="","",RIGHT(TEXT(WEEKDAY(A21),"[$-404]aaaa;@"),1)) -> 四 | C21: A4 | D21: 白米飯 | E21: 米 | F21: 滷蛋 | G21: 雞蛋 | H21: 脆拌海帶 | I21: 海帶 豆皮 薑 | K21: 毛豆玉菜 | L21: 毛豆 高麗菜 胡蘿蔔 | M21: 蔬菜 | N21: 仙草甜湯 | O21: 仙草汁 紅砂糖 | P21: 5.4 | Q21: 1.9 | R21: 2.1 | T21: 1 | U21: 2.8 | V21: =P21*70+Q21*45+R21*25+U21*75 -> 726 | W21: 493 | X21: 119
B22: 過敏警語:「本月產品含有蛋、芝麻、含麩之穀物、花生、大豆、亞硫酸鹽類及其相關製品，不適合其過敏體質者食用」
B23: =I1 -> 6 | C23: 月素食菜單編排配合葷食菜單調整。
C24: 三、 | D24: 每週五吃有機蔬菜

Sheet 國中R
A1: 110 | B1: 學年度 | C1: =國中!H1 -> 國民中學 | E1: =國中!K1 -> 素食菜單 | G1: R循環
A2: 循環 | B2: 主食 | C2: 主食食材明細 | F2: 主菜 | G2: 主菜食材明細 | J2: 副菜一 | K2: 副菜一食材明細 | N2: 副菜二 | O2: 副菜二食材明細 | R2: 蔬菜 | U2: 湯品 | V2: 湯品食材明細
A3: =國中!C3 -> R1 | B3: =國中!D3 -> 白米飯 | C3: =國中!E3 -> 米 | F3: =國中!F3 -> 洋芋絞若 | G3: =國中!G3 -> 素絞肉 馬鈴薯 薑 | J3: =國中!H3 -> 豆皮豆芽 | K3: =國中!I3 -> 豆皮 豆芽菜 乾香菇 薑 | N3: =國中!K3 -> 蛋香玉菜 | O3: =國中!L3 -> 雞蛋 高麗菜 紅蘿蔔 薑 | R3: 蔬菜 | U3: =國中!N3 -> 紫菜湯 | V3: =國中!O3 -> 乾海帶 薑
A4: =國中!C4 -> R2 | B4: =國中!D4 -> 糙米飯 | C4: =國中!E4 -> 米 糙米 | F4: =國中!F4 -> 滷蛋 | G4: =國中!G4 -> 雞蛋 | J4: =國中!H4 -> 蘿蔔油腐 | K4: =國中!I4 -> 白蘿蔔 油豆腐 薑 | N4: =國中!K4 -> 羅勒海帶 | O4: =國中!L4 -> 杏鮑菇 乾海帶 薑 羅勒 | R4: 蔬菜 | U4: =國中!N4 -> 蛋花蔬湯 | V4: =國中!O4 -> 雞蛋 時蔬 薑
A5: =國中!C5 -> R3 | B5: =國中!D5 -> 拌飯特餐 | C5: =國中!E5 -> 米 糙米 | F5: =國中!F5 -> 咖哩毛豆 | G5: =國中!G5 -> 毛豆 馬鈴薯 胡蘿蔔 咖哩粉 | J5: =國中!H5 -> 拌飯配料 | K5: =國中!I5 -> 素絞肉 三色豆 薑黃粉 | N5: =國中!K5 -> 五香豆干 | O5: =國中!L5 -> 豆干 薑 | R5: 蔬菜 | U5: =國中!N5 -> 時瓜湯 | V5: =國中!O5 -> 時瓜 紅蘿蔔 薑
A6: =國中!C6 -> R4 | B6: =國中!D6 -> 糙米飯 | C6: =國中!E6 -> 米 糙米 | F6: =國中!F6 -> 香滷豆包 | G6: =國中!G6 -> 豆包 | J6: =國中!H6 -> 蔬香佐蛋 | K6: =國中!I6 -> 雞蛋 時蔬 紅蘿蔔 薑 | N6: =國中!K6 -> 清炒瓜苗 | O6: =國中!L6 -> 隼人瓜苗 紅蘿蔔 薑 | R6: 蔬菜 | U6: =國中!N6 -> 豆漿 | V6: =國中!O6 -> 黃豆 紅砂糖
A7: =國中!C7 -> R5 | B7: =國中!D7 -> 芝麻飯 | C7: =國中!E7 -> 米 芝麻(熟) | F7: =國中!F7 -> 瓜仔麵筋 | G7: =國中!G7 -> 醬瓜 麵筋 薑 | J7: =國中!H7 -> 清炒花椰 | K7: =國中!I7 -> 冷凍花椰菜 紅蘿蔔 薑 | N7: =國中!K7 -> 香滷豆腐 | O7: =國中!L7 -> 豆腐 滷包 薑 | R7: 有機 | U7: =國中!N7 -> 蘿蔔湯 | V7: =國中!O7 -> 白蘿蔔 紅蘿蔔
B8: 食材明細 | C8: (食材明細以百人份計量，營養分析以個人計量) | I8: 其中每周供應特餐一次，當日主食及副菜一得混搭供應，國中4菜1湯，國小3菜1湯
A9: 循環 | B9: 主食 | F9: 主菜 | J9: 副菜一 | N9: 副菜二 | R9: 蔬菜 | U9: 湯品 | Y9: 全穀雜糧* | Z9: 油脂堅果種子* | AA9: 蔬菜* | AB9: 豆魚蛋肉* | AC9: 熱量* | AD9: 鈣 | AE9: 鈉
A10: =國中!A3 -> 40700 | B10: =B3 -> 白米飯 | C10: =C3 -> 米 | D10: 10 | E10: 公斤 | F10: =F3 -> 洋芋絞若 | G10: =LEFT(G3,3) -> 素絞肉 | H10: 1 | I10: 公斤 | J10: =J3 -> 豆皮豆芽 | K10: 豆皮 | L10: 0.3 | M10: 公斤 | N10: =N3 -> 蛋香玉菜 | O10: 雞蛋 | P10: 1.6 | Q10: 公斤 | R10: =R3 -> 蔬菜 | S10: 7 | T10: 公斤 | U10: =U3 -> 紫菜湯 | V10: 乾海帶 | W10: 0.01 | X10: 公斤 | Y10: 5 | Z10: 2.5 | AA10: 1.9 | AB10: 2.9 | AC10: 700 | AD10: 155 | AE10: 117
A11: =WEEKDAY(A10,1) -> 2 | G11: 馬鈴薯 | H11: 3 | I11: 公斤 | K11: 豆芽菜 | L11: 5 | M11: 公斤 | O11: 高麗菜 | P11: 5 | Q11: 公斤 | R11: 薑 | S11: 0.05 | T11: 公斤 | X11: 公斤
A12: =A3 -> R1 | G12: 洋蔥 | H12: 1 | I12: 公斤 | K12: 乾香菇 | L12: 0.05 | O12: 紅蘿蔔 | P12: 1 | Q12: 公斤 | V12: 薑 | W12: 0.02 | X12: 公斤
G13: =$R$11 -> 薑 | H13: 0.05 | K13: =$R$11 -> 薑 | L13: 0.05 | O13: =$R$11 -> 薑 | P13: 0.05 | Q13: 公斤
A15: =國中!A4 -> 40701 | B15: =B4 -> 糙米飯 | C15: =LEFT(C4,1) -> 米 | D15: 7 | E15: 公斤 | F15: =F4 -> 滷蛋 | G15: =G4 -> 雞蛋 | H15: 6 | I15: 公斤 | J15: =J4 -> 蘿蔔油腐 | K15: 白蘿蔔 | L15: 3 | M15: 公斤 | N15: =N4 -> 羅勒海帶 | O15: 乾海帶 | P15: 2 | Q15: 公斤 | R15: 蔬菜 | S15: 7 | T15: 公斤 | U15: =U4 -> 蛋花蔬湯 | V15: 時蔬 | W15: 3 | X15: 公斤 | Y15: 5 | Z15: 1.9 | AA15: 2.9 | AB15: 2.5 | AC15: 700 | AD15: 155 | AE15: 117
A16: =WEEKDAY(A15,1) -> 3 | C16: =RIGHT(C4,2) -> 糙米 | D16: 3 | E16: 公斤 | K16: 油豆腐 | L16: 3 | M16: 公斤 | O16: 杏鮑菇 | P16: 1 | Q16: 公斤 | R16: =$R$11 -> 薑 | S16: 0.05 | T16: 公斤 | V16: 雞蛋 | W16: 0.6 | X16: 公斤
A17: =A4 -> R2 | K17: 胡蘿蔔 | L17: 0.5 | M17: 公斤 | O17: =$R$11 -> 薑 | P17: 0.05 | Q17: 公斤 | V17: 紅蘿蔔 | W17: 1 | X17: 公斤
K18: =$R$11 -> 薑 | L18: 0.05 | M18: 公斤 | Q18: 公斤 | V18: 薑 | W18: 0.02
A20: =國中!A5 -> 40702 | B20: =B5 -> 拌飯特餐 | C20: 米 | D20: 8 | E20: 公斤 | F20: =F5 -> 咖哩毛豆 | G20: =LEFT(G5,2) -> 毛豆 | H20: 6 | I20: 公斤 | J20: =J5 -> 拌飯配料 | K20: =LEFT(K5,3) -> 素絞肉 | L20: 1.5 | M20: 公斤 | N20: =N5 -> 五香豆干 | O20: 豆干 | P20: 5 | Q20: 公斤 | R20: 蔬菜 | S20: 7 | T20: 公斤 | U20: =U5 -> 時瓜湯 | V20: 時瓜 | W20: 4 | X20: 公斤 | Y20: 5 | Z20: 1.7 | AA20: 2.9 | AB20: 3 | AC20: 648 | AD20: 166 | AE20: 490
A21: =WEEKDAY(A20,1) -> 4 | C21: 糙米 | D21: 3 | E21: 公斤 | G21: 馬鈴薯 | H21: 3 | I21: 公斤 | K21: 三色豆 | L21: 2 | M21: 公斤 | O21: =$R$11 -> 薑 | P21: 0.05 | Q21: 公斤 | R21: =$R$11 -> 薑 | S21: 0.05 | T21: 公斤 | V21: 紅蘿蔔 | W21: 1 | X21: 公斤
A22: =A5 -> R3 | G22: 胡蘿蔔 | H22: 1 | I22: 公斤 | K22: =$R$11 -> 薑 | L22: 0.05 | M22: 公斤 | Q22: 公斤 | V22: 薑 | W22: 0.02 | X22: 公斤
G23: 咖哩粉 | K23: 薑黃粉 | M23: 公斤
A25: =國中!A6 -> 40703 | B25: =B6 -> 糙米飯 | C25: =LEFT(C6,1) -> 米 | D25: 7 | E25: 公斤 | F25: =F6 -> 香滷豆包 | G25: =LEFT(G6,4) -> 豆包 | H25: 6 | I25: 公斤 | J25: =J6 -> 蔬香佐蛋 | K25: 雞蛋 | L25: 1.6 | M25: 公斤 | N25: =N6 -> 清炒瓜苗 | O25: 隼人瓜苗 | P25: 4.5 | Q25: 公斤 | R25: 蔬菜 | S25: 7 | T25: 公斤 | U25: =U6 -> 豆漿 | V25: 黃豆 | W25: 2 | X25: 公斤 | Y25: 5 | Z25: 1.8 | AA25: 3 | AB25: 2.6 | AC25: 677 | AD25: 146 | AE25: 665
A26: =WEEKDAY(A25,1) -> 5 | C26: =RIGHT(C6,2) -> 糙米 | D26: 3 | E26: 公斤 | I26: 公斤 | K26: 時蔬 | L26: 5 | M26: 公斤 | O26: 紅蘿蔔 | P26: 0.5 | Q26: 公斤 | R26: =$R$11 -> 薑 | S26: 0.05 | T26: 公斤 | V26: 紅砂糖 | W26: 1 | X26: 公斤
A27: =A6 -> R4 | I27: 公斤 | K27: 紅蘿蔔 | L27: 1 | M27: 公斤 | O27: =$R$11 -> 薑 | P27: 0.05 | Q27: 公斤 | X27: 公斤
G28: =$R$11 -> 薑 | H28: 0.05 | I28: 公斤 | K28: =$R$11 -> 薑 | L28: 0.05 | X28: 公斤
A30: =國中!A7 -> 40704 | B30: =B7 -> 芝麻飯 | C30: =LEFT(C7,1) -> 米 | D30: 10 | E30: 公斤 | F30: =F7 -> 瓜仔麵筋 | G30: =LEFT(G7,2) -> 醬瓜 | H30: 6 | I30: 公斤 | J30: =J7 -> 清炒花椰 | K30: =LEFT(K7,5) -> 冷凍花椰菜 | L30: 5 | M30: 公斤 | N30: =N7 -> 香滷豆腐 | O30: 豆腐 | P30: 5 | Q30: 公斤 | R30: 有機 | S30: 7 | T30: 公斤 | U30: =U7 -> 蘿蔔湯 | V30: 白蘿蔔 | W30: 4 | X30: 公斤 | Y30: 5.8 | Z30: 2.2 | AA30: 2.6 | AB30: 2.4 | AC30: 712 | AD30: 233 | AE30: 216
A31: =WEEKDAY(A30,1) -> 6 | C31: =RIGHT(C7,5) -> 芝麻(熟) | D31: 0.01 | E31: 公斤 | G31: 麵筋 | H31: 1 | I31: 公斤 | K31: 紅蘿蔔 | L31: 0.5 | M31: 公斤 | O31: 滷包 | Q31: 公斤 | R31: =$R$11 -> 薑 | S31: 0.05 | T31: 公斤 | V31: 紅蘿蔔 | W31: 1 | X31: 公斤
A32: =A7 -> R5 | G32: =$R$11 -> 薑 | H32: 0.05 | I32: 公斤 | K32: =$R$11 -> 薑 | L32: 0.05 | M32: 公斤 | O32: =$R$11 -> 薑 | P32: 0.05 | Q32: 公斤 | V32: 薑 | W32: 0.02 | X32: 公斤
I33: 公斤 | Q33: 公斤

Sheet 國中S
A1: 110 | B1: 學年度 | C1: =國中!H1 -> 國民中學 | E1: =國中!K1 -> 素食菜單 | G1: S循環
A2: 循環 | B2: 主食 | C2: 主食食材明細 | F2: 主菜 | G2: 主菜食材明細 | J2: 副菜一 | K2: 副菜一食材明細 | N2: 副菜二 | O2: 副菜二食材明細 | R2: 蔬菜 | U2: 湯品 | V2: 湯品食材明細
A3: =國中!C8 -> S1 | B3: =國中!D8 -> 白米飯 | C3: =國中!E8 -> 米 | F3: =國中!F8 -> 豉香油腐 | G3: =國中!G8 -> 油豆腐 白蘿蔔 胡蘿蔔 豆豉 薑 | J3: =國中!H8 -> 豆皮豆芽 | K3: =國中!I8 -> 豆皮 豆芽菜 乾香菇 薑 | N3: =國中!K8 -> 蜜汁豆干 | O3: =國中!L8 -> 豆干 滷包 | R3: 蔬菜 | U3: =國中!N8 -> 金針湯 | V3: =國中!O8 -> 乾金針 榨菜
A4: =國中!C9 -> S2 | B4: =國中!D9 -> 糙米飯 | C4: =國中!E9 -> 米 糙米 | F4: =國中!F9 -> 香滷麵腸 | G4: =國中!G9 -> 麵腸 | J4: =國中!H9 -> 茄汁豆腐 | K4: =國中!I9 -> 豆腐 番茄醬 | N4: =國中!K9 -> 蔬香冬粉 | O4: =國中!L9 -> 雞蛋 冬粉 時蔬 乾木耳 薑 | R4: 蔬菜 | U4: =國中!N9 -> 時瓜湯 | V4: =國中!O9 -> 時瓜 紅蘿蔔 薑
A5: =國中!C10 -> S3 | B5: =國中!D10 -> 炊粉特餐 | C5: =國中!E10 -> 米粉 | F5: =國中!F10 -> 滷蛋 | G5: =國中!G10 -> 雞蛋 | J5: =國中!H10 -> 炊粉配料 | K5: =國中!I10 -> 素絞肉 紅蘿蔔 乾香菇 時蔬 薑 | N5: =國中!K10 -> 包子 | O5: =國中!L10 -> 冷凍包子 | R5: 蔬菜 | U5: =國中!N10 -> 大滷湯 | V5: =國中!O10 -> 蛋 筍絲 時蔬 紅蘿蔔 乾木耳
A6: =國中!C11 -> S4 | B6: =國中!D11 -> 糙米飯 | C6: =國中!E11 -> 米 糙米 | F6: =國中!F11 -> 洋芋毛豆 | G6: =國中!G11 -> 毛豆 馬鈴薯 紅蘿蔔 薑 | J6: =國中!H11 -> 枸杞甘藍 | K6: =國中!I11 -> 甘藍 枸杞 薑 | N6: =國中!K11 -> 三色炒蛋 | O6: =國中!L11 -> 雞蛋 三色豆 | R6: 蔬菜 | U6: =國中!N11 -> 冬瓜西米露 | V6: =國中!O11 -> 冬瓜糖磚 西谷米 紅砂糖
A7: =國中!C12 -> S5 | B7: =國中!D12 -> 小米飯 | C7: =國中!E12 -> 米 小米 | F7: =國中!F12 -> 花生麵筋 | G7: =國中!G12 -> 熟花生 麵筋 薑 | J7: =國中!H12 -> 豆皮海帶 | K7: =國中!I12 -> 海帶 豆皮 薑 | N7: =國中!K12 -> 清炒瓜苗 | O7: =國中!L12 -> 隼人瓜苗 紅蘿蔔 薑 | R7: 有機 | U7: =國中!N12 -> 時蔬湯 | V7: =國中!O12 -> 時蔬 紅蘿蔔 薑
B8: 食材明細 | C8: (食材明細以百人份計量，營養分析以個人計量) | I8: =國中R!I8 -> 其中每周供應特餐一次，當日主食及副菜一得混搭供應，國中4菜1湯，國小3菜1湯
A9: 循環 | B9: 主食 | F9: 主菜 | J9: 副菜一 | N9: 副菜二 | R9: 蔬菜 | U9: 湯品 | Y9: 全穀雜糧* | Z9: 油脂堅果種子* | AA9: 蔬菜* | AB9: 豆魚蛋肉* | AC9: 熱量* | AD9: 鈣 | AE9: 鈉
A10: =國中!A8 -> 40707 | B10: =B3 -> 白米飯 | C10: =C3 -> 米 | D10: 10 | E10: 公斤 | F10: =F3 -> 豉香油腐 | G10: =LEFT(G3,2) -> 油豆 | H10: 6 | I10: 公斤 | J10: =J3 -> 豆皮豆芽 | K10: =LEFT(K3,2) -> 豆皮 | L10: 1 | M10: 公斤 | N10: =N3 -> 蜜汁豆干 | O10: 豆干 | P10: 4.5 | Q10: 公斤 | R10: 蔬菜 | S10: 7 | T10: 公斤 | U10: =U3 -> 金針湯 | V10: 金針菜乾 | W10: 0.1 | X10: 公斤 | Y10: 5.5 | Z10: 2.1 | AA10: 2.5 | AB10: 2.5 | AC10: 727 | AD10: 262 | AE10: 115
A11: =WEEKDAY(A10,1) -> 2 | G11: 白蘿蔔 | H11: 3 | I11: 公斤 | K11: 豆芽菜 | L11: 5 | M11: 公斤 | O11: 滷包 | Q11: 公斤 | R11: 薑 | S11: 0.05 | T11: 公斤 | V11: 榨菜 | W11: 0.6 | X11: 公斤
A12: =A3 -> S1 | G12: 紅蘿蔔 | H12: 1 | I12: 公斤 | K12: 乾香菇 | L12: 1 | M12: 公斤 | Q12: 公斤 | X12: 公斤
G13: =$R$11 -> 薑 | H13: 0.05 | I13: 公斤 | K13: =$R$11 -> 薑 | L13: 0.05 | M13: 公斤 | X13: 公斤
G14: 豆豉 | M14: 公斤 | Q14: 公斤
M15: 公斤
A16: =國中!A9 -> 40708 | B16: =B4 -> 糙米飯 | C16: 米 | D16: 7 | E16: 公斤 | F16: =F4 -> 香滷麵腸 | G16: =LEFT(G4,4) -> 麵腸 | H16: 6 | I16: 公斤 | J16: =J4 -> 茄汁豆腐 | K16: 絞肉 | L16: 1 | M16: 公斤 | N16: =N4 -> 蔬香冬粉 | O16: 蛋 | P16: 1 | Q16: 公斤 | R16: 蔬菜 | S16: 7 | T16: 公斤 | U16: =U4 -> 時瓜湯 | V16: 時瓜 | W16: 4 | X16: 公斤 | Y16: 6 | Z16: 1.4 | AA16: 2.8 | AB16: 2.6 | AC16: 726 | AD16: 190 | AE16: 100
A17: =WEEKDAY(A16,1) -> 3 | C17: 糙米 | D17: 3 | E17: 公斤 | I17: 公斤 | K17: 豆腐 | L17: 5 | M17: 公斤 | O17: 冬粉 | P17: 1 | Q17: 公斤 | R17: =$R$11 -> 薑 | S17: 0.05 | T17: 公斤 | V17: 紅蘿蔔 | W17: 1 | X17: 公斤
A18: =A4 -> S2 | I18: 公斤 | K18: 番茄醬 | M18: 公斤 | O18: 時蔬 | P18: 1 | Q18: 公斤 | X18: 公斤
G19: =$R$11 -> 薑 | H19: 0.05 | I19: 公斤 | K19: =$R$11 -> 薑 | L19: 0.05 | M19: 公斤 | O19: 乾木耳 | P19: 0.05 | Q19: 公斤 | V19: 薑
O20: =$R$11 -> 薑 | P20: 0.05
A22: =國中!A10 -> 40709 | B22: =B5 -> 炊粉特餐 | C22: =RIGHT(C5,2) -> 米粉 | D22: 3 | E22: 公斤 | F22: =F5 -> 滷蛋 | G22: =LEFT(G5,4) -> 雞蛋 | H22: 9 | I22: 公斤 | J22: =J5 -> 炊粉配料 | K22: 絞肉 | L22: 1.5 | M22: 公斤 | N22: =N5 -> 包子 | O22: 冷凍包子 | P22: 3 | Q22: 公斤 | R22: 蔬菜 | S22: 7 | T22: 公斤 | U22: =U5 -> 大滷湯 | V22: 蛋 | W22: 0.6 | X22: 公斤 | Y22: 5 | Z22: 1.6 | AA22: 3.3 | AB22: 2.5 | AC22: 684 | AD22: 245 | AE22: 326
A23: =WEEKDAY(A22,1) -> 4 | E23: 公斤 | K23: 時蔬 | L23: 1.5 | M23: 公斤 | Q23: 公斤 | R23: =$R$11 -> 薑 | S23: 0.05 | T23: 公斤 | V23: 筍絲 | W23: 2 | X23: 公斤
A24: =A5 -> S3 | K24: 紅蘿蔔 | L24: 1.5 | M24: 公斤 | V24: 時蔬 | W24: 2 | X24: 公斤
K25: =$R$11 -> 薑 | L25: 0.05 | M25: 公斤 | V25: 紅蘿蔔 | W25: 1 | X25: 公斤
V26: 乾木耳 | W26: 0.01 | X26: 公斤
A28: =國中!A11 -> 40710 | B28: =B6 -> 糙米飯 | C28: 米 | D28: 7 | E28: 公斤 | F28: =F6 -> 洋芋毛豆 | G28: =LEFT(G6,2) -> 毛豆 | H28: 6 | I28: 公斤 | J28: =J6 -> 枸杞甘藍 | K28: 高麗菜 | L28: 7 | M28: 公斤 | N28: =N6 -> 三色炒蛋 | O28: 雞蛋 | P28: 1.8 | Q28: 公斤 | R28: 蔬菜 | S28: 7 | T28: 公斤 | U28: =U6 -> 冬瓜西米露 | X28: 公斤 | Y28: 5.5 | Z28: 1.7 | AA28: 2.1 | AB28: 3 | AC28: 678 | AD28: 152 | AE28: 186
A29: =WEEKDAY(A28,1) -> 5 | C29: 糙米 | D29: 3 | E29: 公斤 | G29: 馬鈴薯 | H29: 3 | I29: 公斤 | K29: 乾木耳 | L29: 0.05 | M29: 公斤 | O29: 三色豆 | P29: 3 | Q29: 公斤 | R29: =$R$11 -> 薑 | S29: 0.05 | T29: 公斤 | V29: 西谷米 | W29: 1.2 | X29: 公斤
A30: =A6 -> S4 | I30: 公斤 | K30: 枸杞 | L30: 0.05 | M30: 公斤 | O30: =$R$11 -> 薑 | P30: 0.02 | Q30: 公斤 | V30: 冬瓜糖磚 | W30: 1 | X30: 公斤
G31: 紅蘿蔔 | H31: 0.5 | I31: 公斤 | K31: =$R$11 -> 薑 | L31: 0.05 | M31: 公斤 | Q31: 公斤 | V31: 二砂糖 | W31: 1
G32: 咖哩粉 | Q32: 公斤
A34: =國中!A12 -> 40711 | B34: =B7 -> 小米飯 | C34: 米 | D34: 10 | E34: 公斤 | F34: =F7 -> 花生麵筋 | G34: =LEFT(G7,3) -> 熟花生 | H34: 1 | I34: 公斤 | J34: =J7 -> 豆皮海帶 | K34: =LEFT(K7,3) -> 海帶 | L34: 3 | M34: 公斤 | N34: =N7 -> 清炒瓜苗 | O34: 隼人瓜苗 | P34: 4.5 | Q34: 公斤 | R34: =R7 -> 有機 | S34: 7 | T34: 公斤 | U34: =U7 -> 時蔬湯 | V34: 時蔬 | W34: 3 | X34: 公斤 | Y34: 6.5 | Z34: 2 | AA34: 2.4 | AB34: 2.9 | AC34: 768 | AD34: 159 | AE34: 145
A35: =WEEKDAY(A34,1) -> 6 | C35: =LEFT(B34,2) -> 小米 | D35: 0.4 | E35: 公斤 | G35: 麵筋 | H35: 2 | I35: 公斤 | K35: 豆皮 | L35: 1 | M35: 公斤 | O35: 紅蘿蔔 | P35: 0.5 | Q35: 公斤 | R35: =$R$11 -> 薑 | S35: 0.05 | T35: 公斤 | V35: 紅蘿蔔 | W35: 0.5 | X35: 公斤
A36: =A7 -> S5 | I36: 公斤 | K36: =$R$11 -> 薑 | L36: 0.05 | M36: 公斤 | O36: =$R$11 -> 薑 | P36: 0.05 | Q36: 公斤 | X36: 公斤
G37: =$R$11 -> 薑 | H37: 0.05 | I37: 公斤 | M37: 公斤 | Q37: 公斤 | V37: 薑 | W37: 0.02
M38: 公斤

Sheet 國中T
A1: 110 | B1: 學年度 | C1: =國中!H1 -> 國民中學 | E1: =國中!K1 -> 素食菜單 | G1: T循環
A2: 循環 | B2: 主食 | C2: 主食食材明細 | F2: 主菜 | G2: 主菜食材明細 | J2: 副菜一 | K2: 副菜一食材明細 | N2: 副菜二 | O2: 副菜二食材明細 | R2: 蔬菜 | U2: 湯品 | V2: 湯品食材明細
A3: =國中!C13 -> T1 | B3: =國中!D13 -> 白米飯 | C3: =國中!E13 -> 米 | F3: =國中!F13 -> 咖哩毛豆 | G3: =國中!G13 -> 毛豆 馬鈴薯 胡蘿蔔 咖哩粉 | J3: =國中!H13 -> 蛋香紅仁 | K3: =國中!I13 -> 雞蛋 紅蘿蔔 薑 | N3: =國中!K13 -> 香滷豆干 | O3: =國中!L13 -> 豆干 滷包 | R3: 蔬菜 | U3: =國中!N13 -> 海芽湯 | V3: =國中!O13 -> 乾海帶 薑
A4: =國中!C14 -> T2 | B4: =國中!D14 -> 糙米飯 | C4: =國中!E14 -> 米 糙米 | F4: =國中!F14 -> 塔香豆包 | G4: =國中!G14 -> 豆包 乾海帶 九層塔 薑 | J4: =國中!H14 -> 清炒瓜苗 | K4: =國中!I14 -> 隼人瓜苗 紅蘿蔔 薑 | N4: =國中!K14 -> 豆皮時蔬 | O4: =國中!L14 -> 豆皮 時蔬 乾木耳 薑 | R4: 蔬菜 | U4: =國中!N14 -> 時瓜湯 | V4: =國中!O14 -> 時瓜 紅蘿蔔 薑
A5: =國中!C15 -> T3 | B5: =國中!D15 -> 油飯特餐 | C5: =國中!E15 -> 米 糯米 | F5: =國中!F15 -> 滷蛋 | G5: =國中!G15 -> 雞蛋 | J5: =國中!H15 -> 油飯配料 | K5: =國中!I15 -> 素絞肉 蘿蔔乾 乾香菇 薑 | N5: =國中!K15 -> 家常豆腐 | O5: =國中!L15 -> 豆腐 紅蘿蔔 薑 | R5: 蔬菜 | U5: =國中!N15 -> 味噌湯 | V5: =國中!O15 -> 乾海帶 味噌
A6: =國中!C16 -> T4 | B6: =國中!D16 -> 糙米飯 | C6: =國中!E16 -> 米 糙米 | F6: =國中!F16 -> 鐵板油腐 | G6: =國中!G16 -> 油豆腐 麻竹筍干 乾木耳 薑 | J6: =國中!H16 -> 脆拌海帶 | K6: =國中!I16 -> 海帶 豆皮 薑 | N6: =國中!K16 -> 蛋香白菜 | O6: =國中!L16 -> 雞蛋 圓白菜 乾木耳 薑 | R6: 蔬菜 | U6: =國中!N16 -> 粉圓甜湯 | V6: =國中!O16 -> 粉圓 紅砂糖
A7: =國中!C17 -> T5 | B7: =國中!D17 -> 紫米飯 | C7: =國中!E17 -> 米 紫米 | F7: =國中!F17 -> 醬瓜麵腸 | G7: =國中!G17 -> 麵腸 醬瓜 薑 | J7: =國中!H17 -> 螞蟻上樹 | K7: =國中!I17 -> 素絞肉 冬粉 紅蘿蔔 乾木耳 薑 | N7: =國中!K17 -> 泡菜凍腐 | O7: =國中!L17 -> 凍豆腐 韓式泡菜 薑 | R7: 有機 | U7: =國中!N17 -> 時蔬湯 | V7: =國中!O17 -> 時蔬 紅蘿蔔 薑
B8: 食材明細 | C8: (食材明細以百人份計量，營養分析以個人計量) | I8: =國中R!I8 -> 其中每周供應特餐一次，當日主食及副菜一得混搭供應，國中4菜1湯，國小3菜1湯
A9: 循環 | B9: 主食 | F9: 主菜 | J9: 副菜一 | N9: 副菜二 | R9: 蔬菜 | U9: 湯品 | Y9: 全穀雜糧* | Z9: 油脂堅果種子* | AA9: 蔬菜* | AB9: 豆魚蛋肉* | AC9: 熱量* | AD9: 鈣 | AE9: 鈉
A10: =國中!A13 -> 40714 | B10: =B3 -> 白米飯 | C10: =C3 -> 米 | D10: 10 | E10: 公斤 | F10: =F3 -> 咖哩毛豆 | G10: =LEFT(G3,4) -> 毛豆 馬 | H10: 6 | I10: 公斤 | J10: =J3 -> 蛋香紅仁 | K10: 蛋 | L10: 1.2 | M10: 公斤 | N10: =N3 -> 香滷豆干 | O10: 豆干 | P10: 5 | Q10: 公斤 | R10: 蔬菜 | S10: 7 | T10: 公斤 | U10: =U3 -> 海芽湯 | V10: 乾海帶 | W10: 0.1 | X10: 公斤 | Y10: 5 | Z10: 2 | AA10: 3 | AB10: 2.8 | AC10: 751 | AD10: 332 | AE10: 235
A11: =WEEKDAY(A10,1) -> 2 | G11: 馬鈴薯 | H11: 3 | I11: 公斤 | K11: 紅蘿蔔 | L11: 4 | M11: 公斤 | O11: 滷包 | Q11: 公斤 | R11: 薑 | S11: 0.05 | T11: 公斤 | V11: 柴魚片 | X11: 公斤
A12: =A3 -> T1 | G12: =$R$11 -> 薑 | H12: 1 | I12: 公斤 | K12: =$R$11 -> 薑 | L12: 0.05 | M12: 公斤 | O12: =$R$11 -> 薑 | P12: 0.05 | Q12: 公斤 | V12: 薑 | X12: 公斤
G13: 咖哩粉 | I13: 公斤 | M13: 公斤 | Q13: 公斤
A15: =國中!A14 -> 40715 | B15: =B4 -> 糙米飯 | C15: 米 | D15: 7 | E15: 公斤 | F15: =F4 -> 塔香豆包 | G15: =LEFT(G4,2) -> 豆包 | H15: 6 | I15: 公斤 | J15: =J4 -> 清炒瓜苗 | K15: 隼人瓜苗 | L15: 4.5 | M15: 公斤 | N15: =N4 -> 豆皮時蔬 | O15: =LEFT(O4,4) -> 豆皮 時 | P15: 1 | Q15: 公斤 | R15: 蔬菜 | S15: 7 | T15: 公斤 | U15: =U4 -> 時瓜湯 | V15: 時瓜 | W15: 4 | X15: 公斤 | Y15: 5.6 | Z15: 1.7 | AA15: 2.4 | AB15: 2.8 | AC15: 741 | AD15: 363 | AE15: 249
A16: =WEEKDAY(A15,1) -> 3 | C16: 糙米 | D16: 3 | E16: 公斤 | G16: 乾海帶 | H16: 1.8 | I16: 公斤 | K16: 紅蘿蔔 | L16: 0.5 | M16: 公斤 | O16: 時蔬 | P16: 5 | Q16: 公斤 | R16: =$R$11 -> 薑 | S16: 0.05 | T16: 公斤 | V16: 紅蘿蔔 | W16: 1
A17: =A4 -> T2 | G17: =$R$11 -> 薑 | H17: 0.05 | I17: 公斤 | K17: =$R$11 -> 薑 | L17: 0.05 | M17: 公斤 | O17: 乾木耳 | P17: 0.05 | Q17: 公斤 | V17: 豬骨 | W17: 1
G18: 九層塔 | M18: 公斤 | O18: =$R$11 -> 薑 | P18: 0.05 | Q18: 公斤 | V18: 薑
A20: =國中!A15 -> 40716 | B20: =B5 -> 油飯特餐 | C20: =LEFT(C5,1) -> 米 | D20: 8 | E20: 公斤 | F20: =F5 -> 滷蛋 | G20: =LEFT(G5,5) -> 雞蛋 | H20: 6 | I20: 公斤 | J20: =J5 -> 油飯配料 | K20: 絞肉 | L20: 1.5 | M20: 公斤 | N20: =N5 -> 家常豆腐 | O20: 豆腐 | P20: 5 | Q20: 公斤 | R20: 蔬菜 | S20: 7 | T20: 公斤 | U20: =U5 -> 味噌湯 | V20: 乾海帶 | W20: 0.1 | X20: 公斤 | Y20: 2.5 | Z20: 1.5 | AA20: 3 | AB20: 2.8 | AC20: 564 | AD20: 359 | AE20: 222
A21: =WEEKDAY(A20,1) -> 4 | C21: =RIGHT(C5,2) -> 糯米 | D21: 3 | E21: 公斤 | I21: 公斤 | K21: 蘿蔔乾 | L21: 1.5 | M21: 公斤 | O21: 紅蘿蔔 | P21: 0.5 | Q21: 公斤 | R21: =$R$11 -> 薑 | S21: 0.05 | T21: 公斤 | V21: 味噌 | X21: 公斤
A22: =A5 -> T3 | I22: 公斤 | K22: 紅蘿蔔 | L22: 0.5 | M22: 公斤 | Q22: 公斤 | V22: 薑 | W22: 0.02 | X22: 公斤
I23: 公斤 | K23: 乾香菇 | L23: 0.05 | O23: =$R$11 -> 薑 | P23: 0.05 | Q23: 公斤 | X23: 公斤
K24: =$R$11 -> 薑 | L24: 0.05 | M24: 公斤 | Q24: 公斤 | X24: 公斤
X25: 公斤
A26: =國中!A16 -> 40717 | B26: =B6 -> 糙米飯 | C26: 米 | D26: 7 | E26: 公斤 | F26: =F6 -> 鐵板油腐 | G26: =LEFT(G6,4) -> 油豆腐 | H26: 9 | I26: 公斤 | J26: =J6 -> 脆拌海帶 | K26: 乾海帶 | L26: 2 | M26: 公斤 | N26: =N6 -> 蛋香白菜 | O26: 雞蛋 | P26: 1.6 | Q26: 公斤 | R26: 蔬菜 | S26: 7 | T26: 公斤 | U26: =U6 -> 粉圓甜湯 | V26: 粉圓 | W26: 2 | X26: 公斤 | Y26: 5.2 | Z26: 2.8 | AA26: 1.5 | AB26: 2.9 | AC26: 745 | AD26: 359 | AE26: 222
A27: =WEEKDAY(A26,1) -> 5 | C27: 糙米 | D27: 3 | E27: 公斤 | G27: 麻竹筍干 | H27: 1 | I27: 公斤 | K27: 豆皮 | L27: 0.3 | M27: 公斤 | O27: 圓白菜 | P27: 5 | Q27: 公斤 | R27: =$R$11 -> 薑 | S27: 0.05 | T27: 公斤 | V27: 二砂糖 | W27: 1 | X27: 公斤
A28: =A5 -> T3 | G28: 乾木耳 | H28: 0.05 | I28: 公斤 | M28: 公斤 | O28: 紅蘿蔔 | P28: 0.5 | Q28: 公斤
G29: =$R$11 -> 薑 | K29: =$R$11 -> 薑 | L29: 0.05 | M29: 公斤 | O29: =$R$11 -> 薑 | P29: 0.05
Q30: 公斤
Q31: 公斤
A32: =國中!A17 -> 40718 | B32: =B7 -> 紫米飯 | C32: =C3 -> 米 | D32: 10 | E32: 公斤 | F32: =F7 -> 醬瓜麵腸 | G32: 肉雞 | H32: 9 | I32: 公斤 | J32: =J7 -> 螞蟻上樹 | K32: 絞肉 | L32: 1 | M32: 公斤 | N32: =N7 -> 泡菜凍腐 | O32: 凍豆腐 | P32: 3 | Q32: 公斤 | R32: =R7 -> 有機 | S32: 7 | T32: 公斤 | U32: =U7 -> 時蔬湯 | V32: 時蔬 | W32: 3 | X32: 公斤 | Y32: 5.4 | Z32: 1.9 | AA32: 2.6 | AB32: 2.8 | AC32: 747 | AD32: 331 | AE32: 228
A33: =WEEKDAY(A32,1) -> 6 | C33: =LEFT(B32,2) -> 紫米 | D33: 0.4 | E33: 公斤 | G33: 醬瓜 | H33: 2 | I33: 公斤 | K33: 冬粉 | L33: 1 | M33: 公斤 | O33: 韓式泡菜 | P33: 3 | Q33: 公斤 | R33: =$R$11 -> 薑 | S33: 0.05 | T33: 公斤 | V33: 紅蘿蔔 | W33: 0.5 | X33: 公斤
A34: =A7 -> T5 | G34: 紅蘿蔔 | H34: 1 | K34: 紅蘿蔔 | L34: 1 | M34: 公斤 | O34: =$R$11 -> 薑 | Q34: 公斤 | V34: 豬骨 | W34: 1 | X34: 公斤
G35: =$R$11 -> 薑 | H35: 0.05 | K35: 乾木耳 | L35: 0.01 | Q35: 公斤 | V35: 薑 | W35: 0.02
K36: =$R$11 -> 薑 | L36: 0.05

Sheet 國中A
A1: 110 | B1: 學年度 | C1: =國中!H1 -> 國民中學 | E1: =國中!K1 -> 素食菜單 | G1: A循環
A2: 循環 | B2: 主食 | C2: 主食食材明細 | F2: 主菜 | G2: 主菜食材明細 | J2: 副菜一 | K2: 副菜一食材明細 | N2: 副菜二 | O2: 副菜二食材明細 | R2: 蔬菜 | U2: 湯品 | V2: 湯品食材明細
A3: =國中!C18 -> A1 | B3: =國中!D18 -> 白米飯 | C3: =國中!E18 -> 米 | F3: =國中!F18 -> 黑椒毛豆 | G3: =國中!G18 -> 毛豆 黑胡椒粒 | J3: =國中!H18 -> 蜜汁豆干 | K3: =國中!I18 -> 豆干 滷包 | N3: =國中!K18 -> 紅仁炒蛋 | O3: =國中!L18 -> 雞蛋 紅蘿蔔 薑 | R3: 蔬菜 | U3: =國中!N18 -> 蘿蔔湯 | V3: =國中!O18 -> 白蘿蔔 紅蘿蔔
A4: =國中!C19 -> A2 | B4: =國中!D19 -> 糙米飯 | C4: =國中!E19 -> 米 糙米 | F4: =國中!F19 -> 鮮菇麵筋 | G4: =國中!G19 -> 鮮菇 麵筋 薑 | J4: =國中!H19 -> 豆皮芽菜 | K4: =國中!I19 -> 豆皮 豆芽菜 乾香菇 薑 | N4: =國中!K19 -> 蔬香冬粉 | O4: =國中!L19 -> 蛋 冬粉 紅蘿蔔 乾木耳 薑 | R4: 蔬菜 | U4: =國中!N19 -> 味噌湯 | V4: =國中!O19 -> 乾海帶 味噌
A5: =國中!C20 -> A3 | B5: =國中!D20 -> 麵食特餐 | C5: =國中!E20 -> 義大利麵 | F5: =國中!F20 -> 茄汁絞若 | G5: =國中!G20 -> 素絞肉 洋芋 紅蘿蔔 蕃茄醬 | J5: =國中!H20 -> 清炒花椰 | K5: =國中!I20 -> 冷凍花椰菜 胡蘿蔔 薑 | N5: =國中!K20 -> 小餐包 | O5: =國中!L20 -> 小餐包 | R5: 蔬菜 | U5: =國中!N20 -> 玉米濃湯 | V5: =國中!O20 -> 蛋 玉米粒 玉米醬罐頭 玉米濃湯粉
A6: =國中!C21 -> A4 | B6: =國中!D21 -> 白米飯 | C6: =國中!E21 -> 米 | F6: =國中!F21 -> 滷蛋 | G6: =國中!G21 -> 雞蛋 | J6: =國中!H21 -> 脆拌海帶 | K6: =國中!I21 -> 海帶 豆皮 薑 | N6: =國中!K21 -> 毛豆玉菜 | O6: =國中!L21 -> 毛豆 高麗菜 胡蘿蔔 | R6: 蔬菜 | U6: =國中!N21 -> 仙草甜湯 | V6: =國中!O21 -> 仙草汁 紅砂糖
B7: 食材明細 | C7: (食材明細以百人份計量，營養分析以個人計量) | I7: =國中R!I8 -> 其中每周供應特餐一次，當日主食及副菜一得混搭供應，國中4菜1湯，國小3菜1湯
A8: 循環 | B8: 主食 | F8: 主菜 | J8: 副菜一 | N8: 副菜二 | R8: 蔬菜 | U8: 湯品 | Y8: 全穀雜糧* | Z8: 油脂堅果種子* | AA8: 蔬菜* | AB8: 豆魚蛋肉* | AC8: 熱量* | AD8: 鈣 | AE8: 鈉
A9: =國中!A18 -> 40721 | B9: =B3 -> 白米飯 | C9: =C3 -> 米 | D9: 10 | E9: 公斤 | F9: =F3 -> 黑椒毛豆 | G9: =LEFT(G3,2) -> 毛豆 | H9: 6 | I9: 公斤 | J9: =J3 -> 蜜汁豆干 | K9: =LEFT(K3,3) -> 豆干 | L9: 4.5 | M9: 公斤 | N9: =N3 -> 紅仁炒蛋 | O9: 蛋 | P9: 1.6 | Q9: 公斤 | R9: 蔬菜 | S9: 7 | T9: 公斤 | U9: =U3 -> 蘿蔔湯 | V9: 白蘿蔔 | W9: 3 | X9: 公斤 | Y9: 5.4 | Z9: 2 | AA9: 1.6 | AB9: 2.5 | AC9: 705 | AD9: 330 | AE9: 176
A10: =WEEKDAY(A9,1) -> 2 | G10: 馬鈴薯 | H10: 3 | I10: 公斤 | K10: 滷包 | M10: 公斤 | O10: 紅蘿蔔 | P10: 4 | Q10: 公斤 | R10: 薑 | S10: 0.05 | T10: 公斤 | V10: 紅蘿蔔 | W10: 1 | X10: 公斤 | AH10: 5.2 | AI10: 2.1 | AJ10: 3.2 | AK10: 2.5 | AL10: 705 | AM10: 331 | AN10: 146
A11: =A3 -> A1 | G11: =$R$10 -> 薑 | H11: 1 | I11: 公斤 | M11: 公斤 | Q11: 公斤 | X11: 公斤
G12: 咖哩粉 | K12: =$R$10 -> 薑 | L12: 0.05 | Q12: 公斤 | V12: 薑
A14: =A9+1 -> 40722 | B14: =B4 -> 糙米飯 | C14: 米 | D14: 7 | E14: 公斤 | F14: =F4 -> 鮮菇麵筋 | G14: =LEFT(G4,3) -> 鮮菇 | H14: 1 | I14: 公斤 | J14: =J4 -> 豆皮芽菜 | K14: =LEFT(K4,2) -> 豆皮 | L14: 1 | M14: 公斤 | N14: =N4 -> 蔬香冬粉 | O14: 蛋 | P14: 1 | Q14: 公斤 | R14: 蔬菜 | S14: 7 | T14: 公斤 | U14: =U4 -> 味噌湯 | V14: 乾海帶 | W14: 0.1 | X14: 公斤 | Y14: 5 | Z14: 1.7 | AA14: 1.9 | AB14: 3.3 | AC14: 762 | AD14: 351 | AE14: 148
A15: =WEEKDAY(A14,1) -> 3 | C15: 糙米 | D15: 3 | E15: 公斤 | G15: 麵筋 | H15: 2 | I15: 公斤 | K15: 豆芽菜 | L15: 5 | M15: 公斤 | O15: 冬粉 | P15: 1 | Q15: 公斤 | R15: =$R$10 -> 薑 | S15: 0.05 | T15: 公斤 | V15: 味噌 | X15: 公斤
A16: =A4 -> A2 | I16: 公斤 | K16: 乾香菇 | L16: 1 | M16: 公斤 | O16: 時蔬 | P16: 1 | Q16: 公斤 | V16: 薑 | W16: 0.02 | X16: 公斤
G17: =$R$10 -> 薑 | H17: 0.05 | K17: =$R$10 -> 薑 | O17: 紅蘿蔔 | P17: 1 | Q17: 公斤
O18: =$R$10 -> 薑 | P18: 0.05
A19: =A14+1 -> 40723 | B19: =B5 -> 麵食特餐 | C19: =LEFT(C5,4) -> 義大利麵 | D19: 4 | E19: 公斤 | F19: =F5 -> 茄汁絞若 | G19: =LEFT(G5,3) -> 素絞肉 | H19: 6 | I19: 公斤 | J19: =J5 -> 清炒花椰 | K19: =LEFT(K5,5) -> 冷凍花椰菜 | L19: 5 | M19: 公斤 | N19: =N5 -> 小餐包 | O19: 小餐包 | P19: 3 | Q19: 公斤 | R19: 蔬菜 | S19: 7 | T19: 公斤 | U19: =U5 -> 玉米濃湯 | V19: 蛋 | W19: 0.6 | X19: 公斤 | Y19: 5 | Z19: 1.5 | AA19: 1.8 | AB19: 2.7 | AC19: 701 | AD19: 592 | AE19: 150
A20: =WEEKDAY(A19,1) -> 4 | E20: 公斤 | G20: 馬鈴薯 | H20: 3 | I20: 公斤 | K20: 紅K | L20: 1 | M20: 公斤 | Q20: 公斤 | R20: =$R$10 -> 薑 | S20: 0.05 | T20: 公斤 | V20: 玉米粒 | W20: 2 | X20: 公斤
A21: =A5 -> A3 | G21: 紅蘿蔔 | H21: 1 | I21: 公斤 | K21: =$R$10 -> 薑 | L21: 0.05 | M21: 公斤 | V21: 玉米醬罐頭 | W21: 2 | X21: 公斤
G22: 番茄罐頭 | H22: 2 | I22: 公斤 | M22: 公斤 | V22: 玉米濃湯粉 | W22: 0.1 | X22: 公斤
M23: 公斤 | X23: 公斤
X24: 公斤
A25: =A19+1 -> 40724 | B25: =B6 -> 白米飯 | C25: 米 | D25: 7 | E25: 公斤 | F25: =F6 -> 滷蛋 | G25: =LEFT(G6,2) -> 雞蛋 | H25: 6 | I25: 公斤 | J25: =J6 -> 脆拌海帶 | K25: 豆皮 | L25: 0.3 | M25: 公斤 | N25: =N6 -> 毛豆玉菜 | O25: =LEFT(O6,2) -> 毛豆 | P25: 1 | Q25: 公斤 | R25: 蔬菜 | S25: 7 | T25: 公斤 | U25: =U6 -> 仙草甜湯 | V25: 仙草汁 | W25: 5 | X25: 公斤 | Y25: 5.6 | Z25: 2.5 | AA25: 2.2 | AB25: 2.5 | AC25: 743 | AD25: 304 | AE25: 129
A26: =WEEKDAY(A25,1) -> 5 | C26: 糙米 | D26: 3 | E26: 公斤 | I26: 公斤 | K26: 乾海帶 | L26: 1 | M26: 公斤 | O26: 高麗菜 | P26: 6 | Q26: 公斤 | R26: =$R$10 -> 薑 | S26: 0.05 | T26: 公斤 | V26: 二砂糖 | W26: 1 | X26: 公斤
A27: =A6 -> A4 | I27: 公斤 | K27: =$R$10 -> 薑 | L27: 0.05 | M27: 公斤 | O27: 紅蘿蔔 | P27: 1 | Q27: 公斤
O28: 乾木耳 | P28: 0.01 | Q28: 公斤
M29: 公斤 | O29: =$R$10 -> 薑 | P29: 0.05 | Q29: 公斤

Sheet 國小
A1: 111 | E1: 110 | F1: 學年度 | G1: 第二學期 | H1: 國民小學 | I1: 6 | J1: 月 | K1: =國中!K1 -> 素食菜單 | M1: =國中!L1 -> 津吉
A2: 日期 | B2: 星期 | C2: 循環 | D2: 主食 | E2: 主食食材明細 | F2: 主菜 | G2: 主菜食材明細 | H2: 副菜一 | I2: 副菜一食材明細 | K2: 蔬菜 | L2: 湯品 | M2: 湯品食材明細 | N2: 全穀雜糧* | O2: 油脂與堅果種子* | P2: 蔬菜* | Q2: 乳品* | R2: 水果* | S2: 豆蛋* | T2: 熱量* | U2: 鈣 | V2: 鈉
A3: =DATE(A1,I1,6) -> 40700 | B3: =IF(A3="","",RIGHT(TEXT(WEEKDAY(A3),"[$-404]aaaa;@"),1)) -> 一 | C3: R1 | D3: 白米飯 | E3: 米 | F3: 洋芋絞若 | G3: 素絞肉 馬鈴薯 薑 | H3: 豆皮豆芽 | I3: 豆皮 豆芽菜 乾香菇 薑 | K3: 蔬菜 | L3: 紫菜湯 | M3: 乾海帶 薑 | N3: 5 | O3: 2.5 | P3: 1.5 | S3: 2.8 | T3: =N3*70+O3*45+P3*25+S3*75 -> 710 | U3: 155 | V3: 117
A4: =IF(A3="","",IF(MONTH(A3)<>MONTH(A3+1),"",A3+1)) -> 40701 | B4: =IF(A4="","",RIGHT(TEXT(WEEKDAY(A4),"[$-404]aaaa;@"),1)) -> 二 | C4: R2 | D4: 糙米飯 | E4: 米 糙米 | F4: 滷蛋 | G4: 雞蛋 | H4: 蘿蔔油腐 | I4: 白蘿蔔 油豆腐 薑 | K4: 蔬菜 | L4: 蛋花蔬湯 | M4: 雞蛋 時蔬 薑 | N4: 5 | O4: 2.6 | P4: 1.7 | S4: 2.7 | T4: =N4*70+O4*45+P4*25+S4*75 -> 712 | U4: 166 | V4: 490
A5: =IF(A4="","",IF(MONTH(A4)<>MONTH(A4+1),"",A4+1)) -> 40702 | B5: =IF(A5="","",RIGHT(TEXT(WEEKDAY(A5),"[$-404]aaaa;@"),1)) -> 三 | C5: R3 | D5: 拌飯特餐 | E5: 米 糙米 | F5: 咖哩毛豆 | G5: 毛豆 馬鈴薯 胡蘿蔔 咖哩粉 | H5: 拌飯配料 | I5: 素絞肉 三色豆 薑黃粉 | K5: 蔬菜 | L5: 時瓜湯 | M5: 時瓜 紅蘿蔔 薑 | N5: 5 | O5: 2.6 | P5: 1.7 | S5: 2.1 | T5: =N5*70+O5*45+P5*25+S5*75 -> 667 | U5: 146 | V5: 665
A6: =IF(A5="","",IF(MONTH(A5)<>MONTH(A5+1),"",A5+1)) -> 40703 | B6: =IF(A6="","",RIGHT(TEXT(WEEKDAY(A6),"[$-404]aaaa;@"),1)) -> 四 | C6: R4 | D6: 糙米飯 | E6: 米 糙米 | F6: 香滷豆包 | G6: 豆包 | H6: 蔬香佐蛋 | I6: 雞蛋 時蔬 紅蘿蔔 薑 | K6: 蔬菜 | L6: 豆漿 | M6: 黃豆 紅砂糖 | N6: 5.8 | O6: 2.4 | P6: 1.6 | R6: 1 | S6: 2 | T6: =N6*70+O6*45+P6*25+S6*75 -> 704 | U6: 233 | V6: 216
A7: =IF(A6="","",IF(MONTH(A6)<>MONTH(A6+1),"",A6+1)) -> 40704 | B7: =IF(A7="","",RIGHT(TEXT(WEEKDAY(A7),"[$-404]aaaa;@"),1)) -> 五 | C7: R5 | D7: 芝麻飯 | E7: 米 芝麻(熟) | F7: 瓜仔麵筋 | G7: 醬瓜 麵筋 薑 | H7: 清炒花椰 | I7: 冷凍花椰菜 紅蘿蔔 薑 | K7: 蔬菜 | L7: 蘿蔔湯 | M7: 白蘿蔔 紅蘿蔔 | N7: 5.5 | O7: 2.5 | P7: 1.8 | S7: 2.3 | T7: =N7*70+O7*45+P7*25+S7*75 -> 715 | U7: 262 | V7: 115
A8: =IF(A7="","",IF(MONTH(A7)<>MONTH(A7+1),"",A7+3)) -> 40707 | B8: =IF(A8="","",RIGHT(TEXT(WEEKDAY(A8),"[$-404]aaaa;@"),1)) -> 一 | C8: S1 | D8: 白米飯 | E8: 米 | F8: 豉香油腐 | G8: 油豆腐 白蘿蔔 胡蘿蔔 豆豉 薑 | H8: 豆皮豆芽 | I8: 豆皮 豆芽菜 乾香菇 薑 | K8: 蔬菜 | L8: 金針湯 | M8: 乾金針 榨菜 | N8: 5.5 | O8: 2.6 | P8: 1.4 | S8: 2.2 | T8: =N8*70+O8*45+P8*25+S8*75 -> 702 | U8: 190 | V8: 100
A9: =IF(A8="","",IF(MONTH(A8)<>MONTH(A8+1),"",A8+1)) -> 40708 | B9: =IF(A9="","",RIGHT(TEXT(WEEKDAY(A9),"[$-404]aaaa;@"),1)) -> 二 | C9: S2 | D9: 糙米飯 | E9: 米 糙米 | F9: 香滷麵腸 | G9: 麵腸 | H9: 茄汁豆腐 | I9: 豆腐 番茄醬 | K9: 蔬菜 | L9: 時瓜湯 | M9: 時瓜 紅蘿蔔 薑 | N9: 5 | O9: 2.5 | P9: 1.6 | S9: 2.1 | T9: =N9*70+O9*45+P9*25+S9*75 -> 660 | U9: 245 | V9: 326
A10: =IF(A9="","",IF(MONTH(A9)<>MONTH(A9+1),"",A9+1)) -> 40709 | B10: =IF(A10="","",RIGHT(TEXT(WEEKDAY(A10),"[$-404]aaaa;@"),1)) -> 三 | C10: S3 | D10: 炊粉特餐 | E10: 米粉 | F10: 滷蛋 | G10: 雞蛋 | H10: 炊粉配料 | I10: 素絞肉 紅蘿蔔 乾香菇 時蔬 薑 | K10: 蔬菜 | L10: 大滷湯 | M10: 蛋 筍絲 時蔬 紅蘿蔔 乾木耳 | N10: 5.5 | O10: 3 | P10: 1.7 | S10: 2.1 | T10: =N10*70+O10*45+P10*25+S10*75 -> 720 | U10: 152 | V10: 186
A11: =IF(A10="","",IF(MONTH(A10)<>MONTH(A10+1),"",A10+1)) -> 40710 | B11: =IF(A11="","",RIGHT(TEXT(WEEKDAY(A11),"[$-404]aaaa;@"),1)) -> 四 | C11: S4 | D11: 糙米飯 | E11: 米 糙米 | F11: 洋芋毛豆 | G11: 毛豆 馬鈴薯 紅蘿蔔 薑 | H11: 枸杞甘藍 | I11: 甘藍 枸杞 薑 | K11: 蔬菜 | L11: 冬瓜西米露 | M11: 冬瓜糖磚 西谷米 紅砂糖 | N11: 5.2 | O11: 2.9 | P11: 2 | R11: 1 | S11: 2.3 | T11: =N11*70+O11*45+P11*25+S11*75 -> 717 | U11: 159 | V11: 145
A12: =IF(A11="","",IF(MONTH(A11)<>MONTH(A11+1),"",A11+1)) -> 40711 | B12: =IF(A12="","",RIGHT(TEXT(WEEKDAY(A12),"[$-404]aaaa;@"),1)) -> 五 | C12: S5 | D12: 小米飯 | E12: 米 小米 | F12: 花生麵筋 | G12: 熟花生 麵筋 薑 | H12: 豆皮海帶 | I12: 海帶 豆皮 薑 | K12: 蔬菜 | L12: 時蔬湯 | M12: 時蔬 紅蘿蔔 薑 | N12: 5.2 | O12: 2.5 | P12: 2.1 | S12: 2.4 | T12: =N12*70+O12*45+P12*25+S12*75 -> 709 | U12: 331 | V12: 146
A13: =IF(A12="","",IF(MONTH(A12)<>MONTH(A12+1),"",A12+3)) -> 40714 | B13: =IF(A13="","",RIGHT(TEXT(WEEKDAY(A13),"[$-404]aaaa;@"),1)) -> 一 | C13: T1 | D13: 白米飯 | E13: 米 | F13: 咖哩毛豆 | G13: 毛豆 馬鈴薯 胡蘿蔔 咖哩粉 | H13: 蛋香紅仁 | I13: 雞蛋 紅蘿蔔 薑 | K13: 蔬菜 | L13: 海芽湯 | M13: 乾海帶 薑 | N13: 5 | O13: 2.8 | P13: 2 | S13: 2.2 | T13: =N13*70+O13*45+P13*25+S13*75 -> 691 | U13: 332 | V13: 235
A14: =IF(A13="","",IF(MONTH(A13)<>MONTH(A13+1),"",A13+1)) -> 40715 | B14: =IF(A14="","",RIGHT(TEXT(WEEKDAY(A14),"[$-404]aaaa;@"),1)) -> 二 | C14: T2 | D14: 糙米飯 | E14: 米 糙米 | F14: 塔香豆包 | G14: 豆包 乾海帶 九層塔 薑 | H14: 清炒瓜苗 | I14: 隼人瓜苗 紅蘿蔔 薑 | K14: 蔬菜 | L14: 時瓜湯 | M14: 時瓜 紅蘿蔔 薑 | N14: 5.6 | O14: 2.8 | P14: 1.7 | S14: 2.5 | T14: =N14*70+O14*45+P14*25+S14*75 -> 748 | U14: 363 | V14: 249
A15: =IF(A14="","",IF(MONTH(A14)<>MONTH(A14+1),"",A14+1)) -> 40716 | B15: =IF(A15="","",RIGHT(TEXT(WEEKDAY(A15),"[$-404]aaaa;@"),1)) -> 三 | C15: T3 | D15: 油飯特餐 | E15: 米 糯米 | F15: 滷蛋 | G15: 雞蛋 | H15: 油飯配料 | I15: 素絞肉 蘿蔔乾 乾香菇 薑 | K15: 蔬菜 | L15: 味噌湯 | M15: 乾海帶 味噌 | N15: 5.2 | O15: 2.8 | P15: 1.5 | S15: 2.1 | T15: =N15*70+O15*45+P15*25+S15*75 -> 685 | U15: 359 | V15: 222
A16: =IF(A15="","",IF(MONTH(A15)<>MONTH(A15+1),"",A15+1)) -> 40717 | B16: =IF(A16="","",RIGHT(TEXT(WEEKDAY(A16),"[$-404]aaaa;@"),1)) -> 四 | C16: T4 | D16: 糙米飯 | E16: 米 糙米 | F16: 鐵板油腐 | G16: 油豆腐 麻竹筍干 乾木耳 薑 | H16: 脆拌海帶 | I16: 海帶 豆皮 薑 | K16: 蔬菜 | L16: 粉圓甜湯 | M16: 粉圓 紅砂糖 | N16: 5.9 | O16: 2.8 | P16: 1.9 | R16: 1 | S16: 2.3 | T16: =N16*70+O16*45+P16*25+S16*75 -> 759 | U16: 348 | V16: 202
A17: =IF(A16="","",IF(MONTH(A16)<>MONTH(A16+1),"",A16+1)) -> 40718 | B17: =IF(A17="","",RIGHT(TEXT(WEEKDAY(A17),"[$-404]aaaa;@"),1)) -> 五 | C17: T5 | D17: 紫米飯 | E17: 米 紫米 | F17: 醬瓜麵腸 | G17: 麵腸 醬瓜 薑 | H17: 螞蟻上樹 | I17: 素絞肉 冬粉 紅蘿蔔 乾木耳 薑 | K17: 蔬菜 | L17: 時蔬湯 | M17: 時蔬 紅蘿蔔 薑 | N17: 5.4 | O17: 2 | P17: 1.6 | S17: 2.4 | T17: =N17*70+O17*45+P17*25+S17*75 -> 688 | U17: 330 | V17: 176
A18: =IF(A17="","",IF(MONTH(A17)<>MONTH(A17+1),"",A17+3)) -> 40721 | B18: =IF(A18="","",RIGHT(TEXT(WEEKDAY(A18),"[$-404]aaaa;@"),1)) -> 一 | C18: A1 | D18: 白米飯 | E18: 米 | F18: 黑椒毛豆 | G18: 毛豆 黑胡椒粒 | H18: 蜜汁豆干 | I18: 豆干 滷包 | K18: 蔬菜 | L18: 蘿蔔湯 | M18: 白蘿蔔 紅蘿蔔 | N18: 5 | O18: 2.3 | P18: 1.9 | S18: 2.4 | T18: =N18*70+O18*45+P18*25+S18*75 -> 681 | U18: 351 | V18: 148
A19: =IF(A18="","",IF(MONTH(A18)<>MONTH(A18+1),"",A18+1)) -> 40722 | B19: =IF(A19="","",RIGHT(TEXT(WEEKDAY(A19),"[$-404]aaaa;@"),1)) -> 二 | C19: A2 | D19: 糙米飯 | E19: 米 糙米 | F19: 香菇麵筋 | G19: 乾香菇 麵筋 薑 | H19: 豆皮芽菜 | I19: 豆皮 豆芽菜 乾香菇 薑 | K19: 蔬菜 | L19: 味噌湯 | M19: 乾海帶 味噌 | N19: 5 | O19: 2.5 | P19: 1.8 | S19: 2.5 | T19: =N19*70+O19*45+P19*25+S19*75 -> 695 | U19: 592 | V19: 150
A20: =IF(A19="","",IF(MONTH(A19)<>MONTH(A19+1),"",A19+1)) -> 40723 | B20: =IF(A20="","",RIGHT(TEXT(WEEKDAY(A20),"[$-404]aaaa;@"),1)) -> 三 | C20: A3 | D20: 麵食特餐 | E20: 義大利麵 | F20: 茄汁絞若 | G20: 素絞肉 洋芋 紅蘿蔔 蕃茄醬 | H20: 清炒花椰 | I20: 冷凍花椰菜 胡蘿蔔 薑 | K20: 蔬菜 | L20: 玉米濃湯 | M20: 蛋 玉米粒 玉米醬罐頭 玉米濃湯粉 | N20: 5.6 | O20: 2.5 | P20: 2.2 | S20: 2.5 | T20: =N20*70+O20*45+P20*25+S20*75 -> 747 | U20: 304 | V20: 129
A21: =IF(A20="","",IF(MONTH(A20)<>MONTH(A20+1),"",A20+1)) -> 40724 | B21: =IF(A21="","",RIGHT(TEXT(WEEKDAY(A21),"[$-404]aaaa;@"),1)) -> 四 | C21: A4 | D21: 白米飯 | E21: 米 | F21: 滷蛋 | G21: 雞蛋 | H21: 脆拌海帶 | I21: 海帶 豆皮 薑 | K21: 蔬菜 | L21: 仙草甜湯 | M21: 仙草汁 紅砂糖 | N21: 5.4 | O21: 1.9 | P21: 2.1 | R21: 1 | S21: 2.6 | T21: =N21*70+O21*45+P21*25+S21*75 -> 711 | U21: 493 | V21: 119
B22: =國中!B22 -> 過敏警語:「本月產品含有蛋、芝麻、含麩之穀物、花生、大豆、亞硫酸鹽類及其相關製品，不適合其過敏體質者食用」
A23: =I1 -> 6 | B23: =國中!C23 -> 月素食菜單編排配合葷食菜單調整。
B24: 三、 | C24: 每週五吃有機蔬菜

Sheet 國小R
A1: 110 | B1: 學年度 | C1: =國小!H1 -> 國民小學 | E1: =國中!K1 -> 素食菜單 | G1: R循環
A2: 循環 | B2: 主食 | C2: 主食食材明細 | F2: 主菜 | G2: 主菜食材明細 | J2: 副菜一 | K2: 副菜一食材明細 | N2: 蔬菜 | Q2: 湯品 | R2: 湯品食材明細
A3: =國中!C3 -> R1 | B3: =國中!D3 -> 白米飯 | C3: =國中!E3 -> 米 | F3: =國中!F3 -> 洋芋絞若 | G3: =國中!G3 -> 素絞肉 馬鈴薯 薑 | J3: =國中!H3 -> 豆皮豆芽 | K3: =國中!I3 -> 豆皮 豆芽菜 乾香菇 薑 | N3: 蔬菜 | Q3: =國中!N3 -> 紫菜湯 | R3: =國中!O3 -> 乾海帶 薑
A4: =國中!C4 -> R2 | B4: =國中!D4 -> 糙米飯 | C4: =國中!E4 -> 米 糙米 | F4: =國中!F4 -> 滷蛋 | G4: =國中!G4 -> 雞蛋 | J4: =國中!H4 -> 蘿蔔油腐 | K4: =國中!I4 -> 白蘿蔔 油豆腐 薑 | N4: 蔬菜 | Q4: =國中!N4 -> 蛋花蔬湯 | R4: =國中!O4 -> 雞蛋 時蔬 薑
A5: =國中!C5 -> R3 | B5: =國中!D5 -> 拌飯特餐 | C5: =國中!E5 -> 米 糙米 | F5: =國中!F5 -> 咖哩毛豆 | G5: =國中!G5 -> 毛豆 馬鈴薯 胡蘿蔔 咖哩粉 | J5: =國中!H5 -> 拌飯配料 | K5: =國中!I5 -> 素絞肉 三色豆 薑黃粉 | N5: 蔬菜 | Q5: =國中!N5 -> 時瓜湯 | R5: =國中!O5 -> 時瓜 紅蘿蔔 薑
A6: =國中!C6 -> R4 | B6: =國中!D6 -> 糙米飯 | C6: =國中!E6 -> 米 糙米 | F6: =國中!F6 -> 香滷豆包 | G6: =國中!G6 -> 豆包 | J6: =國中!H6 -> 蔬香佐蛋 | K6: =國中!I6 -> 雞蛋 時蔬 紅蘿蔔 薑 | N6: 蔬菜 | Q6: =國中!N6 -> 豆漿 | R6: =國中!O6 -> 黃豆 紅砂糖
A7: =國中!C7 -> R5 | B7: =國中!D7 -> 芝麻飯 | C7: =國中!E7 -> 米 芝麻(熟) | F7: =國中!F7 -> 瓜仔麵筋 | G7: =國中!G7 -> 醬瓜 麵筋 薑 | J7: =國中!H7 -> 清炒花椰 | K7: =國中!I7 -> 冷凍花椰菜 紅蘿蔔 薑 | N7: 有機 | Q7: =國中!N7 -> 蘿蔔湯 | R7: =國中!O7 -> 白蘿蔔 紅蘿蔔
B8: 食材明細 | C8: (食材明細以百人份計量，營養分析以個人計量) | I8: 其中每周供應特餐一次，當日主食及副菜一得混搭供應，國中4菜1湯，國小3菜1湯
A9: 循環 | B9: 主食 | F9: 主菜 | J9: 副菜一 | N9: 蔬菜 | Q9: 湯品 | U9: 全穀雜糧* | V9: 油脂堅果種子* | W9: 蔬菜* | X9: 豆魚蛋肉* | Y9: 熱量* | Z9: 鈣 | AA9: 鈉
A10: =國中!A3 -> 40700 | B10: =B3 -> 白米飯 | C10: =C3 -> 米 | D10: 10 | E10: 公斤 | F10: =F3 -> 洋芋絞若 | G10: =LEFT(G3,3) -> 素絞肉 | H10: 1 | I10: 公斤 | J10: =J3 -> 豆皮豆芽 | K10: 豆皮 | L10: 0.3 | M10: 公斤 | N10: =N3 -> 蔬菜 | O10: 7 | P10: 公斤 | Q10: =Q3 -> 紫菜湯 | R10: 乾海帶 | S10: 0.01 | T10: 公斤 | U10: 5 | V10: 2.5 | W10: 1.9 | X10: 2.9 | Y10: 700 | Z10: 155 | AA10: 117
A11: =WEEKDAY(A10,1) -> 2 | G11: 馬鈴薯 | H11: 3 | I11: 公斤 | K11: 豆芽菜 | L11: 5 | M11: 公斤 | N11: 薑 | O11: 0.05 | P11: 公斤 | T11: 公斤
A12: =A3 -> R1 | G12: 洋蔥 | H12: 1 | I12: 公斤 | K12: 乾香菇 | L12: 0.05 | R12: 薑 | S12: 0.02 | T12: 公斤
G13: =$N$11 -> 薑 | H13: 0.05 | K13: =$N$11 -> 薑 | L13: 0.05
A15: =國中!A4 -> 40701 | B15: =B4 -> 糙米飯 | C15: =LEFT(C4,1) -> 米 | D15: 7 | E15: 公斤 | F15: =F4 -> 滷蛋 | G15: =G4 -> 雞蛋 | H15: 6 | I15: 公斤 | J15: =J4 -> 蘿蔔油腐 | K15: 白蘿蔔 | L15: 3 | M15: 公斤 | N15: 蔬菜 | O15: 7 | P15: 公斤 | Q15: =Q4 -> 蛋花蔬湯 | R15: 時蔬 | S15: 3 | T15: 公斤 | U15: 5 | V15: 1.9 | W15: 2.9 | X15: 2.5 | Y15: 700 | Z15: 155 | AA15: 117
A16: =WEEKDAY(A15,1) -> 3 | C16: =RIGHT(C4,2) -> 糙米 | D16: 3 | E16: 公斤 | K16: 油豆腐 | L16: 3 | M16: 公斤 | N16: =$N$11 -> 薑 | O16: 0.05 | P16: 公斤 | R16: 雞蛋 | S16: 0.6 | T16: 公斤
A17: =A4 -> R2 | K17: 胡蘿蔔 | L17: 0.5 | M17: 公斤 | R17: 紅蘿蔔 | S17: 1 | T17: 公斤
K18: =$N$11 -> 薑 | L18: 0.05 | M18: 公斤 | R18: 薑 | S18: 0.02
A20: =國中!A5 -> 40702 | B20: =B5 -> 拌飯特餐 | C20: 米 | D20: 8 | E20: 公斤 | F20: =F5 -> 咖哩毛豆 | G20: =LEFT(G5,2) -> 毛豆 | H20: 6 | I20: 公斤 | J20: =J5 -> 拌飯配料 | K20: =LEFT(K5,3) -> 素絞肉 | L20: 1.5 | M20: 公斤 | N20: 蔬菜 | O20: 7 | P20: 公斤 | Q20: =Q5 -> 時瓜湯 | R20: 時瓜 | S20: 4 | T20: 公斤 | U20: 5 | V20: 1.7 | W20: 2.9 | X20: 3 | Y20: 648 | Z20: 166 | AA20: 490
A21: =WEEKDAY(A20,1) -> 4 | C21: 糙米 | D21: 3 | E21: 公斤 | G21: 馬鈴薯 | H21: 3 | I21: 公斤 | K21: 三色豆 | L21: 2 | M21: 公斤 | N21: =$N$11 -> 薑 | O21: 0.05 | P21: 公斤 | R21: 紅蘿蔔 | S21: 1 | T21: 公斤
A22: =A5 -> R3 | G22: 胡蘿蔔 | H22: 1 | I22: 公斤 | K22: =$N$11 -> 薑 | L22: 0.05 | M22: 公斤 | R22: 薑 | S22: 0.02 | T22: 公斤
G23: 咖哩粉 | K23: 薑黃粉 | M23: 公斤
A25: =國中!A6 -> 40703 | B25: =B6 -> 糙米飯 | C25: =LEFT(C6,1) -> 米 | D25: 7 | E25: 公斤 | F25: =F6 -> 香滷豆包 | G25: =LEFT(G6,4) -> 豆包 | H25: 6 | I25: 公斤 | J25: =J6 -> 蔬香佐蛋 | K25: 雞蛋 | L25: 1.6 | M25: 公斤 | N25: 蔬菜 | O25: 7 | P25: 公斤 | Q25: =Q6 -> 豆漿 | R25: 黃豆 | S25: 2 | T25: 公斤 | U25: 5 | V25: 1.8 | W25: 3 | X25: 2.6 | Y25: 677 | Z25: 146 | AA25: 665
A26: =WEEKDAY(A25,1) -> 5 | C26: =RIGHT(C6,2) -> 糙米 | D26: 3 | E26: 公斤 | I26: 公斤 | K26: 時蔬 | L26: 5 | M26: 公斤 | N26: =$N$11 -> 薑 | O26: 0.05 | P26: 公斤 | R26: 紅砂糖 | S26: 1 | T26: 公斤
A27: =A6 -> R4 | I27: 公斤 | K27: 紅蘿蔔 | L27: 1 | M27: 公斤 | T27: 公斤
G28: =$N$11 -> 薑 | H28: 0.05 | I28: 公斤 | K28: =$N$11 -> 薑 | L28: 0.05 | T28: 公斤
A30: =國中!A7 -> 40704 | B30: =B7 -> 芝麻飯 | C30: =LEFT(C7,1) -> 米 | D30: 10 | E30: 公斤 | F30: =F7 -> 瓜仔麵筋 | G30: =LEFT(G7,2) -> 醬瓜 | H30: 6 | I30: 公斤 | J30: =J7 -> 清炒花椰 | K30: =LEFT(K7,5) -> 冷凍花椰菜 | L30: 5 | M30: 公斤 | N30: 有機 | O30: 7 | P30: 公斤 | Q30: =Q7 -> 蘿蔔湯 | R30: 白蘿蔔 | S30: 4 | T30: 公斤 | U30: 5.8 | V30: 2.2 | W30: 2.6 | X30: 2.4 | Y30: 712 | Z30: 233 | AA30: 216
A31: =WEEKDAY(A30,1) -> 6 | C31: =RIGHT(C7,5) -> 芝麻(熟) | D31: 0.01 | E31: 公斤 | G31: 麵筋 | H31: 1 | I31: 公斤 | K31: 紅蘿蔔 | L31: 0.5 | M31: 公斤 | N31: =$N$11 -> 薑 | O31: 0.05 | P31: 公斤 | R31: 紅蘿蔔 | S31: 1 | T31: 公斤
A32: =A7 -> R5 | G32: =$N$11 -> 薑 | H32: 0.05 | I32: 公斤 | K32: =$N$11 -> 薑 | L32: 0.05 | M32: 公斤 | R32: 薑 | S32: 0.02 | T32: 公斤
I33: 公斤

Sheet 國小S
A1: 110 | B1: 學年度 | C1: =國小!H1 -> 國民小學 | E1: =國中!K1 -> 素食菜單 | G1: S循環
A2: 循環 | B2: 主食 | C2: 主食食材明細 | F2: 主菜 | G2: 主菜食材明細 | J2: 副菜一 | K2: 副菜一食材明細 | N2: 蔬菜 | Q2: 湯品 | R2: 湯品食材明細
A3: =國中!C8 -> S1 | B3: =國中!D8 -> 白米飯 | C3: =國中!E8 -> 米 | F3: =國中!F8 -> 豉香油腐 | G3: =國中!G8 -> 油豆腐 白蘿蔔 胡蘿蔔 豆豉 薑 | J3: =國中!H8 -> 豆皮豆芽 | K3: =國中!I8 -> 豆皮 豆芽菜 乾香菇 薑 | N3: 蔬菜 | Q3: =國中!N8 -> 金針湯 | R3: =國中!O8 -> 乾金針 榨菜
A4: =國中!C9 -> S2 | B4: =國中!D9 -> 糙米飯 | C4: =國中!E9 -> 米 糙米 | F4: =國中!F9 -> 香滷麵腸 | G4: =國中!G9 -> 麵腸 | J4: =國中!H9 -> 茄汁豆腐 | K4: =國中!I9 -> 豆腐 番茄醬 | N4: 蔬菜 | Q4: =國中!N9 -> 時瓜湯 | R4: =國中!O9 -> 時瓜 紅蘿蔔 薑
A5: =國中!C10 -> S3 | B5: =國中!D10 -> 炊粉特餐 | C5: =國中!E10 -> 米粉 | F5: =國中!F10 -> 滷蛋 | G5: =國中!G10 -> 雞蛋 | J5: =國中!H10 -> 炊粉配料 | K5: =國中!I10 -> 素絞肉 紅蘿蔔 乾香菇 時蔬 薑 | N5: 蔬菜 | Q5: =國中!N10 -> 大滷湯 | R5: =國中!O10 -> 蛋 筍絲 時蔬 紅蘿蔔 乾木耳
A6: =國中!C11 -> S4 | B6: =國中!D11 -> 糙米飯 | C6: =國中!E11 -> 米 糙米 | F6: =國中!F11 -> 洋芋毛豆 | G6: =國中!G11 -> 毛豆 馬鈴薯 紅蘿蔔 薑 | J6: =國中!H11 -> 枸杞甘藍 | K6: =國中!I11 -> 甘藍 枸杞 薑 | N6: 蔬菜 | Q6: =國中!N11 -> 冬瓜西米露 | R6: =國中!O11 -> 冬瓜糖磚 西谷米 紅砂糖
A7: =國中!C12 -> S5 | B7: =國中!D12 -> 小米飯 | C7: =國中!E12 -> 米 小米 | F7: =國中!F12 -> 花生麵筋 | G7: =國中!G12 -> 熟花生 麵筋 薑 | J7: =國中!H12 -> 豆皮海帶 | K7: =國中!I12 -> 海帶 豆皮 薑 | N7: 有機 | Q7: =國中!N12 -> 時蔬湯 | R7: =國中!O12 -> 時蔬 紅蘿蔔 薑
B8: 食材明細 | C8: (食材明細以百人份計量，營養分析以個人計量) | I8: =國中R!I8 -> 其中每周供應特餐一次，當日主食及副菜一得混搭供應，國中4菜1湯，國小3菜1湯
A9: 循環 | B9: 主食 | F9: 主菜 | J9: 副菜一 | N9: 蔬菜 | Q9: 湯品 | U9: 全穀雜糧* | V9: 油脂堅果種子* | W9: 蔬菜* | X9: 豆魚蛋肉* | Y9: 熱量* | Z9: 鈣 | AA9: 鈉
A10: =國中!A8 -> 40707 | B10: =B3 -> 白米飯 | C10: =C3 -> 米 | D10: 10 | E10: 公斤 | F10: =F3 -> 豉香油腐 | G10: =LEFT(G3,2) -> 油豆 | H10: 6 | I10: 公斤 | J10: =J3 -> 豆皮豆芽 | K10: =LEFT(K3,2) -> 豆皮 | L10: 1 | M10: 公斤 | N10: 蔬菜 | O10: 7 | P10: 公斤 | Q10: =Q3 -> 金針湯 | R10: 金針菜乾 | S10: 0.1 | T10: 公斤 | U10: 5.5 | V10: 2.1 | W10: 2.5 | X10: 2.5 | Y10: 727 | Z10: 262 | AA10: 115
A11: =WEEKDAY(A10,1) -> 2 | G11: 白蘿蔔 | H11: 3 | I11: 公斤 | K11: 豆芽菜 | L11: 5 | M11: 公斤 | N11: 薑 | O11: 0.05 | P11: 公斤 | R11: 榨菜 | S11: 0.6 | T11: 公斤
A12: =A3 -> S1 | G12: 紅蘿蔔 | H12: 1 | I12: 公斤 | K12: 乾香菇 | L12: 1 | M12: 公斤 | T12: 公斤
G13: =$N$11 -> 薑 | H13: 0.05 | I13: 公斤 | K13: =$N$11 -> 薑 | L13: 0.05 | M13: 公斤 | T13: 公斤
G14: 豆豉 | M14: 公斤
M15: 公斤
A16: =國中!A9 -> 40708 | B16: =B4 -> 糙米飯 | C16: 米 | D16: 7 | E16: 公斤 | F16: =F4 -> 香滷麵腸 | G16: =LEFT(G4,4) -> 麵腸 | H16: 6 | I16: 公斤 | J16: =J4 -> 茄汁豆腐 | K16: 絞肉 | L16: 1 | M16: 公斤 | N16: 蔬菜 | O16: 7 | P16: 公斤 | Q16: =Q4 -> 時瓜湯 | R16: 時瓜 | S16: 4 | T16: 公斤 | U16: 6 | V16: 1.4 | W16: 2.8 | X16: 2.6 | Y16: 726 | Z16: 190 | AA16: 100
A17: =WEEKDAY(A16,1) -> 3 | C17: 糙米 | D17: 3 | E17: 公斤 | I17: 公斤 | K17: 豆腐 | L17: 5 | M17: 公斤 | N17: =$N$11 -> 薑 | O17: 0.05 | P17: 公斤 | R17: 紅蘿蔔 | S17: 1 | T17: 公斤
A18: =A4 -> S2 | I18: 公斤 | K18: 番茄醬 | M18: 公斤 | T18: 公斤
G19: =$N$11 -> 薑 | H19: 0.05 | I19: 公斤 | K19: =$N$11 -> 薑 | L19: 0.05 | M19: 公斤 | R19: 薑
A22: =國中!A10 -> 40709 | B22: =B5 -> 炊粉特餐 | C22: =RIGHT(C5,2) -> 米粉 | D22: 3 | E22: 公斤 | F22: =F5 -> 滷蛋 | G22: =LEFT(G5,4) -> 雞蛋 | H22: 9 | I22: 公斤 | J22: =J5 -> 炊粉配料 | K22: 絞肉 | L22: 1.5 | M22: 公斤 | N22: 蔬菜 | O22: 7 | P22: 公斤 | Q22: =Q5 -> 大滷湯 | R22: 蛋 | S22: 0.6 | T22: 公斤 | U22: 5 | V22: 1.6 | W22: 3.3 | X22: 2.5 | Y22: 684 | Z22: 245 | AA22: 326
A23: =WEEKDAY(A22,1) -> 4 | E23: 公斤 | K23: 時蔬 | L23: 1.5 | M23: 公斤 | N23: =$N$11 -> 薑 | O23: 0.05 | P23: 公斤 | R23: 筍絲 | S23: 2 | T23: 公斤
A24: =A5 -> S3 | K24: 紅蘿蔔 | L24: 1.5 | M24: 公斤 | R24: 時蔬 | S24: 2 | T24: 公斤
K25: =$N$11 -> 薑 | L25: 0.05 | M25: 公斤 | R25: 紅蘿蔔 | S25: 1 | T25: 公斤
R26: 乾木耳 | S26: 0.01 | T26: 公斤
A28: =國中!A11 -> 40710 | B28: =B6 -> 糙米飯 | C28: 米 | D28: 7 | E28: 公斤 | F28: =F6 -> 洋芋毛豆 | G28: =LEFT(G6,2) -> 毛豆 | H28: 6 | I28: 公斤 | J28: =J6 -> 枸杞甘藍 | K28: 高麗菜 | L28: 7 | M28: 公斤 | N28: 蔬菜 | O28: 7 | P28: 公斤 | Q28: =Q6 -> 冬瓜西米露 | T28: 公斤 | U28: 5.5 | V28: 1.7 | W28: 2.1 | X28: 3 | Y28: 678 | Z28: 152 | AA28: 186
A29: =WEEKDAY(A28,1) -> 5 | C29: 糙米 | D29: 3 | E29: 公斤 | G29: 馬鈴薯 | H29: 3 | I29: 公斤 | K29: 乾木耳 | L29: 0.05 | M29: 公斤 | N29: =$N$11 -> 薑 | O29: 0.05 | P29: 公斤 | R29: 西谷米 | S29: 1.2 | T29: 公斤
A30: =A6 -> S4 | I30: 公斤 | K30: 枸杞 | L30: 0.05 | M30: 公斤 | R30: 冬瓜糖磚 | S30: 1 | T30: 公斤
G31: 紅蘿蔔 | H31: 0.5 | I31: 公斤 | K31: =$N$11 -> 薑 | L31: 0.05 | M31: 公斤 | R31: 二砂糖 | S31: 1
G32: 咖哩粉
A34: =國中!A12 -> 40711 | B34: =B7 -> 小米飯 | C34: 米 | D34: 10 | E34: 公斤 | F34: =F7 -> 花生麵筋 | G34: =LEFT(G7,3) -> 熟花生 | H34: 1 | I34: 公斤 | J34: =J7 -> 豆皮海帶 | K34: =LEFT(K7,3) -> 海帶 | L34: 3 | M34: 公斤 | N34: =N7 -> 有機 | O34: 7 | P34: 公斤 | Q34: =Q7 -> 時蔬湯 | R34: 時蔬 | S34: 3 | T34: 公斤 | U34: 6.5 | V34: 2 | W34: 2.4 | X34: 2.9 | Y34: 768 | Z34: 159 | AA34: 145
A35: =WEEKDAY(A34,1) -> 6 | C35: =LEFT(B34,2) -> 小米 | D35: 0.4 | E35: 公斤 | G35: 麵筋 | H35: 2 | I35: 公斤 | K35: 豆皮 | L35: 1 | M35: 公斤 | N35: =$N$11 -> 薑 | O35: 0.05 | P35: 公斤 | R35: 紅蘿蔔 | S35: 0.5 | T35: 公斤
A36: =A7 -> S5 | I36: 公斤 | K36: =$N$11 -> 薑 | L36: 0.05 | M36: 公斤 | T36: 公斤
G37: =$N$11 -> 薑 | H37: 0.05 | I37: 公斤 | M37: 公斤 | R37: 薑 | S37: 0.02
M38: 公斤

Sheet 國小T
A1: 110 | B1: 學年度 | C1: =國小!H1 -> 國民小學 | E1: =國中!K1 -> 素食菜單 | G1: T循環
A2: 循環 | B2: 主食 | C2: 主食食材明細 | F2: 主菜 | G2: 主菜食材明細 | J2: 副菜一 | K2: 副菜一食材明細 | N2: 蔬菜 | Q2: 湯品 | R2: 湯品食材明細
A3: =國中!C13 -> T1 | B3: =國中!D13 -> 白米飯 | C3: =國中!E13 -> 米 | F3: =國中!F13 -> 咖哩毛豆 | G3: =國中!G13 -> 毛豆 馬鈴薯 胡蘿蔔 咖哩粉 | J3: =國中!H13 -> 蛋香紅仁 | K3: =國中!I13 -> 雞蛋 紅蘿蔔 薑 | N3: 蔬菜 | Q3: =國中!N13 -> 海芽湯 | R3: =國中!O13 -> 乾海帶 薑
A4: =國中!C14 -> T2 | B4: =國中!D14 -> 糙米飯 | C4: =國中!E14 -> 米 糙米 | F4: =國中!F14 -> 塔香豆包 | G4: =國中!G14 -> 豆包 乾海帶 九層塔 薑 | J4: =國中!H14 -> 清炒瓜苗 | K4: =國中!I14 -> 隼人瓜苗 紅蘿蔔 薑 | N4: 蔬菜 | Q4: =國中!N14 -> 時瓜湯 | R4: =國中!O14 -> 時瓜 紅蘿蔔 薑
A5: =國中!C15 -> T3 | B5: =國中!D15 -> 油飯特餐 | C5: =國中!E15 -> 米 糯米 | F5: =國中!F15 -> 滷蛋 | G5: =國中!G15 -> 雞蛋 | J5: =國中!H15 -> 油飯配料 | K5: =國中!I15 -> 素絞肉 蘿蔔乾 乾香菇 薑 | N5: 蔬菜 | Q5: =國中!N15 -> 味噌湯 | R5: =國中!O15 -> 乾海帶 味噌
A6: =國中!C16 -> T4 | B6: =國中!D16 -> 糙米飯 | C6: =國中!E16 -> 米 糙米 | F6: =國中!F16 -> 鐵板油腐 | G6: =國中!G16 -> 油豆腐 麻竹筍干 乾木耳 薑 | J6: =國中!H16 -> 脆拌海帶 | K6: =國中!I16 -> 海帶 豆皮 薑 | N6: 蔬菜 | Q6: =國中!N16 -> 粉圓甜湯 | R6: =國中!O16 -> 粉圓 紅砂糖
A7: =國中!C17 -> T5 | B7: =國中!D17 -> 紫米飯 | C7: =國中!E17 -> 米 紫米 | F7: =國中!F17 -> 醬瓜麵腸 | G7: =國中!G17 -> 麵腸 醬瓜 薑 | J7: =國中!H17 -> 螞蟻上樹 | K7: =國中!I17 -> 素絞肉 冬粉 紅蘿蔔 乾木耳 薑 | N7: 有機 | Q7: =國中!N17 -> 時蔬湯 | R7: =國中!O17 -> 時蔬 紅蘿蔔 薑
B8: 食材明細 | C8: (食材明細以百人份計量，營養分析以個人計量) | I8: =國中R!I8 -> 其中每周供應特餐一次，當日主食及副菜一得混搭供應，國中4菜1湯，國小3菜1湯
A9: 循環 | B9: 主食 | F9: 主菜 | J9: 副菜一 | N9: 蔬菜 | Q9: 湯品 | U9: 全穀雜糧* | V9: 油脂堅果種子* | W9: 蔬菜* | X9: 豆魚蛋肉* | Y9: 熱量* | Z9: 鈣 | AA9: 鈉
A10: =國中!A13 -> 40714 | B10: =B3 -> 白米飯 | C10: =C3 -> 米 | D10: 10 | E10: 公斤 | F10: =F3 -> 咖哩毛豆 | G10: =LEFT(G3,4) -> 毛豆 馬 | H10: 6 | I10: 公斤 | J10: =J3 -> 蛋香紅仁 | K10: 蛋 | L10: 1.2 | M10: 公斤 | N10: 蔬菜 | O10: 7 | P10: 公斤 | Q10: =Q3 -> 海芽湯 | R10: 乾海帶 | S10: 0.1 | T10: 公斤 | U10: 5 | V10: 2 | W10: 3 | X10: 2.8 | Y10: 751 | Z10: 332 | AA10: 235
A11: =WEEKDAY(A10,1) -> 2 | G11: 馬鈴薯 | H11: 3 | I11: 公斤 | K11: 紅蘿蔔 | L11: 4 | M11: 公斤 | N11: 薑 | O11: 0.05 | P11: 公斤 | R11: 柴魚片 | T11: 公斤
A12: =A3 -> T1 | G12: =$N$11 -> 薑 | H12: 1 | I12: 公斤 | K12: =$N$11 -> 薑 | L12: 0.05 | M12: 公斤 | R12: 薑 | T12: 公斤
G13: 咖哩粉 | I13: 公斤 | M13: 公斤
A15: =國中!A14 -> 40715 | B15: =B4 -> 糙米飯 | C15: 米 | D15: 7 | E15: 公斤 | F15: =F4 -> 塔香豆包 | G15: =LEFT(G4,2) -> 豆包 | H15: 6 | I15: 公斤 | J15: =J4 -> 清炒瓜苗 | K15: 隼人瓜苗 | L15: 4.5 | M15: 公斤 | N15: 蔬菜 | O15: 7 | P15: 公斤 | Q15: =Q4 -> 時瓜湯 | R15: 時瓜 | S15: 4 | T15: 公斤 | U15: 5.6 | V15: 1.7 | W15: 2.4 | X15: 2.8 | Y15: 741 | Z15: 363 | AA15: 249
A16: =WEEKDAY(A15,1) -> 3 | C16: 糙米 | D16: 3 | E16: 公斤 | G16: 乾海帶 | H16: 1.8 | I16: 公斤 | K16: 紅蘿蔔 | L16: 0.5 | M16: 公斤 | N16: =$N$11 -> 薑 | O16: 0.05 | P16: 公斤 | R16: 紅蘿蔔 | S16: 1
A17: =A4 -> T2 | G17: =$N$11 -> 薑 | H17: 0.05 | I17: 公斤 | K17: =$N$11 -> 薑 | L17: 0.05 | M17: 公斤 | R17: 豬骨 | S17: 1
G18: 九層塔 | M18: 公斤 | R18: 薑
A20: =國中!A15 -> 40716 | B20: =B5 -> 油飯特餐 | C20: =LEFT(C5,1) -> 米 | D20: 8 | E20: 公斤 | F20: =F5 -> 滷蛋 | G20: =LEFT(G5,5) -> 雞蛋 | H20: 6 | I20: 公斤 | J20: =J5 -> 油飯配料 | K20: 絞肉 | L20: 1.5 | M20: 公斤 | N20: 蔬菜 | O20: 7 | P20: 公斤 | Q20: =Q5 -> 味噌湯 | R20: 乾海帶 | S20: 0.1 | T20: 公斤 | U20: 2.5 | V20: 1.5 | W20: 3 | X20: 2.8 | Y20: 564 | Z20: 359 | AA20: 222
A21: =WEEKDAY(A20,1) -> 4 | C21: =RIGHT(C5,2) -> 糯米 | D21: 3 | E21: 公斤 | I21: 公斤 | K21: 蘿蔔乾 | L21: 1.5 | M21: 公斤 | N21: =$N$11 -> 薑 | O21: 0.05 | P21: 公斤 | R21: 味噌 | T21: 公斤
A22: =A5 -> T3 | I22: 公斤 | K22: 紅蘿蔔 | L22: 0.5 | M22: 公斤 | R22: 薑 | S22: 0.02 | T22: 公斤
I23: 公斤 | K23: 乾香菇 | L23: 0.05 | T23: 公斤
K24: =$N$11 -> 薑 | L24: 0.05 | M24: 公斤 | T24: 公斤
T25: 公斤
A26: =國中!A16 -> 40717 | B26: =B6 -> 糙米飯 | C26: 米 | D26: 7 | E26: 公斤 | F26: =F6 -> 鐵板油腐 | G26: =LEFT(G6,4) -> 油豆腐 | H26: 9 | I26: 公斤 | J26: =J6 -> 脆拌海帶 | K26: 乾海帶 | L26: 2 | M26: 公斤 | N26: 蔬菜 | O26: 7 | P26: 公斤 | Q26: =Q6 -> 粉圓甜湯 | R26: 粉圓 | S26: 2 | T26: 公斤 | U26: 5.2 | V26: 2.8 | W26: 1.5 | X26: 2.9 | Y26: 745 | Z26: 359 | AA26: 222
A27: =WEEKDAY(A26,1) -> 5 | C27: 糙米 | D27: 3 | E27: 公斤 | G27: 麻竹筍干 | H27: 1 | I27: 公斤 | K27: 豆皮 | L27: 0.3 | M27: 公斤 | N27: =$N$11 -> 薑 | O27: 0.05 | P27: 公斤 | R27: 二砂糖 | S27: 1 | T27: 公斤
A28: =A5 -> T3 | G28: 乾木耳 | H28: 0.05 | I28: 公斤 | M28: 公斤
G29: =$N$11 -> 薑 | K29: =$N$11 -> 薑 | L29: 0.05 | M29: 公斤
A32: =國中!A17 -> 40718 | B32: =B7 -> 紫米飯 | C32: =C3 -> 米 | D32: 10 | E32: 公斤 | F32: =F7 -> 醬瓜麵腸 | G32: 肉雞 | H32: 9 | I32: 公斤 | J32: =J7 -> 螞蟻上樹 | K32: 絞肉 | L32: 1 | M32: 公斤 | N32: =N7 -> 有機 | O32: 7 | P32: 公斤 | Q32: =Q7 -> 時蔬湯 | R32: 時蔬 | S32: 3 | T32: 公斤 | U32: 5.4 | V32: 1.9 | W32: 2.6 | X32: 2.8 | Y32: 747 | Z32: 331 | AA32: 228
A33: =WEEKDAY(A32,1) -> 6 | C33: =LEFT(B32,2) -> 紫米 | D33: 0.4 | E33: 公斤 | G33: 醬瓜 | H33: 2 | I33: 公斤 | K33: 冬粉 | L33: 1 | M33: 公斤 | N33: =$N$11 -> 薑 | O33: 0.05 | P33: 公斤 | R33: 紅蘿蔔 | S33: 0.5 | T33: 公斤
A34: =A7 -> T5 | G34: 紅蘿蔔 | H34: 1 | K34: 紅蘿蔔 | L34: 1 | M34: 公斤 | R34: 豬骨 | S34: 1 | T34: 公斤
G35: =$N$11 -> 薑 | H35: 0.05 | K35: 乾木耳 | L35: 0.01 | R35: 薑 | S35: 0.02
K36: =$N$11 -> 薑 | L36: 0.05

Sheet 國小A
A1: 110 | B1: 學年度 | C1: =國中!H1 -> 國民中學 | E1: =國中!K1 -> 素食菜單 | G1: A循環
A2: 循環 | B2: 主食 | C2: 主食食材明細 | F2: 主菜 | G2: 主菜食材明細 | J2: 副菜一 | K2: 副菜一食材明細 | N2: 蔬菜 | Q2: 湯品 | R2: 湯品食材明細
A3: =國中!C18 -> A1 | B3: =國中!D18 -> 白米飯 | C3: =國中!E18 -> 米 | F3: =國中!F18 -> 黑椒毛豆 | G3: =國中!G18 -> 毛豆 黑胡椒粒 | J3: =國中!H18 -> 蜜汁豆干 | K3: =國中!I18 -> 豆干 滷包 | N3: 蔬菜 | Q3: =國中!N18 -> 蘿蔔湯 | R3: =國中!O18 -> 白蘿蔔 紅蘿蔔
A4: =國中!C19 -> A2 | B4: =國中!D19 -> 糙米飯 | C4: =國中!E19 -> 米 糙米 | F4: =國中!F19 -> 鮮菇麵筋 | G4: =國中!G19 -> 鮮菇 麵筋 薑 | J4: =國中!H19 -> 豆皮芽菜 | K4: =國中!I19 -> 豆皮 豆芽菜 乾香菇 薑 | N4: 蔬菜 | Q4: =國中!N19 -> 味噌湯 | R4: =國中!O19 -> 乾海帶 味噌
A5: =國中!C20 -> A3 | B5: =國中!D20 -> 麵食特餐 | C5: =國中!E20 -> 義大利麵 | F5: =國中!F20 -> 茄汁絞若 | G5: =國中!G20 -> 素絞肉 洋芋 紅蘿蔔 蕃茄醬 | J5: =國中!H20 -> 清炒花椰 | K5: =國中!I20 -> 冷凍花椰菜 胡蘿蔔 薑 | N5: 蔬菜 | Q5: =國中!N20 -> 玉米濃湯 | R5: =國中!O20 -> 蛋 玉米粒 玉米醬罐頭 玉米濃湯粉
A6: =國中!C21 -> A4 | B6: =國中!D21 -> 白米飯 | C6: =國中!E21 -> 米 | F6: =國中!F21 -> 滷蛋 | G6: =國中!G21 -> 雞蛋 | J6: =國中!H21 -> 脆拌海帶 | K6: =國中!I21 -> 海帶 豆皮 薑 | N6: 蔬菜 | Q6: =國中!N21 -> 仙草甜湯 | R6: =國中!O21 -> 仙草汁 紅砂糖
B7: 食材明細 | C7: (食材明細以百人份計量，營養分析以個人計量) | I7: =國中R!I8 -> 其中每周供應特餐一次，當日主食及副菜一得混搭供應，國中4菜1湯，國小3菜1湯
A8: 循環 | B8: 主食 | F8: 主菜 | J8: 副菜一 | N8: 蔬菜 | Q8: 湯品 | U8: 全穀雜糧* | V8: 油脂堅果種子* | W8: 蔬菜* | X8: 豆魚蛋肉* | Y8: 熱量* | Z8: 鈣 | AA8: 鈉
A9: =國中!A18 -> 40721 | B9: =B3 -> 白米飯 | C9: =C3 -> 米 | D9: 10 | E9: 公斤 | F9: =F3 -> 黑椒毛豆 | G9: =LEFT(G3,2) -> 毛豆 | H9: 6 | I9: 公斤 | J9: =J3 -> 蜜汁豆干 | K9: =LEFT(K3,3) -> 豆干 | L9: 4.5 | M9: 公斤 | N9: 蔬菜 | O9: 7 | P9: 公斤 | Q9: =Q3 -> 蘿蔔湯 | R9: 白蘿蔔 | S9: 3 | T9: 公斤 | U9: 5.4 | V9: 2 | W9: 1.6 | X9: 2.5 | Y9: 705 | Z9: 330 | AA9: 176
A10: =WEEKDAY(A9,1) -> 2 | G10: 馬鈴薯 | H10: 3 | I10: 公斤 | K10: 滷包 | M10: 公斤 | N10: 薑 | O10: 0.05 | P10: 公斤 | R10: 紅蘿蔔 | S10: 1 | T10: 公斤 | AD10: 5.2 | AE10: 2.1 | AF10: 3.2 | AG10: 2.5 | AH10: 705 | AI10: 331 | AJ10: 146
A11: =A3 -> A1 | G11: =$N$10 -> 薑 | H11: 1 | I11: 公斤 | M11: 公斤 | T11: 公斤
G12: 咖哩粉 | K12: =$N$10 -> 薑 | L12: 0.05 | R12: 薑
A14: =A9+1 -> 40722 | B14: =B4 -> 糙米飯 | C14: 米 | D14: 7 | E14: 公斤 | F14: =F4 -> 鮮菇麵筋 | G14: =LEFT(G4,3) -> 鮮菇 | H14: 1 | I14: 公斤 | J14: =J4 -> 豆皮芽菜 | K14: =LEFT(K4,2) -> 豆皮 | L14: 1 | M14: 公斤 | N14: 蔬菜 | O14: 7 | P14: 公斤 | Q14: =Q4 -> 味噌湯 | R14: 乾海帶 | S14: 0.1 | T14: 公斤 | U14: 5 | V14: 1.7 | W14: 1.9 | X14: 3.3 | Y14: 762 | Z14: 351 | AA14: 148
A15: =WEEKDAY(A14,1) -> 3 | C15: 糙米 | D15: 3 | E15: 公斤 | G15: 麵筋 | H15: 2 | I15: 公斤 | K15: 豆芽菜 | L15: 5 | M15: 公斤 | N15: =$N$10 -> 薑 | O15: 0.05 | P15: 公斤 | R15: 味噌 | T15: 公斤
A16: =A4 -> A2 | I16: 公斤 | K16: 乾香菇 | L16: 1 | M16: 公斤 | R16: 薑 | S16: 0.02 | T16: 公斤
G17: =$N$10 -> 薑 | H17: 0.05 | K17: =$N$10 -> 薑
A19: =A14+1 -> 40723 | B19: =B5 -> 麵食特餐 | C19: =LEFT(C5,4) -> 義大利麵 | D19: 4 | E19: 公斤 | F19: =F5 -> 茄汁絞若 | G19: =LEFT(G5,3) -> 素絞肉 | H19: 6 | I19: 公斤 | J19: =J5 -> 清炒花椰 | K19: =LEFT(K5,5) -> 冷凍花椰菜 | L19: 5 | M19: 公斤 | N19: 蔬菜 | O19: 7 | P19: 公斤 | Q19: =Q5 -> 玉米濃湯 | R19: 蛋 | S19: 0.6 | T19: 公斤 | U19: 5 | V19: 1.5 | W19: 1.8 | X19: 2.7 | Y19: 701 | Z19: 592 | AA19: 150
A20: =WEEKDAY(A19,1) -> 4 | E20: 公斤 | G20: 馬鈴薯 | H20: 3 | I20: 公斤 | K20: 紅K | L20: 1 | M20: 公斤 | N20: =$N$10 -> 薑 | O20: 0.05 | P20: 公斤 | R20: 玉米粒 | S20: 2 | T20: 公斤
A21: =A5 -> A3 | G21: 紅蘿蔔 | H21: 1 | I21: 公斤 | K21: =$N$10 -> 薑 | L21: 0.05 | M21: 公斤 | R21: 玉米醬罐頭 | S21: 2 | T21: 公斤
G22: 番茄罐頭 | H22: 2 | I22: 公斤 | M22: 公斤 | R22: 玉米濃湯粉 | S22: 0.1 | T22: 公斤
M23: 公斤 | T23: 公斤
T24: 公斤
A25: =A19+1 -> 40724 | B25: =B6 -> 白米飯 | C25: 米 | D25: 7 | E25: 公斤 | F25: =F6 -> 滷蛋 | G25: =LEFT(G6,2) -> 雞蛋 | H25: 6 | I25: 公斤 | J25: =J6 -> 脆拌海帶 | K25: 豆皮 | L25: 0.3 | M25: 公斤 | N25: 蔬菜 | O25: 7 | P25: 公斤 | Q25: =Q6 -> 仙草甜湯 | R25: 仙草汁 | S25: 5 | T25: 公斤 | U25: 5.6 | V25: 2.5 | W25: 2.2 | X25: 2.5 | Y25: 743 | Z25: 304 | AA25: 129
A26: =WEEKDAY(A25,1) -> 5 | C26: 糙米 | D26: 3 | E26: 公斤 | I26: 公斤 | K26: 乾海帶 | L26: 1 | M26: 公斤 | N26: =$N$10 -> 薑 | O26: 0.05 | P26: 公斤 | R26: 二砂糖 | S26: 1 | T26: 公斤
A27: =A6 -> A4 | I27: 公斤 | K27: =$N$10 -> 薑 | L27: 0.05 | M27: 公斤
M29: 公斤
